{"text_format":"1","workbook":"xlsx","n_sheets":48,"sheets":["00 Alimenta","00 PDC SP","00 SP","01 Rendiconto Finanziario","Personale","Universitario","Altro contratto","Tab 1-2-3-4","Tab 5-6","Tab 7","Tab 7bis","Tab 7ter ","Tab 7quater","IMM01-IMM14","Tab 8-9-10-11-12-13-14","IF01-IF02","Tab 15","Tab 16-17","DETTAGLIO VOCE ABA390 ","DETTAGLIO VOCE ABA430 ","Dettaglio ABA480 ","Dettaglio ABA500 ","Tab 18-19","Tab. 20-21 ","Tab 22-23-24","partite infragruppo","Tab 25","Tab 26-27-28","Tab 29-30-31","Tab 32","Acquisti con fdi propri ","Tab 33","Tab 34-35 ","35-bis Dettaglio cespiti PO ","Tab 35 ter- quater","Tab 36 ","Tab 37-38-39-40 ","Dettaglio prog 2011 e retro","Criteri Fondi Rischi","dettaglio acca F Contrattuali ","Altre Info","Tab 41","Tab 42","Tab 43","Tab 44","Tab 45-46","Tab 47-48-49","Foglio1"],"not_rendered":{"charts":0,"images":0,"macros":0,"external_links":2,"defined_names":52,"comments":1,"pivot_tables":0},"unopened":[],"bounds":{"document_bytes":16777216,"sheet_cells":100000,"rows_first":2000,"rows_last":500,"rows_between":2000,"halvings":0,"cell_chars":16384,"cell_head_chars":4096},"cells_cut":0,"cells_raw":0,"read":"whole","date_system":"1900"}

{"sheet":"00 Alimenta","index":0,"n_rows":210,"n_cols":9,"rows_kept":210,"cut":false,"hidden":true,"merged":[]}
[]
["PRG",4]
[]
["SP","Conto","Descrizione conto","Esercizio 2015","Incrementi 2016","Decrementi 2016","Esercizio 2016","Incrementi 2017","Decrementi 2017"]
["AAA140","0101010602","Licenze d'uso software",1810825.53,181030.9,6424.06,1985432.37,209841.59,7129.38]
["AAA300","0101020102","Terreni indisponibili",942655.12,0,0,942655.12,0,0]
["AAA360","0101020301","Fabbricati strumentali (indisponibili)",169096559.22999999,0,0,169096559.22999999,0,0]
["AAA390","0101020404","Macchinari generici",5772528.8399999999,183106.44,8604.7999999999993,5947030.4800000004,219918.7,171.65]
["AAA420","0101020502","Attrezzature generiche",75106075.780000001,6743296.6699999999,2797670.18,79051702.269999996,5812839.0700000003,146692.79999999999]
["AAA450","0101020601","Mobili e arredi",10177663.42,374325.51,183191.51,10368797.42,241394.07,12215.84]
["AAA480","0101020703","Altri mezzi di trasporto",1758814.75,144301.6,63157.24,1839959.11,123029.66,0]
["AAA520","0101020903","Computer e macchinari elettronici",5279391.75,103690.13,152910.96,5230170.92,261895.29,2012.8]
["AAA520","0101020904","Altri beni materiali",421246.02,7740.63,5066.79,423919.86,4021.71,0]
["AAA540","0101021001","Fabbricati in costruzione",7302928.54,1381793.22,61951.49,8622770.2699999996,950522.09,102440.22]
["AAA540","0101021005","Acconti su future acquisizioni di immobilizzazioni materiali",263368.81,127357.75,248601.25,142125.31,1527272.03,142296.91]
["AAA690","0101030404","Depositi cauzionali",12379.7,1656.75,0,14036.45,0,0]
["ABA020","0102010101","Medicinali con AIC",5274714.12,4636666.55,5274714.12,4636666.55,4388956,4636666.55]
["ABA020","0102010102","Soluzioni infusionali con AIC",3117.21,1437.61,3117.21,1437.61,1398.76,1437.61]
["ABA020","0102010103","Ossigeno con AIC",11934.33,10294.49,11934.33,10294.49,1633.04,10294.49]
["ABA020","0102010104","Altri gas medicali con AIC",8360.19,2368.85,8360.19,2368.85,9993.4599999999991,2368.85]
["ABA020","0102010105","Emoderivati con AIC",546577.01,298115.40000000002,546577.01,298115.40000000002,415087.34,298115.40000000002]
["ABA020","0102010106","Medicinali senza AIC",111611.93,126880.91,111611.93,126880.91,220505.73,126880.91]
["ABA020","0102010108","Farmaci innovativi",0,406045.08,0,406045.08,796557.79,406045.08]
["ABA040","0102010301","Strumentazione per bioimmagini e radioterapia",29748.48,0,29748.48,0,22325.73,0]
["ABA040","0102010302","Materiale per sterilizzazione",10623.87,13554.18,10623.87,13554.18,44744.42,13554.18]
["ABA040","0102010303","Dispositivi per chirurgia mini-invasiva ed elettrochirurgia",170169.05,174192.21,170169.05,174192.21,191192.48,174192.21]
["ABA040","0102010304","Protesi ortopediche e mezzi per osteosintesi e sintesi tendineo-legamentosa",65233.45,50150.67,65233.45,50150.67,156988.5,50150.67]
["ABA040","0102010305","Protesi oculistiche",4357.6000000000004,24968.06,4357.6000000000004,24968.06,21294.52,24968.06]
["ABA040","0102010306","Protesi vascolari e cardiache",0,1839.24,0,1839.24,7516.08,1839.24]
["ABA040","0102010307","Altri dispositivi protesici impiantabili e prodotti per osteosintesi",29566.720000000001,10862.72,29566.720000000001,10862.72,15680.73,10862.72]
["ABA040","0102010308","Supporti e ausili tecnici per persone disabili",10313.98,21594.97,10313.98,21594.97,32718.44,21594.97]
["ABA040","0102010309","Dispositivi per emotrasfusione ed ematologia",32946.33,45796.36,32946.33,45796.36,58519.51,45796.36]
["ABA040","0102010310","Dispositivi per dialisi",192658.67,179690.46,192658.67,179690.46,78184.86,179690.46]
["ABA040","0102010311","Dispositivi medico-diagnostici in vitro (D.Lgs. 332/2000)",1199655.32,1255177.3999999999,1199655.32,1255177.3999999999,1482372.12,1255177.3999999999]
["ABA040","0102010312","Strumentazione per esplorazioni funzionali ed interventi terapeutici",287035.21000000002,104045.91,287035.21000000002,104045.91,270520.31,104045.91]
["ABA040","0102010313","Strumentazione per radiologia diagnostica ed interventistica",3035.37,589.26,3035.37,589.26,712.51,589.26]
["ABA040","0102010314","Strumentario chirurgico pluriuso o riusabile",94988.55,55549.760000000002,94988.55,55549.760000000002,92097.5,55549.760000000002]
["ABA040","0102010315","Dispositivi protesici impiantabili - vari",62849.41,28003.05,62849.41,28003.05,80004.3,28003.05]
["ABA040","0102010316","Dispositivi per sistema artero-venoso",111809.84,132460.47,111809.84,132460.47,196661.87,132460.47]
["ABA040","0102010317","Guide per apparato cardiocircolatorio",27401.68,9174.4,27401.68,9174.4,16525.53,9174.4]
["ABA040","0102010318","Altri dispositivi per apparato cardiocircolatorio",79721.490000000005,124428.45,79721.490000000005,124428.45,123103.54,124428.45]
["ABA040","0102010319","Disinfettanti, antisettici e proteolitici (D.Lgs. 46/97)",26457.53,29235.99,26457.53,29235.99,22348.48,29235.99]
["ABA040","0102010320","Dispositivi per apparato gastrointestinale",50926.03,59952.07,50926.03,59952.07,83693.42,59952.07]
["ABA040","0102010321","Dispositivi da sutura",306526.84000000003,396218.06,306526.84000000003,396218.06,349748.67,396218.06]
["ABA040","0102010322","Dispositivi per sistema nervoso e midollare",9075.2000000000007,12511.97,9075.2000000000007,12511.97,28260.43,12511.97]
["ABA040","0102010323","Dispositivi per odontoiatria, oftalmologoa e otorinolaringoiatria",141685.25,105207.2,141685.25,105207.2,71817.279999999999,105207.2]
["ABA040","0102010324","Dispositivi per apparato respiratorio e anestesia",174448.95,125642.41,174448.95,125642.41,182238.66,125642.41]
["ABA040","0102010325","Dispositivi di protezione e ausili per incontinenza (D.Lgs. 46/97)",199194.51,212601.7,199194.51,212601.7,196921.3,212601.7]
["ABA040","0102010326","Dispositivi per apparato urogenitale",42691.15,65964.789999999994,42691.15,65964.789999999994,51126.59,65964.789999999994]
["ABA040","0102010327","Dispositivi vari",300627.01,234985.3,300627.01,234985.3,304842.71999999997,234985.3]
["ABA040","0102010328","Dispositivi da somministrazione, prelievo e raccolta",573626.02,559635.56999999995,573626.02,559635.56999999995,569117.94999999995,559635.56999999995]
["ABA040","0102010329","Dispositivi per medicazioni generali e specialistiche",383456.26,312836.58,383456.26,312836.58,357449.92,312836.58]
["ABA040","0102010330","Dispositivi impiantabili attivi",16290.36,58041,16290.36,58041,30319.56,58041]
["ABA050","0102010401","Prodotti dietetici",8105.46,4508.83,8105.46,4508.83,5615.65,4508.83]
["ABA050","0102010402","Alimenti per nutrizione artificiale senza AIC ",68589.69,63760.33,68589.69,63760.33,58004.47,63760.33]
["ABA060","0102010503","Altri Vaccini",0,0,0,0,1112.76,0]
["ABA080","0102010701","Medicinali ad uso veterinario",192,0,192,0,0,0]
["ABA090","0102010801","Vetrerie e materiale plastico per laboratorio",15533.26,26506.58,15533.26,26506.58,42717.86,26506.58]
["ABA090","0102010802","Materiali di consumo non specifici per strumentazione diagnostica ",103201,82188.66,103201,82188.66,125485.73,82188.66]
["ABA090","0102010803","Altri beni e prodotti sanitari",87747.66,102717.74,87747.66,102717.74,127988.56,102717.74]
["ABA130","0102011101","Materiali di guardaroba, di pulizia, e di convivenza in genere",44097.34,35073.03,44097.34,35073.03,29727.94,35073.03]
["ABA140","0102011201","Combustibili, carburanti e lubrificanti",364.21,0,364.21,0,0,0]
["ABA150","0102011301","Supporti informatici",182140.26,171772.85,182140.26,171772.85,192555.39,171772.85]
["ABA150","0102011302","Cancelleria e stampati",183602.38,161363.28,183602.38,161363.28,169734.96,161363.28]
["ABA160","0102011401","Materiale per la manutenzione di immobili e loro pertinenze",99725.34,55250.31,99725.34,55250.31,85875.45,55250.31]
["ABA160","0102011403","Materiale per la manutenzione di attrezzature tecnico scientifiche sanitarie",37640.720000000001,25964.41,37640.720000000001,25964.41,26463.29,25964.41]
["ABA160","0102011405","Materiale per la manutenzione di altro",5697.59,3934.22,5697.59,3934.22,5031.3999999999996,3934.22]
["ABA170","0102011501","Altri beni e prodotti non sanitari",3445.61,2869.46,3445.61,2869.46,1229.74,2869.46]
["ABA210","0102020101","Crediti v/Stato per spesa corrente - Integrazione a norma del D.L.vo 56/2000",0,19655.009999999998,13684.75,5970.26,12202.45,18172.71]
["ABA270","0102020701","Crediti v/Stato per spesa corrente - altro",566.88,0,566.88,0,0,0]
["ABA310","0102020902","Crediti v/Stato per ricerca finalizzata - Ministero della Salute",10300,10220,15900,4620,0,0]
["ABA340","0102021001","Crediti v/prefetture",0,93462.74,0,93462.74,0,0]
["ABA390","0102021103","Crediti v/Regione o Provincia Autonoma per quota FSR",115726464.31999999,620609320.57000005,586865386.74000001,149470398.15000001,611234256.89999998,641777088.98000002]
["ABA400","0102021104","Crediti v/Regione o Provincia Autonoma per mobilità attiva intraregionale",1714216.77,94245672.530000001,94615942.909999996,1343946.39,98488215.590000004,98575322.590000004]
["ABA410","0102021107","Crediti v/Regione o Provincia Autonoma per mobilità attiva extraregionale",19005500.289999999,0,0,19005500.289999999,17628432.399999999,17628432.399999999]
["ABA420","0102021109","Crediti v/Regione o Provincia Autonoma per acconto quota FSR",0,533673541,533673541,0,546891755,546891755]
["ABA430","0102021111","Crediti v/Regione o Provincia Autonoma per finanziamento sanitario aggiuntivo corrente LEA",8949031.2100000009,4734312.8099999996,1814869.13,11868474.890000001,5146816.37,6631200.2400000002]
["ABA400","0102021115","Netting mobilità intraregionale ante 2007",15592903.99,0,0,15592903.99,0,0]
["ABA480","0102021201","Crediti v/Regione o Provincia Autonoma per finanziamenti per investimenti",38255,0,0,38255,0,0]
["ABA500","0102021203","Crediti v/Regione o Provincia Autonoma per ripiano perdite",0,30778127.57,9176068,21602059.57,14264710,21602059.57]
["ABA530","0102021301","Crediti v/Comuni",104638.16,30692.07,52528.41,82801.820000000007,115218.01,34661.25]
["ABA530","0102021302","Fatture da emettere v/Comuni",1960.74,5505.16,1960.74,5505.16,58770.9,5505.16]
["ABA580","0102021418","Crediti v/ASL Avezzano Sulmona L'Aquila per altre prestazioni",402921.36,336718.25,62226.18,677413.43,4655668.13,4847041.5999999996]
["ABA580","0102021419","Fatture da emettere v/ASL Avezzano Sulmona L'Aquila per altre prestazioni",53218.85,18535.41,53218.85,18535.41,8143.77,18535.41]
["ABA580","0102021420","Crediti v/ASL Lanciano Vasto Chieti per altre prestazioni",169755.63,113434.63,1305.0999999999999,281885.15999999997,127601.11,175640.8]
["ABA580","0102021421","Fatture da emettere v/ASL Lanciano Vasto Chieti per altre prestazioni",53059.69,5700.13,53059.69,5700.13,1282.71,5700.13]
["ABA580","0102021424","Crediti v/ASL Teramo per altre prestazioni",3993311.28,18039.36,5653.6,4005697.04,62418.61,212668.34]
["ABA580","0102021425","Fatture da emettere v/ASL Teramo per altre prestazioni",868.42,563.75,868.42,563.75,5559.81,563.75]
["ABA600","0102021601","Crediti v/Aziende sanitarie pubbliche Extraregione",138252.07,192761.59,177714.87,153298.79,161597.98000000001,186310.75]
["ABA600","0102021602","Fatture da emettere v/Aziende Sanitarie Pubbliche Extraregione",38052.370000000003,47833.03,38052.370000000003,47833.03,85649.52,47833.03]
["ABA620","0102021701","Crediti v/ARTA",5931.31,0,0,5931.31,0,0]
["ABA650","0102022001","Erario c/Ires",236,0,0,236,0,236]
["ABA650","0102022002","Erario c/Ires per acconti versati",0,426818,426818,0,490066,490066]
["ABA650","0102022003","Erario c/ritenute",70.45,63.5,0,133.94999999999999,6.45,140.4]
["ABA650","0102022005","Erario c/Iva per acconti versati",41334,10317,41334,10317,6806,10209]
["ABA650","0102022006","Erario c/Iva chiesta a rimborso",1295.04,0,0,1295.04,0,0]
["ABA650","0102022011","Altri crediti verso Erario",25.17,0,0,25.17,0,25.17]
["ABA670","0102022101","Crediti v/clienti privati",3799215.37,10285829.43,9602979.2300000004,4482065.57,7010533.3899999997,6901036.5700000003]
["ABA670","0102022102","Fatture da emettere v/clienti privati",249158.82,434714.74,249158.82,434714.74,190888.78,434714.74]
["ABA670","0102022103","Crediti v/utenza per proventi da ticket",20248.169999999998,8062344.6299999999,8051830.96,30761.84,8483861.8399999999,8476602.5]
["ABA670","0102022109","Crediti v/dipendenti",145428.01,40351.68,72851.399999999994,112928.29,168312.19,203256.06]
["ABA670","0102022111","Acconti verso altri fornitori",0,3094.45,785.45,2309,0,2309]
["ABA690","0102022301","Crediti v/altri soggetti pubblici",299742.46999999997,335927.17,258538.23999999999,377131.4,421422.51,404603.36]
["ABA690","0102022302","Fatture da emettere v/altri soggetti pubblici",27160.09,75.28,27160.09,75.28,585.44000000000005,75.28]
["ABA710","0102022501","Altri Crediti diversi",911358.57,3934140.24,3964361.76,881137.05,1921398.5,1616680.59]
["ABA710","0102022502","Fatture da emettere v/Altri Crediti diversi",450,0,450,0,0,0]
["PDA220","0102022626","Note credito da ricevere v/Aziende sanitarie pubbliche Extraregione",202,60.85,202,60.85,0,60.85]
["PDA290","0102022634","Note di credito v/IRCCS privati e Policlinici",0,130.68,0,130.68,0,130.68]
["PDA290","0102022636","Note credito da ricevere v/Case di Cura",59323.38,11856.03,59323.38,11856.03,1930071.03,11856.03]
["PDA290","0102022637","Note credito da ricevere v/altri erogatori di prestazioni sanitarie - intraregione",41981477.009999998,737669.4,10253994.99,32465151.420000002,101316.42,5232350.32]
["PDA300","0102022638","Note credito da ricevere verso altri fornitori nazionali",1364285.7,1988690.31,1364285.7,1988690.31,1123439.08,1988690.31]
["PDA300","0102022639","Note credito da ricevere verso altri fornitori esteri",0,0,0,0,6362,0]
["PDA380","0102022641","Note credito da ricevere per altri debiti diversi",1873.25,295.04000000000002,1873.25,295.04000000000002,5013.58,295.04000000000002]
["ABA760","0102040101","Cassa ticket",15000,5000,0,20000,0,0]
["ABA760","0102040102","Cassa economale",0,46151.06,46151.06,0,90884.92,90884.92]
["ABA770","0102040201","Istituto Tesoriere",94407697.019999996,560795482.84000003,628313295.46000004,26889884.399999999,674025083,631356001.04999995]
["ABA790","0102040401","Conto corrente postale",274575.8,1897097.44,601666.5,1570006.74,1732809.77,75200.34]
["ACA040","0103020101","Risconti attivi",1890279.2,1502862.22,1890279.2,1502862.22,8698.51,1502862.22]
["ADA000","0104010101","Canoni di leasing ancora da pagare",986370,0,986370,0,0,0]
["PAA020","0201020101","Finanziamenti per beni di prima dotazione",70863817.599999994,0,3577467.93,67286349.670000002,0,3577467.93]
["PAA070","0201020501","Finanziamenti da Regione per investimenti",40355049.810000002,122240,1574332.01,38902957.799999997,122252.5,1468544.84]
["PAA090","0201020701","Finanziamenti per investimenti da rettifica contributi in conto esercizio",10633348.640000001,8787559.1099999994,3299309.48,16121598.27,6506318.8899999997,4730694.3099999996]
["PAA100","0201030101","Riserve da donazioni e lasciti vincolati ad investimenti",205856.51,20519.150000000001,55380.81,170994.85,78486.47,48286.07]
["PAA160","0201040501","Riserve diverse",0,2730000,0,2730000,0,0]
["PAA200","0201050301","Altro - contributi per ripiano perdite",0,30778127.57,0,30778127.57,14264710,30778127.57]
["PAA210","0201060101","UTILI PORTATI A NUOVO",17537176.260000002,0,17537176.260000002,0,0,0]
["PAA210","0201060102","PERDITE PORTATI A NUOVO",0,0,30778127.57,-30778127.57,30778127.57,14264709.560000001]
["PAA220","0201070102","PERDITA D'ESERCIZIO",-30778127.57,30778127.57,14264709.560000001,-14264709.560000001,14264709.560000001,13609624.26]
["AAA150","0202010601","F.do Amm.to licenze d'uso software",-1459747.82,-105301.39,-6424.06,-1558625.15,-136552.39000000001,0]
["AAA370","0202020301","F.do Amm.to Fabbricati strumentali (indisponibili)",-80941200.239999995,-4970287.05,0,-85911487.290000007,-4970287.05,0]
["AAA400","0202020701","F.do ammortamento macchinari generici",-4631648.04,-256690.95,-244.8,-4888094.1900000004,-263002.39,0]
["AAA430","0202021001","F.do Amm.to Attrezzature generiche",-66200383.810000002,-2925362.99,-2791997.79,-66333749.009999998,-4163720.13,-70.78]
["AAA460","0202021201","F.do Amm.to mobili e arredi",-8512357.8499999996,-363135.86,-152898.04,-8722595.6699999999,-361188.29,0]
["AAA490","0202021701","F.do Amm.to Altri mezzi di trasporto",-1566393,-102573.35,-63157.24,-1605809.11,-122740.86,0]
["AAA530","0202022001","F.do Amm.to computer e macchinari elettronici",-4553005.97,-232801.69,-152751.62,-4633056.04,-228512.78,-2012.8]
["AAA530","0202022101","F.do Amm.to altri beni materiali",-363569.19,-21260.63,-5066.79,-379763.03,-16373.87,0]
["ABA580","0202030518","F.do svalutazione Crediti  v/Aziende sanitarie pubbliche della Regione",-3259926.7,0,0,-3259926.7,0,0]
["ABA670","0202030524","F.do svalutazione crediti  verso clienti privati ",-2874726.99,0,0,-2874726.99,0,0]
["ABA710","0202030528","F.do svalutazione altri crediti diversi",0,0,0,0,-300000,0]
["ABA390","0202030529","F.do svalutazione crediti v/Regione o Provincia Autonoma per quota FSR",-3047520.97,0,0,-3047520.97,0,0]
["PBA000","0203010101","Fondi per imposte, anche differite",-205513.69,0,-205513.69,0,0,0]
["PBA020","0203020101","Fondo rischi per cause civili ed oneri processuali",-7400000,-2008370.76,-2258370.7599999998,-7150000,-9280260.1600000001,-165038.16]
["PBA030","0203020201","Fondo rischi per contenzioso personale dipendente",-1000000,-666865.78,-416865.78,-1250000,-563110.28,-563110.28]
["PBA040","0203020301","Fondo rischi connessi all'acquisto di prestazioni sanitarie da privato",-29269594.190000001,0,-6639211.8499999996,-22630382.34,-4358962,-3664507.83]
["PBA050","0203020401","Fondo rischi per copertura diretta dei rischi (autoassicurazione)",-4500000,-3681140.26,-2681140.2599999998,-5500000,-3111381.31,-3111381.31]
["PBA160","0203040101","Quote inutilizzate contributi da Regione o Prov. Aut. per quota F.S. vincolato",-841520.06,0,-841520.06,0,0,0]
["PBA160","0203040113","Quote inutilizzate contributi da Regione per Progetti di PSN L 662/96",-29027060.890000001,-4021566.65,-2738576.76,-30310050.780000001,-7206482.5499999998,-5006728.5599999996]
["PBA160","0203040118","Quote inutilizzate contributi da Regione per quota gioco d'azzardo Patologico (GAP) Legge 190/2014 e ss.mm.ii.",0,0,0,0,-220805,0]
["PBA170","0203040201","Quote inutilizzate contributi vincolati da soggetti pubblici (extra fondo)",-299262.65000000002,-180605.96,-299262.65000000002,-180605.96,-50302.400000000001,-92452.46]
["PBA210","0203050101","Fondi integrativi pensione",0,0,0,0,0,0]
["PBA230","0203050201","Fondo rinnovi contrattuali personale dipendente",0,-675624,0,-675624,-1841073,0]
["PBA240","0203050301","Fondo rinnovi convenzioni MMG/PLS/MCA",-2746621.15,-407348,0,-3153969.15,-653733,0]
["PBA250","0203050401","Fondo rinnovi convenzioni medici Sumai",-87267,-48849,0,-136116,-82934,0]
["PCA000","0204010101","Fondo per premi operosità medici SUMAI",-2082932.89,-225172.71,-112162.58,-2195943.02,-223015.56,-217866.17]
["PDA090","0205030201","Debiti v/Regione o Provincia Autonoma per mobilità passiva intraregionale",-21161062.010000002,-51326737.909999996,-51721455.340000004,-20766344.579999998,-51271679.93,-51272368.93]
["PDA100","0205030301","Debiti v/Regione o Provincia Autonoma per mobilità passiva extraregionale",-9530548.0899999999,0,0,-9530548.0899999999,-57173157.460000001,-57173157.460000001]
["PDA110","0205030401","Acconto quota FSR da Regione o Provincia Autonoma",0,-533673541,-533673541,0,-546891755,-546891755]
["PDA120","0205030501","Altri debiti v/Regione o Provincia Autonoma",-9176068.75,-17537176,-26713244.75,0,-983421148.72000003,-983421148.72000003]
["PDA130","0205040101","Debiti v/Comuni",-150000,0,0,-150000,0,0]
["PDA210","0205050601","Debiti v/ASL Avezzano Sulmona L'Aquila per altre prestazioni",-180212.98,-227138.82,-340225.52,-67126.28,-272401.8,-74123.62]
["PDA210","0205050602","Fatture da ricevere v/ASL Avezzano Sulmona L'Aquila per altre prestazioni",-75971.990000000005,-198130.85,-75971.990000000005,-198130.85,-84346.32,-198130.85]
["PDA210","0205050603","Debiti v/ASL Lanciano Vasto Chieti per altre prestazioni",-38840.86,-114253.79,-82872.25,-70222.399999999994,-58278.06,-69229.149999999994]
["PDA210","0205050604","Fatture da ricevere v/ASL Lanciano Vasto Chieti per altre prestazioni",-26285.81,-27859.87,-26285.81,-27859.87,-23505.119999999999,-27859.87]
["PDA210","0205050607","Debiti v/ASL Teramo per altre prestazioni",-1613366.91,-150282.79999999999,-22760.93,-1740888.78,-280639.09000000003,-94079]
["PDA210","0205050608","Fatture da ricevere v/ASL Teramo per altre prestazioni",-140054.32999999999,-32310.93,-140054.32999999999,-32310.93,-29786,-32310.93]
["PDA220","0205050701","Debiti v/Aziende sanitarie pubbliche Extraregione",-124910.91,-405823.74,-378069.99,-152664.66,-207261.11,-265226.40999999997]
["PDA220","0205050702","Fatture da ricevere v/Aziende sanitarie pubbliche Extraregione",-34471.89,-36898.550000000003,-34471.89,-36898.550000000003,-15263.65,-36898.550000000003]
["PDA220","0205050703","Debiti v/Aziende Ospedaliere, IRCCS, Policlinici, Fondazioni Extraregione",-55493,-61987.95,-87165.31,-30315.64,-81219.11,-54298.28]
["PDA220","0205050704","Fatture da ricevere v/Aziende Ospedaliere, IRCCS, Policlinici, Fondazioni Extraregione",-23282.01,-35195.339999999997,-23282.01,-35195.339999999997,-33826.42,-35195.339999999997]
["PDA250","0205060105","Debiti v/altri enti regionali",-7311.52,-13241.9,-20553.419999999998,0,0,0]
["PDA290","0205070101","Debiti v/medici di base",-1904301.11,-22756730.199999999,-22774999.760000002,-1886031.55,-22027402.870000001,-22164628.670000002]
["PDA290","0205070102","Debiti v/farmacie",-6852235.6699999999,-52586498.329999998,-51738705.240000002,-7700028.7599999998,-52286610.909999996,-56980917.469999999]
["PDA290","0205070103","Debiti v/medici SUMAI",0,-2882899.79,-2882899.79,0,-2870787.24,-2870787.23]
["PDA290","0205070107","Fatture da ricevere v/Ospedali Classificati",0,0,0,0,-9382.08,0]
["PDA290","0205070108","Debiti v/Case di Cura",-24298118.510000002,-92785612.480000004,-90370658.530000001,-26713072.460000001,-90789013.549999997,-88317822.109999999]
["PDA290","0205070109","Fatture da ricevere v/Case di Cura",-11479360.48,-7968416.6200000001,-11479360.48,-7968416.6200000001,-7390453.0199999996,-7968416.6200000001]
["PDA290","0205070110","Debiti v/altri erogatori di prestazioni sanitarie - intraregione",-83694158.010000005,-31669823.199999999,-39064390.719999999,-76299590.489999995,-29383017.210000001,-46042284.130000003]
["PDA290","0205070111","Fatture da ricevere v/altri erogatori di prestazioni sanitarie - intraregione",-3007372.21,-2785600.51,-3007372.21,-2785600.51,-2195879.3199999998,-2785600.51]
["PDA300","0205070201","Debiti verso altri fornitori nazionali",-27726601.77,-277859292.93000001,-271296475.86000001,-34289418.840000004,-287511239.07999998,-283661530.74000001]
["PDA300","0205070202","Fatture da ricevere verso altri fornitori nazionali",-13625295.27,-9359359.1099999994,-13625295.27,-9359359.1099999994,-14638757.890000001,-9359359.1099999994]
["PDA300","0205070203","Debiti verso altri fornitori esteri",-51597.87,-1409173.81,-1427106.84,-33664.839999999997,-1046725.94,-1025764.24]
["PDA300","0205070204","Fatture da ricevere verso altri fornitori esteri",-78709.97,-127330.11,-78709.97,-127330.11,-51772.21,-127330.11]
["PDA300","0205070205","Debiti verso professionisti e collaboratori (ad esclusione degli organi diretti)",-28474.26,-548603.25,-562683.36,-14394.15,-416392.57,-350886.89]
["PDA310","0205080101","Debiti v/istituto tesoriere",0,0,0,0,0,0]
["PDA320","0205090101","Erario c/Ires",0,-498944,-498944,0,-557806.42000000004,-557806.42000000004]
["PDA320","0205090102","Erario c/ritenute su lavoro autonomo",-489322.42,-6270491.0800000001,-6266548.2599999998,-493265.24,-6154670.9299999997,-6175742]
["PDA320","0205090103","Erario c/ritenute su lavoro dipendente",-798354.68,-34359982.07,-34314336.009999998,-844000.74,-33463877.68,-33517252.370000001]
["PDA320","0205090104","Erario c/I.V.A.",-1935344.73,-24544141.039999999,-23689436.309999999,-2790049.46,-24692527.18,-25900361.960000001]
["PDA320","0205090105","Erario c/Irap",-232110.74,-12684805.15,-12699204.4,-217711.49,-12241857.25,-12229581.369999999]
["PDA320","0205090106","Altre imposte e tasse",-900174,-63004.93,-934399,-28779.93,0,-28779.93]
["PDA330","0205100101","Debiti verso INPDAP",-593629.72,-49155510.619999997,-49037732.729999997,-711407.61,-48238495.859999999,-48109591.210000001]
["PDA330","0205100102","Debiti verso INPS lavoratori dipendenti",-346.95,-252187.59,-251748.95,-785.59,-253039.95,-253200.01]
["PDA330","0205100104","Debiti verso INAIL",0,-1624419.64,-1620242.19,-4177.45,-1695871.72,-1700049.17]
["PDA330","0205100105","Debiti verso ENPAM",-477449.09,-8415311.9000000004,-8382252.4500000002,-510508.54,-8593062.6999999993,-8554648.1199999992]
["PDA330","0205100106","Debiti verso ONAOSI",-55836.55,-113386.95,-114361.03,-54862.47,-111905.78,-112752.96000000001]
["PDA330","0205100107","Debiti verso altri Istituti Previdenziali",-130579.01,-646160.81000000006,-665933.77,-110806.05,-646338.15,-682489.79]
["PDA360","0205110203","Debiti verso personale retribuzioni esercizi precedenti",0,-283633.53999999998,0,-283633.53999999998,-447192.1,-143843.88]
["PDA360","0205110204","Debiti verso il personale dipendente per fondi aziendali esercizi precedenti",-12933734.98,-9641244.1300000008,-9920312.6300000008,-12654666.48,-8508847.9900000002,-10201928.810000001]
["PDA360","0205110206","Altri debiti verso il personale per ferie maturate e non godute",-20739.900000000001,-35585.980000000003,-34325.879999999997,-22000,-75182.12,-22000]
["PDA360","0205110207","Altri debiti verso il personale dipendente",-2195984.29,-2335769698.8600001,-2335907551.9000001,-2058131.25,-87054195.269999996,-86880830.620000005]
["PDA370","0205110301","Debiti v/gestioni liquidatorie",-19594.54,0,-19594.54,0,0,0]
["PDA380","0205110402","Debiti verso organi direttivi e istituzionali",0,-213370.93,-206506.85,-6864.08,-191036.95,-195883.3]
["PDA380","0205110403","Debiti verso assistiti",-182408.95,-1922798.55,-1912112.69,-193094.81,-1704684.22,-1649097.7]
["PDA380","0205110404","Altri debiti diversi",-707068.98,-10824199.369999999,-10848237.550000001,-683030.8,-5415617.7599999998,-5774336.5]
["PDA380","0205110406","Debiti verso personale tirocinante e borsisti",0,-698700,-698700,0,-746835,-746108]
["PDA380","0205110407","Debiti verso altro personale esterno",-7612.67,-126604.38,-126193.95,-8023.1,-134770.54,-132414.44]
["PDA380","0205110409","Fatture da ricevere Altri debiti diversi",-415026.05,-342650.42,-415026.05,-342650.42,-321864.53999999998,-342650.42]
["ABA530","0205110511","Note credito da emettere v/Comuni",0,0,0,0,-1801.13,0]
["ABA670","0205110534","Note credito da emettere v/clienti privati",-800,-1513.05,-800,-1513.05,-1319.52,-1513.05]
["PFA000","0207010101","Canoni di leasing ancora da pagare",-986370,0,-986370,0,0,0]

{"sheet":"00 PDC SP","index":1,"n_rows":781,"n_cols":14,"rows_kept":781,"cut":false,"hidden":false,"merged":[]}
[]
[null,null,"ANNO",null,null,2017]
[]
["Aggr",null,"Cod SP 2012","RF","TIPO","Conto","Descrizione Conto",{"$f":"IF($F$2=\"\",\"Saldo SP T-2\",\"Esercizio \"&F2-2)","v":"Esercizio 2015"},{"$f":"IF($F$2=\"\",\"Incrementi T-1\",\"Incrementi \"&$F$2-1)","v":"Incrementi 2016"},{"$f":"IF($F$2=\"\",\"Decrementi T-1\",\"Decrementi \"&$F$2-1)","v":"Decrementi 2016"},{"$f":"IF($F$2=\"\",\"Saldo SP T-1\",\"Esercizio \"&$F$2-1)","v":"Esercizio 2016"},{"$f":"IF($F$2=\"\",\"Incrementi T\",\"Incrementi \"&$F$2)","v":"Incrementi 2017"},{"$f":"IF($F$2=\"\",\"Decrementi T\",\"Decrementi \"&$F$2)","v":"Decrementi 2017"},{"$f":"IF($F$2=\"\",\"Saldo SP T\",\"Esercizio \"&$F$2)","v":"Esercizio 2017"}]
[{"$f":"IF(E5=\"\",C5,C5&E5)","v":"AAA020"},{"$f":"LEFT(C5,2)","v":"AA"},"AAA020",34,null,"0101010101","Costi di impianto e di ampliamento",{"$f":"SUMIF('00 Alimenta'!$B:$B,'00 PDC SP'!$F5,'00 Alimenta'!D:D)","v":0},{"$f":"SUMIF('00 Alimenta'!$B:$B,'00 PDC SP'!$F5,'00 Alimenta'!E:E)","v":0},{"$f":"SUMIF('00 Alimenta'!$B:$B,'00 PDC SP'!$F5,'00 Alimenta'!F:F)","v":0},{"$f":"SUMIF('00 Alimenta'!$B:$B,'00 PDC SP'!$F5,'00 Alimenta'!G:G)","v":0},{"$f":"SUMIF('00 Alimenta'!$B:$B,'00 PDC SP'!$F5,'00 Alimenta'!H:H)","v":0},{"$f":"SUMIF('00 Alimenta'!$B:$B,'00 PDC SP'!$F5,'00 Alimenta'!I:I)","v":0},{"$f":"K5+L5-M5","v":0}]
[{"$f":"IF(E6=\"\",C6,C6&E6)","v":"AAA050"},{"$f":"LEFT(C6,2)","v":"AA"},"AAA050",35,null,"0101010201","Costi di ricerca e sviluppo",{"$f":"SUMIF('00 Alimenta'!$B:$B,'00 PDC SP'!$F6,'00 Alimenta'!D:D)","v":0},{"$f":"SUMIF('00 Alimenta'!$B:$B,'00 PDC SP'!$F6,'00 Alimenta'!E:E)","v":0},{"$f":"SUMIF('00 Alimenta'!$B:$B,'00 PDC SP'!$F6,'00 Alimenta'!F:F)","v":0},{"$f":"SUMIF('00 Alimenta'!$B:$B,'00 PDC SP'!$F6,'00 Alimenta'!G:G)","v":0},{"$f":"SUMIF('00 Alimenta'!$B:$B,'00 PDC SP'!$F6,'00 Alimenta'!H:H)","v":0},{"$f":"SUMIF('00 Alimenta'!$B:$B,'00 PDC SP'!$F6,'00 Alimenta'!I:I)","v":0},{"$f":"K6+L6-M6","v":0}]
["AAA080","AA","AAA080",36,null,"0101010301","Diritti di brevetto e diritti di utilizzazione delle opere d'ingegno - derivanti dall'attività di ricerca",{"$f":"SUMIF('00 Alimenta'!$B:$B,'00 PDC SP'!$F7,'00 Alimenta'!D:D)","v":0},{"$f":"SUMIF('00 Alimenta'!$B:$B,'00 PDC SP'!$F7,'00 Alimenta'!E:E)","v":0},{"$f":"SUMIF('00 Alimenta'!$B:$B,'00 PDC SP'!$F7,'00 Alimenta'!F:F)","v":0},{"$f":"SUMIF('00 Alimenta'!$B:$B,'00 PDC SP'!$F7,'00 Alimenta'!G:G)","v":0},{"$f":"SUMIF('00 Alimenta'!$B:$B,'00 PDC SP'!$F7,'00 Alimenta'!H:H)","v":0},{"$f":"SUMIF('00 Alimenta'!$B:$B,'00 PDC SP'!$F7,'00 Alimenta'!I:I)","v":0},0]
["AAA100","AA","AAA100",36,null,"0101010401","Diritti di brevetto e diritti di utilizzazione delle opere d'ingegno - altri",{"$f":"SUMIF('00 Alimenta'!$B:$B,'00 PDC SP'!$F8,'00 Alimenta'!D:D)","v":0},{"$f":"SUMIF('00 Alimenta'!$B:$B,'00 PDC SP'!$F8,'00 Alimenta'!E:E)","v":0},{"$f":"SUMIF('00 Alimenta'!$B:$B,'00 PDC SP'!$F8,'00 Alimenta'!F:F)","v":0},{"$f":"SUMIF('00 Alimenta'!$B:$B,'00 PDC SP'!$F8,'00 Alimenta'!G:G)","v":0},{"$f":"SUMIF('00 Alimenta'!$B:$B,'00 PDC SP'!$F8,'00 Alimenta'!H:H)","v":0},{"$f":"SUMIF('00 Alimenta'!$B:$B,'00 PDC SP'!$F8,'00 Alimenta'!I:I)","v":0},0]
["AAA120","AA","AAA120",37,null,"0101010501","Immobilizzazioni immateriali in corso ",{"$f":"SUMIF('00 Alimenta'!$B:$B,'00 PDC SP'!$F9,'00 Alimenta'!D:D)","v":0},{"$f":"SUMIF('00 Alimenta'!$B:$B,'00 PDC SP'!$F9,'00 Alimenta'!E:E)","v":0},{"$f":"SUMIF('00 Alimenta'!$B:$B,'00 PDC SP'!$F9,'00 Alimenta'!F:F)","v":0},{"$f":"SUMIF('00 Alimenta'!$B:$B,'00 PDC SP'!$F9,'00 Alimenta'!G:G)","v":0},{"$f":"SUMIF('00 Alimenta'!$B:$B,'00 PDC SP'!$F9,'00 Alimenta'!H:H)","v":0},{"$f":"SUMIF('00 Alimenta'!$B:$B,'00 PDC SP'!$F9,'00 Alimenta'!I:I)","v":0},0]
["AAA120","AA","AAA120",37,null,"0101010502","Acconti su future acquisizioni immobilizzazioni immateriali",{"$f":"SUMIF('00 Alimenta'!$B:$B,'00 PDC SP'!$F10,'00 Alimenta'!D:D)","v":0},{"$f":"SUMIF('00 Alimenta'!$B:$B,'00 PDC SP'!$F10,'00 Alimenta'!E:E)","v":0},{"$f":"SUMIF('00 Alimenta'!$B:$B,'00 PDC SP'!$F10,'00 Alimenta'!F:F)","v":0},{"$f":"SUMIF('00 Alimenta'!$B:$B,'00 PDC SP'!$F10,'00 Alimenta'!G:G)","v":0},{"$f":"SUMIF('00 Alimenta'!$B:$B,'00 PDC SP'!$F10,'00 Alimenta'!H:H)","v":0},{"$f":"SUMIF('00 Alimenta'!$B:$B,'00 PDC SP'!$F10,'00 Alimenta'!I:I)","v":0},0]
["AAA140","AA","AAA140",38,null,"0101010601","Concessioni pluriennali",{"$f":"SUMIF('00 Alimenta'!$B:$B,'00 PDC SP'!$F11,'00 Alimenta'!D:D)","v":0},{"$f":"SUMIF('00 Alimenta'!$B:$B,'00 PDC SP'!$F11,'00 Alimenta'!E:E)","v":0},{"$f":"SUMIF('00 Alimenta'!$B:$B,'00 PDC SP'!$F11,'00 Alimenta'!F:F)","v":0},{"$f":"SUMIF('00 Alimenta'!$B:$B,'00 PDC SP'!$F11,'00 Alimenta'!G:G)","v":0},{"$f":"SUMIF('00 Alimenta'!$B:$B,'00 PDC SP'!$F11,'00 Alimenta'!H:H)","v":0},{"$f":"SUMIF('00 Alimenta'!$B:$B,'00 PDC SP'!$F11,'00 Alimenta'!I:I)","v":0},0]
["AAA140","AA","AAA140",38,null,"0101010602","Licenze d'uso software",{"$f":"SUMIF('00 Alimenta'!$B:$B,'00 PDC SP'!$F12,'00 Alimenta'!D:D)","v":1810825.53},{"$f":"SUMIF('00 Alimenta'!$B:$B,'00 PDC SP'!$F12,'00 Alimenta'!E:E)","v":181030.9},{"$f":"SUMIF('00 Alimenta'!$B:$B,'00 PDC SP'!$F12,'00 Alimenta'!F:F)","v":6424.06},{"$f":"SUMIF('00 Alimenta'!$B:$B,'00 PDC SP'!$F12,'00 Alimenta'!G:G)","v":1985432.37},{"$f":"SUMIF('00 Alimenta'!$B:$B,'00 PDC SP'!$F12,'00 Alimenta'!H:H)","v":209841.59},{"$f":"SUMIF('00 Alimenta'!$B:$B,'00 PDC SP'!$F12,'00 Alimenta'!I:I)","v":7129.38},2188144.58]
["AAA140","AA","AAA140",38,null,"0101010603","Marchi e diritti simili",{"$f":"SUMIF('00 Alimenta'!$B:$B,'00 PDC SP'!$F13,'00 Alimenta'!D:D)","v":0},{"$f":"SUMIF('00 Alimenta'!$B:$B,'00 PDC SP'!$F13,'00 Alimenta'!E:E)","v":0},{"$f":"SUMIF('00 Alimenta'!$B:$B,'00 PDC SP'!$F13,'00 Alimenta'!F:F)","v":0},{"$f":"SUMIF('00 Alimenta'!$B:$B,'00 PDC SP'!$F13,'00 Alimenta'!G:G)","v":0},{"$f":"SUMIF('00 Alimenta'!$B:$B,'00 PDC SP'!$F13,'00 Alimenta'!H:H)","v":0},{"$f":"SUMIF('00 Alimenta'!$B:$B,'00 PDC SP'!$F13,'00 Alimenta'!I:I)","v":0},0]
["AAA160","AA","AAA160",38,null,"0101010701","Migliorie su beni di terzi",{"$f":"SUMIF('00 Alimenta'!$B:$B,'00 PDC SP'!$F14,'00 Alimenta'!D:D)","v":0},{"$f":"SUMIF('00 Alimenta'!$B:$B,'00 PDC SP'!$F14,'00 Alimenta'!E:E)","v":0},{"$f":"SUMIF('00 Alimenta'!$B:$B,'00 PDC SP'!$F14,'00 Alimenta'!F:F)","v":0},{"$f":"SUMIF('00 Alimenta'!$B:$B,'00 PDC SP'!$F14,'00 Alimenta'!G:G)","v":0},{"$f":"SUMIF('00 Alimenta'!$B:$B,'00 PDC SP'!$F14,'00 Alimenta'!H:H)","v":0},{"$f":"SUMIF('00 Alimenta'!$B:$B,'00 PDC SP'!$F14,'00 Alimenta'!I:I)","v":0},0]
["AAA180","AA","AAA180",38,null,"0101010801","Pubblicità",{"$f":"SUMIF('00 Alimenta'!$B:$B,'00 PDC SP'!$F15,'00 Alimenta'!D:D)","v":0},{"$f":"SUMIF('00 Alimenta'!$B:$B,'00 PDC SP'!$F15,'00 Alimenta'!E:E)","v":0},{"$f":"SUMIF('00 Alimenta'!$B:$B,'00 PDC SP'!$F15,'00 Alimenta'!F:F)","v":0},{"$f":"SUMIF('00 Alimenta'!$B:$B,'00 PDC SP'!$F15,'00 Alimenta'!G:G)","v":0},{"$f":"SUMIF('00 Alimenta'!$B:$B,'00 PDC SP'!$F15,'00 Alimenta'!H:H)","v":0},{"$f":"SUMIF('00 Alimenta'!$B:$B,'00 PDC SP'!$F15,'00 Alimenta'!I:I)","v":0},0]
["AAA200","AA","AAA200",38,null,"0101010901","Altre immobilizzazioni immateriali",{"$f":"SUMIF('00 Alimenta'!$B:$B,'00 PDC SP'!$F16,'00 Alimenta'!D:D)","v":0},{"$f":"SUMIF('00 Alimenta'!$B:$B,'00 PDC SP'!$F16,'00 Alimenta'!E:E)","v":0},{"$f":"SUMIF('00 Alimenta'!$B:$B,'00 PDC SP'!$F16,'00 Alimenta'!F:F)","v":0},{"$f":"SUMIF('00 Alimenta'!$B:$B,'00 PDC SP'!$F16,'00 Alimenta'!G:G)","v":0},{"$f":"SUMIF('00 Alimenta'!$B:$B,'00 PDC SP'!$F16,'00 Alimenta'!H:H)","v":0},{"$f":"SUMIF('00 Alimenta'!$B:$B,'00 PDC SP'!$F16,'00 Alimenta'!I:I)","v":0},0]
["AAA290","AA","AAA290",39,null,"0101020101","Terreni disponibili",{"$f":"SUMIF('00 Alimenta'!$B:$B,'00 PDC SP'!$F17,'00 Alimenta'!D:D)","v":0},{"$f":"SUMIF('00 Alimenta'!$B:$B,'00 PDC SP'!$F17,'00 Alimenta'!E:E)","v":0},{"$f":"SUMIF('00 Alimenta'!$B:$B,'00 PDC SP'!$F17,'00 Alimenta'!F:F)","v":0},{"$f":"SUMIF('00 Alimenta'!$B:$B,'00 PDC SP'!$F17,'00 Alimenta'!G:G)","v":0},{"$f":"SUMIF('00 Alimenta'!$B:$B,'00 PDC SP'!$F17,'00 Alimenta'!H:H)","v":0},{"$f":"SUMIF('00 Alimenta'!$B:$B,'00 PDC SP'!$F17,'00 Alimenta'!I:I)","v":0},0]
["AAA300","AA","AAA300",39,null,"0101020102","Terreni indisponibili",{"$f":"SUMIF('00 Alimenta'!$B:$B,'00 PDC SP'!$F18,'00 Alimenta'!D:D)","v":942655.12},{"$f":"SUMIF('00 Alimenta'!$B:$B,'00 PDC SP'!$F18,'00 Alimenta'!E:E)","v":0},{"$f":"SUMIF('00 Alimenta'!$B:$B,'00 PDC SP'!$F18,'00 Alimenta'!F:F)","v":0},{"$f":"SUMIF('00 Alimenta'!$B:$B,'00 PDC SP'!$F18,'00 Alimenta'!G:G)","v":942655.12},{"$f":"SUMIF('00 Alimenta'!$B:$B,'00 PDC SP'!$F18,'00 Alimenta'!H:H)","v":0},{"$f":"SUMIF('00 Alimenta'!$B:$B,'00 PDC SP'!$F18,'00 Alimenta'!I:I)","v":0},942655.12]
["AAA330","AA","AAA330",40,null,"0101020201","Fabbricati non strumentali (disponibili)",{"$f":"SUMIF('00 Alimenta'!$B:$B,'00 PDC SP'!$F19,'00 Alimenta'!D:D)","v":0},{"$f":"SUMIF('00 Alimenta'!$B:$B,'00 PDC SP'!$F19,'00 Alimenta'!E:E)","v":0},{"$f":"SUMIF('00 Alimenta'!$B:$B,'00 PDC SP'!$F19,'00 Alimenta'!F:F)","v":0},{"$f":"SUMIF('00 Alimenta'!$B:$B,'00 PDC SP'!$F19,'00 Alimenta'!G:G)","v":0},{"$f":"SUMIF('00 Alimenta'!$B:$B,'00 PDC SP'!$F19,'00 Alimenta'!H:H)","v":0},{"$f":"SUMIF('00 Alimenta'!$B:$B,'00 PDC SP'!$F19,'00 Alimenta'!I:I)","v":0},0]
["AAA330","AA","AAA330",40,null,"0101020202","Costruzioni leggere",{"$f":"SUMIF('00 Alimenta'!$B:$B,'00 PDC SP'!$F20,'00 Alimenta'!D:D)","v":0},{"$f":"SUMIF('00 Alimenta'!$B:$B,'00 PDC SP'!$F20,'00 Alimenta'!E:E)","v":0},{"$f":"SUMIF('00 Alimenta'!$B:$B,'00 PDC SP'!$F20,'00 Alimenta'!F:F)","v":0},{"$f":"SUMIF('00 Alimenta'!$B:$B,'00 PDC SP'!$F20,'00 Alimenta'!G:G)","v":0},{"$f":"SUMIF('00 Alimenta'!$B:$B,'00 PDC SP'!$F20,'00 Alimenta'!H:H)","v":0},{"$f":"SUMIF('00 Alimenta'!$B:$B,'00 PDC SP'!$F20,'00 Alimenta'!I:I)","v":0},0]
["AAA330","AA","AAA330",40,null,"0101020203","Manutenzioni e riparazioni straordinarie capitalizzabili fabbricati disponibili",{"$f":"SUMIF('00 Alimenta'!$B:$B,'00 PDC SP'!$F21,'00 Alimenta'!D:D)","v":0},{"$f":"SUMIF('00 Alimenta'!$B:$B,'00 PDC SP'!$F21,'00 Alimenta'!E:E)","v":0},{"$f":"SUMIF('00 Alimenta'!$B:$B,'00 PDC SP'!$F21,'00 Alimenta'!F:F)","v":0},{"$f":"SUMIF('00 Alimenta'!$B:$B,'00 PDC SP'!$F21,'00 Alimenta'!G:G)","v":0},{"$f":"SUMIF('00 Alimenta'!$B:$B,'00 PDC SP'!$F21,'00 Alimenta'!H:H)","v":0},{"$f":"SUMIF('00 Alimenta'!$B:$B,'00 PDC SP'!$F21,'00 Alimenta'!I:I)","v":0},0]
["AAA360","AA","AAA360",40,null,"0101020301","Fabbricati strumentali (indisponibili)",{"$f":"SUMIF('00 Alimenta'!$B:$B,'00 PDC SP'!$F22,'00 Alimenta'!D:D)","v":169096559.22999999},{"$f":"SUMIF('00 Alimenta'!$B:$B,'00 PDC SP'!$F22,'00 Alimenta'!E:E)","v":0},{"$f":"SUMIF('00 Alimenta'!$B:$B,'00 PDC SP'!$F22,'00 Alimenta'!F:F)","v":0},{"$f":"SUMIF('00 Alimenta'!$B:$B,'00 PDC SP'!$F22,'00 Alimenta'!G:G)","v":169096559.22999999},{"$f":"SUMIF('00 Alimenta'!$B:$B,'00 PDC SP'!$F22,'00 Alimenta'!H:H)","v":0},{"$f":"SUMIF('00 Alimenta'!$B:$B,'00 PDC SP'!$F22,'00 Alimenta'!I:I)","v":0},169096559.22999999]
["AAA360","AA","AAA360",40,null,"0101020302","Manutenzioni e riparazioni straordinarie capitalizzabili fabbricati indisponibili",{"$f":"SUMIF('00 Alimenta'!$B:$B,'00 PDC SP'!$F23,'00 Alimenta'!D:D)","v":0},{"$f":"SUMIF('00 Alimenta'!$B:$B,'00 PDC SP'!$F23,'00 Alimenta'!E:E)","v":0},{"$f":"SUMIF('00 Alimenta'!$B:$B,'00 PDC SP'!$F23,'00 Alimenta'!F:F)","v":0},{"$f":"SUMIF('00 Alimenta'!$B:$B,'00 PDC SP'!$F23,'00 Alimenta'!G:G)","v":0},{"$f":"SUMIF('00 Alimenta'!$B:$B,'00 PDC SP'!$F23,'00 Alimenta'!H:H)","v":0},{"$f":"SUMIF('00 Alimenta'!$B:$B,'00 PDC SP'!$F23,'00 Alimenta'!I:I)","v":0},0]
["AAA390","AA","AAA390",41,null,"0101020401","Impianti sanitari",{"$f":"SUMIF('00 Alimenta'!$B:$B,'00 PDC SP'!$F24,'00 Alimenta'!D:D)","v":0},{"$f":"SUMIF('00 Alimenta'!$B:$B,'00 PDC SP'!$F24,'00 Alimenta'!E:E)","v":0},{"$f":"SUMIF('00 Alimenta'!$B:$B,'00 PDC SP'!$F24,'00 Alimenta'!F:F)","v":0},{"$f":"SUMIF('00 Alimenta'!$B:$B,'00 PDC SP'!$F24,'00 Alimenta'!G:G)","v":0},{"$f":"SUMIF('00 Alimenta'!$B:$B,'00 PDC SP'!$F24,'00 Alimenta'!H:H)","v":0},{"$f":"SUMIF('00 Alimenta'!$B:$B,'00 PDC SP'!$F24,'00 Alimenta'!I:I)","v":0},0]
["AAA390","AA","AAA390",41,null,"0101020402","Impianti generici",{"$f":"SUMIF('00 Alimenta'!$B:$B,'00 PDC SP'!$F25,'00 Alimenta'!D:D)","v":0},{"$f":"SUMIF('00 Alimenta'!$B:$B,'00 PDC SP'!$F25,'00 Alimenta'!E:E)","v":0},{"$f":"SUMIF('00 Alimenta'!$B:$B,'00 PDC SP'!$F25,'00 Alimenta'!F:F)","v":0},{"$f":"SUMIF('00 Alimenta'!$B:$B,'00 PDC SP'!$F25,'00 Alimenta'!G:G)","v":0},{"$f":"SUMIF('00 Alimenta'!$B:$B,'00 PDC SP'!$F25,'00 Alimenta'!H:H)","v":0},{"$f":"SUMIF('00 Alimenta'!$B:$B,'00 PDC SP'!$F25,'00 Alimenta'!I:I)","v":0},0]
["AAA390","AA","AAA390",41,null,"0101020403","Macchinari sanitari",{"$f":"SUMIF('00 Alimenta'!$B:$B,'00 PDC SP'!$F26,'00 Alimenta'!D:D)","v":0},{"$f":"SUMIF('00 Alimenta'!$B:$B,'00 PDC SP'!$F26,'00 Alimenta'!E:E)","v":0},{"$f":"SUMIF('00 Alimenta'!$B:$B,'00 PDC SP'!$F26,'00 Alimenta'!F:F)","v":0},{"$f":"SUMIF('00 Alimenta'!$B:$B,'00 PDC SP'!$F26,'00 Alimenta'!G:G)","v":0},{"$f":"SUMIF('00 Alimenta'!$B:$B,'00 PDC SP'!$F26,'00 Alimenta'!H:H)","v":0},{"$f":"SUMIF('00 Alimenta'!$B:$B,'00 PDC SP'!$F26,'00 Alimenta'!I:I)","v":0},0]
["AAA390","AA","AAA390",41,null,"0101020404","Macchinari generici",{"$f":"SUMIF('00 Alimenta'!$B:$B,'00 PDC SP'!$F27,'00 Alimenta'!D:D)","v":5772528.8399999999},{"$f":"SUMIF('00 Alimenta'!$B:$B,'00 PDC SP'!$F27,'00 Alimenta'!E:E)","v":183106.44},{"$f":"SUMIF('00 Alimenta'!$B:$B,'00 PDC SP'!$F27,'00 Alimenta'!F:F)","v":8604.7999999999993},{"$f":"SUMIF('00 Alimenta'!$B:$B,'00 PDC SP'!$F27,'00 Alimenta'!G:G)","v":5947030.4800000004},{"$f":"SUMIF('00 Alimenta'!$B:$B,'00 PDC SP'!$F27,'00 Alimenta'!H:H)","v":219918.7},{"$f":"SUMIF('00 Alimenta'!$B:$B,'00 PDC SP'!$F27,'00 Alimenta'!I:I)","v":171.65},6166777.5300000003]
["AAA390","AA","AAA390",41,null,"0101020405","Impianti e macchinari < 516 euro",{"$f":"SUMIF('00 Alimenta'!$B:$B,'00 PDC SP'!$F28,'00 Alimenta'!D:D)","v":0},{"$f":"SUMIF('00 Alimenta'!$B:$B,'00 PDC SP'!$F28,'00 Alimenta'!E:E)","v":0},{"$f":"SUMIF('00 Alimenta'!$B:$B,'00 PDC SP'!$F28,'00 Alimenta'!F:F)","v":0},{"$f":"SUMIF('00 Alimenta'!$B:$B,'00 PDC SP'!$F28,'00 Alimenta'!G:G)","v":0},{"$f":"SUMIF('00 Alimenta'!$B:$B,'00 PDC SP'!$F28,'00 Alimenta'!H:H)","v":0},{"$f":"SUMIF('00 Alimenta'!$B:$B,'00 PDC SP'!$F28,'00 Alimenta'!I:I)","v":0},0]
["AAA420","AA","AAA420",42,null,"0101020501","Attrezzature sanitarie e scientifiche",{"$f":"SUMIF('00 Alimenta'!$B:$B,'00 PDC SP'!$F29,'00 Alimenta'!D:D)","v":0},{"$f":"SUMIF('00 Alimenta'!$B:$B,'00 PDC SP'!$F29,'00 Alimenta'!E:E)","v":0},{"$f":"SUMIF('00 Alimenta'!$B:$B,'00 PDC SP'!$F29,'00 Alimenta'!F:F)","v":0},{"$f":"SUMIF('00 Alimenta'!$B:$B,'00 PDC SP'!$F29,'00 Alimenta'!G:G)","v":0},{"$f":"SUMIF('00 Alimenta'!$B:$B,'00 PDC SP'!$F29,'00 Alimenta'!H:H)","v":0},{"$f":"SUMIF('00 Alimenta'!$B:$B,'00 PDC SP'!$F29,'00 Alimenta'!I:I)","v":0},0]
["AAA420","AA","AAA420",42,null,"0101020502","Attrezzature generiche",{"$f":"SUMIF('00 Alimenta'!$B:$B,'00 PDC SP'!$F30,'00 Alimenta'!D:D)","v":75106075.780000001},{"$f":"SUMIF('00 Alimenta'!$B:$B,'00 PDC SP'!$F30,'00 Alimenta'!E:E)","v":6743296.6699999999},{"$f":"SUMIF('00 Alimenta'!$B:$B,'00 PDC SP'!$F30,'00 Alimenta'!F:F)","v":2797670.18},{"$f":"SUMIF('00 Alimenta'!$B:$B,'00 PDC SP'!$F30,'00 Alimenta'!G:G)","v":79051702.269999996},{"$f":"SUMIF('00 Alimenta'!$B:$B,'00 PDC SP'!$F30,'00 Alimenta'!H:H)","v":5812839.0700000003},{"$f":"SUMIF('00 Alimenta'!$B:$B,'00 PDC SP'!$F30,'00 Alimenta'!I:I)","v":146692.79999999999},84717848.540000007]
["AAA420","AA","AAA420",42,null,"0101020503","Attrezzature sanitarie e scientifiche < 516 euro",{"$f":"SUMIF('00 Alimenta'!$B:$B,'00 PDC SP'!$F31,'00 Alimenta'!D:D)","v":0},{"$f":"SUMIF('00 Alimenta'!$B:$B,'00 PDC SP'!$F31,'00 Alimenta'!E:E)","v":0},{"$f":"SUMIF('00 Alimenta'!$B:$B,'00 PDC SP'!$F31,'00 Alimenta'!F:F)","v":0},{"$f":"SUMIF('00 Alimenta'!$B:$B,'00 PDC SP'!$F31,'00 Alimenta'!G:G)","v":0},{"$f":"SUMIF('00 Alimenta'!$B:$B,'00 PDC SP'!$F31,'00 Alimenta'!H:H)","v":0},{"$f":"SUMIF('00 Alimenta'!$B:$B,'00 PDC SP'!$F31,'00 Alimenta'!I:I)","v":0},0]
["AAA450","AA","AAA450",43,null,"0101020601","Mobili e arredi",{"$f":"SUMIF('00 Alimenta'!$B:$B,'00 PDC SP'!$F32,'00 Alimenta'!D:D)","v":10177663.42},{"$f":"SUMIF('00 Alimenta'!$B:$B,'00 PDC SP'!$F32,'00 Alimenta'!E:E)","v":374325.51},{"$f":"SUMIF('00 Alimenta'!$B:$B,'00 PDC SP'!$F32,'00 Alimenta'!F:F)","v":183191.51},{"$f":"SUMIF('00 Alimenta'!$B:$B,'00 PDC SP'!$F32,'00 Alimenta'!G:G)","v":10368797.42},{"$f":"SUMIF('00 Alimenta'!$B:$B,'00 PDC SP'!$F32,'00 Alimenta'!H:H)","v":241394.07},{"$f":"SUMIF('00 Alimenta'!$B:$B,'00 PDC SP'!$F32,'00 Alimenta'!I:I)","v":12215.84},10597975.65]
["AAA450","AA","AAA450",43,null,"0101020602","Mobili d'ufficio",{"$f":"SUMIF('00 Alimenta'!$B:$B,'00 PDC SP'!$F33,'00 Alimenta'!D:D)","v":0},{"$f":"SUMIF('00 Alimenta'!$B:$B,'00 PDC SP'!$F33,'00 Alimenta'!E:E)","v":0},{"$f":"SUMIF('00 Alimenta'!$B:$B,'00 PDC SP'!$F33,'00 Alimenta'!F:F)","v":0},{"$f":"SUMIF('00 Alimenta'!$B:$B,'00 PDC SP'!$F33,'00 Alimenta'!G:G)","v":0},{"$f":"SUMIF('00 Alimenta'!$B:$B,'00 PDC SP'!$F33,'00 Alimenta'!H:H)","v":0},{"$f":"SUMIF('00 Alimenta'!$B:$B,'00 PDC SP'!$F33,'00 Alimenta'!I:I)","v":0},0]
["AAA450","AA","AAA450",43,null,"0101020603","Mobili d'ufficio < 516 euro",{"$f":"SUMIF('00 Alimenta'!$B:$B,'00 PDC SP'!$F34,'00 Alimenta'!D:D)","v":0},{"$f":"SUMIF('00 Alimenta'!$B:$B,'00 PDC SP'!$F34,'00 Alimenta'!E:E)","v":0},{"$f":"SUMIF('00 Alimenta'!$B:$B,'00 PDC SP'!$F34,'00 Alimenta'!F:F)","v":0},{"$f":"SUMIF('00 Alimenta'!$B:$B,'00 PDC SP'!$F34,'00 Alimenta'!G:G)","v":0},{"$f":"SUMIF('00 Alimenta'!$B:$B,'00 PDC SP'!$F34,'00 Alimenta'!H:H)","v":0},{"$f":"SUMIF('00 Alimenta'!$B:$B,'00 PDC SP'!$F34,'00 Alimenta'!I:I)","v":0},0]
["AAA480","AA","AAA480",44,null,"0101020701","Elicotteri",{"$f":"SUMIF('00 Alimenta'!$B:$B,'00 PDC SP'!$F35,'00 Alimenta'!D:D)","v":0},{"$f":"SUMIF('00 Alimenta'!$B:$B,'00 PDC SP'!$F35,'00 Alimenta'!E:E)","v":0},{"$f":"SUMIF('00 Alimenta'!$B:$B,'00 PDC SP'!$F35,'00 Alimenta'!F:F)","v":0},{"$f":"SUMIF('00 Alimenta'!$B:$B,'00 PDC SP'!$F35,'00 Alimenta'!G:G)","v":0},{"$f":"SUMIF('00 Alimenta'!$B:$B,'00 PDC SP'!$F35,'00 Alimenta'!H:H)","v":0},{"$f":"SUMIF('00 Alimenta'!$B:$B,'00 PDC SP'!$F35,'00 Alimenta'!I:I)","v":0},0]
["AAA480","AA","AAA480",44,null,"0101020702","Ambulanze ",{"$f":"SUMIF('00 Alimenta'!$B:$B,'00 PDC SP'!$F36,'00 Alimenta'!D:D)","v":0},{"$f":"SUMIF('00 Alimenta'!$B:$B,'00 PDC SP'!$F36,'00 Alimenta'!E:E)","v":0},{"$f":"SUMIF('00 Alimenta'!$B:$B,'00 PDC SP'!$F36,'00 Alimenta'!F:F)","v":0},{"$f":"SUMIF('00 Alimenta'!$B:$B,'00 PDC SP'!$F36,'00 Alimenta'!G:G)","v":0},{"$f":"SUMIF('00 Alimenta'!$B:$B,'00 PDC SP'!$F36,'00 Alimenta'!H:H)","v":0},{"$f":"SUMIF('00 Alimenta'!$B:$B,'00 PDC SP'!$F36,'00 Alimenta'!I:I)","v":0},0]
["AAA480","AA","AAA480",44,null,"0101020703","Altri mezzi di trasporto",{"$f":"SUMIF('00 Alimenta'!$B:$B,'00 PDC SP'!$F37,'00 Alimenta'!D:D)","v":1758814.75},{"$f":"SUMIF('00 Alimenta'!$B:$B,'00 PDC SP'!$F37,'00 Alimenta'!E:E)","v":144301.6},{"$f":"SUMIF('00 Alimenta'!$B:$B,'00 PDC SP'!$F37,'00 Alimenta'!F:F)","v":63157.24},{"$f":"SUMIF('00 Alimenta'!$B:$B,'00 PDC SP'!$F37,'00 Alimenta'!G:G)","v":1839959.11},{"$f":"SUMIF('00 Alimenta'!$B:$B,'00 PDC SP'!$F37,'00 Alimenta'!H:H)","v":123029.66},{"$f":"SUMIF('00 Alimenta'!$B:$B,'00 PDC SP'!$F37,'00 Alimenta'!I:I)","v":0},1962988.77]
["AAA500","AA","AAA500",45,null,"0101020801","Oggetti d'arte",{"$f":"SUMIF('00 Alimenta'!$B:$B,'00 PDC SP'!$F38,'00 Alimenta'!D:D)","v":0},{"$f":"SUMIF('00 Alimenta'!$B:$B,'00 PDC SP'!$F38,'00 Alimenta'!E:E)","v":0},{"$f":"SUMIF('00 Alimenta'!$B:$B,'00 PDC SP'!$F38,'00 Alimenta'!F:F)","v":0},{"$f":"SUMIF('00 Alimenta'!$B:$B,'00 PDC SP'!$F38,'00 Alimenta'!G:G)","v":0},{"$f":"SUMIF('00 Alimenta'!$B:$B,'00 PDC SP'!$F38,'00 Alimenta'!H:H)","v":0},{"$f":"SUMIF('00 Alimenta'!$B:$B,'00 PDC SP'!$F38,'00 Alimenta'!I:I)","v":0},0]
["AAA520","AA","AAA520",45,null,"0101020901","Attrezzature e macchine d'ufficio",{"$f":"SUMIF('00 Alimenta'!$B:$B,'00 PDC SP'!$F39,'00 Alimenta'!D:D)","v":0},{"$f":"SUMIF('00 Alimenta'!$B:$B,'00 PDC SP'!$F39,'00 Alimenta'!E:E)","v":0},{"$f":"SUMIF('00 Alimenta'!$B:$B,'00 PDC SP'!$F39,'00 Alimenta'!F:F)","v":0},{"$f":"SUMIF('00 Alimenta'!$B:$B,'00 PDC SP'!$F39,'00 Alimenta'!G:G)","v":0},{"$f":"SUMIF('00 Alimenta'!$B:$B,'00 PDC SP'!$F39,'00 Alimenta'!H:H)","v":0},{"$f":"SUMIF('00 Alimenta'!$B:$B,'00 PDC SP'!$F39,'00 Alimenta'!I:I)","v":0},0]
["AAA520","AA","AAA520",45,null,"0101020902","Attrezzature tecnico - economali",{"$f":"SUMIF('00 Alimenta'!$B:$B,'00 PDC SP'!$F40,'00 Alimenta'!D:D)","v":0},{"$f":"SUMIF('00 Alimenta'!$B:$B,'00 PDC SP'!$F40,'00 Alimenta'!E:E)","v":0},{"$f":"SUMIF('00 Alimenta'!$B:$B,'00 PDC SP'!$F40,'00 Alimenta'!F:F)","v":0},{"$f":"SUMIF('00 Alimenta'!$B:$B,'00 PDC SP'!$F40,'00 Alimenta'!G:G)","v":0},{"$f":"SUMIF('00 Alimenta'!$B:$B,'00 PDC SP'!$F40,'00 Alimenta'!H:H)","v":0},{"$f":"SUMIF('00 Alimenta'!$B:$B,'00 PDC SP'!$F40,'00 Alimenta'!I:I)","v":0},0]
["AAA520","AA","AAA520",45,null,"0101020903","Computer e macchinari elettronici",{"$f":"SUMIF('00 Alimenta'!$B:$B,'00 PDC SP'!$F41,'00 Alimenta'!D:D)","v":5279391.75},{"$f":"SUMIF('00 Alimenta'!$B:$B,'00 PDC SP'!$F41,'00 Alimenta'!E:E)","v":103690.13},{"$f":"SUMIF('00 Alimenta'!$B:$B,'00 PDC SP'!$F41,'00 Alimenta'!F:F)","v":152910.96},{"$f":"SUMIF('00 Alimenta'!$B:$B,'00 PDC SP'!$F41,'00 Alimenta'!G:G)","v":5230170.92},{"$f":"SUMIF('00 Alimenta'!$B:$B,'00 PDC SP'!$F41,'00 Alimenta'!H:H)","v":261895.29},{"$f":"SUMIF('00 Alimenta'!$B:$B,'00 PDC SP'!$F41,'00 Alimenta'!I:I)","v":2012.8},5490053.4100000001]
["AAA520","AA","AAA520",45,null,"0101020904","Altri beni materiali",{"$f":"SUMIF('00 Alimenta'!$B:$B,'00 PDC SP'!$F42,'00 Alimenta'!D:D)","v":421246.02},{"$f":"SUMIF('00 Alimenta'!$B:$B,'00 PDC SP'!$F42,'00 Alimenta'!E:E)","v":7740.63},{"$f":"SUMIF('00 Alimenta'!$B:$B,'00 PDC SP'!$F42,'00 Alimenta'!F:F)","v":5066.79},{"$f":"SUMIF('00 Alimenta'!$B:$B,'00 PDC SP'!$F42,'00 Alimenta'!G:G)","v":423919.86},{"$f":"SUMIF('00 Alimenta'!$B:$B,'00 PDC SP'!$F42,'00 Alimenta'!H:H)","v":4021.71},{"$f":"SUMIF('00 Alimenta'!$B:$B,'00 PDC SP'!$F42,'00 Alimenta'!I:I)","v":0},427941.57]
["AAA520","AA","AAA520",45,null,"0101020905","Altri beni < 516 euro",{"$f":"SUMIF('00 Alimenta'!$B:$B,'00 PDC SP'!$F43,'00 Alimenta'!D:D)","v":0},{"$f":"SUMIF('00 Alimenta'!$B:$B,'00 PDC SP'!$F43,'00 Alimenta'!E:E)","v":0},{"$f":"SUMIF('00 Alimenta'!$B:$B,'00 PDC SP'!$F43,'00 Alimenta'!F:F)","v":0},{"$f":"SUMIF('00 Alimenta'!$B:$B,'00 PDC SP'!$F43,'00 Alimenta'!G:G)","v":0},{"$f":"SUMIF('00 Alimenta'!$B:$B,'00 PDC SP'!$F43,'00 Alimenta'!H:H)","v":0},{"$f":"SUMIF('00 Alimenta'!$B:$B,'00 PDC SP'!$F43,'00 Alimenta'!I:I)","v":0},0]
["AAA540","AA","AAA540",45,null,"0101021001","Fabbricati in costruzione",{"$f":"SUMIF('00 Alimenta'!$B:$B,'00 PDC SP'!$F44,'00 Alimenta'!D:D)","v":7302928.54},{"$f":"SUMIF('00 Alimenta'!$B:$B,'00 PDC SP'!$F44,'00 Alimenta'!E:E)","v":1381793.22},{"$f":"SUMIF('00 Alimenta'!$B:$B,'00 PDC SP'!$F44,'00 Alimenta'!F:F)","v":61951.49},{"$f":"SUMIF('00 Alimenta'!$B:$B,'00 PDC SP'!$F44,'00 Alimenta'!G:G)","v":8622770.2699999996},{"$f":"SUMIF('00 Alimenta'!$B:$B,'00 PDC SP'!$F44,'00 Alimenta'!H:H)","v":950522.09},{"$f":"SUMIF('00 Alimenta'!$B:$B,'00 PDC SP'!$F44,'00 Alimenta'!I:I)","v":102440.22},9470852.1399999987]
["AAA540","AA","AAA540",45,null,"0101021002","Impianti e macchinari in costruzione",{"$f":"SUMIF('00 Alimenta'!$B:$B,'00 PDC SP'!$F45,'00 Alimenta'!D:D)","v":0},{"$f":"SUMIF('00 Alimenta'!$B:$B,'00 PDC SP'!$F45,'00 Alimenta'!E:E)","v":0},{"$f":"SUMIF('00 Alimenta'!$B:$B,'00 PDC SP'!$F45,'00 Alimenta'!F:F)","v":0},{"$f":"SUMIF('00 Alimenta'!$B:$B,'00 PDC SP'!$F45,'00 Alimenta'!G:G)","v":0},{"$f":"SUMIF('00 Alimenta'!$B:$B,'00 PDC SP'!$F45,'00 Alimenta'!H:H)","v":0},{"$f":"SUMIF('00 Alimenta'!$B:$B,'00 PDC SP'!$F45,'00 Alimenta'!I:I)","v":0},0]
["AAA540","AA","AAA540",45,null,"0101021003","Attrezzature sanitarie e scientifiche in costruzione",{"$f":"SUMIF('00 Alimenta'!$B:$B,'00 PDC SP'!$F46,'00 Alimenta'!D:D)","v":0},{"$f":"SUMIF('00 Alimenta'!$B:$B,'00 PDC SP'!$F46,'00 Alimenta'!E:E)","v":0},{"$f":"SUMIF('00 Alimenta'!$B:$B,'00 PDC SP'!$F46,'00 Alimenta'!F:F)","v":0},{"$f":"SUMIF('00 Alimenta'!$B:$B,'00 PDC SP'!$F46,'00 Alimenta'!G:G)","v":0},{"$f":"SUMIF('00 Alimenta'!$B:$B,'00 PDC SP'!$F46,'00 Alimenta'!H:H)","v":0},{"$f":"SUMIF('00 Alimenta'!$B:$B,'00 PDC SP'!$F46,'00 Alimenta'!I:I)","v":0},0]
["AAA540","AA","AAA540",45,null,"0101021004","Altre immobilizzazioni materiali in costruzione",{"$f":"SUMIF('00 Alimenta'!$B:$B,'00 PDC SP'!$F47,'00 Alimenta'!D:D)","v":0},{"$f":"SUMIF('00 Alimenta'!$B:$B,'00 PDC SP'!$F47,'00 Alimenta'!E:E)","v":0},{"$f":"SUMIF('00 Alimenta'!$B:$B,'00 PDC SP'!$F47,'00 Alimenta'!F:F)","v":0},{"$f":"SUMIF('00 Alimenta'!$B:$B,'00 PDC SP'!$F47,'00 Alimenta'!G:G)","v":0},{"$f":"SUMIF('00 Alimenta'!$B:$B,'00 PDC SP'!$F47,'00 Alimenta'!H:H)","v":0},{"$f":"SUMIF('00 Alimenta'!$B:$B,'00 PDC SP'!$F47,'00 Alimenta'!I:I)","v":0},0]
["AAA540","AA","AAA540",45,null,"0101021005","Acconti su future acquisizioni di immobilizzazioni materiali",{"$f":"SUMIF('00 Alimenta'!$B:$B,'00 PDC SP'!$F48,'00 Alimenta'!D:D)","v":263368.81},{"$f":"SUMIF('00 Alimenta'!$B:$B,'00 PDC SP'!$F48,'00 Alimenta'!E:E)","v":127357.75},{"$f":"SUMIF('00 Alimenta'!$B:$B,'00 PDC SP'!$F48,'00 Alimenta'!F:F)","v":248601.25},{"$f":"SUMIF('00 Alimenta'!$B:$B,'00 PDC SP'!$F48,'00 Alimenta'!G:G)","v":142125.31},{"$f":"SUMIF('00 Alimenta'!$B:$B,'00 PDC SP'!$F48,'00 Alimenta'!H:H)","v":1527272.03},{"$f":"SUMIF('00 Alimenta'!$B:$B,'00 PDC SP'!$F48,'00 Alimenta'!I:I)","v":142296.91},1527100.4300000002]
["AAA660","AA","AAA660",46,null,"0101030101","Crediti finanziari v/Stato",{"$f":"SUMIF('00 Alimenta'!$B:$B,'00 PDC SP'!$F49,'00 Alimenta'!D:D)","v":0},{"$f":"SUMIF('00 Alimenta'!$B:$B,'00 PDC SP'!$F49,'00 Alimenta'!E:E)","v":0},{"$f":"SUMIF('00 Alimenta'!$B:$B,'00 PDC SP'!$F49,'00 Alimenta'!F:F)","v":0},{"$f":"SUMIF('00 Alimenta'!$B:$B,'00 PDC SP'!$F49,'00 Alimenta'!G:G)","v":0},{"$f":"SUMIF('00 Alimenta'!$B:$B,'00 PDC SP'!$F49,'00 Alimenta'!H:H)","v":0},{"$f":"SUMIF('00 Alimenta'!$B:$B,'00 PDC SP'!$F49,'00 Alimenta'!I:I)","v":0},0]
["AAA670","AA","AAA670",46,null,"0101030201","Crediti finanziari v/Regione",{"$f":"SUMIF('00 Alimenta'!$B:$B,'00 PDC SP'!$F50,'00 Alimenta'!D:D)","v":0},{"$f":"SUMIF('00 Alimenta'!$B:$B,'00 PDC SP'!$F50,'00 Alimenta'!E:E)","v":0},{"$f":"SUMIF('00 Alimenta'!$B:$B,'00 PDC SP'!$F50,'00 Alimenta'!F:F)","v":0},{"$f":"SUMIF('00 Alimenta'!$B:$B,'00 PDC SP'!$F50,'00 Alimenta'!G:G)","v":0},{"$f":"SUMIF('00 Alimenta'!$B:$B,'00 PDC SP'!$F50,'00 Alimenta'!H:H)","v":0},{"$f":"SUMIF('00 Alimenta'!$B:$B,'00 PDC SP'!$F50,'00 Alimenta'!I:I)","v":0},0]
["AAA680","AA","AAA680",46,null,"0101030301","Crediti finanziari v/imprese controllate",{"$f":"SUMIF('00 Alimenta'!$B:$B,'00 PDC SP'!$F51,'00 Alimenta'!D:D)","v":0},{"$f":"SUMIF('00 Alimenta'!$B:$B,'00 PDC SP'!$F51,'00 Alimenta'!E:E)","v":0},{"$f":"SUMIF('00 Alimenta'!$B:$B,'00 PDC SP'!$F51,'00 Alimenta'!F:F)","v":0},{"$f":"SUMIF('00 Alimenta'!$B:$B,'00 PDC SP'!$F51,'00 Alimenta'!G:G)","v":0},{"$f":"SUMIF('00 Alimenta'!$B:$B,'00 PDC SP'!$F51,'00 Alimenta'!H:H)","v":0},{"$f":"SUMIF('00 Alimenta'!$B:$B,'00 PDC SP'!$F51,'00 Alimenta'!I:I)","v":0},0]
["AAA680","AA","AAA680",46,null,"0101030302","Crediti finanziari v/imprese collegate",{"$f":"SUMIF('00 Alimenta'!$B:$B,'00 PDC SP'!$F52,'00 Alimenta'!D:D)","v":0},{"$f":"SUMIF('00 Alimenta'!$B:$B,'00 PDC SP'!$F52,'00 Alimenta'!E:E)","v":0},{"$f":"SUMIF('00 Alimenta'!$B:$B,'00 PDC SP'!$F52,'00 Alimenta'!F:F)","v":0},{"$f":"SUMIF('00 Alimenta'!$B:$B,'00 PDC SP'!$F52,'00 Alimenta'!G:G)","v":0},{"$f":"SUMIF('00 Alimenta'!$B:$B,'00 PDC SP'!$F52,'00 Alimenta'!H:H)","v":0},{"$f":"SUMIF('00 Alimenta'!$B:$B,'00 PDC SP'!$F52,'00 Alimenta'!I:I)","v":0},0]
["AAA690","AA","AAA690",46,null,"0101030401","Crediti finanziari v/Provincia",{"$f":"SUMIF('00 Alimenta'!$B:$B,'00 PDC SP'!$F53,'00 Alimenta'!D:D)","v":0},{"$f":"SUMIF('00 Alimenta'!$B:$B,'00 PDC SP'!$F53,'00 Alimenta'!E:E)","v":0},{"$f":"SUMIF('00 Alimenta'!$B:$B,'00 PDC SP'!$F53,'00 Alimenta'!F:F)","v":0},{"$f":"SUMIF('00 Alimenta'!$B:$B,'00 PDC SP'!$F53,'00 Alimenta'!G:G)","v":0},{"$f":"SUMIF('00 Alimenta'!$B:$B,'00 PDC SP'!$F53,'00 Alimenta'!H:H)","v":0},{"$f":"SUMIF('00 Alimenta'!$B:$B,'00 PDC SP'!$F53,'00 Alimenta'!I:I)","v":0},0]
["AAA690","AA","AAA690",46,null,"0101030402","Crediti finanziari v/Comuni",{"$f":"SUMIF('00 Alimenta'!$B:$B,'00 PDC SP'!$F54,'00 Alimenta'!D:D)","v":0},{"$f":"SUMIF('00 Alimenta'!$B:$B,'00 PDC SP'!$F54,'00 Alimenta'!E:E)","v":0},{"$f":"SUMIF('00 Alimenta'!$B:$B,'00 PDC SP'!$F54,'00 Alimenta'!F:F)","v":0},{"$f":"SUMIF('00 Alimenta'!$B:$B,'00 PDC SP'!$F54,'00 Alimenta'!G:G)","v":0},{"$f":"SUMIF('00 Alimenta'!$B:$B,'00 PDC SP'!$F54,'00 Alimenta'!H:H)","v":0},{"$f":"SUMIF('00 Alimenta'!$B:$B,'00 PDC SP'!$F54,'00 Alimenta'!I:I)","v":0},0]
["AAA690","AA","AAA690",46,null,"0101030403","Crediti finanziari v/altri",{"$f":"SUMIF('00 Alimenta'!$B:$B,'00 PDC SP'!$F55,'00 Alimenta'!D:D)","v":0},{"$f":"SUMIF('00 Alimenta'!$B:$B,'00 PDC SP'!$F55,'00 Alimenta'!E:E)","v":0},{"$f":"SUMIF('00 Alimenta'!$B:$B,'00 PDC SP'!$F55,'00 Alimenta'!F:F)","v":0},{"$f":"SUMIF('00 Alimenta'!$B:$B,'00 PDC SP'!$F55,'00 Alimenta'!G:G)","v":0},{"$f":"SUMIF('00 Alimenta'!$B:$B,'00 PDC SP'!$F55,'00 Alimenta'!H:H)","v":0},{"$f":"SUMIF('00 Alimenta'!$B:$B,'00 PDC SP'!$F55,'00 Alimenta'!I:I)","v":0},0]
["AAA690","AA","AAA690",46,null,"0101030404","Depositi cauzionali",{"$f":"SUMIF('00 Alimenta'!$B:$B,'00 PDC SP'!$F56,'00 Alimenta'!D:D)","v":12379.7},{"$f":"SUMIF('00 Alimenta'!$B:$B,'00 PDC SP'!$F56,'00 Alimenta'!E:E)","v":1656.75},{"$f":"SUMIF('00 Alimenta'!$B:$B,'00 PDC SP'!$F56,'00 Alimenta'!F:F)","v":0},{"$f":"SUMIF('00 Alimenta'!$B:$B,'00 PDC SP'!$F56,'00 Alimenta'!G:G)","v":14036.45},{"$f":"SUMIF('00 Alimenta'!$B:$B,'00 PDC SP'!$F56,'00 Alimenta'!H:H)","v":0},{"$f":"SUMIF('00 Alimenta'!$B:$B,'00 PDC SP'!$F56,'00 Alimenta'!I:I)","v":0},14036.45]
["AAA710CN","AA","AAA710",47,"CN","0101030501","Partecipazioni in imprese controllate",{"$f":"SUMIF('00 Alimenta'!$B:$B,'00 PDC SP'!$F57,'00 Alimenta'!D:D)","v":0},{"$f":"SUMIF('00 Alimenta'!$B:$B,'00 PDC SP'!$F57,'00 Alimenta'!E:E)","v":0},{"$f":"SUMIF('00 Alimenta'!$B:$B,'00 PDC SP'!$F57,'00 Alimenta'!F:F)","v":0},{"$f":"SUMIF('00 Alimenta'!$B:$B,'00 PDC SP'!$F57,'00 Alimenta'!G:G)","v":0},{"$f":"SUMIF('00 Alimenta'!$B:$B,'00 PDC SP'!$F57,'00 Alimenta'!H:H)","v":0},{"$f":"SUMIF('00 Alimenta'!$B:$B,'00 PDC SP'!$F57,'00 Alimenta'!I:I)","v":0},0]
["AAA710CL","AA","AAA710",47,"CL","0101030502","Partecipazioni in imprese collegate",{"$f":"SUMIF('00 Alimenta'!$B:$B,'00 PDC SP'!$F58,'00 Alimenta'!D:D)","v":0},{"$f":"SUMIF('00 Alimenta'!$B:$B,'00 PDC SP'!$F58,'00 Alimenta'!E:E)","v":0},{"$f":"SUMIF('00 Alimenta'!$B:$B,'00 PDC SP'!$F58,'00 Alimenta'!F:F)","v":0},{"$f":"SUMIF('00 Alimenta'!$B:$B,'00 PDC SP'!$F58,'00 Alimenta'!G:G)","v":0},{"$f":"SUMIF('00 Alimenta'!$B:$B,'00 PDC SP'!$F58,'00 Alimenta'!H:H)","v":0},{"$f":"SUMIF('00 Alimenta'!$B:$B,'00 PDC SP'!$F58,'00 Alimenta'!I:I)","v":0},0]
["AAA710AI","AA","AAA710",47,"AI","0101030503","Partecipazioni in altre imprese",{"$f":"SUMIF('00 Alimenta'!$B:$B,'00 PDC SP'!$F59,'00 Alimenta'!D:D)","v":0},{"$f":"SUMIF('00 Alimenta'!$B:$B,'00 PDC SP'!$F59,'00 Alimenta'!E:E)","v":0},{"$f":"SUMIF('00 Alimenta'!$B:$B,'00 PDC SP'!$F59,'00 Alimenta'!F:F)","v":0},{"$f":"SUMIF('00 Alimenta'!$B:$B,'00 PDC SP'!$F59,'00 Alimenta'!G:G)","v":0},{"$f":"SUMIF('00 Alimenta'!$B:$B,'00 PDC SP'!$F59,'00 Alimenta'!H:H)","v":0},{"$f":"SUMIF('00 Alimenta'!$B:$B,'00 PDC SP'!$F59,'00 Alimenta'!I:I)","v":0},0]
["AAA730","AA","AAA730",47,null,"0101030601","Titoli di Stato",{"$f":"SUMIF('00 Alimenta'!$B:$B,'00 PDC SP'!$F60,'00 Alimenta'!D:D)","v":0},{"$f":"SUMIF('00 Alimenta'!$B:$B,'00 PDC SP'!$F60,'00 Alimenta'!E:E)","v":0},{"$f":"SUMIF('00 Alimenta'!$B:$B,'00 PDC SP'!$F60,'00 Alimenta'!F:F)","v":0},{"$f":"SUMIF('00 Alimenta'!$B:$B,'00 PDC SP'!$F60,'00 Alimenta'!G:G)","v":0},{"$f":"SUMIF('00 Alimenta'!$B:$B,'00 PDC SP'!$F60,'00 Alimenta'!H:H)","v":0},{"$f":"SUMIF('00 Alimenta'!$B:$B,'00 PDC SP'!$F60,'00 Alimenta'!I:I)","v":0},0]
["AAA740","AA","AAA740",47,null,"0101030602","Altre Obbligazioni",{"$f":"SUMIF('00 Alimenta'!$B:$B,'00 PDC SP'!$F61,'00 Alimenta'!D:D)","v":0},{"$f":"SUMIF('00 Alimenta'!$B:$B,'00 PDC SP'!$F61,'00 Alimenta'!E:E)","v":0},{"$f":"SUMIF('00 Alimenta'!$B:$B,'00 PDC SP'!$F61,'00 Alimenta'!F:F)","v":0},{"$f":"SUMIF('00 Alimenta'!$B:$B,'00 PDC SP'!$F61,'00 Alimenta'!G:G)","v":0},{"$f":"SUMIF('00 Alimenta'!$B:$B,'00 PDC SP'!$F61,'00 Alimenta'!H:H)","v":0},{"$f":"SUMIF('00 Alimenta'!$B:$B,'00 PDC SP'!$F61,'00 Alimenta'!I:I)","v":0},0]
["AAA750","AA","AAA750",47,null,"0101030603","Titoli azionari quotati in Borsa",{"$f":"SUMIF('00 Alimenta'!$B:$B,'00 PDC SP'!$F62,'00 Alimenta'!D:D)","v":0},{"$f":"SUMIF('00 Alimenta'!$B:$B,'00 PDC SP'!$F62,'00 Alimenta'!E:E)","v":0},{"$f":"SUMIF('00 Alimenta'!$B:$B,'00 PDC SP'!$F62,'00 Alimenta'!F:F)","v":0},{"$f":"SUMIF('00 Alimenta'!$B:$B,'00 PDC SP'!$F62,'00 Alimenta'!G:G)","v":0},{"$f":"SUMIF('00 Alimenta'!$B:$B,'00 PDC SP'!$F62,'00 Alimenta'!H:H)","v":0},{"$f":"SUMIF('00 Alimenta'!$B:$B,'00 PDC SP'!$F62,'00 Alimenta'!I:I)","v":0},0]
["AAA760","AA","AAA760",47,null,"0101030604","Titoli diversi",{"$f":"SUMIF('00 Alimenta'!$B:$B,'00 PDC SP'!$F63,'00 Alimenta'!D:D)","v":0},{"$f":"SUMIF('00 Alimenta'!$B:$B,'00 PDC SP'!$F63,'00 Alimenta'!E:E)","v":0},{"$f":"SUMIF('00 Alimenta'!$B:$B,'00 PDC SP'!$F63,'00 Alimenta'!F:F)","v":0},{"$f":"SUMIF('00 Alimenta'!$B:$B,'00 PDC SP'!$F63,'00 Alimenta'!G:G)","v":0},{"$f":"SUMIF('00 Alimenta'!$B:$B,'00 PDC SP'!$F63,'00 Alimenta'!H:H)","v":0},{"$f":"SUMIF('00 Alimenta'!$B:$B,'00 PDC SP'!$F63,'00 Alimenta'!I:I)","v":0},0]
["ABA020","AB","ABA020",31,null,"0102010101","Medicinali con AIC",{"$f":"SUMIF('00 Alimenta'!$B:$B,'00 PDC SP'!$F64,'00 Alimenta'!D:D)","v":5274714.12},{"$f":"SUMIF('00 Alimenta'!$B:$B,'00 PDC SP'!$F64,'00 Alimenta'!E:E)","v":4636666.55},{"$f":"SUMIF('00 Alimenta'!$B:$B,'00 PDC SP'!$F64,'00 Alimenta'!F:F)","v":5274714.12},{"$f":"SUMIF('00 Alimenta'!$B:$B,'00 PDC SP'!$F64,'00 Alimenta'!G:G)","v":4636666.55},{"$f":"SUMIF('00 Alimenta'!$B:$B,'00 PDC SP'!$F64,'00 Alimenta'!H:H)","v":4388956},{"$f":"SUMIF('00 Alimenta'!$B:$B,'00 PDC SP'!$F64,'00 Alimenta'!I:I)","v":4636666.55},4388956.0000000009]
["ABA020","AB","ABA020",31,null,"0102010102","Soluzioni infusionali con AIC",{"$f":"SUMIF('00 Alimenta'!$B:$B,'00 PDC SP'!$F65,'00 Alimenta'!D:D)","v":3117.21},{"$f":"SUMIF('00 Alimenta'!$B:$B,'00 PDC SP'!$F65,'00 Alimenta'!E:E)","v":1437.61},{"$f":"SUMIF('00 Alimenta'!$B:$B,'00 PDC SP'!$F65,'00 Alimenta'!F:F)","v":3117.21},{"$f":"SUMIF('00 Alimenta'!$B:$B,'00 PDC SP'!$F65,'00 Alimenta'!G:G)","v":1437.61},{"$f":"SUMIF('00 Alimenta'!$B:$B,'00 PDC SP'!$F65,'00 Alimenta'!H:H)","v":1398.76},{"$f":"SUMIF('00 Alimenta'!$B:$B,'00 PDC SP'!$F65,'00 Alimenta'!I:I)","v":1437.61},1398.76]
["ABA020","AB","ABA020",31,null,"0102010103","Ossigeno con AIC",{"$f":"SUMIF('00 Alimenta'!$B:$B,'00 PDC SP'!$F66,'00 Alimenta'!D:D)","v":11934.33},{"$f":"SUMIF('00 Alimenta'!$B:$B,'00 PDC SP'!$F66,'00 Alimenta'!E:E)","v":10294.49},{"$f":"SUMIF('00 Alimenta'!$B:$B,'00 PDC SP'!$F66,'00 Alimenta'!F:F)","v":11934.33},{"$f":"SUMIF('00 Alimenta'!$B:$B,'00 PDC SP'!$F66,'00 Alimenta'!G:G)","v":10294.49},{"$f":"SUMIF('00 Alimenta'!$B:$B,'00 PDC SP'!$F66,'00 Alimenta'!H:H)","v":1633.04},{"$f":"SUMIF('00 Alimenta'!$B:$B,'00 PDC SP'!$F66,'00 Alimenta'!I:I)","v":10294.49},1633.0399999999991]
["ABA020","AB","ABA020",31,null,"0102010104","Altri gas medicali con AIC",{"$f":"SUMIF('00 Alimenta'!$B:$B,'00 PDC SP'!$F67,'00 Alimenta'!D:D)","v":8360.19},{"$f":"SUMIF('00 Alimenta'!$B:$B,'00 PDC SP'!$F67,'00 Alimenta'!E:E)","v":2368.85},{"$f":"SUMIF('00 Alimenta'!$B:$B,'00 PDC SP'!$F67,'00 Alimenta'!F:F)","v":8360.19},{"$f":"SUMIF('00 Alimenta'!$B:$B,'00 PDC SP'!$F67,'00 Alimenta'!G:G)","v":2368.85},{"$f":"SUMIF('00 Alimenta'!$B:$B,'00 PDC SP'!$F67,'00 Alimenta'!H:H)","v":9993.4599999999991},{"$f":"SUMIF('00 Alimenta'!$B:$B,'00 PDC SP'!$F67,'00 Alimenta'!I:I)","v":2368.85},9993.4599999999991]
["ABA020","AB","ABA020",31,null,"0102010105","Emoderivati con AIC",{"$f":"SUMIF('00 Alimenta'!$B:$B,'00 PDC SP'!$F68,'00 Alimenta'!D:D)","v":546577.01},{"$f":"SUMIF('00 Alimenta'!$B:$B,'00 PDC SP'!$F68,'00 Alimenta'!E:E)","v":298115.40000000002},{"$f":"SUMIF('00 Alimenta'!$B:$B,'00 PDC SP'!$F68,'00 Alimenta'!F:F)","v":546577.01},{"$f":"SUMIF('00 Alimenta'!$B:$B,'00 PDC SP'!$F68,'00 Alimenta'!G:G)","v":298115.40000000002},{"$f":"SUMIF('00 Alimenta'!$B:$B,'00 PDC SP'!$F68,'00 Alimenta'!H:H)","v":415087.34},{"$f":"SUMIF('00 Alimenta'!$B:$B,'00 PDC SP'!$F68,'00 Alimenta'!I:I)","v":298115.40000000002},415087.33999999997]
["ABA020","AB","ABA020",31,null,"0102010106","Medicinali senza AIC",{"$f":"SUMIF('00 Alimenta'!$B:$B,'00 PDC SP'!$F69,'00 Alimenta'!D:D)","v":111611.93},{"$f":"SUMIF('00 Alimenta'!$B:$B,'00 PDC SP'!$F69,'00 Alimenta'!E:E)","v":126880.91},{"$f":"SUMIF('00 Alimenta'!$B:$B,'00 PDC SP'!$F69,'00 Alimenta'!F:F)","v":111611.93},{"$f":"SUMIF('00 Alimenta'!$B:$B,'00 PDC SP'!$F69,'00 Alimenta'!G:G)","v":126880.91},{"$f":"SUMIF('00 Alimenta'!$B:$B,'00 PDC SP'!$F69,'00 Alimenta'!H:H)","v":220505.73},{"$f":"SUMIF('00 Alimenta'!$B:$B,'00 PDC SP'!$F69,'00 Alimenta'!I:I)","v":126880.91},220505.73]
[{"$f":"IF(E70=\"\",C70,C70&E70)","v":"ABA020"},{"$f":"LEFT(C70,2)","v":"AB"},"ABA020",31,null,"0102010107","Emoderivati di produzione regionale",{"$f":"SUMIF('00 Alimenta'!$B:$B,'00 PDC SP'!$F70,'00 Alimenta'!D:D)","v":0},{"$f":"SUMIF('00 Alimenta'!$B:$B,'00 PDC SP'!$F70,'00 Alimenta'!E:E)","v":0},{"$f":"SUMIF('00 Alimenta'!$B:$B,'00 PDC SP'!$F70,'00 Alimenta'!F:F)","v":0},{"$f":"SUMIF('00 Alimenta'!$B:$B,'00 PDC SP'!$F70,'00 Alimenta'!G:G)","v":0},{"$f":"SUMIF('00 Alimenta'!$B:$B,'00 PDC SP'!$F70,'00 Alimenta'!H:H)","v":0},{"$f":"SUMIF('00 Alimenta'!$B:$B,'00 PDC SP'!$F70,'00 Alimenta'!I:I)","v":0},{"$f":"K70+L70-M70","v":0}]
[{"$f":"IF(E71=\"\",C71,C71&E71)","v":"ABA020"},{"$f":"LEFT(C71,2)","v":"AB"},"ABA020",31,null,"0102010108","Farmaci innovativi",{"$f":"SUMIF('00 Alimenta'!$B:$B,'00 PDC SP'!$F71,'00 Alimenta'!D:D)","v":0},{"$f":"SUMIF('00 Alimenta'!$B:$B,'00 PDC SP'!$F71,'00 Alimenta'!E:E)","v":406045.08},{"$f":"SUMIF('00 Alimenta'!$B:$B,'00 PDC SP'!$F71,'00 Alimenta'!F:F)","v":0},{"$f":"SUMIF('00 Alimenta'!$B:$B,'00 PDC SP'!$F71,'00 Alimenta'!G:G)","v":406045.08},{"$f":"SUMIF('00 Alimenta'!$B:$B,'00 PDC SP'!$F71,'00 Alimenta'!H:H)","v":796557.79},{"$f":"SUMIF('00 Alimenta'!$B:$B,'00 PDC SP'!$F71,'00 Alimenta'!I:I)","v":406045.08},{"$f":"K71+L71-M71","v":796557.79}]
["ABA030","AB","ABA030",31,null,"0102010201","Sangue ed emocomponenti",{"$f":"SUMIF('00 Alimenta'!$B:$B,'00 PDC SP'!$F72,'00 Alimenta'!D:D)","v":0},{"$f":"SUMIF('00 Alimenta'!$B:$B,'00 PDC SP'!$F72,'00 Alimenta'!E:E)","v":0},{"$f":"SUMIF('00 Alimenta'!$B:$B,'00 PDC SP'!$F72,'00 Alimenta'!F:F)","v":0},{"$f":"SUMIF('00 Alimenta'!$B:$B,'00 PDC SP'!$F72,'00 Alimenta'!G:G)","v":0},{"$f":"SUMIF('00 Alimenta'!$B:$B,'00 PDC SP'!$F72,'00 Alimenta'!H:H)","v":0},{"$f":"SUMIF('00 Alimenta'!$B:$B,'00 PDC SP'!$F72,'00 Alimenta'!I:I)","v":0},0]
["ABA040","AB","ABA040",31,null,"0102010301","Strumentazione per bioimmagini e radioterapia",{"$f":"SUMIF('00 Alimenta'!$B:$B,'00 PDC SP'!$F73,'00 Alimenta'!D:D)","v":29748.48},{"$f":"SUMIF('00 Alimenta'!$B:$B,'00 PDC SP'!$F73,'00 Alimenta'!E:E)","v":0},{"$f":"SUMIF('00 Alimenta'!$B:$B,'00 PDC SP'!$F73,'00 Alimenta'!F:F)","v":29748.48},{"$f":"SUMIF('00 Alimenta'!$B:$B,'00 PDC SP'!$F73,'00 Alimenta'!G:G)","v":0},{"$f":"SUMIF('00 Alimenta'!$B:$B,'00 PDC SP'!$F73,'00 Alimenta'!H:H)","v":22325.73},{"$f":"SUMIF('00 Alimenta'!$B:$B,'00 PDC SP'!$F73,'00 Alimenta'!I:I)","v":0},22325.73]
["ABA040","AB","ABA040",31,null,"0102010302","Materiale per sterilizzazione",{"$f":"SUMIF('00 Alimenta'!$B:$B,'00 PDC SP'!$F74,'00 Alimenta'!D:D)","v":10623.87},{"$f":"SUMIF('00 Alimenta'!$B:$B,'00 PDC SP'!$F74,'00 Alimenta'!E:E)","v":13554.18},{"$f":"SUMIF('00 Alimenta'!$B:$B,'00 PDC SP'!$F74,'00 Alimenta'!F:F)","v":10623.87},{"$f":"SUMIF('00 Alimenta'!$B:$B,'00 PDC SP'!$F74,'00 Alimenta'!G:G)","v":13554.18},{"$f":"SUMIF('00 Alimenta'!$B:$B,'00 PDC SP'!$F74,'00 Alimenta'!H:H)","v":44744.42},{"$f":"SUMIF('00 Alimenta'!$B:$B,'00 PDC SP'!$F74,'00 Alimenta'!I:I)","v":13554.18},44744.42]
["ABA040","AB","ABA040",31,null,"0102010303","Dispositivi per chirurgia mini-invasiva ed elettrochirurgia",{"$f":"SUMIF('00 Alimenta'!$B:$B,'00 PDC SP'!$F75,'00 Alimenta'!D:D)","v":170169.05},{"$f":"SUMIF('00 Alimenta'!$B:$B,'00 PDC SP'!$F75,'00 Alimenta'!E:E)","v":174192.21},{"$f":"SUMIF('00 Alimenta'!$B:$B,'00 PDC SP'!$F75,'00 Alimenta'!F:F)","v":170169.05},{"$f":"SUMIF('00 Alimenta'!$B:$B,'00 PDC SP'!$F75,'00 Alimenta'!G:G)","v":174192.21},{"$f":"SUMIF('00 Alimenta'!$B:$B,'00 PDC SP'!$F75,'00 Alimenta'!H:H)","v":191192.48},{"$f":"SUMIF('00 Alimenta'!$B:$B,'00 PDC SP'!$F75,'00 Alimenta'!I:I)","v":174192.21},191192.48]
["ABA040","AB","ABA040",31,null,"0102010304","Protesi ortopediche e mezzi per osteosintesi e sintesi tendineo-legamentosa",{"$f":"SUMIF('00 Alimenta'!$B:$B,'00 PDC SP'!$F76,'00 Alimenta'!D:D)","v":65233.45},{"$f":"SUMIF('00 Alimenta'!$B:$B,'00 PDC SP'!$F76,'00 Alimenta'!E:E)","v":50150.67},{"$f":"SUMIF('00 Alimenta'!$B:$B,'00 PDC SP'!$F76,'00 Alimenta'!F:F)","v":65233.45},{"$f":"SUMIF('00 Alimenta'!$B:$B,'00 PDC SP'!$F76,'00 Alimenta'!G:G)","v":50150.67},{"$f":"SUMIF('00 Alimenta'!$B:$B,'00 PDC SP'!$F76,'00 Alimenta'!H:H)","v":156988.5},{"$f":"SUMIF('00 Alimenta'!$B:$B,'00 PDC SP'!$F76,'00 Alimenta'!I:I)","v":50150.67},156988.5]
["ABA040","AB","ABA040",31,null,"0102010305","Protesi oculistiche",{"$f":"SUMIF('00 Alimenta'!$B:$B,'00 PDC SP'!$F77,'00 Alimenta'!D:D)","v":4357.6000000000004},{"$f":"SUMIF('00 Alimenta'!$B:$B,'00 PDC SP'!$F77,'00 Alimenta'!E:E)","v":24968.06},{"$f":"SUMIF('00 Alimenta'!$B:$B,'00 PDC SP'!$F77,'00 Alimenta'!F:F)","v":4357.6000000000004},{"$f":"SUMIF('00 Alimenta'!$B:$B,'00 PDC SP'!$F77,'00 Alimenta'!G:G)","v":24968.06},{"$f":"SUMIF('00 Alimenta'!$B:$B,'00 PDC SP'!$F77,'00 Alimenta'!H:H)","v":21294.52},{"$f":"SUMIF('00 Alimenta'!$B:$B,'00 PDC SP'!$F77,'00 Alimenta'!I:I)","v":24968.06},21294.52]
["ABA040","AB","ABA040",31,null,"0102010306","Protesi vascolari e cardiache",{"$f":"SUMIF('00 Alimenta'!$B:$B,'00 PDC SP'!$F78,'00 Alimenta'!D:D)","v":0},{"$f":"SUMIF('00 Alimenta'!$B:$B,'00 PDC SP'!$F78,'00 Alimenta'!E:E)","v":1839.24},{"$f":"SUMIF('00 Alimenta'!$B:$B,'00 PDC SP'!$F78,'00 Alimenta'!F:F)","v":0},{"$f":"SUMIF('00 Alimenta'!$B:$B,'00 PDC SP'!$F78,'00 Alimenta'!G:G)","v":1839.24},{"$f":"SUMIF('00 Alimenta'!$B:$B,'00 PDC SP'!$F78,'00 Alimenta'!H:H)","v":7516.08},{"$f":"SUMIF('00 Alimenta'!$B:$B,'00 PDC SP'!$F78,'00 Alimenta'!I:I)","v":1839.24},7516.08]
["ABA040","AB","ABA040",31,null,"0102010307","Altri dispositivi protesici impiantabili e prodotti per osteosintesi",{"$f":"SUMIF('00 Alimenta'!$B:$B,'00 PDC SP'!$F79,'00 Alimenta'!D:D)","v":29566.720000000001},{"$f":"SUMIF('00 Alimenta'!$B:$B,'00 PDC SP'!$F79,'00 Alimenta'!E:E)","v":10862.72},{"$f":"SUMIF('00 Alimenta'!$B:$B,'00 PDC SP'!$F79,'00 Alimenta'!F:F)","v":29566.720000000001},{"$f":"SUMIF('00 Alimenta'!$B:$B,'00 PDC SP'!$F79,'00 Alimenta'!G:G)","v":10862.72},{"$f":"SUMIF('00 Alimenta'!$B:$B,'00 PDC SP'!$F79,'00 Alimenta'!H:H)","v":15680.73},{"$f":"SUMIF('00 Alimenta'!$B:$B,'00 PDC SP'!$F79,'00 Alimenta'!I:I)","v":10862.72},15680.729999999998]
["ABA040","AB","ABA040",31,null,"0102010308","Supporti e ausili tecnici per persone disabili",{"$f":"SUMIF('00 Alimenta'!$B:$B,'00 PDC SP'!$F80,'00 Alimenta'!D:D)","v":10313.98},{"$f":"SUMIF('00 Alimenta'!$B:$B,'00 PDC SP'!$F80,'00 Alimenta'!E:E)","v":21594.97},{"$f":"SUMIF('00 Alimenta'!$B:$B,'00 PDC SP'!$F80,'00 Alimenta'!F:F)","v":10313.98},{"$f":"SUMIF('00 Alimenta'!$B:$B,'00 PDC SP'!$F80,'00 Alimenta'!G:G)","v":21594.97},{"$f":"SUMIF('00 Alimenta'!$B:$B,'00 PDC SP'!$F80,'00 Alimenta'!H:H)","v":32718.44},{"$f":"SUMIF('00 Alimenta'!$B:$B,'00 PDC SP'!$F80,'00 Alimenta'!I:I)","v":21594.97},32718.440000000002]
["ABA040","AB","ABA040",31,null,"0102010309","Dispositivi per emotrasfusione ed ematologia",{"$f":"SUMIF('00 Alimenta'!$B:$B,'00 PDC SP'!$F81,'00 Alimenta'!D:D)","v":32946.33},{"$f":"SUMIF('00 Alimenta'!$B:$B,'00 PDC SP'!$F81,'00 Alimenta'!E:E)","v":45796.36},{"$f":"SUMIF('00 Alimenta'!$B:$B,'00 PDC SP'!$F81,'00 Alimenta'!F:F)","v":32946.33},{"$f":"SUMIF('00 Alimenta'!$B:$B,'00 PDC SP'!$F81,'00 Alimenta'!G:G)","v":45796.36},{"$f":"SUMIF('00 Alimenta'!$B:$B,'00 PDC SP'!$F81,'00 Alimenta'!H:H)","v":58519.51},{"$f":"SUMIF('00 Alimenta'!$B:$B,'00 PDC SP'!$F81,'00 Alimenta'!I:I)","v":45796.36},58519.509999999995]
["ABA040","AB","ABA040",31,null,"0102010310","Dispositivi per dialisi",{"$f":"SUMIF('00 Alimenta'!$B:$B,'00 PDC SP'!$F82,'00 Alimenta'!D:D)","v":192658.67},{"$f":"SUMIF('00 Alimenta'!$B:$B,'00 PDC SP'!$F82,'00 Alimenta'!E:E)","v":179690.46},{"$f":"SUMIF('00 Alimenta'!$B:$B,'00 PDC SP'!$F82,'00 Alimenta'!F:F)","v":192658.67},{"$f":"SUMIF('00 Alimenta'!$B:$B,'00 PDC SP'!$F82,'00 Alimenta'!G:G)","v":179690.46},{"$f":"SUMIF('00 Alimenta'!$B:$B,'00 PDC SP'!$F82,'00 Alimenta'!H:H)","v":78184.86},{"$f":"SUMIF('00 Alimenta'!$B:$B,'00 PDC SP'!$F82,'00 Alimenta'!I:I)","v":179690.46},78184.860000000015]
["ABA040","AB","ABA040",31,null,"0102010311","Dispositivi medico-diagnostici in vitro (D.Lgs. 332/2000)",{"$f":"SUMIF('00 Alimenta'!$B:$B,'00 PDC SP'!$F83,'00 Alimenta'!D:D)","v":1199655.32},{"$f":"SUMIF('00 Alimenta'!$B:$B,'00 PDC SP'!$F83,'00 Alimenta'!E:E)","v":1255177.3999999999},{"$f":"SUMIF('00 Alimenta'!$B:$B,'00 PDC SP'!$F83,'00 Alimenta'!F:F)","v":1199655.32},{"$f":"SUMIF('00 Alimenta'!$B:$B,'00 PDC SP'!$F83,'00 Alimenta'!G:G)","v":1255177.3999999999},{"$f":"SUMIF('00 Alimenta'!$B:$B,'00 PDC SP'!$F83,'00 Alimenta'!H:H)","v":1482372.12},{"$f":"SUMIF('00 Alimenta'!$B:$B,'00 PDC SP'!$F83,'00 Alimenta'!I:I)","v":1255177.3999999999},1482372.12]
["ABA040","AB","ABA040",31,null,"0102010312","Strumentazione per esplorazioni funzionali ed interventi terapeutici",{"$f":"SUMIF('00 Alimenta'!$B:$B,'00 PDC SP'!$F84,'00 Alimenta'!D:D)","v":287035.21000000002},{"$f":"SUMIF('00 Alimenta'!$B:$B,'00 PDC SP'!$F84,'00 Alimenta'!E:E)","v":104045.91},{"$f":"SUMIF('00 Alimenta'!$B:$B,'00 PDC SP'!$F84,'00 Alimenta'!F:F)","v":287035.21000000002},{"$f":"SUMIF('00 Alimenta'!$B:$B,'00 PDC SP'!$F84,'00 Alimenta'!G:G)","v":104045.91},{"$f":"SUMIF('00 Alimenta'!$B:$B,'00 PDC SP'!$F84,'00 Alimenta'!H:H)","v":270520.31},{"$f":"SUMIF('00 Alimenta'!$B:$B,'00 PDC SP'!$F84,'00 Alimenta'!I:I)","v":104045.91},270520.30999999994]
["ABA040","AB","ABA040",31,null,"0102010313","Strumentazione per radiologia diagnostica ed interventistica",{"$f":"SUMIF('00 Alimenta'!$B:$B,'00 PDC SP'!$F85,'00 Alimenta'!D:D)","v":3035.37},{"$f":"SUMIF('00 Alimenta'!$B:$B,'00 PDC SP'!$F85,'00 Alimenta'!E:E)","v":589.26},{"$f":"SUMIF('00 Alimenta'!$B:$B,'00 PDC SP'!$F85,'00 Alimenta'!F:F)","v":3035.37},{"$f":"SUMIF('00 Alimenta'!$B:$B,'00 PDC SP'!$F85,'00 Alimenta'!G:G)","v":589.26},{"$f":"SUMIF('00 Alimenta'!$B:$B,'00 PDC SP'!$F85,'00 Alimenta'!H:H)","v":712.51},{"$f":"SUMIF('00 Alimenta'!$B:$B,'00 PDC SP'!$F85,'00 Alimenta'!I:I)","v":589.26},712.51]
["ABA040","AB","ABA040",31,null,"0102010314","Strumentario chirurgico pluriuso o riusabile",{"$f":"SUMIF('00 Alimenta'!$B:$B,'00 PDC SP'!$F86,'00 Alimenta'!D:D)","v":94988.55},{"$f":"SUMIF('00 Alimenta'!$B:$B,'00 PDC SP'!$F86,'00 Alimenta'!E:E)","v":55549.760000000002},{"$f":"SUMIF('00 Alimenta'!$B:$B,'00 PDC SP'!$F86,'00 Alimenta'!F:F)","v":94988.55},{"$f":"SUMIF('00 Alimenta'!$B:$B,'00 PDC SP'!$F86,'00 Alimenta'!G:G)","v":55549.760000000002},{"$f":"SUMIF('00 Alimenta'!$B:$B,'00 PDC SP'!$F86,'00 Alimenta'!H:H)","v":92097.5},{"$f":"SUMIF('00 Alimenta'!$B:$B,'00 PDC SP'!$F86,'00 Alimenta'!I:I)","v":55549.760000000002},92097.5]
["ABA040","AB","ABA040",31,null,"0102010315","Dispositivi protesici impiantabili - vari",{"$f":"SUMIF('00 Alimenta'!$B:$B,'00 PDC SP'!$F87,'00 Alimenta'!D:D)","v":62849.41},{"$f":"SUMIF('00 Alimenta'!$B:$B,'00 PDC SP'!$F87,'00 Alimenta'!E:E)","v":28003.05},{"$f":"SUMIF('00 Alimenta'!$B:$B,'00 PDC SP'!$F87,'00 Alimenta'!F:F)","v":62849.41},{"$f":"SUMIF('00 Alimenta'!$B:$B,'00 PDC SP'!$F87,'00 Alimenta'!G:G)","v":28003.05},{"$f":"SUMIF('00 Alimenta'!$B:$B,'00 PDC SP'!$F87,'00 Alimenta'!H:H)","v":80004.3},{"$f":"SUMIF('00 Alimenta'!$B:$B,'00 PDC SP'!$F87,'00 Alimenta'!I:I)","v":28003.05},80004.3]
["ABA040","AB","ABA040",31,null,"0102010316","Dispositivi per sistema artero-venoso",{"$f":"SUMIF('00 Alimenta'!$B:$B,'00 PDC SP'!$F88,'00 Alimenta'!D:D)","v":111809.84},{"$f":"SUMIF('00 Alimenta'!$B:$B,'00 PDC SP'!$F88,'00 Alimenta'!E:E)","v":132460.47},{"$f":"SUMIF('00 Alimenta'!$B:$B,'00 PDC SP'!$F88,'00 Alimenta'!F:F)","v":111809.84},{"$f":"SUMIF('00 Alimenta'!$B:$B,'00 PDC SP'!$F88,'00 Alimenta'!G:G)","v":132460.47},{"$f":"SUMIF('00 Alimenta'!$B:$B,'00 PDC SP'!$F88,'00 Alimenta'!H:H)","v":196661.87},{"$f":"SUMIF('00 Alimenta'!$B:$B,'00 PDC SP'!$F88,'00 Alimenta'!I:I)","v":132460.47},196661.86999999997]
["ABA040","AB","ABA040",31,null,"0102010317","Guide per apparato cardiocircolatorio",{"$f":"SUMIF('00 Alimenta'!$B:$B,'00 PDC SP'!$F89,'00 Alimenta'!D:D)","v":27401.68},{"$f":"SUMIF('00 Alimenta'!$B:$B,'00 PDC SP'!$F89,'00 Alimenta'!E:E)","v":9174.4},{"$f":"SUMIF('00 Alimenta'!$B:$B,'00 PDC SP'!$F89,'00 Alimenta'!F:F)","v":27401.68},{"$f":"SUMIF('00 Alimenta'!$B:$B,'00 PDC SP'!$F89,'00 Alimenta'!G:G)","v":9174.4},{"$f":"SUMIF('00 Alimenta'!$B:$B,'00 PDC SP'!$F89,'00 Alimenta'!H:H)","v":16525.53},{"$f":"SUMIF('00 Alimenta'!$B:$B,'00 PDC SP'!$F89,'00 Alimenta'!I:I)","v":9174.4},16525.53]
["ABA040","AB","ABA040",31,null,"0102010318","Altri dispositivi per apparato cardiocircolatorio",{"$f":"SUMIF('00 Alimenta'!$B:$B,'00 PDC SP'!$F90,'00 Alimenta'!D:D)","v":79721.490000000005},{"$f":"SUMIF('00 Alimenta'!$B:$B,'00 PDC SP'!$F90,'00 Alimenta'!E:E)","v":124428.45},{"$f":"SUMIF('00 Alimenta'!$B:$B,'00 PDC SP'!$F90,'00 Alimenta'!F:F)","v":79721.490000000005},{"$f":"SUMIF('00 Alimenta'!$B:$B,'00 PDC SP'!$F90,'00 Alimenta'!G:G)","v":124428.45},{"$f":"SUMIF('00 Alimenta'!$B:$B,'00 PDC SP'!$F90,'00 Alimenta'!H:H)","v":123103.54},{"$f":"SUMIF('00 Alimenta'!$B:$B,'00 PDC SP'!$F90,'00 Alimenta'!I:I)","v":124428.45},123103.54]
["ABA040","AB","ABA040",31,null,"0102010319","Disinfettanti, antisettici e proteolitici (D.Lgs. 46/97)",{"$f":"SUMIF('00 Alimenta'!$B:$B,'00 PDC SP'!$F91,'00 Alimenta'!D:D)","v":26457.53},{"$f":"SUMIF('00 Alimenta'!$B:$B,'00 PDC SP'!$F91,'00 Alimenta'!E:E)","v":29235.99},{"$f":"SUMIF('00 Alimenta'!$B:$B,'00 PDC SP'!$F91,'00 Alimenta'!F:F)","v":26457.53},{"$f":"SUMIF('00 Alimenta'!$B:$B,'00 PDC SP'!$F91,'00 Alimenta'!G:G)","v":29235.99},{"$f":"SUMIF('00 Alimenta'!$B:$B,'00 PDC SP'!$F91,'00 Alimenta'!H:H)","v":22348.48},{"$f":"SUMIF('00 Alimenta'!$B:$B,'00 PDC SP'!$F91,'00 Alimenta'!I:I)","v":29235.99},22348.48]
["ABA040","AB","ABA040",31,null,"0102010320","Dispositivi per apparato gastrointestinale",{"$f":"SUMIF('00 Alimenta'!$B:$B,'00 PDC SP'!$F92,'00 Alimenta'!D:D)","v":50926.03},{"$f":"SUMIF('00 Alimenta'!$B:$B,'00 PDC SP'!$F92,'00 Alimenta'!E:E)","v":59952.07},{"$f":"SUMIF('00 Alimenta'!$B:$B,'00 PDC SP'!$F92,'00 Alimenta'!F:F)","v":50926.03},{"$f":"SUMIF('00 Alimenta'!$B:$B,'00 PDC SP'!$F92,'00 Alimenta'!G:G)","v":59952.07},{"$f":"SUMIF('00 Alimenta'!$B:$B,'00 PDC SP'!$F92,'00 Alimenta'!H:H)","v":83693.42},{"$f":"SUMIF('00 Alimenta'!$B:$B,'00 PDC SP'!$F92,'00 Alimenta'!I:I)","v":59952.07},83693.419999999984]
["ABA040","AB","ABA040",31,null,"0102010321","Dispositivi da sutura",{"$f":"SUMIF('00 Alimenta'!$B:$B,'00 PDC SP'!$F93,'00 Alimenta'!D:D)","v":306526.84000000003},{"$f":"SUMIF('00 Alimenta'!$B:$B,'00 PDC SP'!$F93,'00 Alimenta'!E:E)","v":396218.06},{"$f":"SUMIF('00 Alimenta'!$B:$B,'00 PDC SP'!$F93,'00 Alimenta'!F:F)","v":306526.84000000003},{"$f":"SUMIF('00 Alimenta'!$B:$B,'00 PDC SP'!$F93,'00 Alimenta'!G:G)","v":396218.06},{"$f":"SUMIF('00 Alimenta'!$B:$B,'00 PDC SP'!$F93,'00 Alimenta'!H:H)","v":349748.67},{"$f":"SUMIF('00 Alimenta'!$B:$B,'00 PDC SP'!$F93,'00 Alimenta'!I:I)","v":396218.06},349748.67]
["ABA040","AB","ABA040",31,null,"0102010322","Dispositivi per sistema nervoso e midollare",{"$f":"SUMIF('00 Alimenta'!$B:$B,'00 PDC SP'!$F94,'00 Alimenta'!D:D)","v":9075.2000000000007},{"$f":"SUMIF('00 Alimenta'!$B:$B,'00 PDC SP'!$F94,'00 Alimenta'!E:E)","v":12511.97},{"$f":"SUMIF('00 Alimenta'!$B:$B,'00 PDC SP'!$F94,'00 Alimenta'!F:F)","v":9075.2000000000007},{"$f":"SUMIF('00 Alimenta'!$B:$B,'00 PDC SP'!$F94,'00 Alimenta'!G:G)","v":12511.97},{"$f":"SUMIF('00 Alimenta'!$B:$B,'00 PDC SP'!$F94,'00 Alimenta'!H:H)","v":28260.43},{"$f":"SUMIF('00 Alimenta'!$B:$B,'00 PDC SP'!$F94,'00 Alimenta'!I:I)","v":12511.97},28260.43]
["ABA040","AB","ABA040",31,null,"0102010323","Dispositivi per odontoiatria, oftalmologoa e otorinolaringoiatria",{"$f":"SUMIF('00 Alimenta'!$B:$B,'00 PDC SP'!$F95,'00 Alimenta'!D:D)","v":141685.25},{"$f":"SUMIF('00 Alimenta'!$B:$B,'00 PDC SP'!$F95,'00 Alimenta'!E:E)","v":105207.2},{"$f":"SUMIF('00 Alimenta'!$B:$B,'00 PDC SP'!$F95,'00 Alimenta'!F:F)","v":141685.25},{"$f":"SUMIF('00 Alimenta'!$B:$B,'00 PDC SP'!$F95,'00 Alimenta'!G:G)","v":105207.2},{"$f":"SUMIF('00 Alimenta'!$B:$B,'00 PDC SP'!$F95,'00 Alimenta'!H:H)","v":71817.279999999999},{"$f":"SUMIF('00 Alimenta'!$B:$B,'00 PDC SP'!$F95,'00 Alimenta'!I:I)","v":105207.2},71817.279999999984]
["ABA040","AB","ABA040",31,null,"0102010324","Dispositivi per apparato respiratorio e anestesia",{"$f":"SUMIF('00 Alimenta'!$B:$B,'00 PDC SP'!$F96,'00 Alimenta'!D:D)","v":174448.95},{"$f":"SUMIF('00 Alimenta'!$B:$B,'00 PDC SP'!$F96,'00 Alimenta'!E:E)","v":125642.41},{"$f":"SUMIF('00 Alimenta'!$B:$B,'00 PDC SP'!$F96,'00 Alimenta'!F:F)","v":174448.95},{"$f":"SUMIF('00 Alimenta'!$B:$B,'00 PDC SP'!$F96,'00 Alimenta'!G:G)","v":125642.41},{"$f":"SUMIF('00 Alimenta'!$B:$B,'00 PDC SP'!$F96,'00 Alimenta'!H:H)","v":182238.66},{"$f":"SUMIF('00 Alimenta'!$B:$B,'00 PDC SP'!$F96,'00 Alimenta'!I:I)","v":125642.41},182238.66]
["ABA040","AB","ABA040",31,null,"0102010325","Dispositivi di protezione e ausili per incontinenza (D.Lgs. 46/97)",{"$f":"SUMIF('00 Alimenta'!$B:$B,'00 PDC SP'!$F97,'00 Alimenta'!D:D)","v":199194.51},{"$f":"SUMIF('00 Alimenta'!$B:$B,'00 PDC SP'!$F97,'00 Alimenta'!E:E)","v":212601.7},{"$f":"SUMIF('00 Alimenta'!$B:$B,'00 PDC SP'!$F97,'00 Alimenta'!F:F)","v":199194.51},{"$f":"SUMIF('00 Alimenta'!$B:$B,'00 PDC SP'!$F97,'00 Alimenta'!G:G)","v":212601.7},{"$f":"SUMIF('00 Alimenta'!$B:$B,'00 PDC SP'!$F97,'00 Alimenta'!H:H)","v":196921.3},{"$f":"SUMIF('00 Alimenta'!$B:$B,'00 PDC SP'!$F97,'00 Alimenta'!I:I)","v":212601.7},196921.3]
["ABA040","AB","ABA040",31,null,"0102010326","Dispositivi per apparato urogenitale",{"$f":"SUMIF('00 Alimenta'!$B:$B,'00 PDC SP'!$F98,'00 Alimenta'!D:D)","v":42691.15},{"$f":"SUMIF('00 Alimenta'!$B:$B,'00 PDC SP'!$F98,'00 Alimenta'!E:E)","v":65964.789999999994},{"$f":"SUMIF('00 Alimenta'!$B:$B,'00 PDC SP'!$F98,'00 Alimenta'!F:F)","v":42691.15},{"$f":"SUMIF('00 Alimenta'!$B:$B,'00 PDC SP'!$F98,'00 Alimenta'!G:G)","v":65964.789999999994},{"$f":"SUMIF('00 Alimenta'!$B:$B,'00 PDC SP'!$F98,'00 Alimenta'!H:H)","v":51126.59},{"$f":"SUMIF('00 Alimenta'!$B:$B,'00 PDC SP'!$F98,'00 Alimenta'!I:I)","v":65964.789999999994},51126.59]
["ABA040","AB","ABA040",31,null,"0102010327","Dispositivi vari",{"$f":"SUMIF('00 Alimenta'!$B:$B,'00 PDC SP'!$F99,'00 Alimenta'!D:D)","v":300627.01},{"$f":"SUMIF('00 Alimenta'!$B:$B,'00 PDC SP'!$F99,'00 Alimenta'!E:E)","v":234985.3},{"$f":"SUMIF('00 Alimenta'!$B:$B,'00 PDC SP'!$F99,'00 Alimenta'!F:F)","v":300627.01},{"$f":"SUMIF('00 Alimenta'!$B:$B,'00 PDC SP'!$F99,'00 Alimenta'!G:G)","v":234985.3},{"$f":"SUMIF('00 Alimenta'!$B:$B,'00 PDC SP'!$F99,'00 Alimenta'!H:H)","v":304842.71999999997},{"$f":"SUMIF('00 Alimenta'!$B:$B,'00 PDC SP'!$F99,'00 Alimenta'!I:I)","v":234985.3},304842.72000000003]
["ABA040","AB","ABA040",31,null,"0102010328","Dispositivi da somministrazione, prelievo e raccolta",{"$f":"SUMIF('00 Alimenta'!$B:$B,'00 PDC SP'!$F100,'00 Alimenta'!D:D)","v":573626.02},{"$f":"SUMIF('00 Alimenta'!$B:$B,'00 PDC SP'!$F100,'00 Alimenta'!E:E)","v":559635.56999999995},{"$f":"SUMIF('00 Alimenta'!$B:$B,'00 PDC SP'!$F100,'00 Alimenta'!F:F)","v":573626.02},{"$f":"SUMIF('00 Alimenta'!$B:$B,'00 PDC SP'!$F100,'00 Alimenta'!G:G)","v":559635.56999999995},{"$f":"SUMIF('00 Alimenta'!$B:$B,'00 PDC SP'!$F100,'00 Alimenta'!H:H)","v":569117.94999999995},{"$f":"SUMIF('00 Alimenta'!$B:$B,'00 PDC SP'!$F100,'00 Alimenta'!I:I)","v":559635.56999999995},569117.95000000007]
["ABA040","AB","ABA040",31,null,"0102010329","Dispositivi per medicazioni generali e specialistiche",{"$f":"SUMIF('00 Alimenta'!$B:$B,'00 PDC SP'!$F101,'00 Alimenta'!D:D)","v":383456.26},{"$f":"SUMIF('00 Alimenta'!$B:$B,'00 PDC SP'!$F101,'00 Alimenta'!E:E)","v":312836.58},{"$f":"SUMIF('00 Alimenta'!$B:$B,'00 PDC SP'!$F101,'00 Alimenta'!F:F)","v":383456.26},{"$f":"SUMIF('00 Alimenta'!$B:$B,'00 PDC SP'!$F101,'00 Alimenta'!G:G)","v":312836.58},{"$f":"SUMIF('00 Alimenta'!$B:$B,'00 PDC SP'!$F101,'00 Alimenta'!H:H)","v":357449.92},{"$f":"SUMIF('00 Alimenta'!$B:$B,'00 PDC SP'!$F101,'00 Alimenta'!I:I)","v":312836.58},357449.92]
["ABA040","AB","ABA040",31,null,"0102010330","Dispositivi impiantabili attivi",{"$f":"SUMIF('00 Alimenta'!$B:$B,'00 PDC SP'!$F102,'00 Alimenta'!D:D)","v":16290.36},{"$f":"SUMIF('00 Alimenta'!$B:$B,'00 PDC SP'!$F102,'00 Alimenta'!E:E)","v":58041},{"$f":"SUMIF('00 Alimenta'!$B:$B,'00 PDC SP'!$F102,'00 Alimenta'!F:F)","v":16290.36},{"$f":"SUMIF('00 Alimenta'!$B:$B,'00 PDC SP'!$F102,'00 Alimenta'!G:G)","v":58041},{"$f":"SUMIF('00 Alimenta'!$B:$B,'00 PDC SP'!$F102,'00 Alimenta'!H:H)","v":30319.56},{"$f":"SUMIF('00 Alimenta'!$B:$B,'00 PDC SP'!$F102,'00 Alimenta'!I:I)","v":58041},30319.559999999998]
["ABA050","AB","ABA050",31,null,"0102010401","Prodotti dietetici",{"$f":"SUMIF('00 Alimenta'!$B:$B,'00 PDC SP'!$F103,'00 Alimenta'!D:D)","v":8105.46},{"$f":"SUMIF('00 Alimenta'!$B:$B,'00 PDC SP'!$F103,'00 Alimenta'!E:E)","v":4508.83},{"$f":"SUMIF('00 Alimenta'!$B:$B,'00 PDC SP'!$F103,'00 Alimenta'!F:F)","v":8105.46},{"$f":"SUMIF('00 Alimenta'!$B:$B,'00 PDC SP'!$F103,'00 Alimenta'!G:G)","v":4508.83},{"$f":"SUMIF('00 Alimenta'!$B:$B,'00 PDC SP'!$F103,'00 Alimenta'!H:H)","v":5615.65},{"$f":"SUMIF('00 Alimenta'!$B:$B,'00 PDC SP'!$F103,'00 Alimenta'!I:I)","v":4508.83},5615.65]
["ABA050","AB","ABA050",31,null,"0102010402","Alimenti per nutrizione artificiale senza AIC ",{"$f":"SUMIF('00 Alimenta'!$B:$B,'00 PDC SP'!$F104,'00 Alimenta'!D:D)","v":68589.69},{"$f":"SUMIF('00 Alimenta'!$B:$B,'00 PDC SP'!$F104,'00 Alimenta'!E:E)","v":63760.33},{"$f":"SUMIF('00 Alimenta'!$B:$B,'00 PDC SP'!$F104,'00 Alimenta'!F:F)","v":68589.69},{"$f":"SUMIF('00 Alimenta'!$B:$B,'00 PDC SP'!$F104,'00 Alimenta'!G:G)","v":63760.33},{"$f":"SUMIF('00 Alimenta'!$B:$B,'00 PDC SP'!$F104,'00 Alimenta'!H:H)","v":58004.47},{"$f":"SUMIF('00 Alimenta'!$B:$B,'00 PDC SP'!$F104,'00 Alimenta'!I:I)","v":63760.33},58004.47]
["ABA060","AB","ABA060",31,null,"0102010501","Sieri",{"$f":"SUMIF('00 Alimenta'!$B:$B,'00 PDC SP'!$F105,'00 Alimenta'!D:D)","v":0},{"$f":"SUMIF('00 Alimenta'!$B:$B,'00 PDC SP'!$F105,'00 Alimenta'!E:E)","v":0},{"$f":"SUMIF('00 Alimenta'!$B:$B,'00 PDC SP'!$F105,'00 Alimenta'!F:F)","v":0},{"$f":"SUMIF('00 Alimenta'!$B:$B,'00 PDC SP'!$F105,'00 Alimenta'!G:G)","v":0},{"$f":"SUMIF('00 Alimenta'!$B:$B,'00 PDC SP'!$F105,'00 Alimenta'!H:H)","v":0},{"$f":"SUMIF('00 Alimenta'!$B:$B,'00 PDC SP'!$F105,'00 Alimenta'!I:I)","v":0},0]
["ABA060","AB","ABA060",31,null,"0102010502","Vaccini obbligatori",{"$f":"SUMIF('00 Alimenta'!$B:$B,'00 PDC SP'!$F106,'00 Alimenta'!D:D)","v":0},{"$f":"SUMIF('00 Alimenta'!$B:$B,'00 PDC SP'!$F106,'00 Alimenta'!E:E)","v":0},{"$f":"SUMIF('00 Alimenta'!$B:$B,'00 PDC SP'!$F106,'00 Alimenta'!F:F)","v":0},{"$f":"SUMIF('00 Alimenta'!$B:$B,'00 PDC SP'!$F106,'00 Alimenta'!G:G)","v":0},{"$f":"SUMIF('00 Alimenta'!$B:$B,'00 PDC SP'!$F106,'00 Alimenta'!H:H)","v":0},{"$f":"SUMIF('00 Alimenta'!$B:$B,'00 PDC SP'!$F106,'00 Alimenta'!I:I)","v":0},0]
["ABA060","AB","ABA060",31,null,"0102010503","Altri Vaccini",{"$f":"SUMIF('00 Alimenta'!$B:$B,'00 PDC SP'!$F107,'00 Alimenta'!D:D)","v":0},{"$f":"SUMIF('00 Alimenta'!$B:$B,'00 PDC SP'!$F107,'00 Alimenta'!E:E)","v":0},{"$f":"SUMIF('00 Alimenta'!$B:$B,'00 PDC SP'!$F107,'00 Alimenta'!F:F)","v":0},{"$f":"SUMIF('00 Alimenta'!$B:$B,'00 PDC SP'!$F107,'00 Alimenta'!G:G)","v":0},{"$f":"SUMIF('00 Alimenta'!$B:$B,'00 PDC SP'!$F107,'00 Alimenta'!H:H)","v":1112.76},{"$f":"SUMIF('00 Alimenta'!$B:$B,'00 PDC SP'!$F107,'00 Alimenta'!I:I)","v":0},1112.76]
["ABA060","AB","ABA060",31,null,"0102010504","Altri materiali per la profilassi",{"$f":"SUMIF('00 Alimenta'!$B:$B,'00 PDC SP'!$F108,'00 Alimenta'!D:D)","v":0},{"$f":"SUMIF('00 Alimenta'!$B:$B,'00 PDC SP'!$F108,'00 Alimenta'!E:E)","v":0},{"$f":"SUMIF('00 Alimenta'!$B:$B,'00 PDC SP'!$F108,'00 Alimenta'!F:F)","v":0},{"$f":"SUMIF('00 Alimenta'!$B:$B,'00 PDC SP'!$F108,'00 Alimenta'!G:G)","v":0},{"$f":"SUMIF('00 Alimenta'!$B:$B,'00 PDC SP'!$F108,'00 Alimenta'!H:H)","v":0},{"$f":"SUMIF('00 Alimenta'!$B:$B,'00 PDC SP'!$F108,'00 Alimenta'!I:I)","v":0},0]
["ABA070","AB","ABA070",31,null,"0102010601","Prodotti chimici",{"$f":"SUMIF('00 Alimenta'!$B:$B,'00 PDC SP'!$F109,'00 Alimenta'!D:D)","v":0},{"$f":"SUMIF('00 Alimenta'!$B:$B,'00 PDC SP'!$F109,'00 Alimenta'!E:E)","v":0},{"$f":"SUMIF('00 Alimenta'!$B:$B,'00 PDC SP'!$F109,'00 Alimenta'!F:F)","v":0},{"$f":"SUMIF('00 Alimenta'!$B:$B,'00 PDC SP'!$F109,'00 Alimenta'!G:G)","v":0},{"$f":"SUMIF('00 Alimenta'!$B:$B,'00 PDC SP'!$F109,'00 Alimenta'!H:H)","v":0},{"$f":"SUMIF('00 Alimenta'!$B:$B,'00 PDC SP'!$F109,'00 Alimenta'!I:I)","v":0},0]
["ABA080","AB","ABA080",31,null,"0102010701","Medicinali ad uso veterinario",{"$f":"SUMIF('00 Alimenta'!$B:$B,'00 PDC SP'!$F110,'00 Alimenta'!D:D)","v":192},{"$f":"SUMIF('00 Alimenta'!$B:$B,'00 PDC SP'!$F110,'00 Alimenta'!E:E)","v":0},{"$f":"SUMIF('00 Alimenta'!$B:$B,'00 PDC SP'!$F110,'00 Alimenta'!F:F)","v":192},{"$f":"SUMIF('00 Alimenta'!$B:$B,'00 PDC SP'!$F110,'00 Alimenta'!G:G)","v":0},{"$f":"SUMIF('00 Alimenta'!$B:$B,'00 PDC SP'!$F110,'00 Alimenta'!H:H)","v":0},{"$f":"SUMIF('00 Alimenta'!$B:$B,'00 PDC SP'!$F110,'00 Alimenta'!I:I)","v":0},0]
["ABA080","AB","ABA080",31,null,"0102010702","Materiali chirurgici, sanitari e diagnostici per uso veterinario",{"$f":"SUMIF('00 Alimenta'!$B:$B,'00 PDC SP'!$F111,'00 Alimenta'!D:D)","v":0},{"$f":"SUMIF('00 Alimenta'!$B:$B,'00 PDC SP'!$F111,'00 Alimenta'!E:E)","v":0},{"$f":"SUMIF('00 Alimenta'!$B:$B,'00 PDC SP'!$F111,'00 Alimenta'!F:F)","v":0},{"$f":"SUMIF('00 Alimenta'!$B:$B,'00 PDC SP'!$F111,'00 Alimenta'!G:G)","v":0},{"$f":"SUMIF('00 Alimenta'!$B:$B,'00 PDC SP'!$F111,'00 Alimenta'!H:H)","v":0},{"$f":"SUMIF('00 Alimenta'!$B:$B,'00 PDC SP'!$F111,'00 Alimenta'!I:I)","v":0},0]
["ABA080","AB","ABA080",31,null,"0102010703","Altri materiali e beni sanitari per uso veterinario",{"$f":"SUMIF('00 Alimenta'!$B:$B,'00 PDC SP'!$F112,'00 Alimenta'!D:D)","v":0},{"$f":"SUMIF('00 Alimenta'!$B:$B,'00 PDC SP'!$F112,'00 Alimenta'!E:E)","v":0},{"$f":"SUMIF('00 Alimenta'!$B:$B,'00 PDC SP'!$F112,'00 Alimenta'!F:F)","v":0},{"$f":"SUMIF('00 Alimenta'!$B:$B,'00 PDC SP'!$F112,'00 Alimenta'!G:G)","v":0},{"$f":"SUMIF('00 Alimenta'!$B:$B,'00 PDC SP'!$F112,'00 Alimenta'!H:H)","v":0},{"$f":"SUMIF('00 Alimenta'!$B:$B,'00 PDC SP'!$F112,'00 Alimenta'!I:I)","v":0},0]
["ABA090","AB","ABA090",31,null,"0102010801","Vetrerie e materiale plastico per laboratorio",{"$f":"SUMIF('00 Alimenta'!$B:$B,'00 PDC SP'!$F113,'00 Alimenta'!D:D)","v":15533.26},{"$f":"SUMIF('00 Alimenta'!$B:$B,'00 PDC SP'!$F113,'00 Alimenta'!E:E)","v":26506.58},{"$f":"SUMIF('00 Alimenta'!$B:$B,'00 PDC SP'!$F113,'00 Alimenta'!F:F)","v":15533.26},{"$f":"SUMIF('00 Alimenta'!$B:$B,'00 PDC SP'!$F113,'00 Alimenta'!G:G)","v":26506.58},{"$f":"SUMIF('00 Alimenta'!$B:$B,'00 PDC SP'!$F113,'00 Alimenta'!H:H)","v":42717.86},{"$f":"SUMIF('00 Alimenta'!$B:$B,'00 PDC SP'!$F113,'00 Alimenta'!I:I)","v":26506.58},42717.86]
["ABA090","AB","ABA090",31,null,"0102010802","Materiali di consumo non specifici per strumentazione diagnostica ",{"$f":"SUMIF('00 Alimenta'!$B:$B,'00 PDC SP'!$F114,'00 Alimenta'!D:D)","v":103201},{"$f":"SUMIF('00 Alimenta'!$B:$B,'00 PDC SP'!$F114,'00 Alimenta'!E:E)","v":82188.66},{"$f":"SUMIF('00 Alimenta'!$B:$B,'00 PDC SP'!$F114,'00 Alimenta'!F:F)","v":103201},{"$f":"SUMIF('00 Alimenta'!$B:$B,'00 PDC SP'!$F114,'00 Alimenta'!G:G)","v":82188.66},{"$f":"SUMIF('00 Alimenta'!$B:$B,'00 PDC SP'!$F114,'00 Alimenta'!H:H)","v":125485.73},{"$f":"SUMIF('00 Alimenta'!$B:$B,'00 PDC SP'!$F114,'00 Alimenta'!I:I)","v":82188.66},125485.73000000001]
["ABA090","AB","ABA090",31,null,"0102010803","Altri beni e prodotti sanitari",{"$f":"SUMIF('00 Alimenta'!$B:$B,'00 PDC SP'!$F115,'00 Alimenta'!D:D)","v":87747.66},{"$f":"SUMIF('00 Alimenta'!$B:$B,'00 PDC SP'!$F115,'00 Alimenta'!E:E)","v":102717.74},{"$f":"SUMIF('00 Alimenta'!$B:$B,'00 PDC SP'!$F115,'00 Alimenta'!F:F)","v":87747.66},{"$f":"SUMIF('00 Alimenta'!$B:$B,'00 PDC SP'!$F115,'00 Alimenta'!G:G)","v":102717.74},{"$f":"SUMIF('00 Alimenta'!$B:$B,'00 PDC SP'!$F115,'00 Alimenta'!H:H)","v":127988.56},{"$f":"SUMIF('00 Alimenta'!$B:$B,'00 PDC SP'!$F115,'00 Alimenta'!I:I)","v":102717.74},127988.55999999998]
["ABA100","AB","ABA100",32,null,"0102010901","Acconti per acquisto di beni e prodotti sanitari",{"$f":"SUMIF('00 Alimenta'!$B:$B,'00 PDC SP'!$F116,'00 Alimenta'!D:D)","v":0},{"$f":"SUMIF('00 Alimenta'!$B:$B,'00 PDC SP'!$F116,'00 Alimenta'!E:E)","v":0},{"$f":"SUMIF('00 Alimenta'!$B:$B,'00 PDC SP'!$F116,'00 Alimenta'!F:F)","v":0},{"$f":"SUMIF('00 Alimenta'!$B:$B,'00 PDC SP'!$F116,'00 Alimenta'!G:G)","v":0},{"$f":"SUMIF('00 Alimenta'!$B:$B,'00 PDC SP'!$F116,'00 Alimenta'!H:H)","v":0},{"$f":"SUMIF('00 Alimenta'!$B:$B,'00 PDC SP'!$F116,'00 Alimenta'!I:I)","v":0},0]
["ABA120","AB","ABA120",31,null,"0102011001","Prodotti alimentari",{"$f":"SUMIF('00 Alimenta'!$B:$B,'00 PDC SP'!$F117,'00 Alimenta'!D:D)","v":0},{"$f":"SUMIF('00 Alimenta'!$B:$B,'00 PDC SP'!$F117,'00 Alimenta'!E:E)","v":0},{"$f":"SUMIF('00 Alimenta'!$B:$B,'00 PDC SP'!$F117,'00 Alimenta'!F:F)","v":0},{"$f":"SUMIF('00 Alimenta'!$B:$B,'00 PDC SP'!$F117,'00 Alimenta'!G:G)","v":0},{"$f":"SUMIF('00 Alimenta'!$B:$B,'00 PDC SP'!$F117,'00 Alimenta'!H:H)","v":0},{"$f":"SUMIF('00 Alimenta'!$B:$B,'00 PDC SP'!$F117,'00 Alimenta'!I:I)","v":0},0]
["ABA130","AB","ABA130",31,null,"0102011101","Materiali di guardaroba, di pulizia, e di convivenza in genere",{"$f":"SUMIF('00 Alimenta'!$B:$B,'00 PDC SP'!$F118,'00 Alimenta'!D:D)","v":44097.34},{"$f":"SUMIF('00 Alimenta'!$B:$B,'00 PDC SP'!$F118,'00 Alimenta'!E:E)","v":35073.03},{"$f":"SUMIF('00 Alimenta'!$B:$B,'00 PDC SP'!$F118,'00 Alimenta'!F:F)","v":44097.34},{"$f":"SUMIF('00 Alimenta'!$B:$B,'00 PDC SP'!$F118,'00 Alimenta'!G:G)","v":35073.03},{"$f":"SUMIF('00 Alimenta'!$B:$B,'00 PDC SP'!$F118,'00 Alimenta'!H:H)","v":29727.94},{"$f":"SUMIF('00 Alimenta'!$B:$B,'00 PDC SP'!$F118,'00 Alimenta'!I:I)","v":35073.03},29727.940000000002]
["ABA140","AB","ABA140",31,null,"0102011201","Combustibili, carburanti e lubrificanti",{"$f":"SUMIF('00 Alimenta'!$B:$B,'00 PDC SP'!$F119,'00 Alimenta'!D:D)","v":364.21},{"$f":"SUMIF('00 Alimenta'!$B:$B,'00 PDC SP'!$F119,'00 Alimenta'!E:E)","v":0},{"$f":"SUMIF('00 Alimenta'!$B:$B,'00 PDC SP'!$F119,'00 Alimenta'!F:F)","v":364.21},{"$f":"SUMIF('00 Alimenta'!$B:$B,'00 PDC SP'!$F119,'00 Alimenta'!G:G)","v":0},{"$f":"SUMIF('00 Alimenta'!$B:$B,'00 PDC SP'!$F119,'00 Alimenta'!H:H)","v":0},{"$f":"SUMIF('00 Alimenta'!$B:$B,'00 PDC SP'!$F119,'00 Alimenta'!I:I)","v":0},0]
["ABA150","AB","ABA150",31,null,"0102011301","Supporti informatici",{"$f":"SUMIF('00 Alimenta'!$B:$B,'00 PDC SP'!$F120,'00 Alimenta'!D:D)","v":182140.26},{"$f":"SUMIF('00 Alimenta'!$B:$B,'00 PDC SP'!$F120,'00 Alimenta'!E:E)","v":171772.85},{"$f":"SUMIF('00 Alimenta'!$B:$B,'00 PDC SP'!$F120,'00 Alimenta'!F:F)","v":182140.26},{"$f":"SUMIF('00 Alimenta'!$B:$B,'00 PDC SP'!$F120,'00 Alimenta'!G:G)","v":171772.85},{"$f":"SUMIF('00 Alimenta'!$B:$B,'00 PDC SP'!$F120,'00 Alimenta'!H:H)","v":192555.39},{"$f":"SUMIF('00 Alimenta'!$B:$B,'00 PDC SP'!$F120,'00 Alimenta'!I:I)","v":171772.85},192555.38999999998]
["ABA150","AB","ABA150",31,null,"0102011302","Cancelleria e stampati",{"$f":"SUMIF('00 Alimenta'!$B:$B,'00 PDC SP'!$F121,'00 Alimenta'!D:D)","v":183602.38},{"$f":"SUMIF('00 Alimenta'!$B:$B,'00 PDC SP'!$F121,'00 Alimenta'!E:E)","v":161363.28},{"$f":"SUMIF('00 Alimenta'!$B:$B,'00 PDC SP'!$F121,'00 Alimenta'!F:F)","v":183602.38},{"$f":"SUMIF('00 Alimenta'!$B:$B,'00 PDC SP'!$F121,'00 Alimenta'!G:G)","v":161363.28},{"$f":"SUMIF('00 Alimenta'!$B:$B,'00 PDC SP'!$F121,'00 Alimenta'!H:H)","v":169734.96},{"$f":"SUMIF('00 Alimenta'!$B:$B,'00 PDC SP'!$F121,'00 Alimenta'!I:I)","v":161363.28},169734.96]
["ABA160","AB","ABA160",31,null,"0102011401","Materiale per la manutenzione di immobili e loro pertinenze",{"$f":"SUMIF('00 Alimenta'!$B:$B,'00 PDC SP'!$F122,'00 Alimenta'!D:D)","v":99725.34},{"$f":"SUMIF('00 Alimenta'!$B:$B,'00 PDC SP'!$F122,'00 Alimenta'!E:E)","v":55250.31},{"$f":"SUMIF('00 Alimenta'!$B:$B,'00 PDC SP'!$F122,'00 Alimenta'!F:F)","v":99725.34},{"$f":"SUMIF('00 Alimenta'!$B:$B,'00 PDC SP'!$F122,'00 Alimenta'!G:G)","v":55250.31},{"$f":"SUMIF('00 Alimenta'!$B:$B,'00 PDC SP'!$F122,'00 Alimenta'!H:H)","v":85875.45},{"$f":"SUMIF('00 Alimenta'!$B:$B,'00 PDC SP'!$F122,'00 Alimenta'!I:I)","v":55250.31},85875.450000000012]
["ABA160","AB","ABA160",31,null,"0102011402","Materiale per la manutenzione di mobili e macchine",{"$f":"SUMIF('00 Alimenta'!$B:$B,'00 PDC SP'!$F123,'00 Alimenta'!D:D)","v":0},{"$f":"SUMIF('00 Alimenta'!$B:$B,'00 PDC SP'!$F123,'00 Alimenta'!E:E)","v":0},{"$f":"SUMIF('00 Alimenta'!$B:$B,'00 PDC SP'!$F123,'00 Alimenta'!F:F)","v":0},{"$f":"SUMIF('00 Alimenta'!$B:$B,'00 PDC SP'!$F123,'00 Alimenta'!G:G)","v":0},{"$f":"SUMIF('00 Alimenta'!$B:$B,'00 PDC SP'!$F123,'00 Alimenta'!H:H)","v":0},{"$f":"SUMIF('00 Alimenta'!$B:$B,'00 PDC SP'!$F123,'00 Alimenta'!I:I)","v":0},0]
["ABA160","AB","ABA160",31,null,"0102011403","Materiale per la manutenzione di attrezzature tecnico scientifiche sanitarie",{"$f":"SUMIF('00 Alimenta'!$B:$B,'00 PDC SP'!$F124,'00 Alimenta'!D:D)","v":37640.720000000001},{"$f":"SUMIF('00 Alimenta'!$B:$B,'00 PDC SP'!$F124,'00 Alimenta'!E:E)","v":25964.41},{"$f":"SUMIF('00 Alimenta'!$B:$B,'00 PDC SP'!$F124,'00 Alimenta'!F:F)","v":37640.720000000001},{"$f":"SUMIF('00 Alimenta'!$B:$B,'00 PDC SP'!$F124,'00 Alimenta'!G:G)","v":25964.41},{"$f":"SUMIF('00 Alimenta'!$B:$B,'00 PDC SP'!$F124,'00 Alimenta'!H:H)","v":26463.29},{"$f":"SUMIF('00 Alimenta'!$B:$B,'00 PDC SP'!$F124,'00 Alimenta'!I:I)","v":25964.41},26463.289999999997]
["ABA160","AB","ABA160",31,null,"0102011404","Materiale per la manutenzione di automezzi",{"$f":"SUMIF('00 Alimenta'!$B:$B,'00 PDC SP'!$F125,'00 Alimenta'!D:D)","v":0},{"$f":"SUMIF('00 Alimenta'!$B:$B,'00 PDC SP'!$F125,'00 Alimenta'!E:E)","v":0},{"$f":"SUMIF('00 Alimenta'!$B:$B,'00 PDC SP'!$F125,'00 Alimenta'!F:F)","v":0},{"$f":"SUMIF('00 Alimenta'!$B:$B,'00 PDC SP'!$F125,'00 Alimenta'!G:G)","v":0},{"$f":"SUMIF('00 Alimenta'!$B:$B,'00 PDC SP'!$F125,'00 Alimenta'!H:H)","v":0},{"$f":"SUMIF('00 Alimenta'!$B:$B,'00 PDC SP'!$F125,'00 Alimenta'!I:I)","v":0},0]
["ABA160","AB","ABA160",31,null,"0102011405","Materiale per la manutenzione di altro",{"$f":"SUMIF('00 Alimenta'!$B:$B,'00 PDC SP'!$F126,'00 Alimenta'!D:D)","v":5697.59},{"$f":"SUMIF('00 Alimenta'!$B:$B,'00 PDC SP'!$F126,'00 Alimenta'!E:E)","v":3934.22},{"$f":"SUMIF('00 Alimenta'!$B:$B,'00 PDC SP'!$F126,'00 Alimenta'!F:F)","v":5697.59},{"$f":"SUMIF('00 Alimenta'!$B:$B,'00 PDC SP'!$F126,'00 Alimenta'!G:G)","v":3934.22},{"$f":"SUMIF('00 Alimenta'!$B:$B,'00 PDC SP'!$F126,'00 Alimenta'!H:H)","v":5031.3999999999996},{"$f":"SUMIF('00 Alimenta'!$B:$B,'00 PDC SP'!$F126,'00 Alimenta'!I:I)","v":3934.22},5031.3999999999996]
["ABA170","AB","ABA170",31,null,"0102011501","Altri beni e prodotti non sanitari",{"$f":"SUMIF('00 Alimenta'!$B:$B,'00 PDC SP'!$F127,'00 Alimenta'!D:D)","v":3445.61},{"$f":"SUMIF('00 Alimenta'!$B:$B,'00 PDC SP'!$F127,'00 Alimenta'!E:E)","v":2869.46},{"$f":"SUMIF('00 Alimenta'!$B:$B,'00 PDC SP'!$F127,'00 Alimenta'!F:F)","v":3445.61},{"$f":"SUMIF('00 Alimenta'!$B:$B,'00 PDC SP'!$F127,'00 Alimenta'!G:G)","v":2869.46},{"$f":"SUMIF('00 Alimenta'!$B:$B,'00 PDC SP'!$F127,'00 Alimenta'!H:H)","v":1229.74},{"$f":"SUMIF('00 Alimenta'!$B:$B,'00 PDC SP'!$F127,'00 Alimenta'!I:I)","v":2869.46},1229.7399999999998]
["ABA180","AB","ABA180",32,null,"0102011601","Acconti per acquisto di beni e prodotti non sanitari",{"$f":"SUMIF('00 Alimenta'!$B:$B,'00 PDC SP'!$F128,'00 Alimenta'!D:D)","v":0},{"$f":"SUMIF('00 Alimenta'!$B:$B,'00 PDC SP'!$F128,'00 Alimenta'!E:E)","v":0},{"$f":"SUMIF('00 Alimenta'!$B:$B,'00 PDC SP'!$F128,'00 Alimenta'!F:F)","v":0},{"$f":"SUMIF('00 Alimenta'!$B:$B,'00 PDC SP'!$F128,'00 Alimenta'!G:G)","v":0},{"$f":"SUMIF('00 Alimenta'!$B:$B,'00 PDC SP'!$F128,'00 Alimenta'!H:H)","v":0},{"$f":"SUMIF('00 Alimenta'!$B:$B,'00 PDC SP'!$F128,'00 Alimenta'!I:I)","v":0},0]
["ABA210CR","AB","ABA210",21,"CR","0102020101","Crediti v/Stato per spesa corrente - Integrazione a norma del D.L.vo 56/2000",{"$f":"SUMIF('00 Alimenta'!$B:$B,'00 PDC SP'!$F129,'00 Alimenta'!D:D)","v":0},{"$f":"SUMIF('00 Alimenta'!$B:$B,'00 PDC SP'!$F129,'00 Alimenta'!E:E)","v":19655.009999999998},{"$f":"SUMIF('00 Alimenta'!$B:$B,'00 PDC SP'!$F129,'00 Alimenta'!F:F)","v":13684.75},{"$f":"SUMIF('00 Alimenta'!$B:$B,'00 PDC SP'!$F129,'00 Alimenta'!G:G)","v":5970.26},{"$f":"SUMIF('00 Alimenta'!$B:$B,'00 PDC SP'!$F129,'00 Alimenta'!H:H)","v":12202.45},{"$f":"SUMIF('00 Alimenta'!$B:$B,'00 PDC SP'!$F129,'00 Alimenta'!I:I)","v":18172.71},0]
["ABA220CR","AB","ABA220",21,"CR","0102020201","Crediti v/Stato per spesa corrente - FSN",{"$f":"SUMIF('00 Alimenta'!$B:$B,'00 PDC SP'!$F130,'00 Alimenta'!D:D)","v":0},{"$f":"SUMIF('00 Alimenta'!$B:$B,'00 PDC SP'!$F130,'00 Alimenta'!E:E)","v":0},{"$f":"SUMIF('00 Alimenta'!$B:$B,'00 PDC SP'!$F130,'00 Alimenta'!F:F)","v":0},{"$f":"SUMIF('00 Alimenta'!$B:$B,'00 PDC SP'!$F130,'00 Alimenta'!G:G)","v":0},{"$f":"SUMIF('00 Alimenta'!$B:$B,'00 PDC SP'!$F130,'00 Alimenta'!H:H)","v":0},{"$f":"SUMIF('00 Alimenta'!$B:$B,'00 PDC SP'!$F130,'00 Alimenta'!I:I)","v":0},0]
["ABA230CR","AB","ABA230",21,"CR","0102020301","Crediti v/Stato per mobilità attiva pubblica extraregionale",{"$f":"SUMIF('00 Alimenta'!$B:$B,'00 PDC SP'!$F131,'00 Alimenta'!D:D)","v":0},{"$f":"SUMIF('00 Alimenta'!$B:$B,'00 PDC SP'!$F131,'00 Alimenta'!E:E)","v":0},{"$f":"SUMIF('00 Alimenta'!$B:$B,'00 PDC SP'!$F131,'00 Alimenta'!F:F)","v":0},{"$f":"SUMIF('00 Alimenta'!$B:$B,'00 PDC SP'!$F131,'00 Alimenta'!G:G)","v":0},{"$f":"SUMIF('00 Alimenta'!$B:$B,'00 PDC SP'!$F131,'00 Alimenta'!H:H)","v":0},{"$f":"SUMIF('00 Alimenta'!$B:$B,'00 PDC SP'!$F131,'00 Alimenta'!I:I)","v":0},0]
["ABA230CR","AB","ABA230",21,"CR","0102020302","Crediti v/Stato per mobilità attiva privata extraregionale",{"$f":"SUMIF('00 Alimenta'!$B:$B,'00 PDC SP'!$F132,'00 Alimenta'!D:D)","v":0},{"$f":"SUMIF('00 Alimenta'!$B:$B,'00 PDC SP'!$F132,'00 Alimenta'!E:E)","v":0},{"$f":"SUMIF('00 Alimenta'!$B:$B,'00 PDC SP'!$F132,'00 Alimenta'!F:F)","v":0},{"$f":"SUMIF('00 Alimenta'!$B:$B,'00 PDC SP'!$F132,'00 Alimenta'!G:G)","v":0},{"$f":"SUMIF('00 Alimenta'!$B:$B,'00 PDC SP'!$F132,'00 Alimenta'!H:H)","v":0},{"$f":"SUMIF('00 Alimenta'!$B:$B,'00 PDC SP'!$F132,'00 Alimenta'!I:I)","v":0},0]
["ABA240CR","AB","ABA240",21,"CR","0102020401","Crediti v/Stato per mobilità attiva internazionale",{"$f":"SUMIF('00 Alimenta'!$B:$B,'00 PDC SP'!$F133,'00 Alimenta'!D:D)","v":0},{"$f":"SUMIF('00 Alimenta'!$B:$B,'00 PDC SP'!$F133,'00 Alimenta'!E:E)","v":0},{"$f":"SUMIF('00 Alimenta'!$B:$B,'00 PDC SP'!$F133,'00 Alimenta'!F:F)","v":0},{"$f":"SUMIF('00 Alimenta'!$B:$B,'00 PDC SP'!$F133,'00 Alimenta'!G:G)","v":0},{"$f":"SUMIF('00 Alimenta'!$B:$B,'00 PDC SP'!$F133,'00 Alimenta'!H:H)","v":0},{"$f":"SUMIF('00 Alimenta'!$B:$B,'00 PDC SP'!$F133,'00 Alimenta'!I:I)","v":0},0]
["ABA250CR","AB","ABA250",21,"CR","0102020501","Crediti v/Stato per acconto quota fabbisogno sanitario regionale standard",{"$f":"SUMIF('00 Alimenta'!$B:$B,'00 PDC SP'!$F134,'00 Alimenta'!D:D)","v":0},{"$f":"SUMIF('00 Alimenta'!$B:$B,'00 PDC SP'!$F134,'00 Alimenta'!E:E)","v":0},{"$f":"SUMIF('00 Alimenta'!$B:$B,'00 PDC SP'!$F134,'00 Alimenta'!F:F)","v":0},{"$f":"SUMIF('00 Alimenta'!$B:$B,'00 PDC SP'!$F134,'00 Alimenta'!G:G)","v":0},{"$f":"SUMIF('00 Alimenta'!$B:$B,'00 PDC SP'!$F134,'00 Alimenta'!H:H)","v":0},{"$f":"SUMIF('00 Alimenta'!$B:$B,'00 PDC SP'!$F134,'00 Alimenta'!I:I)","v":0},0]
[{"$f":"IF(E135=\"\",C135,C135&E135)","v":"ABA260CR"},{"$f":"LEFT(C135,2)","v":"AB"},"ABA260",21,"CR","0102020601","Crediti v/Stato per finanziamento sanitario aggiuntivo corrente",{"$f":"SUMIF('00 Alimenta'!$B:$B,'00 PDC SP'!$F135,'00 Alimenta'!D:D)","v":0},{"$f":"SUMIF('00 Alimenta'!$B:$B,'00 PDC SP'!$F135,'00 Alimenta'!E:E)","v":0},{"$f":"SUMIF('00 Alimenta'!$B:$B,'00 PDC SP'!$F135,'00 Alimenta'!F:F)","v":0},{"$f":"SUMIF('00 Alimenta'!$B:$B,'00 PDC SP'!$F135,'00 Alimenta'!G:G)","v":0},{"$f":"SUMIF('00 Alimenta'!$B:$B,'00 PDC SP'!$F135,'00 Alimenta'!H:H)","v":0},{"$f":"SUMIF('00 Alimenta'!$B:$B,'00 PDC SP'!$F135,'00 Alimenta'!I:I)","v":0},{"$f":"K135+L135-M135","v":0}]
["ABA270CR","AB","ABA270",21,"CR","0102020701","Crediti v/Stato per spesa corrente - altro",{"$f":"SUMIF('00 Alimenta'!$B:$B,'00 PDC SP'!$F136,'00 Alimenta'!D:D)","v":566.88},{"$f":"SUMIF('00 Alimenta'!$B:$B,'00 PDC SP'!$F136,'00 Alimenta'!E:E)","v":0},{"$f":"SUMIF('00 Alimenta'!$B:$B,'00 PDC SP'!$F136,'00 Alimenta'!F:F)","v":566.88},{"$f":"SUMIF('00 Alimenta'!$B:$B,'00 PDC SP'!$F136,'00 Alimenta'!G:G)","v":0},{"$f":"SUMIF('00 Alimenta'!$B:$B,'00 PDC SP'!$F136,'00 Alimenta'!H:H)","v":0},{"$f":"SUMIF('00 Alimenta'!$B:$B,'00 PDC SP'!$F136,'00 Alimenta'!I:I)","v":0},0]
["ABA280CR","AB","ABA280",48,"CR","0102020801","Crediti v/Stato per finanziamenti per investimenti",{"$f":"SUMIF('00 Alimenta'!$B:$B,'00 PDC SP'!$F137,'00 Alimenta'!D:D)","v":0},{"$f":"SUMIF('00 Alimenta'!$B:$B,'00 PDC SP'!$F137,'00 Alimenta'!E:E)","v":0},{"$f":"SUMIF('00 Alimenta'!$B:$B,'00 PDC SP'!$F137,'00 Alimenta'!F:F)","v":0},{"$f":"SUMIF('00 Alimenta'!$B:$B,'00 PDC SP'!$F137,'00 Alimenta'!G:G)","v":0},{"$f":"SUMIF('00 Alimenta'!$B:$B,'00 PDC SP'!$F137,'00 Alimenta'!H:H)","v":0},{"$f":"SUMIF('00 Alimenta'!$B:$B,'00 PDC SP'!$F137,'00 Alimenta'!I:I)","v":0},0]
["ABA300CR","AB","ABA300",21,"CR","0102020901","Crediti v/Stato per ricerca corrente - Ministero della Salute",{"$f":"SUMIF('00 Alimenta'!$B:$B,'00 PDC SP'!$F138,'00 Alimenta'!D:D)","v":0},{"$f":"SUMIF('00 Alimenta'!$B:$B,'00 PDC SP'!$F138,'00 Alimenta'!E:E)","v":0},{"$f":"SUMIF('00 Alimenta'!$B:$B,'00 PDC SP'!$F138,'00 Alimenta'!F:F)","v":0},{"$f":"SUMIF('00 Alimenta'!$B:$B,'00 PDC SP'!$F138,'00 Alimenta'!G:G)","v":0},{"$f":"SUMIF('00 Alimenta'!$B:$B,'00 PDC SP'!$F138,'00 Alimenta'!H:H)","v":0},{"$f":"SUMIF('00 Alimenta'!$B:$B,'00 PDC SP'!$F138,'00 Alimenta'!I:I)","v":0},0]
["ABA310CR","AB","ABA310",21,"CR","0102020902","Crediti v/Stato per ricerca finalizzata - Ministero della Salute",{"$f":"SUMIF('00 Alimenta'!$B:$B,'00 PDC SP'!$F139,'00 Alimenta'!D:D)","v":10300},{"$f":"SUMIF('00 Alimenta'!$B:$B,'00 PDC SP'!$F139,'00 Alimenta'!E:E)","v":10220},{"$f":"SUMIF('00 Alimenta'!$B:$B,'00 PDC SP'!$F139,'00 Alimenta'!F:F)","v":15900},{"$f":"SUMIF('00 Alimenta'!$B:$B,'00 PDC SP'!$F139,'00 Alimenta'!G:G)","v":4620},{"$f":"SUMIF('00 Alimenta'!$B:$B,'00 PDC SP'!$F139,'00 Alimenta'!H:H)","v":0},{"$f":"SUMIF('00 Alimenta'!$B:$B,'00 PDC SP'!$F139,'00 Alimenta'!I:I)","v":0},4620]
["ABA320CR","AB","ABA320",21,"CR","0102020903","Crediti v/Stato per ricerca - altre Amministrazioni centrali",{"$f":"SUMIF('00 Alimenta'!$B:$B,'00 PDC SP'!$F140,'00 Alimenta'!D:D)","v":0},{"$f":"SUMIF('00 Alimenta'!$B:$B,'00 PDC SP'!$F140,'00 Alimenta'!E:E)","v":0},{"$f":"SUMIF('00 Alimenta'!$B:$B,'00 PDC SP'!$F140,'00 Alimenta'!F:F)","v":0},{"$f":"SUMIF('00 Alimenta'!$B:$B,'00 PDC SP'!$F140,'00 Alimenta'!G:G)","v":0},{"$f":"SUMIF('00 Alimenta'!$B:$B,'00 PDC SP'!$F140,'00 Alimenta'!H:H)","v":0},{"$f":"SUMIF('00 Alimenta'!$B:$B,'00 PDC SP'!$F140,'00 Alimenta'!I:I)","v":0},0]
["ABA330CR","AB","ABA330",21,"CR","0102020904","Crediti v/Stato per ricerca - finanziamenti per investimenti",{"$f":"SUMIF('00 Alimenta'!$B:$B,'00 PDC SP'!$F141,'00 Alimenta'!D:D)","v":0},{"$f":"SUMIF('00 Alimenta'!$B:$B,'00 PDC SP'!$F141,'00 Alimenta'!E:E)","v":0},{"$f":"SUMIF('00 Alimenta'!$B:$B,'00 PDC SP'!$F141,'00 Alimenta'!F:F)","v":0},{"$f":"SUMIF('00 Alimenta'!$B:$B,'00 PDC SP'!$F141,'00 Alimenta'!G:G)","v":0},{"$f":"SUMIF('00 Alimenta'!$B:$B,'00 PDC SP'!$F141,'00 Alimenta'!H:H)","v":0},{"$f":"SUMIF('00 Alimenta'!$B:$B,'00 PDC SP'!$F141,'00 Alimenta'!I:I)","v":0},0]
["ABA340CR","AB","ABA340",21,"CR","0102021001","Crediti v/prefetture",{"$f":"SUMIF('00 Alimenta'!$B:$B,'00 PDC SP'!$F142,'00 Alimenta'!D:D)","v":0},{"$f":"SUMIF('00 Alimenta'!$B:$B,'00 PDC SP'!$F142,'00 Alimenta'!E:E)","v":93462.74},{"$f":"SUMIF('00 Alimenta'!$B:$B,'00 PDC SP'!$F142,'00 Alimenta'!F:F)","v":0},{"$f":"SUMIF('00 Alimenta'!$B:$B,'00 PDC SP'!$F142,'00 Alimenta'!G:G)","v":93462.74},{"$f":"SUMIF('00 Alimenta'!$B:$B,'00 PDC SP'!$F142,'00 Alimenta'!H:H)","v":0},{"$f":"SUMIF('00 Alimenta'!$B:$B,'00 PDC SP'!$F142,'00 Alimenta'!I:I)","v":0},93462.74]
["ABA370CR","AB","ABA370",25,"CR","0102021101","Crediti v/Regione o Provincia Autonoma per spesa corrente - IRAP",{"$f":"SUMIF('00 Alimenta'!$B:$B,'00 PDC SP'!$F143,'00 Alimenta'!D:D)","v":0},{"$f":"SUMIF('00 Alimenta'!$B:$B,'00 PDC SP'!$F143,'00 Alimenta'!E:E)","v":0},{"$f":"SUMIF('00 Alimenta'!$B:$B,'00 PDC SP'!$F143,'00 Alimenta'!F:F)","v":0},{"$f":"SUMIF('00 Alimenta'!$B:$B,'00 PDC SP'!$F143,'00 Alimenta'!G:G)","v":0},{"$f":"SUMIF('00 Alimenta'!$B:$B,'00 PDC SP'!$F143,'00 Alimenta'!H:H)","v":0},{"$f":"SUMIF('00 Alimenta'!$B:$B,'00 PDC SP'!$F143,'00 Alimenta'!I:I)","v":0},0]
["ABA380CR","AB","ABA380",25,"CR","0102021102","Crediti v/Regione o Provincia Autonoma per spesa corrente - Addizionale IRPEF",{"$f":"SUMIF('00 Alimenta'!$B:$B,'00 PDC SP'!$F144,'00 Alimenta'!D:D)","v":0},{"$f":"SUMIF('00 Alimenta'!$B:$B,'00 PDC SP'!$F144,'00 Alimenta'!E:E)","v":0},{"$f":"SUMIF('00 Alimenta'!$B:$B,'00 PDC SP'!$F144,'00 Alimenta'!F:F)","v":0},{"$f":"SUMIF('00 Alimenta'!$B:$B,'00 PDC SP'!$F144,'00 Alimenta'!G:G)","v":0},{"$f":"SUMIF('00 Alimenta'!$B:$B,'00 PDC SP'!$F144,'00 Alimenta'!H:H)","v":0},{"$f":"SUMIF('00 Alimenta'!$B:$B,'00 PDC SP'!$F144,'00 Alimenta'!I:I)","v":0},0]
["ABA390CR","AB","ABA390",25,"CR","0102021103","Crediti v/Regione o Provincia Autonoma per quota FSR",{"$f":"SUMIF('00 Alimenta'!$B:$B,'00 PDC SP'!$F145,'00 Alimenta'!D:D)","v":115726464.31999999},{"$f":"SUMIF('00 Alimenta'!$B:$B,'00 PDC SP'!$F145,'00 Alimenta'!E:E)","v":620609320.57000005},{"$f":"SUMIF('00 Alimenta'!$B:$B,'00 PDC SP'!$F145,'00 Alimenta'!F:F)","v":586865386.74000001},{"$f":"SUMIF('00 Alimenta'!$B:$B,'00 PDC SP'!$F145,'00 Alimenta'!G:G)","v":149470398.15000001},{"$f":"SUMIF('00 Alimenta'!$B:$B,'00 PDC SP'!$F145,'00 Alimenta'!H:H)","v":611234256.89999998},{"$f":"SUMIF('00 Alimenta'!$B:$B,'00 PDC SP'!$F145,'00 Alimenta'!I:I)","v":641777088.98000002},118927566.06999993]
["ABA400CR","AB","ABA400",25,"CR","0102021104","Crediti v/Regione o Provincia Autonoma per mobilità attiva intraregionale",{"$f":"SUMIF('00 Alimenta'!$B:$B,'00 PDC SP'!$F146,'00 Alimenta'!D:D)","v":1714216.77},{"$f":"SUMIF('00 Alimenta'!$B:$B,'00 PDC SP'!$F146,'00 Alimenta'!E:E)","v":94245672.530000001},{"$f":"SUMIF('00 Alimenta'!$B:$B,'00 PDC SP'!$F146,'00 Alimenta'!F:F)","v":94615942.909999996},{"$f":"SUMIF('00 Alimenta'!$B:$B,'00 PDC SP'!$F146,'00 Alimenta'!G:G)","v":1343946.39},{"$f":"SUMIF('00 Alimenta'!$B:$B,'00 PDC SP'!$F146,'00 Alimenta'!H:H)","v":98488215.590000004},{"$f":"SUMIF('00 Alimenta'!$B:$B,'00 PDC SP'!$F146,'00 Alimenta'!I:I)","v":98575322.590000004},1256839.3900000006]
["ABA400FE","AB","ABA400",25,"FE","0102021105","Fatture da emettere v/Regione per mobilità attiva intraregionale",{"$f":"SUMIF('00 Alimenta'!$B:$B,'00 PDC SP'!$F147,'00 Alimenta'!D:D)","v":0},{"$f":"SUMIF('00 Alimenta'!$B:$B,'00 PDC SP'!$F147,'00 Alimenta'!E:E)","v":0},{"$f":"SUMIF('00 Alimenta'!$B:$B,'00 PDC SP'!$F147,'00 Alimenta'!F:F)","v":0},{"$f":"SUMIF('00 Alimenta'!$B:$B,'00 PDC SP'!$F147,'00 Alimenta'!G:G)","v":0},{"$f":"SUMIF('00 Alimenta'!$B:$B,'00 PDC SP'!$F147,'00 Alimenta'!H:H)","v":0},{"$f":"SUMIF('00 Alimenta'!$B:$B,'00 PDC SP'!$F147,'00 Alimenta'!I:I)","v":0},0]
["ABA400FE","AB","ABA400",25,"FE","0102021106","Fatture da emettere v/Regione per mobilità attiva intraregionale da privato",{"$f":"SUMIF('00 Alimenta'!$B:$B,'00 PDC SP'!$F148,'00 Alimenta'!D:D)","v":0},{"$f":"SUMIF('00 Alimenta'!$B:$B,'00 PDC SP'!$F148,'00 Alimenta'!E:E)","v":0},{"$f":"SUMIF('00 Alimenta'!$B:$B,'00 PDC SP'!$F148,'00 Alimenta'!F:F)","v":0},{"$f":"SUMIF('00 Alimenta'!$B:$B,'00 PDC SP'!$F148,'00 Alimenta'!G:G)","v":0},{"$f":"SUMIF('00 Alimenta'!$B:$B,'00 PDC SP'!$F148,'00 Alimenta'!H:H)","v":0},{"$f":"SUMIF('00 Alimenta'!$B:$B,'00 PDC SP'!$F148,'00 Alimenta'!I:I)","v":0},0]
["ABA410CR","AB","ABA410",25,"CR","0102021107","Crediti v/Regione o Provincia Autonoma per mobilità attiva extraregionale",{"$f":"SUMIF('00 Alimenta'!$B:$B,'00 PDC SP'!$F149,'00 Alimenta'!D:D)","v":19005500.289999999},{"$f":"SUMIF('00 Alimenta'!$B:$B,'00 PDC SP'!$F149,'00 Alimenta'!E:E)","v":0},{"$f":"SUMIF('00 Alimenta'!$B:$B,'00 PDC SP'!$F149,'00 Alimenta'!F:F)","v":0},{"$f":"SUMIF('00 Alimenta'!$B:$B,'00 PDC SP'!$F149,'00 Alimenta'!G:G)","v":19005500.289999999},{"$f":"SUMIF('00 Alimenta'!$B:$B,'00 PDC SP'!$F149,'00 Alimenta'!H:H)","v":17628432.399999999},{"$f":"SUMIF('00 Alimenta'!$B:$B,'00 PDC SP'!$F149,'00 Alimenta'!I:I)","v":17628432.399999999},19005500.289999999]
["ABA410FE","AB","ABA410",25,"FE","0102021108","Fatture da emettere v/Regione per mobilità attiva extraregionale",{"$f":"SUMIF('00 Alimenta'!$B:$B,'00 PDC SP'!$F150,'00 Alimenta'!D:D)","v":0},{"$f":"SUMIF('00 Alimenta'!$B:$B,'00 PDC SP'!$F150,'00 Alimenta'!E:E)","v":0},{"$f":"SUMIF('00 Alimenta'!$B:$B,'00 PDC SP'!$F150,'00 Alimenta'!F:F)","v":0},{"$f":"SUMIF('00 Alimenta'!$B:$B,'00 PDC SP'!$F150,'00 Alimenta'!G:G)","v":0},{"$f":"SUMIF('00 Alimenta'!$B:$B,'00 PDC SP'!$F150,'00 Alimenta'!H:H)","v":0},{"$f":"SUMIF('00 Alimenta'!$B:$B,'00 PDC SP'!$F150,'00 Alimenta'!I:I)","v":0},0]
["ABA420CR","AB","ABA420",25,"CR","0102021109","Crediti v/Regione o Provincia Autonoma per acconto quota FSR",{"$f":"SUMIF('00 Alimenta'!$B:$B,'00 PDC SP'!$F151,'00 Alimenta'!D:D)","v":0},{"$f":"SUMIF('00 Alimenta'!$B:$B,'00 PDC SP'!$F151,'00 Alimenta'!E:E)","v":533673541},{"$f":"SUMIF('00 Alimenta'!$B:$B,'00 PDC SP'!$F151,'00 Alimenta'!F:F)","v":533673541},{"$f":"SUMIF('00 Alimenta'!$B:$B,'00 PDC SP'!$F151,'00 Alimenta'!G:G)","v":0},{"$f":"SUMIF('00 Alimenta'!$B:$B,'00 PDC SP'!$F151,'00 Alimenta'!H:H)","v":546891755},{"$f":"SUMIF('00 Alimenta'!$B:$B,'00 PDC SP'!$F151,'00 Alimenta'!I:I)","v":546891755},0]
["ABA420FE","AB","ABA420",25,"FE","0102021110","Fatture da emettere v/Regione per creditiv/Regione o Provincia Autonoma per acconto FSR",{"$f":"SUMIF('00 Alimenta'!$B:$B,'00 PDC SP'!$F152,'00 Alimenta'!D:D)","v":0},{"$f":"SUMIF('00 Alimenta'!$B:$B,'00 PDC SP'!$F152,'00 Alimenta'!E:E)","v":0},{"$f":"SUMIF('00 Alimenta'!$B:$B,'00 PDC SP'!$F152,'00 Alimenta'!F:F)","v":0},{"$f":"SUMIF('00 Alimenta'!$B:$B,'00 PDC SP'!$F152,'00 Alimenta'!G:G)","v":0},{"$f":"SUMIF('00 Alimenta'!$B:$B,'00 PDC SP'!$F152,'00 Alimenta'!H:H)","v":0},{"$f":"SUMIF('00 Alimenta'!$B:$B,'00 PDC SP'!$F152,'00 Alimenta'!I:I)","v":0},0]
["ABA430CR","AB","ABA430",25,"CR","0102021111","Crediti v/Regione o Provincia Autonoma per finanziamento sanitario aggiuntivo corrente LEA",{"$f":"SUMIF('00 Alimenta'!$B:$B,'00 PDC SP'!$F153,'00 Alimenta'!D:D)","v":8949031.2100000009},{"$f":"SUMIF('00 Alimenta'!$B:$B,'00 PDC SP'!$F153,'00 Alimenta'!E:E)","v":4734312.8099999996},{"$f":"SUMIF('00 Alimenta'!$B:$B,'00 PDC SP'!$F153,'00 Alimenta'!F:F)","v":1814869.13},{"$f":"SUMIF('00 Alimenta'!$B:$B,'00 PDC SP'!$F153,'00 Alimenta'!G:G)","v":11868474.890000001},{"$f":"SUMIF('00 Alimenta'!$B:$B,'00 PDC SP'!$F153,'00 Alimenta'!H:H)","v":5146816.37},{"$f":"SUMIF('00 Alimenta'!$B:$B,'00 PDC SP'!$F153,'00 Alimenta'!I:I)","v":6631200.2400000002},10384091.020000001]
["ABA440CR","AB","ABA440",25,"CR","0102021112","Crediti v/Regione o Provincia Autonoma per finanziamento sanitario aggiuntivo corrente extra LEA",{"$f":"SUMIF('00 Alimenta'!$B:$B,'00 PDC SP'!$F154,'00 Alimenta'!D:D)","v":0},{"$f":"SUMIF('00 Alimenta'!$B:$B,'00 PDC SP'!$F154,'00 Alimenta'!E:E)","v":0},{"$f":"SUMIF('00 Alimenta'!$B:$B,'00 PDC SP'!$F154,'00 Alimenta'!F:F)","v":0},{"$f":"SUMIF('00 Alimenta'!$B:$B,'00 PDC SP'!$F154,'00 Alimenta'!G:G)","v":0},{"$f":"SUMIF('00 Alimenta'!$B:$B,'00 PDC SP'!$F154,'00 Alimenta'!H:H)","v":0},{"$f":"SUMIF('00 Alimenta'!$B:$B,'00 PDC SP'!$F154,'00 Alimenta'!I:I)","v":0},0]
["ABA450CR","AB","ABA450",25,"CR","0102021113","Crediti v/Regione o Provincia Autonoma per spesa corrente - altro",{"$f":"SUMIF('00 Alimenta'!$B:$B,'00 PDC SP'!$F155,'00 Alimenta'!D:D)","v":0},{"$f":"SUMIF('00 Alimenta'!$B:$B,'00 PDC SP'!$F155,'00 Alimenta'!E:E)","v":0},{"$f":"SUMIF('00 Alimenta'!$B:$B,'00 PDC SP'!$F155,'00 Alimenta'!F:F)","v":0},{"$f":"SUMIF('00 Alimenta'!$B:$B,'00 PDC SP'!$F155,'00 Alimenta'!G:G)","v":0},{"$f":"SUMIF('00 Alimenta'!$B:$B,'00 PDC SP'!$F155,'00 Alimenta'!H:H)","v":0},{"$f":"SUMIF('00 Alimenta'!$B:$B,'00 PDC SP'!$F155,'00 Alimenta'!I:I)","v":0},0]
["ABA460CR","AB","ABA460",25,"CR","0102021114","Crediti v/Regione o Provincia Autonoma per ricerca",{"$f":"SUMIF('00 Alimenta'!$B:$B,'00 PDC SP'!$F156,'00 Alimenta'!D:D)","v":0},{"$f":"SUMIF('00 Alimenta'!$B:$B,'00 PDC SP'!$F156,'00 Alimenta'!E:E)","v":0},{"$f":"SUMIF('00 Alimenta'!$B:$B,'00 PDC SP'!$F156,'00 Alimenta'!F:F)","v":0},{"$f":"SUMIF('00 Alimenta'!$B:$B,'00 PDC SP'!$F156,'00 Alimenta'!G:G)","v":0},{"$f":"SUMIF('00 Alimenta'!$B:$B,'00 PDC SP'!$F156,'00 Alimenta'!H:H)","v":0},{"$f":"SUMIF('00 Alimenta'!$B:$B,'00 PDC SP'!$F156,'00 Alimenta'!I:I)","v":0},0]
["ABA400CR","AB","ABA400",25,"CR","0102021115","Netting mobilità intraregionale ante 2007",{"$f":"SUMIF('00 Alimenta'!$B:$B,'00 PDC SP'!$F157,'00 Alimenta'!D:D)","v":15592903.99},{"$f":"SUMIF('00 Alimenta'!$B:$B,'00 PDC SP'!$F157,'00 Alimenta'!E:E)","v":0},{"$f":"SUMIF('00 Alimenta'!$B:$B,'00 PDC SP'!$F157,'00 Alimenta'!F:F)","v":0},{"$f":"SUMIF('00 Alimenta'!$B:$B,'00 PDC SP'!$F157,'00 Alimenta'!G:G)","v":15592903.99},{"$f":"SUMIF('00 Alimenta'!$B:$B,'00 PDC SP'!$F157,'00 Alimenta'!H:H)","v":0},{"$f":"SUMIF('00 Alimenta'!$B:$B,'00 PDC SP'!$F157,'00 Alimenta'!I:I)","v":0},15592903.99]
["ABA410CR","AB","ABA410",25,"CR","0102021116","Netting mobilità extraregionale ante 2007",{"$f":"SUMIF('00 Alimenta'!$B:$B,'00 PDC SP'!$F158,'00 Alimenta'!D:D)","v":0},{"$f":"SUMIF('00 Alimenta'!$B:$B,'00 PDC SP'!$F158,'00 Alimenta'!E:E)","v":0},{"$f":"SUMIF('00 Alimenta'!$B:$B,'00 PDC SP'!$F158,'00 Alimenta'!F:F)","v":0},{"$f":"SUMIF('00 Alimenta'!$B:$B,'00 PDC SP'!$F158,'00 Alimenta'!G:G)","v":0},{"$f":"SUMIF('00 Alimenta'!$B:$B,'00 PDC SP'!$F158,'00 Alimenta'!H:H)","v":0},{"$f":"SUMIF('00 Alimenta'!$B:$B,'00 PDC SP'!$F158,'00 Alimenta'!I:I)","v":0},0]
["ABA480CR","AB","ABA480",49,"CR","0102021201","Crediti v/Regione o Provincia Autonoma per finanziamenti per investimenti",{"$f":"SUMIF('00 Alimenta'!$B:$B,'00 PDC SP'!$F159,'00 Alimenta'!D:D)","v":38255},{"$f":"SUMIF('00 Alimenta'!$B:$B,'00 PDC SP'!$F159,'00 Alimenta'!E:E)","v":0},{"$f":"SUMIF('00 Alimenta'!$B:$B,'00 PDC SP'!$F159,'00 Alimenta'!F:F)","v":0},{"$f":"SUMIF('00 Alimenta'!$B:$B,'00 PDC SP'!$F159,'00 Alimenta'!G:G)","v":38255},{"$f":"SUMIF('00 Alimenta'!$B:$B,'00 PDC SP'!$F159,'00 Alimenta'!H:H)","v":0},{"$f":"SUMIF('00 Alimenta'!$B:$B,'00 PDC SP'!$F159,'00 Alimenta'!I:I)","v":0},38255]
["ABA490CR","AB","ABA490",50,"CR","0102021202","Crediti v/Regione o Provincia Autonoma per incremento fondo dotazione",{"$f":"SUMIF('00 Alimenta'!$B:$B,'00 PDC SP'!$F160,'00 Alimenta'!D:D)","v":0},{"$f":"SUMIF('00 Alimenta'!$B:$B,'00 PDC SP'!$F160,'00 Alimenta'!E:E)","v":0},{"$f":"SUMIF('00 Alimenta'!$B:$B,'00 PDC SP'!$F160,'00 Alimenta'!F:F)","v":0},{"$f":"SUMIF('00 Alimenta'!$B:$B,'00 PDC SP'!$F160,'00 Alimenta'!G:G)","v":0},{"$f":"SUMIF('00 Alimenta'!$B:$B,'00 PDC SP'!$F160,'00 Alimenta'!H:H)","v":0},{"$f":"SUMIF('00 Alimenta'!$B:$B,'00 PDC SP'!$F160,'00 Alimenta'!I:I)","v":0},0]
["ABA500CR","AB","ABA500",51,"CR","0102021203","Crediti v/Regione o Provincia Autonoma per ripiano perdite",{"$f":"SUMIF('00 Alimenta'!$B:$B,'00 PDC SP'!$F161,'00 Alimenta'!D:D)","v":0},{"$f":"SUMIF('00 Alimenta'!$B:$B,'00 PDC SP'!$F161,'00 Alimenta'!E:E)","v":30778127.57},{"$f":"SUMIF('00 Alimenta'!$B:$B,'00 PDC SP'!$F161,'00 Alimenta'!F:F)","v":9176068},{"$f":"SUMIF('00 Alimenta'!$B:$B,'00 PDC SP'!$F161,'00 Alimenta'!G:G)","v":21602059.57},{"$f":"SUMIF('00 Alimenta'!$B:$B,'00 PDC SP'!$F161,'00 Alimenta'!H:H)","v":14264710},{"$f":"SUMIF('00 Alimenta'!$B:$B,'00 PDC SP'!$F161,'00 Alimenta'!I:I)","v":21602059.57},14264710]
["ABA510CR","AB","ABA510",52,"CR","0102021204","Crediti v/Regione per copertura debiti al 31/12/2005",{"$f":"SUMIF('00 Alimenta'!$B:$B,'00 PDC SP'!$F162,'00 Alimenta'!D:D)","v":0},{"$f":"SUMIF('00 Alimenta'!$B:$B,'00 PDC SP'!$F162,'00 Alimenta'!E:E)","v":0},{"$f":"SUMIF('00 Alimenta'!$B:$B,'00 PDC SP'!$F162,'00 Alimenta'!F:F)","v":0},{"$f":"SUMIF('00 Alimenta'!$B:$B,'00 PDC SP'!$F162,'00 Alimenta'!G:G)","v":0},{"$f":"SUMIF('00 Alimenta'!$B:$B,'00 PDC SP'!$F162,'00 Alimenta'!H:H)","v":0},{"$f":"SUMIF('00 Alimenta'!$B:$B,'00 PDC SP'!$F162,'00 Alimenta'!I:I)","v":0},0]
["ABA520CR","AB","ABA520",49,"CR","0102021205","Crediti v/Regione o Provincia Autonoma per ricostituzione risorse da investimenti esercizi precedenti",{"$f":"SUMIF('00 Alimenta'!$B:$B,'00 PDC SP'!$F163,'00 Alimenta'!D:D)","v":0},{"$f":"SUMIF('00 Alimenta'!$B:$B,'00 PDC SP'!$F163,'00 Alimenta'!E:E)","v":0},{"$f":"SUMIF('00 Alimenta'!$B:$B,'00 PDC SP'!$F163,'00 Alimenta'!F:F)","v":0},{"$f":"SUMIF('00 Alimenta'!$B:$B,'00 PDC SP'!$F163,'00 Alimenta'!G:G)","v":0},{"$f":"SUMIF('00 Alimenta'!$B:$B,'00 PDC SP'!$F163,'00 Alimenta'!H:H)","v":0},{"$f":"SUMIF('00 Alimenta'!$B:$B,'00 PDC SP'!$F163,'00 Alimenta'!I:I)","v":0},0]
["ABA530CR","AB","ABA530",26,"CR","0102021301","Crediti v/Comuni",{"$f":"SUMIF('00 Alimenta'!$B:$B,'00 PDC SP'!$F164,'00 Alimenta'!D:D)","v":104638.16},{"$f":"SUMIF('00 Alimenta'!$B:$B,'00 PDC SP'!$F164,'00 Alimenta'!E:E)","v":30692.07},{"$f":"SUMIF('00 Alimenta'!$B:$B,'00 PDC SP'!$F164,'00 Alimenta'!F:F)","v":52528.41},{"$f":"SUMIF('00 Alimenta'!$B:$B,'00 PDC SP'!$F164,'00 Alimenta'!G:G)","v":82801.820000000007},{"$f":"SUMIF('00 Alimenta'!$B:$B,'00 PDC SP'!$F164,'00 Alimenta'!H:H)","v":115218.01},{"$f":"SUMIF('00 Alimenta'!$B:$B,'00 PDC SP'!$F164,'00 Alimenta'!I:I)","v":34661.25},163358.58000000002]
["ABA530FE","AB","ABA530",26,"FE","0102021302","Fatture da emettere v/Comuni",{"$f":"SUMIF('00 Alimenta'!$B:$B,'00 PDC SP'!$F165,'00 Alimenta'!D:D)","v":1960.74},{"$f":"SUMIF('00 Alimenta'!$B:$B,'00 PDC SP'!$F165,'00 Alimenta'!E:E)","v":5505.16},{"$f":"SUMIF('00 Alimenta'!$B:$B,'00 PDC SP'!$F165,'00 Alimenta'!F:F)","v":1960.74},{"$f":"SUMIF('00 Alimenta'!$B:$B,'00 PDC SP'!$F165,'00 Alimenta'!G:G)","v":5505.16},{"$f":"SUMIF('00 Alimenta'!$B:$B,'00 PDC SP'!$F165,'00 Alimenta'!H:H)","v":58770.9},{"$f":"SUMIF('00 Alimenta'!$B:$B,'00 PDC SP'!$F165,'00 Alimenta'!I:I)","v":5505.16},58770.899999999994]
["ABA560CR","AB","ABA560",27,"CR","0102021401","Crediti v/ASL della Regione",{"$f":"SUMIF('00 Alimenta'!$B:$B,'00 PDC SP'!$F166,'00 Alimenta'!D:D)","v":0},{"$f":"SUMIF('00 Alimenta'!$B:$B,'00 PDC SP'!$F166,'00 Alimenta'!E:E)","v":0},{"$f":"SUMIF('00 Alimenta'!$B:$B,'00 PDC SP'!$F166,'00 Alimenta'!F:F)","v":0},{"$f":"SUMIF('00 Alimenta'!$B:$B,'00 PDC SP'!$F166,'00 Alimenta'!G:G)","v":0},{"$f":"SUMIF('00 Alimenta'!$B:$B,'00 PDC SP'!$F166,'00 Alimenta'!H:H)","v":0},{"$f":"SUMIF('00 Alimenta'!$B:$B,'00 PDC SP'!$F166,'00 Alimenta'!I:I)","v":0},0]
["ABA560CR","AB","ABA560",27,"CR","0102021402","Crediti v/ASL Avezzano Sulmona L'Aquila per mobilità in compensazione",{"$f":"SUMIF('00 Alimenta'!$B:$B,'00 PDC SP'!$F167,'00 Alimenta'!D:D)","v":0},{"$f":"SUMIF('00 Alimenta'!$B:$B,'00 PDC SP'!$F167,'00 Alimenta'!E:E)","v":0},{"$f":"SUMIF('00 Alimenta'!$B:$B,'00 PDC SP'!$F167,'00 Alimenta'!F:F)","v":0},{"$f":"SUMIF('00 Alimenta'!$B:$B,'00 PDC SP'!$F167,'00 Alimenta'!G:G)","v":0},{"$f":"SUMIF('00 Alimenta'!$B:$B,'00 PDC SP'!$F167,'00 Alimenta'!H:H)","v":0},{"$f":"SUMIF('00 Alimenta'!$B:$B,'00 PDC SP'!$F167,'00 Alimenta'!I:I)","v":0},0]
["ABA560FE","AB","ABA560",27,"FE","0102021403","Fatture da emettere v/ASL Avezzano Sulmona L'Aquila per mobilità in compensazione",{"$f":"SUMIF('00 Alimenta'!$B:$B,'00 PDC SP'!$F168,'00 Alimenta'!D:D)","v":0},{"$f":"SUMIF('00 Alimenta'!$B:$B,'00 PDC SP'!$F168,'00 Alimenta'!E:E)","v":0},{"$f":"SUMIF('00 Alimenta'!$B:$B,'00 PDC SP'!$F168,'00 Alimenta'!F:F)","v":0},{"$f":"SUMIF('00 Alimenta'!$B:$B,'00 PDC SP'!$F168,'00 Alimenta'!G:G)","v":0},{"$f":"SUMIF('00 Alimenta'!$B:$B,'00 PDC SP'!$F168,'00 Alimenta'!H:H)","v":0},{"$f":"SUMIF('00 Alimenta'!$B:$B,'00 PDC SP'!$F168,'00 Alimenta'!I:I)","v":0},0]
["ABA560CR","AB","ABA560",27,"CR","0102021404","Crediti v/ASL Lanciano Vasto Chieti per mobilità in compensazione",{"$f":"SUMIF('00 Alimenta'!$B:$B,'00 PDC SP'!$F169,'00 Alimenta'!D:D)","v":0},{"$f":"SUMIF('00 Alimenta'!$B:$B,'00 PDC SP'!$F169,'00 Alimenta'!E:E)","v":0},{"$f":"SUMIF('00 Alimenta'!$B:$B,'00 PDC SP'!$F169,'00 Alimenta'!F:F)","v":0},{"$f":"SUMIF('00 Alimenta'!$B:$B,'00 PDC SP'!$F169,'00 Alimenta'!G:G)","v":0},{"$f":"SUMIF('00 Alimenta'!$B:$B,'00 PDC SP'!$F169,'00 Alimenta'!H:H)","v":0},{"$f":"SUMIF('00 Alimenta'!$B:$B,'00 PDC SP'!$F169,'00 Alimenta'!I:I)","v":0},0]
["ABA560FE","AB","ABA560",27,"FE","0102021405","Fatture da emettere v/ASL Lanciano Vasto Chieti per mobilità in compensazione",{"$f":"SUMIF('00 Alimenta'!$B:$B,'00 PDC SP'!$F170,'00 Alimenta'!D:D)","v":0},{"$f":"SUMIF('00 Alimenta'!$B:$B,'00 PDC SP'!$F170,'00 Alimenta'!E:E)","v":0},{"$f":"SUMIF('00 Alimenta'!$B:$B,'00 PDC SP'!$F170,'00 Alimenta'!F:F)","v":0},{"$f":"SUMIF('00 Alimenta'!$B:$B,'00 PDC SP'!$F170,'00 Alimenta'!G:G)","v":0},{"$f":"SUMIF('00 Alimenta'!$B:$B,'00 PDC SP'!$F170,'00 Alimenta'!H:H)","v":0},{"$f":"SUMIF('00 Alimenta'!$B:$B,'00 PDC SP'!$F170,'00 Alimenta'!I:I)","v":0},0]
["ABA560CR","AB","ABA560",27,"CR","0102021406","Crediti v/ASL Pescara per mobilità in compensazione",{"$f":"SUMIF('00 Alimenta'!$B:$B,'00 PDC SP'!$F171,'00 Alimenta'!D:D)","v":0},{"$f":"SUMIF('00 Alimenta'!$B:$B,'00 PDC SP'!$F171,'00 Alimenta'!E:E)","v":0},{"$f":"SUMIF('00 Alimenta'!$B:$B,'00 PDC SP'!$F171,'00 Alimenta'!F:F)","v":0},{"$f":"SUMIF('00 Alimenta'!$B:$B,'00 PDC SP'!$F171,'00 Alimenta'!G:G)","v":0},{"$f":"SUMIF('00 Alimenta'!$B:$B,'00 PDC SP'!$F171,'00 Alimenta'!H:H)","v":0},{"$f":"SUMIF('00 Alimenta'!$B:$B,'00 PDC SP'!$F171,'00 Alimenta'!I:I)","v":0},0]
["ABA560FE","AB","ABA560",27,"FE","0102021407","Fatture da emettere v/ASL Pescara per mobilità in compensazione",{"$f":"SUMIF('00 Alimenta'!$B:$B,'00 PDC SP'!$F172,'00 Alimenta'!D:D)","v":0},{"$f":"SUMIF('00 Alimenta'!$B:$B,'00 PDC SP'!$F172,'00 Alimenta'!E:E)","v":0},{"$f":"SUMIF('00 Alimenta'!$B:$B,'00 PDC SP'!$F172,'00 Alimenta'!F:F)","v":0},{"$f":"SUMIF('00 Alimenta'!$B:$B,'00 PDC SP'!$F172,'00 Alimenta'!G:G)","v":0},{"$f":"SUMIF('00 Alimenta'!$B:$B,'00 PDC SP'!$F172,'00 Alimenta'!H:H)","v":0},{"$f":"SUMIF('00 Alimenta'!$B:$B,'00 PDC SP'!$F172,'00 Alimenta'!I:I)","v":0},0]
["ABA560CR","AB","ABA560",27,"CR","0102021408","Crediti v/ASL Teramo per mobilità in compensazione",{"$f":"SUMIF('00 Alimenta'!$B:$B,'00 PDC SP'!$F173,'00 Alimenta'!D:D)","v":0},{"$f":"SUMIF('00 Alimenta'!$B:$B,'00 PDC SP'!$F173,'00 Alimenta'!E:E)","v":0},{"$f":"SUMIF('00 Alimenta'!$B:$B,'00 PDC SP'!$F173,'00 Alimenta'!F:F)","v":0},{"$f":"SUMIF('00 Alimenta'!$B:$B,'00 PDC SP'!$F173,'00 Alimenta'!G:G)","v":0},{"$f":"SUMIF('00 Alimenta'!$B:$B,'00 PDC SP'!$F173,'00 Alimenta'!H:H)","v":0},{"$f":"SUMIF('00 Alimenta'!$B:$B,'00 PDC SP'!$F173,'00 Alimenta'!I:I)","v":0},0]
["ABA560FE","AB","ABA560",27,"FE","0102021409","Fatture da emettere v/ASL Teramo per mobilità in compensazione",{"$f":"SUMIF('00 Alimenta'!$B:$B,'00 PDC SP'!$F174,'00 Alimenta'!D:D)","v":0},{"$f":"SUMIF('00 Alimenta'!$B:$B,'00 PDC SP'!$F174,'00 Alimenta'!E:E)","v":0},{"$f":"SUMIF('00 Alimenta'!$B:$B,'00 PDC SP'!$F174,'00 Alimenta'!F:F)","v":0},{"$f":"SUMIF('00 Alimenta'!$B:$B,'00 PDC SP'!$F174,'00 Alimenta'!G:G)","v":0},{"$f":"SUMIF('00 Alimenta'!$B:$B,'00 PDC SP'!$F174,'00 Alimenta'!H:H)","v":0},{"$f":"SUMIF('00 Alimenta'!$B:$B,'00 PDC SP'!$F174,'00 Alimenta'!I:I)","v":0},0]
["ABA570CR","AB","ABA570",27,"CR","0102021410","Crediti v/asl Avezzano Sulmona L'Aquila per mobilità non in compensazione",{"$f":"SUMIF('00 Alimenta'!$B:$B,'00 PDC SP'!$F175,'00 Alimenta'!D:D)","v":0},{"$f":"SUMIF('00 Alimenta'!$B:$B,'00 PDC SP'!$F175,'00 Alimenta'!E:E)","v":0},{"$f":"SUMIF('00 Alimenta'!$B:$B,'00 PDC SP'!$F175,'00 Alimenta'!F:F)","v":0},{"$f":"SUMIF('00 Alimenta'!$B:$B,'00 PDC SP'!$F175,'00 Alimenta'!G:G)","v":0},{"$f":"SUMIF('00 Alimenta'!$B:$B,'00 PDC SP'!$F175,'00 Alimenta'!H:H)","v":0},{"$f":"SUMIF('00 Alimenta'!$B:$B,'00 PDC SP'!$F175,'00 Alimenta'!I:I)","v":0},0]
["ABA570FE","AB","ABA570",27,"FE","0102021411","Fatture da emettere v/ASL Avezzano Sulmona L'Aquila per mobilità non in compensazione",{"$f":"SUMIF('00 Alimenta'!$B:$B,'00 PDC SP'!$F176,'00 Alimenta'!D:D)","v":0},{"$f":"SUMIF('00 Alimenta'!$B:$B,'00 PDC SP'!$F176,'00 Alimenta'!E:E)","v":0},{"$f":"SUMIF('00 Alimenta'!$B:$B,'00 PDC SP'!$F176,'00 Alimenta'!F:F)","v":0},{"$f":"SUMIF('00 Alimenta'!$B:$B,'00 PDC SP'!$F176,'00 Alimenta'!G:G)","v":0},{"$f":"SUMIF('00 Alimenta'!$B:$B,'00 PDC SP'!$F176,'00 Alimenta'!H:H)","v":0},{"$f":"SUMIF('00 Alimenta'!$B:$B,'00 PDC SP'!$F176,'00 Alimenta'!I:I)","v":0},0]
["ABA570CR","AB","ABA570",27,"CR","0102021412","Crediti v/ASL Lanciano Vasto Chieti per mobilità non in compensazione",{"$f":"SUMIF('00 Alimenta'!$B:$B,'00 PDC SP'!$F177,'00 Alimenta'!D:D)","v":0},{"$f":"SUMIF('00 Alimenta'!$B:$B,'00 PDC SP'!$F177,'00 Alimenta'!E:E)","v":0},{"$f":"SUMIF('00 Alimenta'!$B:$B,'00 PDC SP'!$F177,'00 Alimenta'!F:F)","v":0},{"$f":"SUMIF('00 Alimenta'!$B:$B,'00 PDC SP'!$F177,'00 Alimenta'!G:G)","v":0},{"$f":"SUMIF('00 Alimenta'!$B:$B,'00 PDC SP'!$F177,'00 Alimenta'!H:H)","v":0},{"$f":"SUMIF('00 Alimenta'!$B:$B,'00 PDC SP'!$F177,'00 Alimenta'!I:I)","v":0},0]
["ABA570FE","AB","ABA570",27,"FE","0102021413","Fatture da emettere v/ASL Lanciano Vasto Chieti per mobilità non in compensazione",{"$f":"SUMIF('00 Alimenta'!$B:$B,'00 PDC SP'!$F178,'00 Alimenta'!D:D)","v":0},{"$f":"SUMIF('00 Alimenta'!$B:$B,'00 PDC SP'!$F178,'00 Alimenta'!E:E)","v":0},{"$f":"SUMIF('00 Alimenta'!$B:$B,'00 PDC SP'!$F178,'00 Alimenta'!F:F)","v":0},{"$f":"SUMIF('00 Alimenta'!$B:$B,'00 PDC SP'!$F178,'00 Alimenta'!G:G)","v":0},{"$f":"SUMIF('00 Alimenta'!$B:$B,'00 PDC SP'!$F178,'00 Alimenta'!H:H)","v":0},{"$f":"SUMIF('00 Alimenta'!$B:$B,'00 PDC SP'!$F178,'00 Alimenta'!I:I)","v":0},0]
["ABA570CR","AB","ABA570",27,"CR","0102021414","Crediti v/ASL Pescara per mobilità non in compensazione",{"$f":"SUMIF('00 Alimenta'!$B:$B,'00 PDC SP'!$F179,'00 Alimenta'!D:D)","v":0},{"$f":"SUMIF('00 Alimenta'!$B:$B,'00 PDC SP'!$F179,'00 Alimenta'!E:E)","v":0},{"$f":"SUMIF('00 Alimenta'!$B:$B,'00 PDC SP'!$F179,'00 Alimenta'!F:F)","v":0},{"$f":"SUMIF('00 Alimenta'!$B:$B,'00 PDC SP'!$F179,'00 Alimenta'!G:G)","v":0},{"$f":"SUMIF('00 Alimenta'!$B:$B,'00 PDC SP'!$F179,'00 Alimenta'!H:H)","v":0},{"$f":"SUMIF('00 Alimenta'!$B:$B,'00 PDC SP'!$F179,'00 Alimenta'!I:I)","v":0},0]
["ABA570FE","AB","ABA570",27,"FE","0102021415","Fatture da emettere v/ASL Pescara per mobilità non in compensazione",{"$f":"SUMIF('00 Alimenta'!$B:$B,'00 PDC SP'!$F180,'00 Alimenta'!D:D)","v":0},{"$f":"SUMIF('00 Alimenta'!$B:$B,'00 PDC SP'!$F180,'00 Alimenta'!E:E)","v":0},{"$f":"SUMIF('00 Alimenta'!$B:$B,'00 PDC SP'!$F180,'00 Alimenta'!F:F)","v":0},{"$f":"SUMIF('00 Alimenta'!$B:$B,'00 PDC SP'!$F180,'00 Alimenta'!G:G)","v":0},{"$f":"SUMIF('00 Alimenta'!$B:$B,'00 PDC SP'!$F180,'00 Alimenta'!H:H)","v":0},{"$f":"SUMIF('00 Alimenta'!$B:$B,'00 PDC SP'!$F180,'00 Alimenta'!I:I)","v":0},0]
["ABA570CR","AB","ABA570",27,"CR","0102021416","Crediti v/ASL Teramo per mobilità non in compensazione",{"$f":"SUMIF('00 Alimenta'!$B:$B,'00 PDC SP'!$F181,'00 Alimenta'!D:D)","v":0},{"$f":"SUMIF('00 Alimenta'!$B:$B,'00 PDC SP'!$F181,'00 Alimenta'!E:E)","v":0},{"$f":"SUMIF('00 Alimenta'!$B:$B,'00 PDC SP'!$F181,'00 Alimenta'!F:F)","v":0},{"$f":"SUMIF('00 Alimenta'!$B:$B,'00 PDC SP'!$F181,'00 Alimenta'!G:G)","v":0},{"$f":"SUMIF('00 Alimenta'!$B:$B,'00 PDC SP'!$F181,'00 Alimenta'!H:H)","v":0},{"$f":"SUMIF('00 Alimenta'!$B:$B,'00 PDC SP'!$F181,'00 Alimenta'!I:I)","v":0},0]
["ABA570FE","AB","ABA570",27,"FE","0102021417","Fatture da emettere v/ASL Teramo per mobilità non in compensazione",{"$f":"SUMIF('00 Alimenta'!$B:$B,'00 PDC SP'!$F182,'00 Alimenta'!D:D)","v":0},{"$f":"SUMIF('00 Alimenta'!$B:$B,'00 PDC SP'!$F182,'00 Alimenta'!E:E)","v":0},{"$f":"SUMIF('00 Alimenta'!$B:$B,'00 PDC SP'!$F182,'00 Alimenta'!F:F)","v":0},{"$f":"SUMIF('00 Alimenta'!$B:$B,'00 PDC SP'!$F182,'00 Alimenta'!G:G)","v":0},{"$f":"SUMIF('00 Alimenta'!$B:$B,'00 PDC SP'!$F182,'00 Alimenta'!H:H)","v":0},{"$f":"SUMIF('00 Alimenta'!$B:$B,'00 PDC SP'!$F182,'00 Alimenta'!I:I)","v":0},0]
["ABA580CR","AB","ABA580",27,"CR","0102021418","Crediti v/ASL Avezzano Sulmona L'Aquila per altre prestazioni",{"$f":"SUMIF('00 Alimenta'!$B:$B,'00 PDC SP'!$F183,'00 Alimenta'!D:D)","v":402921.36},{"$f":"SUMIF('00 Alimenta'!$B:$B,'00 PDC SP'!$F183,'00 Alimenta'!E:E)","v":336718.25},{"$f":"SUMIF('00 Alimenta'!$B:$B,'00 PDC SP'!$F183,'00 Alimenta'!F:F)","v":62226.18},{"$f":"SUMIF('00 Alimenta'!$B:$B,'00 PDC SP'!$F183,'00 Alimenta'!G:G)","v":677413.43},{"$f":"SUMIF('00 Alimenta'!$B:$B,'00 PDC SP'!$F183,'00 Alimenta'!H:H)","v":4655668.13},{"$f":"SUMIF('00 Alimenta'!$B:$B,'00 PDC SP'!$F183,'00 Alimenta'!I:I)","v":4847041.5999999996},486039.95999999996]
["ABA580FE","AB","ABA580",27,"FE","0102021419","Fatture da emettere v/ASL Avezzano Sulmona L'Aquila per altre prestazioni",{"$f":"SUMIF('00 Alimenta'!$B:$B,'00 PDC SP'!$F184,'00 Alimenta'!D:D)","v":53218.85},{"$f":"SUMIF('00 Alimenta'!$B:$B,'00 PDC SP'!$F184,'00 Alimenta'!E:E)","v":18535.41},{"$f":"SUMIF('00 Alimenta'!$B:$B,'00 PDC SP'!$F184,'00 Alimenta'!F:F)","v":53218.85},{"$f":"SUMIF('00 Alimenta'!$B:$B,'00 PDC SP'!$F184,'00 Alimenta'!G:G)","v":18535.41},{"$f":"SUMIF('00 Alimenta'!$B:$B,'00 PDC SP'!$F184,'00 Alimenta'!H:H)","v":8143.77},{"$f":"SUMIF('00 Alimenta'!$B:$B,'00 PDC SP'!$F184,'00 Alimenta'!I:I)","v":18535.41},8143.77]
["ABA580CR","AB","ABA580",27,"CR","0102021420","Crediti v/ASL Lanciano Vasto Chieti per altre prestazioni",{"$f":"SUMIF('00 Alimenta'!$B:$B,'00 PDC SP'!$F185,'00 Alimenta'!D:D)","v":169755.63},{"$f":"SUMIF('00 Alimenta'!$B:$B,'00 PDC SP'!$F185,'00 Alimenta'!E:E)","v":113434.63},{"$f":"SUMIF('00 Alimenta'!$B:$B,'00 PDC SP'!$F185,'00 Alimenta'!F:F)","v":1305.0999999999999},{"$f":"SUMIF('00 Alimenta'!$B:$B,'00 PDC SP'!$F185,'00 Alimenta'!G:G)","v":281885.15999999997},{"$f":"SUMIF('00 Alimenta'!$B:$B,'00 PDC SP'!$F185,'00 Alimenta'!H:H)","v":127601.11},{"$f":"SUMIF('00 Alimenta'!$B:$B,'00 PDC SP'!$F185,'00 Alimenta'!I:I)","v":175640.8},233845.46999999997]
["ABA580FE","AB","ABA580",27,"FE","0102021421","Fatture da emettere v/ASL Lanciano Vasto Chieti per altre prestazioni",{"$f":"SUMIF('00 Alimenta'!$B:$B,'00 PDC SP'!$F186,'00 Alimenta'!D:D)","v":53059.69},{"$f":"SUMIF('00 Alimenta'!$B:$B,'00 PDC SP'!$F186,'00 Alimenta'!E:E)","v":5700.13},{"$f":"SUMIF('00 Alimenta'!$B:$B,'00 PDC SP'!$F186,'00 Alimenta'!F:F)","v":53059.69},{"$f":"SUMIF('00 Alimenta'!$B:$B,'00 PDC SP'!$F186,'00 Alimenta'!G:G)","v":5700.13},{"$f":"SUMIF('00 Alimenta'!$B:$B,'00 PDC SP'!$F186,'00 Alimenta'!H:H)","v":1282.71},{"$f":"SUMIF('00 Alimenta'!$B:$B,'00 PDC SP'!$F186,'00 Alimenta'!I:I)","v":5700.13},1282.71]
["ABA580CR","AB","ABA580",27,"CR","0102021422","Crediti v/ASL Pescara per altre prestazioni",{"$f":"SUMIF('00 Alimenta'!$B:$B,'00 PDC SP'!$F187,'00 Alimenta'!D:D)","v":0},{"$f":"SUMIF('00 Alimenta'!$B:$B,'00 PDC SP'!$F187,'00 Alimenta'!E:E)","v":0},{"$f":"SUMIF('00 Alimenta'!$B:$B,'00 PDC SP'!$F187,'00 Alimenta'!F:F)","v":0},{"$f":"SUMIF('00 Alimenta'!$B:$B,'00 PDC SP'!$F187,'00 Alimenta'!G:G)","v":0},{"$f":"SUMIF('00 Alimenta'!$B:$B,'00 PDC SP'!$F187,'00 Alimenta'!H:H)","v":0},{"$f":"SUMIF('00 Alimenta'!$B:$B,'00 PDC SP'!$F187,'00 Alimenta'!I:I)","v":0},0]
["ABA580FE","AB","ABA580",27,"FE","0102021423","Fatture da emettere v/ASL Pescara per altre prestazioni",{"$f":"SUMIF('00 Alimenta'!$B:$B,'00 PDC SP'!$F188,'00 Alimenta'!D:D)","v":0},{"$f":"SUMIF('00 Alimenta'!$B:$B,'00 PDC SP'!$F188,'00 Alimenta'!E:E)","v":0},{"$f":"SUMIF('00 Alimenta'!$B:$B,'00 PDC SP'!$F188,'00 Alimenta'!F:F)","v":0},{"$f":"SUMIF('00 Alimenta'!$B:$B,'00 PDC SP'!$F188,'00 Alimenta'!G:G)","v":0},{"$f":"SUMIF('00 Alimenta'!$B:$B,'00 PDC SP'!$F188,'00 Alimenta'!H:H)","v":0},{"$f":"SUMIF('00 Alimenta'!$B:$B,'00 PDC SP'!$F188,'00 Alimenta'!I:I)","v":0},0]
["ABA580CR","AB","ABA580",27,"CR","0102021424","Crediti v/ASL Teramo per altre prestazioni",{"$f":"SUMIF('00 Alimenta'!$B:$B,'00 PDC SP'!$F189,'00 Alimenta'!D:D)","v":3993311.28},{"$f":"SUMIF('00 Alimenta'!$B:$B,'00 PDC SP'!$F189,'00 Alimenta'!E:E)","v":18039.36},{"$f":"SUMIF('00 Alimenta'!$B:$B,'00 PDC SP'!$F189,'00 Alimenta'!F:F)","v":5653.6},{"$f":"SUMIF('00 Alimenta'!$B:$B,'00 PDC SP'!$F189,'00 Alimenta'!G:G)","v":4005697.04},{"$f":"SUMIF('00 Alimenta'!$B:$B,'00 PDC SP'!$F189,'00 Alimenta'!H:H)","v":62418.61},{"$f":"SUMIF('00 Alimenta'!$B:$B,'00 PDC SP'!$F189,'00 Alimenta'!I:I)","v":212668.34},3855447.31]
["ABA580FE","AB","ABA580",27,"FE","0102021425","Fatture da emettere v/ASL Teramo per altre prestazioni",{"$f":"SUMIF('00 Alimenta'!$B:$B,'00 PDC SP'!$F190,'00 Alimenta'!D:D)","v":868.42},{"$f":"SUMIF('00 Alimenta'!$B:$B,'00 PDC SP'!$F190,'00 Alimenta'!E:E)","v":563.75},{"$f":"SUMIF('00 Alimenta'!$B:$B,'00 PDC SP'!$F190,'00 Alimenta'!F:F)","v":868.42},{"$f":"SUMIF('00 Alimenta'!$B:$B,'00 PDC SP'!$F190,'00 Alimenta'!G:G)","v":563.75},{"$f":"SUMIF('00 Alimenta'!$B:$B,'00 PDC SP'!$F190,'00 Alimenta'!H:H)","v":5559.81},{"$f":"SUMIF('00 Alimenta'!$B:$B,'00 PDC SP'!$F190,'00 Alimenta'!I:I)","v":563.75},5559.81]
["ABA590CR","AB","ABA590",27,"CR","0102021501","Acconto quota FSR da distribuire",{"$f":"SUMIF('00 Alimenta'!$B:$B,'00 PDC SP'!$F191,'00 Alimenta'!D:D)","v":0},{"$f":"SUMIF('00 Alimenta'!$B:$B,'00 PDC SP'!$F191,'00 Alimenta'!E:E)","v":0},{"$f":"SUMIF('00 Alimenta'!$B:$B,'00 PDC SP'!$F191,'00 Alimenta'!F:F)","v":0},{"$f":"SUMIF('00 Alimenta'!$B:$B,'00 PDC SP'!$F191,'00 Alimenta'!G:G)","v":0},{"$f":"SUMIF('00 Alimenta'!$B:$B,'00 PDC SP'!$F191,'00 Alimenta'!H:H)","v":0},{"$f":"SUMIF('00 Alimenta'!$B:$B,'00 PDC SP'!$F191,'00 Alimenta'!I:I)","v":0},0]
["ABA600CR","AB","ABA600",27,"CR","0102021601","Crediti v/Aziende sanitarie pubbliche Extraregione",{"$f":"SUMIF('00 Alimenta'!$B:$B,'00 PDC SP'!$F192,'00 Alimenta'!D:D)","v":138252.07},{"$f":"SUMIF('00 Alimenta'!$B:$B,'00 PDC SP'!$F192,'00 Alimenta'!E:E)","v":192761.59},{"$f":"SUMIF('00 Alimenta'!$B:$B,'00 PDC SP'!$F192,'00 Alimenta'!F:F)","v":177714.87},{"$f":"SUMIF('00 Alimenta'!$B:$B,'00 PDC SP'!$F192,'00 Alimenta'!G:G)","v":153298.79},{"$f":"SUMIF('00 Alimenta'!$B:$B,'00 PDC SP'!$F192,'00 Alimenta'!H:H)","v":161597.98000000001},{"$f":"SUMIF('00 Alimenta'!$B:$B,'00 PDC SP'!$F192,'00 Alimenta'!I:I)","v":186310.75},128586.02000000002]
["ABA600FE","AB","ABA600",27,"FE","0102021602","Fatture da emettere v/Aziende Sanitarie Pubbliche Extraregione",{"$f":"SUMIF('00 Alimenta'!$B:$B,'00 PDC SP'!$F193,'00 Alimenta'!D:D)","v":38052.370000000003},{"$f":"SUMIF('00 Alimenta'!$B:$B,'00 PDC SP'!$F193,'00 Alimenta'!E:E)","v":47833.03},{"$f":"SUMIF('00 Alimenta'!$B:$B,'00 PDC SP'!$F193,'00 Alimenta'!F:F)","v":38052.370000000003},{"$f":"SUMIF('00 Alimenta'!$B:$B,'00 PDC SP'!$F193,'00 Alimenta'!G:G)","v":47833.03},{"$f":"SUMIF('00 Alimenta'!$B:$B,'00 PDC SP'!$F193,'00 Alimenta'!H:H)","v":85649.52},{"$f":"SUMIF('00 Alimenta'!$B:$B,'00 PDC SP'!$F193,'00 Alimenta'!I:I)","v":47833.03},85649.51999999999]
["ABA620CR","AB","ABA620",28,"CR","0102021701","Crediti v/ARTA",{"$f":"SUMIF('00 Alimenta'!$B:$B,'00 PDC SP'!$F194,'00 Alimenta'!D:D)","v":5931.31},{"$f":"SUMIF('00 Alimenta'!$B:$B,'00 PDC SP'!$F194,'00 Alimenta'!E:E)","v":0},{"$f":"SUMIF('00 Alimenta'!$B:$B,'00 PDC SP'!$F194,'00 Alimenta'!F:F)","v":0},{"$f":"SUMIF('00 Alimenta'!$B:$B,'00 PDC SP'!$F194,'00 Alimenta'!G:G)","v":5931.31},{"$f":"SUMIF('00 Alimenta'!$B:$B,'00 PDC SP'!$F194,'00 Alimenta'!H:H)","v":0},{"$f":"SUMIF('00 Alimenta'!$B:$B,'00 PDC SP'!$F194,'00 Alimenta'!I:I)","v":0},5931.31]
["ABA620FE","AB","ABA620",28,"FE","0102021702","Fatture da emettere v/ARTA",{"$f":"SUMIF('00 Alimenta'!$B:$B,'00 PDC SP'!$F195,'00 Alimenta'!D:D)","v":0},{"$f":"SUMIF('00 Alimenta'!$B:$B,'00 PDC SP'!$F195,'00 Alimenta'!E:E)","v":0},{"$f":"SUMIF('00 Alimenta'!$B:$B,'00 PDC SP'!$F195,'00 Alimenta'!F:F)","v":0},{"$f":"SUMIF('00 Alimenta'!$B:$B,'00 PDC SP'!$F195,'00 Alimenta'!G:G)","v":0},{"$f":"SUMIF('00 Alimenta'!$B:$B,'00 PDC SP'!$F195,'00 Alimenta'!H:H)","v":0},{"$f":"SUMIF('00 Alimenta'!$B:$B,'00 PDC SP'!$F195,'00 Alimenta'!I:I)","v":0},0]
["ABA620CR","AB","ABA620",28,"CR","0102021703","Crediti v/Società controllate e collegate (enti regionali)",{"$f":"SUMIF('00 Alimenta'!$B:$B,'00 PDC SP'!$F196,'00 Alimenta'!D:D)","v":0},{"$f":"SUMIF('00 Alimenta'!$B:$B,'00 PDC SP'!$F196,'00 Alimenta'!E:E)","v":0},{"$f":"SUMIF('00 Alimenta'!$B:$B,'00 PDC SP'!$F196,'00 Alimenta'!F:F)","v":0},{"$f":"SUMIF('00 Alimenta'!$B:$B,'00 PDC SP'!$F196,'00 Alimenta'!G:G)","v":0},{"$f":"SUMIF('00 Alimenta'!$B:$B,'00 PDC SP'!$F196,'00 Alimenta'!H:H)","v":0},{"$f":"SUMIF('00 Alimenta'!$B:$B,'00 PDC SP'!$F196,'00 Alimenta'!I:I)","v":0},0]
["ABA620FE","AB","ABA620",28,"FE","0102021704","Fatture da emetterev/Società controllate e collegate",{"$f":"SUMIF('00 Alimenta'!$B:$B,'00 PDC SP'!$F197,'00 Alimenta'!D:D)","v":0},{"$f":"SUMIF('00 Alimenta'!$B:$B,'00 PDC SP'!$F197,'00 Alimenta'!E:E)","v":0},{"$f":"SUMIF('00 Alimenta'!$B:$B,'00 PDC SP'!$F197,'00 Alimenta'!F:F)","v":0},{"$f":"SUMIF('00 Alimenta'!$B:$B,'00 PDC SP'!$F197,'00 Alimenta'!G:G)","v":0},{"$f":"SUMIF('00 Alimenta'!$B:$B,'00 PDC SP'!$F197,'00 Alimenta'!H:H)","v":0},{"$f":"SUMIF('00 Alimenta'!$B:$B,'00 PDC SP'!$F197,'00 Alimenta'!I:I)","v":0},0]
["ABA620CR","AB","ABA620",28,"CR","0102021705","Crediti v/enti regionali",{"$f":"SUMIF('00 Alimenta'!$B:$B,'00 PDC SP'!$F198,'00 Alimenta'!D:D)","v":0},{"$f":"SUMIF('00 Alimenta'!$B:$B,'00 PDC SP'!$F198,'00 Alimenta'!E:E)","v":0},{"$f":"SUMIF('00 Alimenta'!$B:$B,'00 PDC SP'!$F198,'00 Alimenta'!F:F)","v":0},{"$f":"SUMIF('00 Alimenta'!$B:$B,'00 PDC SP'!$F198,'00 Alimenta'!G:G)","v":0},{"$f":"SUMIF('00 Alimenta'!$B:$B,'00 PDC SP'!$F198,'00 Alimenta'!H:H)","v":0},{"$f":"SUMIF('00 Alimenta'!$B:$B,'00 PDC SP'!$F198,'00 Alimenta'!I:I)","v":0},0]
[{"$f":"IF(E199=\"\",C199,C199&E199)","v":"ABA620FE"},{"$f":"LEFT(C199,2)","v":"AB"},"ABA620",28,"FE","0102021706","Fatture da emettere v/enti regionali",{"$f":"SUMIF('00 Alimenta'!$B:$B,'00 PDC SP'!$F199,'00 Alimenta'!D:D)","v":0},{"$f":"SUMIF('00 Alimenta'!$B:$B,'00 PDC SP'!$F199,'00 Alimenta'!E:E)","v":0},{"$f":"SUMIF('00 Alimenta'!$B:$B,'00 PDC SP'!$F199,'00 Alimenta'!F:F)","v":0},{"$f":"SUMIF('00 Alimenta'!$B:$B,'00 PDC SP'!$F199,'00 Alimenta'!G:G)","v":0},{"$f":"SUMIF('00 Alimenta'!$B:$B,'00 PDC SP'!$F199,'00 Alimenta'!H:H)","v":0},{"$f":"SUMIF('00 Alimenta'!$B:$B,'00 PDC SP'!$F199,'00 Alimenta'!I:I)","v":0},{"$f":"K199+L199-M199","v":0}]
["ABA630CR","AB","ABA630",28,"CR","0102021801","Crediti v/sperimentazioni gestionali",{"$f":"SUMIF('00 Alimenta'!$B:$B,'00 PDC SP'!$F200,'00 Alimenta'!D:D)","v":0},{"$f":"SUMIF('00 Alimenta'!$B:$B,'00 PDC SP'!$F200,'00 Alimenta'!E:E)","v":0},{"$f":"SUMIF('00 Alimenta'!$B:$B,'00 PDC SP'!$F200,'00 Alimenta'!F:F)","v":0},{"$f":"SUMIF('00 Alimenta'!$B:$B,'00 PDC SP'!$F200,'00 Alimenta'!G:G)","v":0},{"$f":"SUMIF('00 Alimenta'!$B:$B,'00 PDC SP'!$F200,'00 Alimenta'!H:H)","v":0},{"$f":"SUMIF('00 Alimenta'!$B:$B,'00 PDC SP'!$F200,'00 Alimenta'!I:I)","v":0},0]
["ABA630FE","AB","ABA630",28,"FE","0102021802","Fatture da emettere v/sperimentazioni gestionali",{"$f":"SUMIF('00 Alimenta'!$B:$B,'00 PDC SP'!$F201,'00 Alimenta'!D:D)","v":0},{"$f":"SUMIF('00 Alimenta'!$B:$B,'00 PDC SP'!$F201,'00 Alimenta'!E:E)","v":0},{"$f":"SUMIF('00 Alimenta'!$B:$B,'00 PDC SP'!$F201,'00 Alimenta'!F:F)","v":0},{"$f":"SUMIF('00 Alimenta'!$B:$B,'00 PDC SP'!$F201,'00 Alimenta'!G:G)","v":0},{"$f":"SUMIF('00 Alimenta'!$B:$B,'00 PDC SP'!$F201,'00 Alimenta'!H:H)","v":0},{"$f":"SUMIF('00 Alimenta'!$B:$B,'00 PDC SP'!$F201,'00 Alimenta'!I:I)","v":0},0]
["ABA640CR","AB","ABA640",28,"CR","0102021901","Crediti v/altre partecipate",{"$f":"SUMIF('00 Alimenta'!$B:$B,'00 PDC SP'!$F202,'00 Alimenta'!D:D)","v":0},{"$f":"SUMIF('00 Alimenta'!$B:$B,'00 PDC SP'!$F202,'00 Alimenta'!E:E)","v":0},{"$f":"SUMIF('00 Alimenta'!$B:$B,'00 PDC SP'!$F202,'00 Alimenta'!F:F)","v":0},{"$f":"SUMIF('00 Alimenta'!$B:$B,'00 PDC SP'!$F202,'00 Alimenta'!G:G)","v":0},{"$f":"SUMIF('00 Alimenta'!$B:$B,'00 PDC SP'!$F202,'00 Alimenta'!H:H)","v":0},{"$f":"SUMIF('00 Alimenta'!$B:$B,'00 PDC SP'!$F202,'00 Alimenta'!I:I)","v":0},0]
["ABA640FE","AB","ABA640",28,"FE","0102021902","Fatture da emettere v/altre partecipate",{"$f":"SUMIF('00 Alimenta'!$B:$B,'00 PDC SP'!$F203,'00 Alimenta'!D:D)","v":0},{"$f":"SUMIF('00 Alimenta'!$B:$B,'00 PDC SP'!$F203,'00 Alimenta'!E:E)","v":0},{"$f":"SUMIF('00 Alimenta'!$B:$B,'00 PDC SP'!$F203,'00 Alimenta'!F:F)","v":0},{"$f":"SUMIF('00 Alimenta'!$B:$B,'00 PDC SP'!$F203,'00 Alimenta'!G:G)","v":0},{"$f":"SUMIF('00 Alimenta'!$B:$B,'00 PDC SP'!$F203,'00 Alimenta'!H:H)","v":0},{"$f":"SUMIF('00 Alimenta'!$B:$B,'00 PDC SP'!$F203,'00 Alimenta'!I:I)","v":0},0]
["ABA650CR","AB","ABA650",29,"CR","0102022001","Erario c/Ires",{"$f":"SUMIF('00 Alimenta'!$B:$B,'00 PDC SP'!$F204,'00 Alimenta'!D:D)","v":236},{"$f":"SUMIF('00 Alimenta'!$B:$B,'00 PDC SP'!$F204,'00 Alimenta'!E:E)","v":0},{"$f":"SUMIF('00 Alimenta'!$B:$B,'00 PDC SP'!$F204,'00 Alimenta'!F:F)","v":0},{"$f":"SUMIF('00 Alimenta'!$B:$B,'00 PDC SP'!$F204,'00 Alimenta'!G:G)","v":236},{"$f":"SUMIF('00 Alimenta'!$B:$B,'00 PDC SP'!$F204,'00 Alimenta'!H:H)","v":0},{"$f":"SUMIF('00 Alimenta'!$B:$B,'00 PDC SP'!$F204,'00 Alimenta'!I:I)","v":236},0]
["ABA650CR","AB","ABA650",29,"CR","0102022002","Erario c/Ires per acconti versati",{"$f":"SUMIF('00 Alimenta'!$B:$B,'00 PDC SP'!$F205,'00 Alimenta'!D:D)","v":0},{"$f":"SUMIF('00 Alimenta'!$B:$B,'00 PDC SP'!$F205,'00 Alimenta'!E:E)","v":426818},{"$f":"SUMIF('00 Alimenta'!$B:$B,'00 PDC SP'!$F205,'00 Alimenta'!F:F)","v":426818},{"$f":"SUMIF('00 Alimenta'!$B:$B,'00 PDC SP'!$F205,'00 Alimenta'!G:G)","v":0},{"$f":"SUMIF('00 Alimenta'!$B:$B,'00 PDC SP'!$F205,'00 Alimenta'!H:H)","v":490066},{"$f":"SUMIF('00 Alimenta'!$B:$B,'00 PDC SP'!$F205,'00 Alimenta'!I:I)","v":490066},0]
["ABA650CR","AB","ABA650",29,"CR","0102022003","Erario c/ritenute",{"$f":"SUMIF('00 Alimenta'!$B:$B,'00 PDC SP'!$F206,'00 Alimenta'!D:D)","v":70.45},{"$f":"SUMIF('00 Alimenta'!$B:$B,'00 PDC SP'!$F206,'00 Alimenta'!E:E)","v":63.5},{"$f":"SUMIF('00 Alimenta'!$B:$B,'00 PDC SP'!$F206,'00 Alimenta'!F:F)","v":0},{"$f":"SUMIF('00 Alimenta'!$B:$B,'00 PDC SP'!$F206,'00 Alimenta'!G:G)","v":133.94999999999999},{"$f":"SUMIF('00 Alimenta'!$B:$B,'00 PDC SP'!$F206,'00 Alimenta'!H:H)","v":6.45},{"$f":"SUMIF('00 Alimenta'!$B:$B,'00 PDC SP'!$F206,'00 Alimenta'!I:I)","v":140.4},0]
["ABA650CR","AB","ABA650",29,"CR","0102022004","Erario c/Iva in sospensione su fatture di acquisto",{"$f":"SUMIF('00 Alimenta'!$B:$B,'00 PDC SP'!$F207,'00 Alimenta'!D:D)","v":0},{"$f":"SUMIF('00 Alimenta'!$B:$B,'00 PDC SP'!$F207,'00 Alimenta'!E:E)","v":0},{"$f":"SUMIF('00 Alimenta'!$B:$B,'00 PDC SP'!$F207,'00 Alimenta'!F:F)","v":0},{"$f":"SUMIF('00 Alimenta'!$B:$B,'00 PDC SP'!$F207,'00 Alimenta'!G:G)","v":0},{"$f":"SUMIF('00 Alimenta'!$B:$B,'00 PDC SP'!$F207,'00 Alimenta'!H:H)","v":0},{"$f":"SUMIF('00 Alimenta'!$B:$B,'00 PDC SP'!$F207,'00 Alimenta'!I:I)","v":0},0]
["ABA650CR","AB","ABA650",29,"CR","0102022005","Erario c/Iva per acconti versati",{"$f":"SUMIF('00 Alimenta'!$B:$B,'00 PDC SP'!$F208,'00 Alimenta'!D:D)","v":41334},{"$f":"SUMIF('00 Alimenta'!$B:$B,'00 PDC SP'!$F208,'00 Alimenta'!E:E)","v":10317},{"$f":"SUMIF('00 Alimenta'!$B:$B,'00 PDC SP'!$F208,'00 Alimenta'!F:F)","v":41334},{"$f":"SUMIF('00 Alimenta'!$B:$B,'00 PDC SP'!$F208,'00 Alimenta'!G:G)","v":10317},{"$f":"SUMIF('00 Alimenta'!$B:$B,'00 PDC SP'!$F208,'00 Alimenta'!H:H)","v":6806},{"$f":"SUMIF('00 Alimenta'!$B:$B,'00 PDC SP'!$F208,'00 Alimenta'!I:I)","v":10209},6914]
["ABA650CR","AB","ABA650",29,"CR","0102022006","Erario c/Iva chiesta a rimborso",{"$f":"SUMIF('00 Alimenta'!$B:$B,'00 PDC SP'!$F209,'00 Alimenta'!D:D)","v":1295.04},{"$f":"SUMIF('00 Alimenta'!$B:$B,'00 PDC SP'!$F209,'00 Alimenta'!E:E)","v":0},{"$f":"SUMIF('00 Alimenta'!$B:$B,'00 PDC SP'!$F209,'00 Alimenta'!F:F)","v":0},{"$f":"SUMIF('00 Alimenta'!$B:$B,'00 PDC SP'!$F209,'00 Alimenta'!G:G)","v":1295.04},{"$f":"SUMIF('00 Alimenta'!$B:$B,'00 PDC SP'!$F209,'00 Alimenta'!H:H)","v":0},{"$f":"SUMIF('00 Alimenta'!$B:$B,'00 PDC SP'!$F209,'00 Alimenta'!I:I)","v":0},1295.04]
["ABA650CR","AB","ABA650",29,"CR","0102022007","Credito verso Erario per imposte anticipate",{"$f":"SUMIF('00 Alimenta'!$B:$B,'00 PDC SP'!$F210,'00 Alimenta'!D:D)","v":0},{"$f":"SUMIF('00 Alimenta'!$B:$B,'00 PDC SP'!$F210,'00 Alimenta'!E:E)","v":0},{"$f":"SUMIF('00 Alimenta'!$B:$B,'00 PDC SP'!$F210,'00 Alimenta'!F:F)","v":0},{"$f":"SUMIF('00 Alimenta'!$B:$B,'00 PDC SP'!$F210,'00 Alimenta'!G:G)","v":0},{"$f":"SUMIF('00 Alimenta'!$B:$B,'00 PDC SP'!$F210,'00 Alimenta'!H:H)","v":0},{"$f":"SUMIF('00 Alimenta'!$B:$B,'00 PDC SP'!$F210,'00 Alimenta'!I:I)","v":0},0]
["ABA650CR","AB","ABA650",29,"CR","0102022008","Erario c/IRAP per acconti versati",{"$f":"SUMIF('00 Alimenta'!$B:$B,'00 PDC SP'!$F211,'00 Alimenta'!D:D)","v":0},{"$f":"SUMIF('00 Alimenta'!$B:$B,'00 PDC SP'!$F211,'00 Alimenta'!E:E)","v":0},{"$f":"SUMIF('00 Alimenta'!$B:$B,'00 PDC SP'!$F211,'00 Alimenta'!F:F)","v":0},{"$f":"SUMIF('00 Alimenta'!$B:$B,'00 PDC SP'!$F211,'00 Alimenta'!G:G)","v":0},{"$f":"SUMIF('00 Alimenta'!$B:$B,'00 PDC SP'!$F211,'00 Alimenta'!H:H)","v":0},{"$f":"SUMIF('00 Alimenta'!$B:$B,'00 PDC SP'!$F211,'00 Alimenta'!I:I)","v":0},0]
["ABA650CR","AB","ABA650",29,"CR","0102022009","Credito per IRAP ",{"$f":"SUMIF('00 Alimenta'!$B:$B,'00 PDC SP'!$F212,'00 Alimenta'!D:D)","v":0},{"$f":"SUMIF('00 Alimenta'!$B:$B,'00 PDC SP'!$F212,'00 Alimenta'!E:E)","v":0},{"$f":"SUMIF('00 Alimenta'!$B:$B,'00 PDC SP'!$F212,'00 Alimenta'!F:F)","v":0},{"$f":"SUMIF('00 Alimenta'!$B:$B,'00 PDC SP'!$F212,'00 Alimenta'!G:G)","v":0},{"$f":"SUMIF('00 Alimenta'!$B:$B,'00 PDC SP'!$F212,'00 Alimenta'!H:H)","v":0},{"$f":"SUMIF('00 Alimenta'!$B:$B,'00 PDC SP'!$F212,'00 Alimenta'!I:I)","v":0},0]
["ABA650CR","AB","ABA650",29,"CR","0102022010","Crediti per imposte esercizi precedenti",{"$f":"SUMIF('00 Alimenta'!$B:$B,'00 PDC SP'!$F213,'00 Alimenta'!D:D)","v":0},{"$f":"SUMIF('00 Alimenta'!$B:$B,'00 PDC SP'!$F213,'00 Alimenta'!E:E)","v":0},{"$f":"SUMIF('00 Alimenta'!$B:$B,'00 PDC SP'!$F213,'00 Alimenta'!F:F)","v":0},{"$f":"SUMIF('00 Alimenta'!$B:$B,'00 PDC SP'!$F213,'00 Alimenta'!G:G)","v":0},{"$f":"SUMIF('00 Alimenta'!$B:$B,'00 PDC SP'!$F213,'00 Alimenta'!H:H)","v":0},{"$f":"SUMIF('00 Alimenta'!$B:$B,'00 PDC SP'!$F213,'00 Alimenta'!I:I)","v":0},0]
["ABA650CR","AB","ABA650",29,"CR","0102022011","Altri crediti verso Erario",{"$f":"SUMIF('00 Alimenta'!$B:$B,'00 PDC SP'!$F214,'00 Alimenta'!D:D)","v":25.17},{"$f":"SUMIF('00 Alimenta'!$B:$B,'00 PDC SP'!$F214,'00 Alimenta'!E:E)","v":0},{"$f":"SUMIF('00 Alimenta'!$B:$B,'00 PDC SP'!$F214,'00 Alimenta'!F:F)","v":0},{"$f":"SUMIF('00 Alimenta'!$B:$B,'00 PDC SP'!$F214,'00 Alimenta'!G:G)","v":25.17},{"$f":"SUMIF('00 Alimenta'!$B:$B,'00 PDC SP'!$F214,'00 Alimenta'!H:H)","v":0},{"$f":"SUMIF('00 Alimenta'!$B:$B,'00 PDC SP'!$F214,'00 Alimenta'!I:I)","v":25.17},0]
["ABA670CR","AB","ABA670",30,"CR","0102022101","Crediti v/clienti privati",{"$f":"SUMIF('00 Alimenta'!$B:$B,'00 PDC SP'!$F215,'00 Alimenta'!D:D)","v":3799215.37},{"$f":"SUMIF('00 Alimenta'!$B:$B,'00 PDC SP'!$F215,'00 Alimenta'!E:E)","v":10285829.43},{"$f":"SUMIF('00 Alimenta'!$B:$B,'00 PDC SP'!$F215,'00 Alimenta'!F:F)","v":9602979.2300000004},{"$f":"SUMIF('00 Alimenta'!$B:$B,'00 PDC SP'!$F215,'00 Alimenta'!G:G)","v":4482065.57},{"$f":"SUMIF('00 Alimenta'!$B:$B,'00 PDC SP'!$F215,'00 Alimenta'!H:H)","v":7010533.3899999997},{"$f":"SUMIF('00 Alimenta'!$B:$B,'00 PDC SP'!$F215,'00 Alimenta'!I:I)","v":6901036.5700000003},4591562.3900000006]
["ABA670FE","AB","ABA670",30,"FE","0102022102","Fatture da emettere v/clienti privati",{"$f":"SUMIF('00 Alimenta'!$B:$B,'00 PDC SP'!$F216,'00 Alimenta'!D:D)","v":249158.82},{"$f":"SUMIF('00 Alimenta'!$B:$B,'00 PDC SP'!$F216,'00 Alimenta'!E:E)","v":434714.74},{"$f":"SUMIF('00 Alimenta'!$B:$B,'00 PDC SP'!$F216,'00 Alimenta'!F:F)","v":249158.82},{"$f":"SUMIF('00 Alimenta'!$B:$B,'00 PDC SP'!$F216,'00 Alimenta'!G:G)","v":434714.74},{"$f":"SUMIF('00 Alimenta'!$B:$B,'00 PDC SP'!$F216,'00 Alimenta'!H:H)","v":190888.78},{"$f":"SUMIF('00 Alimenta'!$B:$B,'00 PDC SP'!$F216,'00 Alimenta'!I:I)","v":434714.74},190888.78000000003]
["ABA670CR","AB","ABA670",30,"CR","0102022103","Crediti v/utenza per proventi da ticket",{"$f":"SUMIF('00 Alimenta'!$B:$B,'00 PDC SP'!$F217,'00 Alimenta'!D:D)","v":20248.169999999998},{"$f":"SUMIF('00 Alimenta'!$B:$B,'00 PDC SP'!$F217,'00 Alimenta'!E:E)","v":8062344.6299999999},{"$f":"SUMIF('00 Alimenta'!$B:$B,'00 PDC SP'!$F217,'00 Alimenta'!F:F)","v":8051830.96},{"$f":"SUMIF('00 Alimenta'!$B:$B,'00 PDC SP'!$F217,'00 Alimenta'!G:G)","v":30761.84},{"$f":"SUMIF('00 Alimenta'!$B:$B,'00 PDC SP'!$F217,'00 Alimenta'!H:H)","v":8483861.8399999999},{"$f":"SUMIF('00 Alimenta'!$B:$B,'00 PDC SP'!$F217,'00 Alimenta'!I:I)","v":8476602.5},38021.179999999702]
["ABA670FE","AB","ABA670",30,"FE","0102022104","Fatture da emettere v/utenza per proventi da ticket",{"$f":"SUMIF('00 Alimenta'!$B:$B,'00 PDC SP'!$F218,'00 Alimenta'!D:D)","v":0},{"$f":"SUMIF('00 Alimenta'!$B:$B,'00 PDC SP'!$F218,'00 Alimenta'!E:E)","v":0},{"$f":"SUMIF('00 Alimenta'!$B:$B,'00 PDC SP'!$F218,'00 Alimenta'!F:F)","v":0},{"$f":"SUMIF('00 Alimenta'!$B:$B,'00 PDC SP'!$F218,'00 Alimenta'!G:G)","v":0},{"$f":"SUMIF('00 Alimenta'!$B:$B,'00 PDC SP'!$F218,'00 Alimenta'!H:H)","v":0},{"$f":"SUMIF('00 Alimenta'!$B:$B,'00 PDC SP'!$F218,'00 Alimenta'!I:I)","v":0},0]
["ABA670CR","AB","ABA670",30,"CR","0102022105","Crediti v/clienti privati per anticipi mobilità attiva",{"$f":"SUMIF('00 Alimenta'!$B:$B,'00 PDC SP'!$F219,'00 Alimenta'!D:D)","v":0},{"$f":"SUMIF('00 Alimenta'!$B:$B,'00 PDC SP'!$F219,'00 Alimenta'!E:E)","v":0},{"$f":"SUMIF('00 Alimenta'!$B:$B,'00 PDC SP'!$F219,'00 Alimenta'!F:F)","v":0},{"$f":"SUMIF('00 Alimenta'!$B:$B,'00 PDC SP'!$F219,'00 Alimenta'!G:G)","v":0},{"$f":"SUMIF('00 Alimenta'!$B:$B,'00 PDC SP'!$F219,'00 Alimenta'!H:H)","v":0},{"$f":"SUMIF('00 Alimenta'!$B:$B,'00 PDC SP'!$F219,'00 Alimenta'!I:I)","v":0},0]
["ABA670FE","AB","ABA670",30,"FE","0102022106","Fatture da emettere v/clienti privati per anticipi mobilità attiva",{"$f":"SUMIF('00 Alimenta'!$B:$B,'00 PDC SP'!$F220,'00 Alimenta'!D:D)","v":0},{"$f":"SUMIF('00 Alimenta'!$B:$B,'00 PDC SP'!$F220,'00 Alimenta'!E:E)","v":0},{"$f":"SUMIF('00 Alimenta'!$B:$B,'00 PDC SP'!$F220,'00 Alimenta'!F:F)","v":0},{"$f":"SUMIF('00 Alimenta'!$B:$B,'00 PDC SP'!$F220,'00 Alimenta'!G:G)","v":0},{"$f":"SUMIF('00 Alimenta'!$B:$B,'00 PDC SP'!$F220,'00 Alimenta'!H:H)","v":0},{"$f":"SUMIF('00 Alimenta'!$B:$B,'00 PDC SP'!$F220,'00 Alimenta'!I:I)","v":0},0]
["ABA670CR","AB","ABA670",30,"CR","0102022107","Crediti v/società controllate e collegate (clienti privati)",{"$f":"SUMIF('00 Alimenta'!$B:$B,'00 PDC SP'!$F221,'00 Alimenta'!D:D)","v":0},{"$f":"SUMIF('00 Alimenta'!$B:$B,'00 PDC SP'!$F221,'00 Alimenta'!E:E)","v":0},{"$f":"SUMIF('00 Alimenta'!$B:$B,'00 PDC SP'!$F221,'00 Alimenta'!F:F)","v":0},{"$f":"SUMIF('00 Alimenta'!$B:$B,'00 PDC SP'!$F221,'00 Alimenta'!G:G)","v":0},{"$f":"SUMIF('00 Alimenta'!$B:$B,'00 PDC SP'!$F221,'00 Alimenta'!H:H)","v":0},{"$f":"SUMIF('00 Alimenta'!$B:$B,'00 PDC SP'!$F221,'00 Alimenta'!I:I)","v":0},0]
["ABA670FE","AB","ABA670",30,"FE","0102022108","Fatture da emettere v/clienti privati per anticipi mobilità attiva",{"$f":"SUMIF('00 Alimenta'!$B:$B,'00 PDC SP'!$F222,'00 Alimenta'!D:D)","v":0},{"$f":"SUMIF('00 Alimenta'!$B:$B,'00 PDC SP'!$F222,'00 Alimenta'!E:E)","v":0},{"$f":"SUMIF('00 Alimenta'!$B:$B,'00 PDC SP'!$F222,'00 Alimenta'!F:F)","v":0},{"$f":"SUMIF('00 Alimenta'!$B:$B,'00 PDC SP'!$F222,'00 Alimenta'!G:G)","v":0},{"$f":"SUMIF('00 Alimenta'!$B:$B,'00 PDC SP'!$F222,'00 Alimenta'!H:H)","v":0},{"$f":"SUMIF('00 Alimenta'!$B:$B,'00 PDC SP'!$F222,'00 Alimenta'!I:I)","v":0},0]
["ABA670CR","AB","ABA670",30,"CR","0102022109","Crediti v/dipendenti",{"$f":"SUMIF('00 Alimenta'!$B:$B,'00 PDC SP'!$F223,'00 Alimenta'!D:D)","v":145428.01},{"$f":"SUMIF('00 Alimenta'!$B:$B,'00 PDC SP'!$F223,'00 Alimenta'!E:E)","v":40351.68},{"$f":"SUMIF('00 Alimenta'!$B:$B,'00 PDC SP'!$F223,'00 Alimenta'!F:F)","v":72851.399999999994},{"$f":"SUMIF('00 Alimenta'!$B:$B,'00 PDC SP'!$F223,'00 Alimenta'!G:G)","v":112928.29},{"$f":"SUMIF('00 Alimenta'!$B:$B,'00 PDC SP'!$F223,'00 Alimenta'!H:H)","v":168312.19},{"$f":"SUMIF('00 Alimenta'!$B:$B,'00 PDC SP'!$F223,'00 Alimenta'!I:I)","v":203256.06},77984.419999999984]
["ABA670CR","AB","ABA670",30,"CR","0102022110","Acconti verso erogatori (privati accreditati e convenzionati) di prestazioni sanitarie",{"$f":"SUMIF('00 Alimenta'!$B:$B,'00 PDC SP'!$F224,'00 Alimenta'!D:D)","v":0},{"$f":"SUMIF('00 Alimenta'!$B:$B,'00 PDC SP'!$F224,'00 Alimenta'!E:E)","v":0},{"$f":"SUMIF('00 Alimenta'!$B:$B,'00 PDC SP'!$F224,'00 Alimenta'!F:F)","v":0},{"$f":"SUMIF('00 Alimenta'!$B:$B,'00 PDC SP'!$F224,'00 Alimenta'!G:G)","v":0},{"$f":"SUMIF('00 Alimenta'!$B:$B,'00 PDC SP'!$F224,'00 Alimenta'!H:H)","v":0},{"$f":"SUMIF('00 Alimenta'!$B:$B,'00 PDC SP'!$F224,'00 Alimenta'!I:I)","v":0},0]
["ABA670CR","AB","ABA670",30,"CR","0102022111","Acconti verso altri fornitori",{"$f":"SUMIF('00 Alimenta'!$B:$B,'00 PDC SP'!$F225,'00 Alimenta'!D:D)","v":0},{"$f":"SUMIF('00 Alimenta'!$B:$B,'00 PDC SP'!$F225,'00 Alimenta'!E:E)","v":3094.45},{"$f":"SUMIF('00 Alimenta'!$B:$B,'00 PDC SP'!$F225,'00 Alimenta'!F:F)","v":785.45},{"$f":"SUMIF('00 Alimenta'!$B:$B,'00 PDC SP'!$F225,'00 Alimenta'!G:G)","v":2309},{"$f":"SUMIF('00 Alimenta'!$B:$B,'00 PDC SP'!$F225,'00 Alimenta'!H:H)","v":0},{"$f":"SUMIF('00 Alimenta'!$B:$B,'00 PDC SP'!$F225,'00 Alimenta'!I:I)","v":2309},0]
["ABA680CR","AB","ABA680",30,"CR","0102022201","Crediti v/gestioni liquidatorie",{"$f":"SUMIF('00 Alimenta'!$B:$B,'00 PDC SP'!$F226,'00 Alimenta'!D:D)","v":0},{"$f":"SUMIF('00 Alimenta'!$B:$B,'00 PDC SP'!$F226,'00 Alimenta'!E:E)","v":0},{"$f":"SUMIF('00 Alimenta'!$B:$B,'00 PDC SP'!$F226,'00 Alimenta'!F:F)","v":0},{"$f":"SUMIF('00 Alimenta'!$B:$B,'00 PDC SP'!$F226,'00 Alimenta'!G:G)","v":0},{"$f":"SUMIF('00 Alimenta'!$B:$B,'00 PDC SP'!$F226,'00 Alimenta'!H:H)","v":0},{"$f":"SUMIF('00 Alimenta'!$B:$B,'00 PDC SP'!$F226,'00 Alimenta'!I:I)","v":0},0]
["ABA680FE","AB","ABA680",30,"FE","0102022202","Fatture da emettere v/gestioni liquidatorie",{"$f":"SUMIF('00 Alimenta'!$B:$B,'00 PDC SP'!$F227,'00 Alimenta'!D:D)","v":0},{"$f":"SUMIF('00 Alimenta'!$B:$B,'00 PDC SP'!$F227,'00 Alimenta'!E:E)","v":0},{"$f":"SUMIF('00 Alimenta'!$B:$B,'00 PDC SP'!$F227,'00 Alimenta'!F:F)","v":0},{"$f":"SUMIF('00 Alimenta'!$B:$B,'00 PDC SP'!$F227,'00 Alimenta'!G:G)","v":0},{"$f":"SUMIF('00 Alimenta'!$B:$B,'00 PDC SP'!$F227,'00 Alimenta'!H:H)","v":0},{"$f":"SUMIF('00 Alimenta'!$B:$B,'00 PDC SP'!$F227,'00 Alimenta'!I:I)","v":0},0]
["ABA690CR","AB","ABA690",30,"CR","0102022301","Crediti v/altri soggetti pubblici",{"$f":"SUMIF('00 Alimenta'!$B:$B,'00 PDC SP'!$F228,'00 Alimenta'!D:D)","v":299742.46999999997},{"$f":"SUMIF('00 Alimenta'!$B:$B,'00 PDC SP'!$F228,'00 Alimenta'!E:E)","v":335927.17},{"$f":"SUMIF('00 Alimenta'!$B:$B,'00 PDC SP'!$F228,'00 Alimenta'!F:F)","v":258538.23999999999},{"$f":"SUMIF('00 Alimenta'!$B:$B,'00 PDC SP'!$F228,'00 Alimenta'!G:G)","v":377131.4},{"$f":"SUMIF('00 Alimenta'!$B:$B,'00 PDC SP'!$F228,'00 Alimenta'!H:H)","v":421422.51},{"$f":"SUMIF('00 Alimenta'!$B:$B,'00 PDC SP'!$F228,'00 Alimenta'!I:I)","v":404603.36},393950.55000000005]
["ABA690FE","AB","ABA690",30,"FE","0102022302","Fatture da emettere v/altri soggetti pubblici",{"$f":"SUMIF('00 Alimenta'!$B:$B,'00 PDC SP'!$F229,'00 Alimenta'!D:D)","v":27160.09},{"$f":"SUMIF('00 Alimenta'!$B:$B,'00 PDC SP'!$F229,'00 Alimenta'!E:E)","v":75.28},{"$f":"SUMIF('00 Alimenta'!$B:$B,'00 PDC SP'!$F229,'00 Alimenta'!F:F)","v":27160.09},{"$f":"SUMIF('00 Alimenta'!$B:$B,'00 PDC SP'!$F229,'00 Alimenta'!G:G)","v":75.28},{"$f":"SUMIF('00 Alimenta'!$B:$B,'00 PDC SP'!$F229,'00 Alimenta'!H:H)","v":585.44000000000005},{"$f":"SUMIF('00 Alimenta'!$B:$B,'00 PDC SP'!$F229,'00 Alimenta'!I:I)","v":75.28},585.44000000000005]
["ABA700CR","AB","ABA700",30,"CR","0102022401","Crediti v/altri soggetti pubblici per ricerca",{"$f":"SUMIF('00 Alimenta'!$B:$B,'00 PDC SP'!$F230,'00 Alimenta'!D:D)","v":0},{"$f":"SUMIF('00 Alimenta'!$B:$B,'00 PDC SP'!$F230,'00 Alimenta'!E:E)","v":0},{"$f":"SUMIF('00 Alimenta'!$B:$B,'00 PDC SP'!$F230,'00 Alimenta'!F:F)","v":0},{"$f":"SUMIF('00 Alimenta'!$B:$B,'00 PDC SP'!$F230,'00 Alimenta'!G:G)","v":0},{"$f":"SUMIF('00 Alimenta'!$B:$B,'00 PDC SP'!$F230,'00 Alimenta'!H:H)","v":0},{"$f":"SUMIF('00 Alimenta'!$B:$B,'00 PDC SP'!$F230,'00 Alimenta'!I:I)","v":0},0]
["ABA700FE","AB","ABA700",30,"FE","0102022402","Fatture da emettere v/altri soggetti pubblici per ricerca",{"$f":"SUMIF('00 Alimenta'!$B:$B,'00 PDC SP'!$F231,'00 Alimenta'!D:D)","v":0},{"$f":"SUMIF('00 Alimenta'!$B:$B,'00 PDC SP'!$F231,'00 Alimenta'!E:E)","v":0},{"$f":"SUMIF('00 Alimenta'!$B:$B,'00 PDC SP'!$F231,'00 Alimenta'!F:F)","v":0},{"$f":"SUMIF('00 Alimenta'!$B:$B,'00 PDC SP'!$F231,'00 Alimenta'!G:G)","v":0},{"$f":"SUMIF('00 Alimenta'!$B:$B,'00 PDC SP'!$F231,'00 Alimenta'!H:H)","v":0},{"$f":"SUMIF('00 Alimenta'!$B:$B,'00 PDC SP'!$F231,'00 Alimenta'!I:I)","v":0},0]
["ABA710CR","AB","ABA710",30,"CR","0102022501","Altri Crediti diversi",{"$f":"SUMIF('00 Alimenta'!$B:$B,'00 PDC SP'!$F232,'00 Alimenta'!D:D)","v":911358.57},{"$f":"SUMIF('00 Alimenta'!$B:$B,'00 PDC SP'!$F232,'00 Alimenta'!E:E)","v":3934140.24},{"$f":"SUMIF('00 Alimenta'!$B:$B,'00 PDC SP'!$F232,'00 Alimenta'!F:F)","v":3964361.76},{"$f":"SUMIF('00 Alimenta'!$B:$B,'00 PDC SP'!$F232,'00 Alimenta'!G:G)","v":881137.05},{"$f":"SUMIF('00 Alimenta'!$B:$B,'00 PDC SP'!$F232,'00 Alimenta'!H:H)","v":1921398.5},{"$f":"SUMIF('00 Alimenta'!$B:$B,'00 PDC SP'!$F232,'00 Alimenta'!I:I)","v":1616680.59},1185854.9599999997]
["ABA710FE","AB","ABA710",30,"FE","0102022502","Fatture da emettere v/Altri Crediti diversi",{"$f":"SUMIF('00 Alimenta'!$B:$B,'00 PDC SP'!$F233,'00 Alimenta'!D:D)","v":450},{"$f":"SUMIF('00 Alimenta'!$B:$B,'00 PDC SP'!$F233,'00 Alimenta'!E:E)","v":0},{"$f":"SUMIF('00 Alimenta'!$B:$B,'00 PDC SP'!$F233,'00 Alimenta'!F:F)","v":450},{"$f":"SUMIF('00 Alimenta'!$B:$B,'00 PDC SP'!$F233,'00 Alimenta'!G:G)","v":0},{"$f":"SUMIF('00 Alimenta'!$B:$B,'00 PDC SP'!$F233,'00 Alimenta'!H:H)","v":0},{"$f":"SUMIF('00 Alimenta'!$B:$B,'00 PDC SP'!$F233,'00 Alimenta'!I:I)","v":0},0]
["ABA710CR","AB","ABA710",30,"CR","0102022503","Acconti a farmacie",{"$f":"SUMIF('00 Alimenta'!$B:$B,'00 PDC SP'!$F234,'00 Alimenta'!D:D)","v":0},{"$f":"SUMIF('00 Alimenta'!$B:$B,'00 PDC SP'!$F234,'00 Alimenta'!E:E)","v":0},{"$f":"SUMIF('00 Alimenta'!$B:$B,'00 PDC SP'!$F234,'00 Alimenta'!F:F)","v":0},{"$f":"SUMIF('00 Alimenta'!$B:$B,'00 PDC SP'!$F234,'00 Alimenta'!G:G)","v":0},{"$f":"SUMIF('00 Alimenta'!$B:$B,'00 PDC SP'!$F234,'00 Alimenta'!H:H)","v":0},{"$f":"SUMIF('00 Alimenta'!$B:$B,'00 PDC SP'!$F234,'00 Alimenta'!I:I)","v":0},0]
["PDA090FR","PD","PDA090",12,"FR","0102022601","Note credito da ricevere verso Regione per mobilità passiva intraregionale",{"$f":"SUMIF('00 Alimenta'!$B:$B,'00 PDC SP'!$F235,'00 Alimenta'!D:D)","v":0},{"$f":"SUMIF('00 Alimenta'!$B:$B,'00 PDC SP'!$F235,'00 Alimenta'!E:E)","v":0},{"$f":"SUMIF('00 Alimenta'!$B:$B,'00 PDC SP'!$F235,'00 Alimenta'!F:F)","v":0},{"$f":"SUMIF('00 Alimenta'!$B:$B,'00 PDC SP'!$F235,'00 Alimenta'!G:G)","v":0},{"$f":"SUMIF('00 Alimenta'!$B:$B,'00 PDC SP'!$F235,'00 Alimenta'!H:H)","v":0},{"$f":"SUMIF('00 Alimenta'!$B:$B,'00 PDC SP'!$F235,'00 Alimenta'!I:I)","v":0},0]
["PDA100FR","PD","PDA100",12,"FR","0102022602","Note credito da ricevere verso Regione per mobilità passiva extraregionale",{"$f":"SUMIF('00 Alimenta'!$B:$B,'00 PDC SP'!$F236,'00 Alimenta'!D:D)","v":0},{"$f":"SUMIF('00 Alimenta'!$B:$B,'00 PDC SP'!$F236,'00 Alimenta'!E:E)","v":0},{"$f":"SUMIF('00 Alimenta'!$B:$B,'00 PDC SP'!$F236,'00 Alimenta'!F:F)","v":0},{"$f":"SUMIF('00 Alimenta'!$B:$B,'00 PDC SP'!$F236,'00 Alimenta'!G:G)","v":0},{"$f":"SUMIF('00 Alimenta'!$B:$B,'00 PDC SP'!$F236,'00 Alimenta'!H:H)","v":0},{"$f":"SUMIF('00 Alimenta'!$B:$B,'00 PDC SP'!$F236,'00 Alimenta'!I:I)","v":0},0]
["PDA120FR","PD","PDA120",12,"FR","0102022603","Note credito da ricevere Altri debiti v/Regione o Provincia Autonoma",{"$f":"SUMIF('00 Alimenta'!$B:$B,'00 PDC SP'!$F237,'00 Alimenta'!D:D)","v":0},{"$f":"SUMIF('00 Alimenta'!$B:$B,'00 PDC SP'!$F237,'00 Alimenta'!E:E)","v":0},{"$f":"SUMIF('00 Alimenta'!$B:$B,'00 PDC SP'!$F237,'00 Alimenta'!F:F)","v":0},{"$f":"SUMIF('00 Alimenta'!$B:$B,'00 PDC SP'!$F237,'00 Alimenta'!G:G)","v":0},{"$f":"SUMIF('00 Alimenta'!$B:$B,'00 PDC SP'!$F237,'00 Alimenta'!H:H)","v":0},{"$f":"SUMIF('00 Alimenta'!$B:$B,'00 PDC SP'!$F237,'00 Alimenta'!I:I)","v":0},0]
["PDA130FR","PD","PDA130",13,"FR","0102022604","Note credito da ricevere verso Comuni",{"$f":"SUMIF('00 Alimenta'!$B:$B,'00 PDC SP'!$F238,'00 Alimenta'!D:D)","v":0},{"$f":"SUMIF('00 Alimenta'!$B:$B,'00 PDC SP'!$F238,'00 Alimenta'!E:E)","v":0},{"$f":"SUMIF('00 Alimenta'!$B:$B,'00 PDC SP'!$F238,'00 Alimenta'!F:F)","v":0},{"$f":"SUMIF('00 Alimenta'!$B:$B,'00 PDC SP'!$F238,'00 Alimenta'!G:G)","v":0},{"$f":"SUMIF('00 Alimenta'!$B:$B,'00 PDC SP'!$F238,'00 Alimenta'!H:H)","v":0},{"$f":"SUMIF('00 Alimenta'!$B:$B,'00 PDC SP'!$F238,'00 Alimenta'!I:I)","v":0},0]
["PDA160FR","PD","PDA160",14,"FR","0102022605","Note di credito da ricevere verso ASL/AO/IRCCS della Regione",{"$f":"SUMIF('00 Alimenta'!$B:$B,'00 PDC SP'!$F239,'00 Alimenta'!D:D)","v":0},{"$f":"SUMIF('00 Alimenta'!$B:$B,'00 PDC SP'!$F239,'00 Alimenta'!E:E)","v":0},{"$f":"SUMIF('00 Alimenta'!$B:$B,'00 PDC SP'!$F239,'00 Alimenta'!F:F)","v":0},{"$f":"SUMIF('00 Alimenta'!$B:$B,'00 PDC SP'!$F239,'00 Alimenta'!G:G)","v":0},{"$f":"SUMIF('00 Alimenta'!$B:$B,'00 PDC SP'!$F239,'00 Alimenta'!H:H)","v":0},{"$f":"SUMIF('00 Alimenta'!$B:$B,'00 PDC SP'!$F239,'00 Alimenta'!I:I)","v":0},0]
["PDA160FR","PD","PDA160",14,"FR","0102022606","Note credito da ricevere v/ASL Avezzano Sulmona L'Aquila per quota FSR",{"$f":"SUMIF('00 Alimenta'!$B:$B,'00 PDC SP'!$F240,'00 Alimenta'!D:D)","v":0},{"$f":"SUMIF('00 Alimenta'!$B:$B,'00 PDC SP'!$F240,'00 Alimenta'!E:E)","v":0},{"$f":"SUMIF('00 Alimenta'!$B:$B,'00 PDC SP'!$F240,'00 Alimenta'!F:F)","v":0},{"$f":"SUMIF('00 Alimenta'!$B:$B,'00 PDC SP'!$F240,'00 Alimenta'!G:G)","v":0},{"$f":"SUMIF('00 Alimenta'!$B:$B,'00 PDC SP'!$F240,'00 Alimenta'!H:H)","v":0},{"$f":"SUMIF('00 Alimenta'!$B:$B,'00 PDC SP'!$F240,'00 Alimenta'!I:I)","v":0},0]
["PDA160FR","PD","PDA160",14,"FR","0102022607","Note credito da ricevere v/ASL Lanciano Vasto Chieti per quota FSR",{"$f":"SUMIF('00 Alimenta'!$B:$B,'00 PDC SP'!$F241,'00 Alimenta'!D:D)","v":0},{"$f":"SUMIF('00 Alimenta'!$B:$B,'00 PDC SP'!$F241,'00 Alimenta'!E:E)","v":0},{"$f":"SUMIF('00 Alimenta'!$B:$B,'00 PDC SP'!$F241,'00 Alimenta'!F:F)","v":0},{"$f":"SUMIF('00 Alimenta'!$B:$B,'00 PDC SP'!$F241,'00 Alimenta'!G:G)","v":0},{"$f":"SUMIF('00 Alimenta'!$B:$B,'00 PDC SP'!$F241,'00 Alimenta'!H:H)","v":0},{"$f":"SUMIF('00 Alimenta'!$B:$B,'00 PDC SP'!$F241,'00 Alimenta'!I:I)","v":0},0]
["PDA160FR","PD","PDA160",14,"FR","0102022608","Note credito da ricevere v/ASL Pescara per quota FSR",{"$f":"SUMIF('00 Alimenta'!$B:$B,'00 PDC SP'!$F242,'00 Alimenta'!D:D)","v":0},{"$f":"SUMIF('00 Alimenta'!$B:$B,'00 PDC SP'!$F242,'00 Alimenta'!E:E)","v":0},{"$f":"SUMIF('00 Alimenta'!$B:$B,'00 PDC SP'!$F242,'00 Alimenta'!F:F)","v":0},{"$f":"SUMIF('00 Alimenta'!$B:$B,'00 PDC SP'!$F242,'00 Alimenta'!G:G)","v":0},{"$f":"SUMIF('00 Alimenta'!$B:$B,'00 PDC SP'!$F242,'00 Alimenta'!H:H)","v":0},{"$f":"SUMIF('00 Alimenta'!$B:$B,'00 PDC SP'!$F242,'00 Alimenta'!I:I)","v":0},0]
["PDA160FR","PD","PDA160",14,"FR","0102022609","Note credito da ricevere v/ASL Teramo per quota FSR",{"$f":"SUMIF('00 Alimenta'!$B:$B,'00 PDC SP'!$F243,'00 Alimenta'!D:D)","v":0},{"$f":"SUMIF('00 Alimenta'!$B:$B,'00 PDC SP'!$F243,'00 Alimenta'!E:E)","v":0},{"$f":"SUMIF('00 Alimenta'!$B:$B,'00 PDC SP'!$F243,'00 Alimenta'!F:F)","v":0},{"$f":"SUMIF('00 Alimenta'!$B:$B,'00 PDC SP'!$F243,'00 Alimenta'!G:G)","v":0},{"$f":"SUMIF('00 Alimenta'!$B:$B,'00 PDC SP'!$F243,'00 Alimenta'!H:H)","v":0},{"$f":"SUMIF('00 Alimenta'!$B:$B,'00 PDC SP'!$F243,'00 Alimenta'!I:I)","v":0},0]
["PDA170FR","PD","PDA170",14,"FR","0102022610","Note credito da ricevere v/ASL Avezzano Sulmona L'Aquila per finanziamento sanitario aggiuntivo corrente LEA",{"$f":"SUMIF('00 Alimenta'!$B:$B,'00 PDC SP'!$F244,'00 Alimenta'!D:D)","v":0},{"$f":"SUMIF('00 Alimenta'!$B:$B,'00 PDC SP'!$F244,'00 Alimenta'!E:E)","v":0},{"$f":"SUMIF('00 Alimenta'!$B:$B,'00 PDC SP'!$F244,'00 Alimenta'!F:F)","v":0},{"$f":"SUMIF('00 Alimenta'!$B:$B,'00 PDC SP'!$F244,'00 Alimenta'!G:G)","v":0},{"$f":"SUMIF('00 Alimenta'!$B:$B,'00 PDC SP'!$F244,'00 Alimenta'!H:H)","v":0},{"$f":"SUMIF('00 Alimenta'!$B:$B,'00 PDC SP'!$F244,'00 Alimenta'!I:I)","v":0},0]
["PDA170FR","PD","PDA170",14,"FR","0102022611","Note credito da ricevere v/ASL Lanciano Vasto Chieti per finanziamento sanitario aggiuntivo corrente LEA",{"$f":"SUMIF('00 Alimenta'!$B:$B,'00 PDC SP'!$F245,'00 Alimenta'!D:D)","v":0},{"$f":"SUMIF('00 Alimenta'!$B:$B,'00 PDC SP'!$F245,'00 Alimenta'!E:E)","v":0},{"$f":"SUMIF('00 Alimenta'!$B:$B,'00 PDC SP'!$F245,'00 Alimenta'!F:F)","v":0},{"$f":"SUMIF('00 Alimenta'!$B:$B,'00 PDC SP'!$F245,'00 Alimenta'!G:G)","v":0},{"$f":"SUMIF('00 Alimenta'!$B:$B,'00 PDC SP'!$F245,'00 Alimenta'!H:H)","v":0},{"$f":"SUMIF('00 Alimenta'!$B:$B,'00 PDC SP'!$F245,'00 Alimenta'!I:I)","v":0},0]
["PDA170FR","PD","PDA170",14,"FR","0102022612","Note credito da ricevere v/ASL Pescara per finanziamento sanitario aggiuntivo corrente LEA",{"$f":"SUMIF('00 Alimenta'!$B:$B,'00 PDC SP'!$F246,'00 Alimenta'!D:D)","v":0},{"$f":"SUMIF('00 Alimenta'!$B:$B,'00 PDC SP'!$F246,'00 Alimenta'!E:E)","v":0},{"$f":"SUMIF('00 Alimenta'!$B:$B,'00 PDC SP'!$F246,'00 Alimenta'!F:F)","v":0},{"$f":"SUMIF('00 Alimenta'!$B:$B,'00 PDC SP'!$F246,'00 Alimenta'!G:G)","v":0},{"$f":"SUMIF('00 Alimenta'!$B:$B,'00 PDC SP'!$F246,'00 Alimenta'!H:H)","v":0},{"$f":"SUMIF('00 Alimenta'!$B:$B,'00 PDC SP'!$F246,'00 Alimenta'!I:I)","v":0},0]
["PDA170FR","PD","PDA170",14,"FR","0102022613","Note credito da ricevere v/ASL Teramo per finanziamento sanitario aggiuntivo corrente LEA",{"$f":"SUMIF('00 Alimenta'!$B:$B,'00 PDC SP'!$F247,'00 Alimenta'!D:D)","v":0},{"$f":"SUMIF('00 Alimenta'!$B:$B,'00 PDC SP'!$F247,'00 Alimenta'!E:E)","v":0},{"$f":"SUMIF('00 Alimenta'!$B:$B,'00 PDC SP'!$F247,'00 Alimenta'!F:F)","v":0},{"$f":"SUMIF('00 Alimenta'!$B:$B,'00 PDC SP'!$F247,'00 Alimenta'!G:G)","v":0},{"$f":"SUMIF('00 Alimenta'!$B:$B,'00 PDC SP'!$F247,'00 Alimenta'!H:H)","v":0},{"$f":"SUMIF('00 Alimenta'!$B:$B,'00 PDC SP'!$F247,'00 Alimenta'!I:I)","v":0},0]
["PDA180FR","PD","PDA180",14,"FR","0102022614","Note credito da ricevere v/ASL Avezzano Sulmona L'Aquila per finanziamento sanitario aggiuntivo corrente extra LEA",{"$f":"SUMIF('00 Alimenta'!$B:$B,'00 PDC SP'!$F248,'00 Alimenta'!D:D)","v":0},{"$f":"SUMIF('00 Alimenta'!$B:$B,'00 PDC SP'!$F248,'00 Alimenta'!E:E)","v":0},{"$f":"SUMIF('00 Alimenta'!$B:$B,'00 PDC SP'!$F248,'00 Alimenta'!F:F)","v":0},{"$f":"SUMIF('00 Alimenta'!$B:$B,'00 PDC SP'!$F248,'00 Alimenta'!G:G)","v":0},{"$f":"SUMIF('00 Alimenta'!$B:$B,'00 PDC SP'!$F248,'00 Alimenta'!H:H)","v":0},{"$f":"SUMIF('00 Alimenta'!$B:$B,'00 PDC SP'!$F248,'00 Alimenta'!I:I)","v":0},0]
["PDA180FR","PD","PDA180",14,"FR","0102022615","Note credito da ricevere v/ASL Lanciano Vasto Chieti per finanziamento sanitario aggiuntivo corrente extra LEA",{"$f":"SUMIF('00 Alimenta'!$B:$B,'00 PDC SP'!$F249,'00 Alimenta'!D:D)","v":0},{"$f":"SUMIF('00 Alimenta'!$B:$B,'00 PDC SP'!$F249,'00 Alimenta'!E:E)","v":0},{"$f":"SUMIF('00 Alimenta'!$B:$B,'00 PDC SP'!$F249,'00 Alimenta'!F:F)","v":0},{"$f":"SUMIF('00 Alimenta'!$B:$B,'00 PDC SP'!$F249,'00 Alimenta'!G:G)","v":0},{"$f":"SUMIF('00 Alimenta'!$B:$B,'00 PDC SP'!$F249,'00 Alimenta'!H:H)","v":0},{"$f":"SUMIF('00 Alimenta'!$B:$B,'00 PDC SP'!$F249,'00 Alimenta'!I:I)","v":0},0]
["PDA180FR","PD","PDA180",14,"FR","0102022616","Note credito da ricevere v/ASL Pescara per finanziamento sanitario aggiuntivo corrente extra LEA",{"$f":"SUMIF('00 Alimenta'!$B:$B,'00 PDC SP'!$F250,'00 Alimenta'!D:D)","v":0},{"$f":"SUMIF('00 Alimenta'!$B:$B,'00 PDC SP'!$F250,'00 Alimenta'!E:E)","v":0},{"$f":"SUMIF('00 Alimenta'!$B:$B,'00 PDC SP'!$F250,'00 Alimenta'!F:F)","v":0},{"$f":"SUMIF('00 Alimenta'!$B:$B,'00 PDC SP'!$F250,'00 Alimenta'!G:G)","v":0},{"$f":"SUMIF('00 Alimenta'!$B:$B,'00 PDC SP'!$F250,'00 Alimenta'!H:H)","v":0},{"$f":"SUMIF('00 Alimenta'!$B:$B,'00 PDC SP'!$F250,'00 Alimenta'!I:I)","v":0},0]
["PDA180FR","PD","PDA180",14,"FR","0102022617","Note credito da ricevere v/ASL Teramo per finanziamento sanitario aggiuntivo corrente extra LEA",{"$f":"SUMIF('00 Alimenta'!$B:$B,'00 PDC SP'!$F251,'00 Alimenta'!D:D)","v":0},{"$f":"SUMIF('00 Alimenta'!$B:$B,'00 PDC SP'!$F251,'00 Alimenta'!E:E)","v":0},{"$f":"SUMIF('00 Alimenta'!$B:$B,'00 PDC SP'!$F251,'00 Alimenta'!F:F)","v":0},{"$f":"SUMIF('00 Alimenta'!$B:$B,'00 PDC SP'!$F251,'00 Alimenta'!G:G)","v":0},{"$f":"SUMIF('00 Alimenta'!$B:$B,'00 PDC SP'!$F251,'00 Alimenta'!H:H)","v":0},{"$f":"SUMIF('00 Alimenta'!$B:$B,'00 PDC SP'!$F251,'00 Alimenta'!I:I)","v":0},0]
["PDA200FR","PD","PDA200",14,"FR","0102022618","Note credito da ricevere v/ASL Avezzano Sulmona L'Aquila per mobilità non in compensazione",{"$f":"SUMIF('00 Alimenta'!$B:$B,'00 PDC SP'!$F252,'00 Alimenta'!D:D)","v":0},{"$f":"SUMIF('00 Alimenta'!$B:$B,'00 PDC SP'!$F252,'00 Alimenta'!E:E)","v":0},{"$f":"SUMIF('00 Alimenta'!$B:$B,'00 PDC SP'!$F252,'00 Alimenta'!F:F)","v":0},{"$f":"SUMIF('00 Alimenta'!$B:$B,'00 PDC SP'!$F252,'00 Alimenta'!G:G)","v":0},{"$f":"SUMIF('00 Alimenta'!$B:$B,'00 PDC SP'!$F252,'00 Alimenta'!H:H)","v":0},{"$f":"SUMIF('00 Alimenta'!$B:$B,'00 PDC SP'!$F252,'00 Alimenta'!I:I)","v":0},0]
["PDA200FR","PD","PDA200",14,"FR","0102022619","Note credito da ricevere v/ASL Lanciano Vasto Chieti per mobilità non in compensazione",{"$f":"SUMIF('00 Alimenta'!$B:$B,'00 PDC SP'!$F253,'00 Alimenta'!D:D)","v":0},{"$f":"SUMIF('00 Alimenta'!$B:$B,'00 PDC SP'!$F253,'00 Alimenta'!E:E)","v":0},{"$f":"SUMIF('00 Alimenta'!$B:$B,'00 PDC SP'!$F253,'00 Alimenta'!F:F)","v":0},{"$f":"SUMIF('00 Alimenta'!$B:$B,'00 PDC SP'!$F253,'00 Alimenta'!G:G)","v":0},{"$f":"SUMIF('00 Alimenta'!$B:$B,'00 PDC SP'!$F253,'00 Alimenta'!H:H)","v":0},{"$f":"SUMIF('00 Alimenta'!$B:$B,'00 PDC SP'!$F253,'00 Alimenta'!I:I)","v":0},0]
["PDA200FR","PD","PDA200",14,"FR","0102022620","Note credito da ricevere v/ASL Pescara per mobilità non in compensazione",{"$f":"SUMIF('00 Alimenta'!$B:$B,'00 PDC SP'!$F254,'00 Alimenta'!D:D)","v":0},{"$f":"SUMIF('00 Alimenta'!$B:$B,'00 PDC SP'!$F254,'00 Alimenta'!E:E)","v":0},{"$f":"SUMIF('00 Alimenta'!$B:$B,'00 PDC SP'!$F254,'00 Alimenta'!F:F)","v":0},{"$f":"SUMIF('00 Alimenta'!$B:$B,'00 PDC SP'!$F254,'00 Alimenta'!G:G)","v":0},{"$f":"SUMIF('00 Alimenta'!$B:$B,'00 PDC SP'!$F254,'00 Alimenta'!H:H)","v":0},{"$f":"SUMIF('00 Alimenta'!$B:$B,'00 PDC SP'!$F254,'00 Alimenta'!I:I)","v":0},0]
["PDA200FR","PD","PDA200",14,"FR","0102022621","Note credito da ricevere v/ASL Teramo per mobilità non in compensazione",{"$f":"SUMIF('00 Alimenta'!$B:$B,'00 PDC SP'!$F255,'00 Alimenta'!D:D)","v":0},{"$f":"SUMIF('00 Alimenta'!$B:$B,'00 PDC SP'!$F255,'00 Alimenta'!E:E)","v":0},{"$f":"SUMIF('00 Alimenta'!$B:$B,'00 PDC SP'!$F255,'00 Alimenta'!F:F)","v":0},{"$f":"SUMIF('00 Alimenta'!$B:$B,'00 PDC SP'!$F255,'00 Alimenta'!G:G)","v":0},{"$f":"SUMIF('00 Alimenta'!$B:$B,'00 PDC SP'!$F255,'00 Alimenta'!H:H)","v":0},{"$f":"SUMIF('00 Alimenta'!$B:$B,'00 PDC SP'!$F255,'00 Alimenta'!I:I)","v":0},0]
["PDA210FR","PD","PDA210",14,"FR","0102022622","Note credito da ricevere v/ASL Avezzano Sulmona L'Aquila per altre prestazioni",{"$f":"SUMIF('00 Alimenta'!$B:$B,'00 PDC SP'!$F256,'00 Alimenta'!D:D)","v":0},{"$f":"SUMIF('00 Alimenta'!$B:$B,'00 PDC SP'!$F256,'00 Alimenta'!E:E)","v":0},{"$f":"SUMIF('00 Alimenta'!$B:$B,'00 PDC SP'!$F256,'00 Alimenta'!F:F)","v":0},{"$f":"SUMIF('00 Alimenta'!$B:$B,'00 PDC SP'!$F256,'00 Alimenta'!G:G)","v":0},{"$f":"SUMIF('00 Alimenta'!$B:$B,'00 PDC SP'!$F256,'00 Alimenta'!H:H)","v":0},{"$f":"SUMIF('00 Alimenta'!$B:$B,'00 PDC SP'!$F256,'00 Alimenta'!I:I)","v":0},0]
["PDA210FR","PD","PDA210",14,"FR","0102022623","Note credito da ricevere v/ASL Lanciano Vasto Chieti per altre prestazioni",{"$f":"SUMIF('00 Alimenta'!$B:$B,'00 PDC SP'!$F257,'00 Alimenta'!D:D)","v":0},{"$f":"SUMIF('00 Alimenta'!$B:$B,'00 PDC SP'!$F257,'00 Alimenta'!E:E)","v":0},{"$f":"SUMIF('00 Alimenta'!$B:$B,'00 PDC SP'!$F257,'00 Alimenta'!F:F)","v":0},{"$f":"SUMIF('00 Alimenta'!$B:$B,'00 PDC SP'!$F257,'00 Alimenta'!G:G)","v":0},{"$f":"SUMIF('00 Alimenta'!$B:$B,'00 PDC SP'!$F257,'00 Alimenta'!H:H)","v":0},{"$f":"SUMIF('00 Alimenta'!$B:$B,'00 PDC SP'!$F257,'00 Alimenta'!I:I)","v":0},0]
["PDA210FR","PD","PDA210",14,"FR","0102022624","Note credito da ricevere v/ASL Pescara per altre prestazioni",{"$f":"SUMIF('00 Alimenta'!$B:$B,'00 PDC SP'!$F258,'00 Alimenta'!D:D)","v":0},{"$f":"SUMIF('00 Alimenta'!$B:$B,'00 PDC SP'!$F258,'00 Alimenta'!E:E)","v":0},{"$f":"SUMIF('00 Alimenta'!$B:$B,'00 PDC SP'!$F258,'00 Alimenta'!F:F)","v":0},{"$f":"SUMIF('00 Alimenta'!$B:$B,'00 PDC SP'!$F258,'00 Alimenta'!G:G)","v":0},{"$f":"SUMIF('00 Alimenta'!$B:$B,'00 PDC SP'!$F258,'00 Alimenta'!H:H)","v":0},{"$f":"SUMIF('00 Alimenta'!$B:$B,'00 PDC SP'!$F258,'00 Alimenta'!I:I)","v":0},0]
["PDA210FR","PD","PDA210",14,"FR","0102022625","Note credito da ricevere v/ASL Teramo per altre prestazioni",{"$f":"SUMIF('00 Alimenta'!$B:$B,'00 PDC SP'!$F259,'00 Alimenta'!D:D)","v":0},{"$f":"SUMIF('00 Alimenta'!$B:$B,'00 PDC SP'!$F259,'00 Alimenta'!E:E)","v":0},{"$f":"SUMIF('00 Alimenta'!$B:$B,'00 PDC SP'!$F259,'00 Alimenta'!F:F)","v":0},{"$f":"SUMIF('00 Alimenta'!$B:$B,'00 PDC SP'!$F259,'00 Alimenta'!G:G)","v":0},{"$f":"SUMIF('00 Alimenta'!$B:$B,'00 PDC SP'!$F259,'00 Alimenta'!H:H)","v":0},{"$f":"SUMIF('00 Alimenta'!$B:$B,'00 PDC SP'!$F259,'00 Alimenta'!I:I)","v":0},0]
["PDA220FR","PD","PDA220",14,"FR","0102022626","Note credito da ricevere v/Aziende sanitarie pubbliche Extraregione",{"$f":"SUMIF('00 Alimenta'!$B:$B,'00 PDC SP'!$F260,'00 Alimenta'!D:D)","v":202},{"$f":"SUMIF('00 Alimenta'!$B:$B,'00 PDC SP'!$F260,'00 Alimenta'!E:E)","v":60.85},{"$f":"SUMIF('00 Alimenta'!$B:$B,'00 PDC SP'!$F260,'00 Alimenta'!F:F)","v":202},{"$f":"SUMIF('00 Alimenta'!$B:$B,'00 PDC SP'!$F260,'00 Alimenta'!G:G)","v":60.85},{"$f":"SUMIF('00 Alimenta'!$B:$B,'00 PDC SP'!$F260,'00 Alimenta'!H:H)","v":0},{"$f":"SUMIF('00 Alimenta'!$B:$B,'00 PDC SP'!$F260,'00 Alimenta'!I:I)","v":60.85},0]
["PDA230FR","PD","PDA230",14,"FR","0102022627","Note credito da ricevere v/ASL Avezzano Sulmona L'Aquila per versamenti c/patrimonio netto",{"$f":"SUMIF('00 Alimenta'!$B:$B,'00 PDC SP'!$F261,'00 Alimenta'!D:D)","v":0},{"$f":"SUMIF('00 Alimenta'!$B:$B,'00 PDC SP'!$F261,'00 Alimenta'!E:E)","v":0},{"$f":"SUMIF('00 Alimenta'!$B:$B,'00 PDC SP'!$F261,'00 Alimenta'!F:F)","v":0},{"$f":"SUMIF('00 Alimenta'!$B:$B,'00 PDC SP'!$F261,'00 Alimenta'!G:G)","v":0},{"$f":"SUMIF('00 Alimenta'!$B:$B,'00 PDC SP'!$F261,'00 Alimenta'!H:H)","v":0},{"$f":"SUMIF('00 Alimenta'!$B:$B,'00 PDC SP'!$F261,'00 Alimenta'!I:I)","v":0},0]
["PDA230FR","PD","PDA230",14,"FR","0102022628","Note credito da ricevere v/ASL Lanciano Vasto Chieti per versamenti c/patrimonio netto",{"$f":"SUMIF('00 Alimenta'!$B:$B,'00 PDC SP'!$F262,'00 Alimenta'!D:D)","v":0},{"$f":"SUMIF('00 Alimenta'!$B:$B,'00 PDC SP'!$F262,'00 Alimenta'!E:E)","v":0},{"$f":"SUMIF('00 Alimenta'!$B:$B,'00 PDC SP'!$F262,'00 Alimenta'!F:F)","v":0},{"$f":"SUMIF('00 Alimenta'!$B:$B,'00 PDC SP'!$F262,'00 Alimenta'!G:G)","v":0},{"$f":"SUMIF('00 Alimenta'!$B:$B,'00 PDC SP'!$F262,'00 Alimenta'!H:H)","v":0},{"$f":"SUMIF('00 Alimenta'!$B:$B,'00 PDC SP'!$F262,'00 Alimenta'!I:I)","v":0},0]
[{"$f":"IF(E263=\"\",C263,C263&E263)","v":"PDA230FR"},{"$f":"LEFT(C263,2)","v":"PD"},"PDA230",14,"FR","0102022629","Note credito da ricevere v/ASL Pescara per versamenti c/patrimonio netto",{"$f":"SUMIF('00 Alimenta'!$B:$B,'00 PDC SP'!$F263,'00 Alimenta'!D:D)","v":0},{"$f":"SUMIF('00 Alimenta'!$B:$B,'00 PDC SP'!$F263,'00 Alimenta'!E:E)","v":0},{"$f":"SUMIF('00 Alimenta'!$B:$B,'00 PDC SP'!$F263,'00 Alimenta'!F:F)","v":0},{"$f":"SUMIF('00 Alimenta'!$B:$B,'00 PDC SP'!$F263,'00 Alimenta'!G:G)","v":0},{"$f":"SUMIF('00 Alimenta'!$B:$B,'00 PDC SP'!$F263,'00 Alimenta'!H:H)","v":0},{"$f":"SUMIF('00 Alimenta'!$B:$B,'00 PDC SP'!$F263,'00 Alimenta'!I:I)","v":0},{"$f":"K263+L263-M263","v":0}]
["PDA230FR","PD","PDA230",14,"FR","0102022630","Note credito da ricevere v/ASL Teramo per versamenti c/patrimonio netto",{"$f":"SUMIF('00 Alimenta'!$B:$B,'00 PDC SP'!$F264,'00 Alimenta'!D:D)","v":0},{"$f":"SUMIF('00 Alimenta'!$B:$B,'00 PDC SP'!$F264,'00 Alimenta'!E:E)","v":0},{"$f":"SUMIF('00 Alimenta'!$B:$B,'00 PDC SP'!$F264,'00 Alimenta'!F:F)","v":0},{"$f":"SUMIF('00 Alimenta'!$B:$B,'00 PDC SP'!$F264,'00 Alimenta'!G:G)","v":0},{"$f":"SUMIF('00 Alimenta'!$B:$B,'00 PDC SP'!$F264,'00 Alimenta'!H:H)","v":0},{"$f":"SUMIF('00 Alimenta'!$B:$B,'00 PDC SP'!$F264,'00 Alimenta'!I:I)","v":0},0]
["PDA250FR","PD","PDA250",15,"FR","0102022631","Note credito da ricevere v/enti regionali",{"$f":"SUMIF('00 Alimenta'!$B:$B,'00 PDC SP'!$F265,'00 Alimenta'!D:D)","v":0},{"$f":"SUMIF('00 Alimenta'!$B:$B,'00 PDC SP'!$F265,'00 Alimenta'!E:E)","v":0},{"$f":"SUMIF('00 Alimenta'!$B:$B,'00 PDC SP'!$F265,'00 Alimenta'!F:F)","v":0},{"$f":"SUMIF('00 Alimenta'!$B:$B,'00 PDC SP'!$F265,'00 Alimenta'!G:G)","v":0},{"$f":"SUMIF('00 Alimenta'!$B:$B,'00 PDC SP'!$F265,'00 Alimenta'!H:H)","v":0},{"$f":"SUMIF('00 Alimenta'!$B:$B,'00 PDC SP'!$F265,'00 Alimenta'!I:I)","v":0},0]
["PDA260FR","PD","PDA260",15,"FR","0102022632","Note credito da ricevere v/sperimentazioni gestionali",{"$f":"SUMIF('00 Alimenta'!$B:$B,'00 PDC SP'!$F266,'00 Alimenta'!D:D)","v":0},{"$f":"SUMIF('00 Alimenta'!$B:$B,'00 PDC SP'!$F266,'00 Alimenta'!E:E)","v":0},{"$f":"SUMIF('00 Alimenta'!$B:$B,'00 PDC SP'!$F266,'00 Alimenta'!F:F)","v":0},{"$f":"SUMIF('00 Alimenta'!$B:$B,'00 PDC SP'!$F266,'00 Alimenta'!G:G)","v":0},{"$f":"SUMIF('00 Alimenta'!$B:$B,'00 PDC SP'!$F266,'00 Alimenta'!H:H)","v":0},{"$f":"SUMIF('00 Alimenta'!$B:$B,'00 PDC SP'!$F266,'00 Alimenta'!I:I)","v":0},0]
["PDA270FR","PD","PDA270",15,"FR","0102022633","Note credito da ricevere v/altre partecipate",{"$f":"SUMIF('00 Alimenta'!$B:$B,'00 PDC SP'!$F267,'00 Alimenta'!D:D)","v":0},{"$f":"SUMIF('00 Alimenta'!$B:$B,'00 PDC SP'!$F267,'00 Alimenta'!E:E)","v":0},{"$f":"SUMIF('00 Alimenta'!$B:$B,'00 PDC SP'!$F267,'00 Alimenta'!F:F)","v":0},{"$f":"SUMIF('00 Alimenta'!$B:$B,'00 PDC SP'!$F267,'00 Alimenta'!G:G)","v":0},{"$f":"SUMIF('00 Alimenta'!$B:$B,'00 PDC SP'!$F267,'00 Alimenta'!H:H)","v":0},{"$f":"SUMIF('00 Alimenta'!$B:$B,'00 PDC SP'!$F267,'00 Alimenta'!I:I)","v":0},0]
["PDA290FR","PD","PDA290",16,"FR","0102022634","Note di credito v/IRCCS privati e Policlinici",{"$f":"SUMIF('00 Alimenta'!$B:$B,'00 PDC SP'!$F268,'00 Alimenta'!D:D)","v":0},{"$f":"SUMIF('00 Alimenta'!$B:$B,'00 PDC SP'!$F268,'00 Alimenta'!E:E)","v":130.68},{"$f":"SUMIF('00 Alimenta'!$B:$B,'00 PDC SP'!$F268,'00 Alimenta'!F:F)","v":0},{"$f":"SUMIF('00 Alimenta'!$B:$B,'00 PDC SP'!$F268,'00 Alimenta'!G:G)","v":130.68},{"$f":"SUMIF('00 Alimenta'!$B:$B,'00 PDC SP'!$F268,'00 Alimenta'!H:H)","v":0},{"$f":"SUMIF('00 Alimenta'!$B:$B,'00 PDC SP'!$F268,'00 Alimenta'!I:I)","v":130.68},0]
["PDA290FR","PD","PDA290",16,"FR","0102022635","Note credito da ricevere v/Ospedali Classificati",{"$f":"SUMIF('00 Alimenta'!$B:$B,'00 PDC SP'!$F269,'00 Alimenta'!D:D)","v":0},{"$f":"SUMIF('00 Alimenta'!$B:$B,'00 PDC SP'!$F269,'00 Alimenta'!E:E)","v":0},{"$f":"SUMIF('00 Alimenta'!$B:$B,'00 PDC SP'!$F269,'00 Alimenta'!F:F)","v":0},{"$f":"SUMIF('00 Alimenta'!$B:$B,'00 PDC SP'!$F269,'00 Alimenta'!G:G)","v":0},{"$f":"SUMIF('00 Alimenta'!$B:$B,'00 PDC SP'!$F269,'00 Alimenta'!H:H)","v":0},{"$f":"SUMIF('00 Alimenta'!$B:$B,'00 PDC SP'!$F269,'00 Alimenta'!I:I)","v":0},0]
["PDA290FR","PD","PDA290",16,"FR","0102022636","Note credito da ricevere v/Case di Cura",{"$f":"SUMIF('00 Alimenta'!$B:$B,'00 PDC SP'!$F270,'00 Alimenta'!D:D)","v":59323.38},{"$f":"SUMIF('00 Alimenta'!$B:$B,'00 PDC SP'!$F270,'00 Alimenta'!E:E)","v":11856.03},{"$f":"SUMIF('00 Alimenta'!$B:$B,'00 PDC SP'!$F270,'00 Alimenta'!F:F)","v":59323.38},{"$f":"SUMIF('00 Alimenta'!$B:$B,'00 PDC SP'!$F270,'00 Alimenta'!G:G)","v":11856.03},{"$f":"SUMIF('00 Alimenta'!$B:$B,'00 PDC SP'!$F270,'00 Alimenta'!H:H)","v":1930071.03},{"$f":"SUMIF('00 Alimenta'!$B:$B,'00 PDC SP'!$F270,'00 Alimenta'!I:I)","v":11856.03},1930071.03]
["PDA290FR","PD","PDA290",16,"FR","0102022637","Note credito da ricevere v/altri erogatori di prestazioni sanitarie - intraregione",{"$f":"SUMIF('00 Alimenta'!$B:$B,'00 PDC SP'!$F271,'00 Alimenta'!D:D)","v":41981477.009999998},{"$f":"SUMIF('00 Alimenta'!$B:$B,'00 PDC SP'!$F271,'00 Alimenta'!E:E)","v":737669.4},{"$f":"SUMIF('00 Alimenta'!$B:$B,'00 PDC SP'!$F271,'00 Alimenta'!F:F)","v":10253994.99},{"$f":"SUMIF('00 Alimenta'!$B:$B,'00 PDC SP'!$F271,'00 Alimenta'!G:G)","v":32465151.420000002},{"$f":"SUMIF('00 Alimenta'!$B:$B,'00 PDC SP'!$F271,'00 Alimenta'!H:H)","v":101316.42},{"$f":"SUMIF('00 Alimenta'!$B:$B,'00 PDC SP'!$F271,'00 Alimenta'!I:I)","v":5232350.32},27334117.520000003]
["PDA300FR","PD","PDA300",16,"FR","0102022638","Note credito da ricevere verso altri fornitori nazionali",{"$f":"SUMIF('00 Alimenta'!$B:$B,'00 PDC SP'!$F272,'00 Alimenta'!D:D)","v":1364285.7},{"$f":"SUMIF('00 Alimenta'!$B:$B,'00 PDC SP'!$F272,'00 Alimenta'!E:E)","v":1988690.31},{"$f":"SUMIF('00 Alimenta'!$B:$B,'00 PDC SP'!$F272,'00 Alimenta'!F:F)","v":1364285.7},{"$f":"SUMIF('00 Alimenta'!$B:$B,'00 PDC SP'!$F272,'00 Alimenta'!G:G)","v":1988690.31},{"$f":"SUMIF('00 Alimenta'!$B:$B,'00 PDC SP'!$F272,'00 Alimenta'!H:H)","v":1123439.08},{"$f":"SUMIF('00 Alimenta'!$B:$B,'00 PDC SP'!$F272,'00 Alimenta'!I:I)","v":1988690.31},1123439.08]
["PDA300FR","PD","PDA300",16,"FR","0102022639","Note credito da ricevere verso altri fornitori esteri",{"$f":"SUMIF('00 Alimenta'!$B:$B,'00 PDC SP'!$F273,'00 Alimenta'!D:D)","v":0},{"$f":"SUMIF('00 Alimenta'!$B:$B,'00 PDC SP'!$F273,'00 Alimenta'!E:E)","v":0},{"$f":"SUMIF('00 Alimenta'!$B:$B,'00 PDC SP'!$F273,'00 Alimenta'!F:F)","v":0},{"$f":"SUMIF('00 Alimenta'!$B:$B,'00 PDC SP'!$F273,'00 Alimenta'!G:G)","v":0},{"$f":"SUMIF('00 Alimenta'!$B:$B,'00 PDC SP'!$F273,'00 Alimenta'!H:H)","v":6362},{"$f":"SUMIF('00 Alimenta'!$B:$B,'00 PDC SP'!$F273,'00 Alimenta'!I:I)","v":0},6362]
["PDA370FR","PD","PDA370",19,"FR","0102022640","Note credito da ricevere v/gestioni liquidatorie",{"$f":"SUMIF('00 Alimenta'!$B:$B,'00 PDC SP'!$F274,'00 Alimenta'!D:D)","v":0},{"$f":"SUMIF('00 Alimenta'!$B:$B,'00 PDC SP'!$F274,'00 Alimenta'!E:E)","v":0},{"$f":"SUMIF('00 Alimenta'!$B:$B,'00 PDC SP'!$F274,'00 Alimenta'!F:F)","v":0},{"$f":"SUMIF('00 Alimenta'!$B:$B,'00 PDC SP'!$F274,'00 Alimenta'!G:G)","v":0},{"$f":"SUMIF('00 Alimenta'!$B:$B,'00 PDC SP'!$F274,'00 Alimenta'!H:H)","v":0},{"$f":"SUMIF('00 Alimenta'!$B:$B,'00 PDC SP'!$F274,'00 Alimenta'!I:I)","v":0},0]
["PDA380FR","PD","PDA380",19,"FR","0102022641","Note credito da ricevere per altri debiti diversi",{"$f":"SUMIF('00 Alimenta'!$B:$B,'00 PDC SP'!$F275,'00 Alimenta'!D:D)","v":1873.25},{"$f":"SUMIF('00 Alimenta'!$B:$B,'00 PDC SP'!$F275,'00 Alimenta'!E:E)","v":295.04000000000002},{"$f":"SUMIF('00 Alimenta'!$B:$B,'00 PDC SP'!$F275,'00 Alimenta'!F:F)","v":1873.25},{"$f":"SUMIF('00 Alimenta'!$B:$B,'00 PDC SP'!$F275,'00 Alimenta'!G:G)","v":295.04000000000002},{"$f":"SUMIF('00 Alimenta'!$B:$B,'00 PDC SP'!$F275,'00 Alimenta'!H:H)","v":5013.58},{"$f":"SUMIF('00 Alimenta'!$B:$B,'00 PDC SP'!$F275,'00 Alimenta'!I:I)","v":295.04000000000002},5013.58]
["ABA730CN","AB","ABA730",9,"CN","0102030101","Partecipazioni in imprese controllate",{"$f":"SUMIF('00 Alimenta'!$B:$B,'00 PDC SP'!$F276,'00 Alimenta'!D:D)","v":0},{"$f":"SUMIF('00 Alimenta'!$B:$B,'00 PDC SP'!$F276,'00 Alimenta'!E:E)","v":0},{"$f":"SUMIF('00 Alimenta'!$B:$B,'00 PDC SP'!$F276,'00 Alimenta'!F:F)","v":0},{"$f":"SUMIF('00 Alimenta'!$B:$B,'00 PDC SP'!$F276,'00 Alimenta'!G:G)","v":0},{"$f":"SUMIF('00 Alimenta'!$B:$B,'00 PDC SP'!$F276,'00 Alimenta'!H:H)","v":0},{"$f":"SUMIF('00 Alimenta'!$B:$B,'00 PDC SP'!$F276,'00 Alimenta'!I:I)","v":0},0]
["ABA730CL","AB","ABA730",9,"CL","0102030102","Partecipazioni in imprese collegate",{"$f":"SUMIF('00 Alimenta'!$B:$B,'00 PDC SP'!$F277,'00 Alimenta'!D:D)","v":0},{"$f":"SUMIF('00 Alimenta'!$B:$B,'00 PDC SP'!$F277,'00 Alimenta'!E:E)","v":0},{"$f":"SUMIF('00 Alimenta'!$B:$B,'00 PDC SP'!$F277,'00 Alimenta'!F:F)","v":0},{"$f":"SUMIF('00 Alimenta'!$B:$B,'00 PDC SP'!$F277,'00 Alimenta'!G:G)","v":0},{"$f":"SUMIF('00 Alimenta'!$B:$B,'00 PDC SP'!$F277,'00 Alimenta'!H:H)","v":0},{"$f":"SUMIF('00 Alimenta'!$B:$B,'00 PDC SP'!$F277,'00 Alimenta'!I:I)","v":0},0]
["ABA730AI","AB","ABA730",9,"AI","0102030103","Partecipazioni in altre imprese",{"$f":"SUMIF('00 Alimenta'!$B:$B,'00 PDC SP'!$F278,'00 Alimenta'!D:D)","v":0},{"$f":"SUMIF('00 Alimenta'!$B:$B,'00 PDC SP'!$F278,'00 Alimenta'!E:E)","v":0},{"$f":"SUMIF('00 Alimenta'!$B:$B,'00 PDC SP'!$F278,'00 Alimenta'!F:F)","v":0},{"$f":"SUMIF('00 Alimenta'!$B:$B,'00 PDC SP'!$F278,'00 Alimenta'!G:G)","v":0},{"$f":"SUMIF('00 Alimenta'!$B:$B,'00 PDC SP'!$F278,'00 Alimenta'!H:H)","v":0},{"$f":"SUMIF('00 Alimenta'!$B:$B,'00 PDC SP'!$F278,'00 Alimenta'!I:I)","v":0},0]
["ABA740","AB","ABA740",9,null,"0102030201","Altri titoli che non costituiscono immobilizzazioni",{"$f":"SUMIF('00 Alimenta'!$B:$B,'00 PDC SP'!$F279,'00 Alimenta'!D:D)","v":0},{"$f":"SUMIF('00 Alimenta'!$B:$B,'00 PDC SP'!$F279,'00 Alimenta'!E:E)","v":0},{"$f":"SUMIF('00 Alimenta'!$B:$B,'00 PDC SP'!$F279,'00 Alimenta'!F:F)","v":0},{"$f":"SUMIF('00 Alimenta'!$B:$B,'00 PDC SP'!$F279,'00 Alimenta'!G:G)","v":0},{"$f":"SUMIF('00 Alimenta'!$B:$B,'00 PDC SP'!$F279,'00 Alimenta'!H:H)","v":0},{"$f":"SUMIF('00 Alimenta'!$B:$B,'00 PDC SP'!$F279,'00 Alimenta'!I:I)","v":0},0]
["ABA760","AB","ABA760",57,null,"0102040101","Cassa ticket",{"$f":"SUMIF('00 Alimenta'!$B:$B,'00 PDC SP'!$F280,'00 Alimenta'!D:D)","v":15000},{"$f":"SUMIF('00 Alimenta'!$B:$B,'00 PDC SP'!$F280,'00 Alimenta'!E:E)","v":5000},{"$f":"SUMIF('00 Alimenta'!$B:$B,'00 PDC SP'!$F280,'00 Alimenta'!F:F)","v":0},{"$f":"SUMIF('00 Alimenta'!$B:$B,'00 PDC SP'!$F280,'00 Alimenta'!G:G)","v":20000},{"$f":"SUMIF('00 Alimenta'!$B:$B,'00 PDC SP'!$F280,'00 Alimenta'!H:H)","v":0},{"$f":"SUMIF('00 Alimenta'!$B:$B,'00 PDC SP'!$F280,'00 Alimenta'!I:I)","v":0},20000]
["ABA760","AB","ABA760",57,null,"0102040102","Cassa economale",{"$f":"SUMIF('00 Alimenta'!$B:$B,'00 PDC SP'!$F281,'00 Alimenta'!D:D)","v":0},{"$f":"SUMIF('00 Alimenta'!$B:$B,'00 PDC SP'!$F281,'00 Alimenta'!E:E)","v":46151.06},{"$f":"SUMIF('00 Alimenta'!$B:$B,'00 PDC SP'!$F281,'00 Alimenta'!F:F)","v":46151.06},{"$f":"SUMIF('00 Alimenta'!$B:$B,'00 PDC SP'!$F281,'00 Alimenta'!G:G)","v":0},{"$f":"SUMIF('00 Alimenta'!$B:$B,'00 PDC SP'!$F281,'00 Alimenta'!H:H)","v":90884.92},{"$f":"SUMIF('00 Alimenta'!$B:$B,'00 PDC SP'!$F281,'00 Alimenta'!I:I)","v":90884.92},0]
["ABA770","AB","ABA770",57,null,"0102040201","Istituto Tesoriere",{"$f":"SUMIF('00 Alimenta'!$B:$B,'00 PDC SP'!$F282,'00 Alimenta'!D:D)","v":94407697.019999996},{"$f":"SUMIF('00 Alimenta'!$B:$B,'00 PDC SP'!$F282,'00 Alimenta'!E:E)","v":560795482.84000003},{"$f":"SUMIF('00 Alimenta'!$B:$B,'00 PDC SP'!$F282,'00 Alimenta'!F:F)","v":628313295.46000004},{"$f":"SUMIF('00 Alimenta'!$B:$B,'00 PDC SP'!$F282,'00 Alimenta'!G:G)","v":26889884.399999999},{"$f":"SUMIF('00 Alimenta'!$B:$B,'00 PDC SP'!$F282,'00 Alimenta'!H:H)","v":674025083},{"$f":"SUMIF('00 Alimenta'!$B:$B,'00 PDC SP'!$F282,'00 Alimenta'!I:I)","v":631356001.04999995},69558966.350000024]
["ABA780","AB","ABA780",57,null,"0102040301","Tesoreria Unica",{"$f":"SUMIF('00 Alimenta'!$B:$B,'00 PDC SP'!$F283,'00 Alimenta'!D:D)","v":0},{"$f":"SUMIF('00 Alimenta'!$B:$B,'00 PDC SP'!$F283,'00 Alimenta'!E:E)","v":0},{"$f":"SUMIF('00 Alimenta'!$B:$B,'00 PDC SP'!$F283,'00 Alimenta'!F:F)","v":0},{"$f":"SUMIF('00 Alimenta'!$B:$B,'00 PDC SP'!$F283,'00 Alimenta'!G:G)","v":0},{"$f":"SUMIF('00 Alimenta'!$B:$B,'00 PDC SP'!$F283,'00 Alimenta'!H:H)","v":0},{"$f":"SUMIF('00 Alimenta'!$B:$B,'00 PDC SP'!$F283,'00 Alimenta'!I:I)","v":0},0]
["ABA790","AB","ABA790",57,null,"0102040401","Conto corrente postale",{"$f":"SUMIF('00 Alimenta'!$B:$B,'00 PDC SP'!$F284,'00 Alimenta'!D:D)","v":274575.8},{"$f":"SUMIF('00 Alimenta'!$B:$B,'00 PDC SP'!$F284,'00 Alimenta'!E:E)","v":1897097.44},{"$f":"SUMIF('00 Alimenta'!$B:$B,'00 PDC SP'!$F284,'00 Alimenta'!F:F)","v":601666.5},{"$f":"SUMIF('00 Alimenta'!$B:$B,'00 PDC SP'!$F284,'00 Alimenta'!G:G)","v":1570006.74},{"$f":"SUMIF('00 Alimenta'!$B:$B,'00 PDC SP'!$F284,'00 Alimenta'!H:H)","v":1732809.77},{"$f":"SUMIF('00 Alimenta'!$B:$B,'00 PDC SP'!$F284,'00 Alimenta'!I:I)","v":75200.34},3227616.17]
["ACA010","AC","ACA010",33,null,"0103010101","Ratei attivi",{"$f":"SUMIF('00 Alimenta'!$B:$B,'00 PDC SP'!$F285,'00 Alimenta'!D:D)","v":0},{"$f":"SUMIF('00 Alimenta'!$B:$B,'00 PDC SP'!$F285,'00 Alimenta'!E:E)","v":0},{"$f":"SUMIF('00 Alimenta'!$B:$B,'00 PDC SP'!$F285,'00 Alimenta'!F:F)","v":0},{"$f":"SUMIF('00 Alimenta'!$B:$B,'00 PDC SP'!$F285,'00 Alimenta'!G:G)","v":0},{"$f":"SUMIF('00 Alimenta'!$B:$B,'00 PDC SP'!$F285,'00 Alimenta'!H:H)","v":0},{"$f":"SUMIF('00 Alimenta'!$B:$B,'00 PDC SP'!$F285,'00 Alimenta'!I:I)","v":0},0]
["ACA020","AC","ACA020",33,null,"0103010201","Ratei attivi v/Aziende sanitarie pubbliche della Regione",{"$f":"SUMIF('00 Alimenta'!$B:$B,'00 PDC SP'!$F286,'00 Alimenta'!D:D)","v":0},{"$f":"SUMIF('00 Alimenta'!$B:$B,'00 PDC SP'!$F286,'00 Alimenta'!E:E)","v":0},{"$f":"SUMIF('00 Alimenta'!$B:$B,'00 PDC SP'!$F286,'00 Alimenta'!F:F)","v":0},{"$f":"SUMIF('00 Alimenta'!$B:$B,'00 PDC SP'!$F286,'00 Alimenta'!G:G)","v":0},{"$f":"SUMIF('00 Alimenta'!$B:$B,'00 PDC SP'!$F286,'00 Alimenta'!H:H)","v":0},{"$f":"SUMIF('00 Alimenta'!$B:$B,'00 PDC SP'!$F286,'00 Alimenta'!I:I)","v":0},0]
["ACA040","AC","ACA040",33,null,"0103020101","Risconti attivi",{"$f":"SUMIF('00 Alimenta'!$B:$B,'00 PDC SP'!$F287,'00 Alimenta'!D:D)","v":1890279.2},{"$f":"SUMIF('00 Alimenta'!$B:$B,'00 PDC SP'!$F287,'00 Alimenta'!E:E)","v":1502862.22},{"$f":"SUMIF('00 Alimenta'!$B:$B,'00 PDC SP'!$F287,'00 Alimenta'!F:F)","v":1890279.2},{"$f":"SUMIF('00 Alimenta'!$B:$B,'00 PDC SP'!$F287,'00 Alimenta'!G:G)","v":1502862.22},{"$f":"SUMIF('00 Alimenta'!$B:$B,'00 PDC SP'!$F287,'00 Alimenta'!H:H)","v":8698.51},{"$f":"SUMIF('00 Alimenta'!$B:$B,'00 PDC SP'!$F287,'00 Alimenta'!I:I)","v":1502862.22},8698.5100000000093]
["ACA050","AC","ACA050",33,null,"0103020201","Risconti attivi v/Aziende sanitarie pubbliche della Regione",{"$f":"SUMIF('00 Alimenta'!$B:$B,'00 PDC SP'!$F288,'00 Alimenta'!D:D)","v":0},{"$f":"SUMIF('00 Alimenta'!$B:$B,'00 PDC SP'!$F288,'00 Alimenta'!E:E)","v":0},{"$f":"SUMIF('00 Alimenta'!$B:$B,'00 PDC SP'!$F288,'00 Alimenta'!F:F)","v":0},{"$f":"SUMIF('00 Alimenta'!$B:$B,'00 PDC SP'!$F288,'00 Alimenta'!G:G)","v":0},{"$f":"SUMIF('00 Alimenta'!$B:$B,'00 PDC SP'!$F288,'00 Alimenta'!H:H)","v":0},{"$f":"SUMIF('00 Alimenta'!$B:$B,'00 PDC SP'!$F288,'00 Alimenta'!I:I)","v":0},0]
["ADA000","AD","ADA000",0,null,"0104010101","Canoni di leasing ancora da pagare",{"$f":"SUMIF('00 Alimenta'!$B:$B,'00 PDC SP'!$F289,'00 Alimenta'!D:D)","v":986370},{"$f":"SUMIF('00 Alimenta'!$B:$B,'00 PDC SP'!$F289,'00 Alimenta'!E:E)","v":0},{"$f":"SUMIF('00 Alimenta'!$B:$B,'00 PDC SP'!$F289,'00 Alimenta'!F:F)","v":986370},{"$f":"SUMIF('00 Alimenta'!$B:$B,'00 PDC SP'!$F289,'00 Alimenta'!G:G)","v":0},{"$f":"SUMIF('00 Alimenta'!$B:$B,'00 PDC SP'!$F289,'00 Alimenta'!H:H)","v":0},{"$f":"SUMIF('00 Alimenta'!$B:$B,'00 PDC SP'!$F289,'00 Alimenta'!I:I)","v":0},0]
["ADA010","AD","ADA010",0,null,"0104020101","Depositi cauzionali",{"$f":"SUMIF('00 Alimenta'!$B:$B,'00 PDC SP'!$F290,'00 Alimenta'!D:D)","v":0},{"$f":"SUMIF('00 Alimenta'!$B:$B,'00 PDC SP'!$F290,'00 Alimenta'!E:E)","v":0},{"$f":"SUMIF('00 Alimenta'!$B:$B,'00 PDC SP'!$F290,'00 Alimenta'!F:F)","v":0},{"$f":"SUMIF('00 Alimenta'!$B:$B,'00 PDC SP'!$F290,'00 Alimenta'!G:G)","v":0},{"$f":"SUMIF('00 Alimenta'!$B:$B,'00 PDC SP'!$F290,'00 Alimenta'!H:H)","v":0},{"$f":"SUMIF('00 Alimenta'!$B:$B,'00 PDC SP'!$F290,'00 Alimenta'!I:I)","v":0},0]
["ADA020","AD","ADA020",0,null,"0104030101","Beni in comodato",{"$f":"SUMIF('00 Alimenta'!$B:$B,'00 PDC SP'!$F291,'00 Alimenta'!D:D)","v":0},{"$f":"SUMIF('00 Alimenta'!$B:$B,'00 PDC SP'!$F291,'00 Alimenta'!E:E)","v":0},{"$f":"SUMIF('00 Alimenta'!$B:$B,'00 PDC SP'!$F291,'00 Alimenta'!F:F)","v":0},{"$f":"SUMIF('00 Alimenta'!$B:$B,'00 PDC SP'!$F291,'00 Alimenta'!G:G)","v":0},{"$f":"SUMIF('00 Alimenta'!$B:$B,'00 PDC SP'!$F291,'00 Alimenta'!H:H)","v":0},{"$f":"SUMIF('00 Alimenta'!$B:$B,'00 PDC SP'!$F291,'00 Alimenta'!I:I)","v":0},0]
["ADA030","AD","ADA030",0,null,"0104040101","Garanzie prestate",{"$f":"SUMIF('00 Alimenta'!$B:$B,'00 PDC SP'!$F292,'00 Alimenta'!D:D)","v":0},{"$f":"SUMIF('00 Alimenta'!$B:$B,'00 PDC SP'!$F292,'00 Alimenta'!E:E)","v":0},{"$f":"SUMIF('00 Alimenta'!$B:$B,'00 PDC SP'!$F292,'00 Alimenta'!F:F)","v":0},{"$f":"SUMIF('00 Alimenta'!$B:$B,'00 PDC SP'!$F292,'00 Alimenta'!G:G)","v":0},{"$f":"SUMIF('00 Alimenta'!$B:$B,'00 PDC SP'!$F292,'00 Alimenta'!H:H)","v":0},{"$f":"SUMIF('00 Alimenta'!$B:$B,'00 PDC SP'!$F292,'00 Alimenta'!I:I)","v":0},0]
["ADA030","AD","ADA030",0,null,"0104040102","Garanzie ricevute",{"$f":"SUMIF('00 Alimenta'!$B:$B,'00 PDC SP'!$F293,'00 Alimenta'!D:D)","v":0},{"$f":"SUMIF('00 Alimenta'!$B:$B,'00 PDC SP'!$F293,'00 Alimenta'!E:E)","v":0},{"$f":"SUMIF('00 Alimenta'!$B:$B,'00 PDC SP'!$F293,'00 Alimenta'!F:F)","v":0},{"$f":"SUMIF('00 Alimenta'!$B:$B,'00 PDC SP'!$F293,'00 Alimenta'!G:G)","v":0},{"$f":"SUMIF('00 Alimenta'!$B:$B,'00 PDC SP'!$F293,'00 Alimenta'!H:H)","v":0},{"$f":"SUMIF('00 Alimenta'!$B:$B,'00 PDC SP'!$F293,'00 Alimenta'!I:I)","v":0},0]
["ADA030","AD","ADA030",0,null,"0104040103","Beni presso terzi",{"$f":"SUMIF('00 Alimenta'!$B:$B,'00 PDC SP'!$F294,'00 Alimenta'!D:D)","v":0},{"$f":"SUMIF('00 Alimenta'!$B:$B,'00 PDC SP'!$F294,'00 Alimenta'!E:E)","v":0},{"$f":"SUMIF('00 Alimenta'!$B:$B,'00 PDC SP'!$F294,'00 Alimenta'!F:F)","v":0},{"$f":"SUMIF('00 Alimenta'!$B:$B,'00 PDC SP'!$F294,'00 Alimenta'!G:G)","v":0},{"$f":"SUMIF('00 Alimenta'!$B:$B,'00 PDC SP'!$F294,'00 Alimenta'!H:H)","v":0},{"$f":"SUMIF('00 Alimenta'!$B:$B,'00 PDC SP'!$F294,'00 Alimenta'!I:I)","v":0},0]
["ADA030","AD","ADA030",0,null,"0104040104","Beni in contenzioso",{"$f":"SUMIF('00 Alimenta'!$B:$B,'00 PDC SP'!$F295,'00 Alimenta'!D:D)","v":0},{"$f":"SUMIF('00 Alimenta'!$B:$B,'00 PDC SP'!$F295,'00 Alimenta'!E:E)","v":0},{"$f":"SUMIF('00 Alimenta'!$B:$B,'00 PDC SP'!$F295,'00 Alimenta'!F:F)","v":0},{"$f":"SUMIF('00 Alimenta'!$B:$B,'00 PDC SP'!$F295,'00 Alimenta'!G:G)","v":0},{"$f":"SUMIF('00 Alimenta'!$B:$B,'00 PDC SP'!$F295,'00 Alimenta'!H:H)","v":0},{"$f":"SUMIF('00 Alimenta'!$B:$B,'00 PDC SP'!$F295,'00 Alimenta'!I:I)","v":0},0]
["ADA030","AD","ADA030",0,null,"0104040105","Altri impegni assunti",{"$f":"SUMIF('00 Alimenta'!$B:$B,'00 PDC SP'!$F296,'00 Alimenta'!D:D)","v":0},{"$f":"SUMIF('00 Alimenta'!$B:$B,'00 PDC SP'!$F296,'00 Alimenta'!E:E)","v":0},{"$f":"SUMIF('00 Alimenta'!$B:$B,'00 PDC SP'!$F296,'00 Alimenta'!F:F)","v":0},{"$f":"SUMIF('00 Alimenta'!$B:$B,'00 PDC SP'!$F296,'00 Alimenta'!G:G)","v":0},{"$f":"SUMIF('00 Alimenta'!$B:$B,'00 PDC SP'!$F296,'00 Alimenta'!H:H)","v":0},{"$f":"SUMIF('00 Alimenta'!$B:$B,'00 PDC SP'!$F296,'00 Alimenta'!I:I)","v":0},0]
["ADA030","AD","ADA030",0,null,"0104040106","Altri contri d'ordine",{"$f":"SUMIF('00 Alimenta'!$B:$B,'00 PDC SP'!$F297,'00 Alimenta'!D:D)","v":0},{"$f":"SUMIF('00 Alimenta'!$B:$B,'00 PDC SP'!$F297,'00 Alimenta'!E:E)","v":0},{"$f":"SUMIF('00 Alimenta'!$B:$B,'00 PDC SP'!$F297,'00 Alimenta'!F:F)","v":0},{"$f":"SUMIF('00 Alimenta'!$B:$B,'00 PDC SP'!$F297,'00 Alimenta'!G:G)","v":0},{"$f":"SUMIF('00 Alimenta'!$B:$B,'00 PDC SP'!$F297,'00 Alimenta'!H:H)","v":0},{"$f":"SUMIF('00 Alimenta'!$B:$B,'00 PDC SP'!$F297,'00 Alimenta'!I:I)","v":0},0]
["PAA000","PA","PAA000",53,null,"0201010101","Fondo di dotazione",{"$f":"SUMIF('00 Alimenta'!$B:$B,'00 PDC SP'!$F298,'00 Alimenta'!D:D)","v":0},{"$f":"SUMIF('00 Alimenta'!$B:$B,'00 PDC SP'!$F298,'00 Alimenta'!E:E)","v":0},{"$f":"SUMIF('00 Alimenta'!$B:$B,'00 PDC SP'!$F298,'00 Alimenta'!F:F)","v":0},{"$f":"SUMIF('00 Alimenta'!$B:$B,'00 PDC SP'!$F298,'00 Alimenta'!G:G)","v":0},{"$f":"SUMIF('00 Alimenta'!$B:$B,'00 PDC SP'!$F298,'00 Alimenta'!H:H)","v":0},{"$f":"SUMIF('00 Alimenta'!$B:$B,'00 PDC SP'!$F298,'00 Alimenta'!I:I)","v":0},0]
["PAA020","PA","PAA020",5,null,"0201020101","Finanziamenti per beni di prima dotazione",{"$f":"SUMIF('00 Alimenta'!$B:$B,'00 PDC SP'!$F299,'00 Alimenta'!D:D)","v":70863817.599999994},{"$f":"SUMIF('00 Alimenta'!$B:$B,'00 PDC SP'!$F299,'00 Alimenta'!E:E)","v":0},{"$f":"SUMIF('00 Alimenta'!$B:$B,'00 PDC SP'!$F299,'00 Alimenta'!F:F)","v":3577467.93},{"$f":"SUMIF('00 Alimenta'!$B:$B,'00 PDC SP'!$F299,'00 Alimenta'!G:G)","v":67286349.670000002},{"$f":"SUMIF('00 Alimenta'!$B:$B,'00 PDC SP'!$F299,'00 Alimenta'!H:H)","v":0},{"$f":"SUMIF('00 Alimenta'!$B:$B,'00 PDC SP'!$F299,'00 Alimenta'!I:I)","v":3577467.93},63708881.740000002]
["PAA040","PA","PAA040",5,null,"0201020201","Finanziamenti da Stato per investimenti - ex art. 20 legge 67/88",{"$f":"SUMIF('00 Alimenta'!$B:$B,'00 PDC SP'!$F300,'00 Alimenta'!D:D)","v":0},{"$f":"SUMIF('00 Alimenta'!$B:$B,'00 PDC SP'!$F300,'00 Alimenta'!E:E)","v":0},{"$f":"SUMIF('00 Alimenta'!$B:$B,'00 PDC SP'!$F300,'00 Alimenta'!F:F)","v":0},{"$f":"SUMIF('00 Alimenta'!$B:$B,'00 PDC SP'!$F300,'00 Alimenta'!G:G)","v":0},{"$f":"SUMIF('00 Alimenta'!$B:$B,'00 PDC SP'!$F300,'00 Alimenta'!H:H)","v":0},{"$f":"SUMIF('00 Alimenta'!$B:$B,'00 PDC SP'!$F300,'00 Alimenta'!I:I)","v":0},0]
["PAA050","PA","PAA050",5,null,"0201020301","Finanziamenti da Stato per investimenti - ricerca",{"$f":"SUMIF('00 Alimenta'!$B:$B,'00 PDC SP'!$F301,'00 Alimenta'!D:D)","v":0},{"$f":"SUMIF('00 Alimenta'!$B:$B,'00 PDC SP'!$F301,'00 Alimenta'!E:E)","v":0},{"$f":"SUMIF('00 Alimenta'!$B:$B,'00 PDC SP'!$F301,'00 Alimenta'!F:F)","v":0},{"$f":"SUMIF('00 Alimenta'!$B:$B,'00 PDC SP'!$F301,'00 Alimenta'!G:G)","v":0},{"$f":"SUMIF('00 Alimenta'!$B:$B,'00 PDC SP'!$F301,'00 Alimenta'!H:H)","v":0},{"$f":"SUMIF('00 Alimenta'!$B:$B,'00 PDC SP'!$F301,'00 Alimenta'!I:I)","v":0},0]
["PAA060","PA","PAA060",5,null,"0201020401","Finanziamenti da Stato per investimenti - altro",{"$f":"SUMIF('00 Alimenta'!$B:$B,'00 PDC SP'!$F302,'00 Alimenta'!D:D)","v":0},{"$f":"SUMIF('00 Alimenta'!$B:$B,'00 PDC SP'!$F302,'00 Alimenta'!E:E)","v":0},{"$f":"SUMIF('00 Alimenta'!$B:$B,'00 PDC SP'!$F302,'00 Alimenta'!F:F)","v":0},{"$f":"SUMIF('00 Alimenta'!$B:$B,'00 PDC SP'!$F302,'00 Alimenta'!G:G)","v":0},{"$f":"SUMIF('00 Alimenta'!$B:$B,'00 PDC SP'!$F302,'00 Alimenta'!H:H)","v":0},{"$f":"SUMIF('00 Alimenta'!$B:$B,'00 PDC SP'!$F302,'00 Alimenta'!I:I)","v":0},0]
["PAA070","PA","PAA070",5,null,"0201020501","Finanziamenti da Regione per investimenti",{"$f":"SUMIF('00 Alimenta'!$B:$B,'00 PDC SP'!$F303,'00 Alimenta'!D:D)","v":40355049.810000002},{"$f":"SUMIF('00 Alimenta'!$B:$B,'00 PDC SP'!$F303,'00 Alimenta'!E:E)","v":122240},{"$f":"SUMIF('00 Alimenta'!$B:$B,'00 PDC SP'!$F303,'00 Alimenta'!F:F)","v":1574332.01},{"$f":"SUMIF('00 Alimenta'!$B:$B,'00 PDC SP'!$F303,'00 Alimenta'!G:G)","v":38902957.799999997},{"$f":"SUMIF('00 Alimenta'!$B:$B,'00 PDC SP'!$F303,'00 Alimenta'!H:H)","v":122252.5},{"$f":"SUMIF('00 Alimenta'!$B:$B,'00 PDC SP'!$F303,'00 Alimenta'!I:I)","v":1468544.84},37556665.459999993]
["PAA080","PA","PAA080",5,null,"0201020601","Finanziamenti da altri soggetti pubblici per investimenti",{"$f":"SUMIF('00 Alimenta'!$B:$B,'00 PDC SP'!$F304,'00 Alimenta'!D:D)","v":0},{"$f":"SUMIF('00 Alimenta'!$B:$B,'00 PDC SP'!$F304,'00 Alimenta'!E:E)","v":0},{"$f":"SUMIF('00 Alimenta'!$B:$B,'00 PDC SP'!$F304,'00 Alimenta'!F:F)","v":0},{"$f":"SUMIF('00 Alimenta'!$B:$B,'00 PDC SP'!$F304,'00 Alimenta'!G:G)","v":0},{"$f":"SUMIF('00 Alimenta'!$B:$B,'00 PDC SP'!$F304,'00 Alimenta'!H:H)","v":0},{"$f":"SUMIF('00 Alimenta'!$B:$B,'00 PDC SP'!$F304,'00 Alimenta'!I:I)","v":0},0]
["PAA090","PA","PAA090",5,null,"0201020701","Finanziamenti per investimenti da rettifica contributi in conto esercizio",{"$f":"SUMIF('00 Alimenta'!$B:$B,'00 PDC SP'!$F305,'00 Alimenta'!D:D)","v":10633348.640000001},{"$f":"SUMIF('00 Alimenta'!$B:$B,'00 PDC SP'!$F305,'00 Alimenta'!E:E)","v":8787559.1099999994},{"$f":"SUMIF('00 Alimenta'!$B:$B,'00 PDC SP'!$F305,'00 Alimenta'!F:F)","v":3299309.48},{"$f":"SUMIF('00 Alimenta'!$B:$B,'00 PDC SP'!$F305,'00 Alimenta'!G:G)","v":16121598.27},{"$f":"SUMIF('00 Alimenta'!$B:$B,'00 PDC SP'!$F305,'00 Alimenta'!H:H)","v":6506318.8899999997},{"$f":"SUMIF('00 Alimenta'!$B:$B,'00 PDC SP'!$F305,'00 Alimenta'!I:I)","v":4730694.3099999996},17897222.850000001]
["PAA100","PA","PAA100",53,null,"0201030101","Riserve da donazioni e lasciti vincolati ad investimenti",{"$f":"SUMIF('00 Alimenta'!$B:$B,'00 PDC SP'!$F306,'00 Alimenta'!D:D)","v":205856.51},{"$f":"SUMIF('00 Alimenta'!$B:$B,'00 PDC SP'!$F306,'00 Alimenta'!E:E)","v":20519.150000000001},{"$f":"SUMIF('00 Alimenta'!$B:$B,'00 PDC SP'!$F306,'00 Alimenta'!F:F)","v":55380.81},{"$f":"SUMIF('00 Alimenta'!$B:$B,'00 PDC SP'!$F306,'00 Alimenta'!G:G)","v":170994.85},{"$f":"SUMIF('00 Alimenta'!$B:$B,'00 PDC SP'!$F306,'00 Alimenta'!H:H)","v":78486.47},{"$f":"SUMIF('00 Alimenta'!$B:$B,'00 PDC SP'!$F306,'00 Alimenta'!I:I)","v":48286.07},201195.25]
["PAA120","PA","PAA120",6,null,"0201040101","Riserve da rivalutazioni",{"$f":"SUMIF('00 Alimenta'!$B:$B,'00 PDC SP'!$F307,'00 Alimenta'!D:D)","v":0},{"$f":"SUMIF('00 Alimenta'!$B:$B,'00 PDC SP'!$F307,'00 Alimenta'!E:E)","v":0},{"$f":"SUMIF('00 Alimenta'!$B:$B,'00 PDC SP'!$F307,'00 Alimenta'!F:F)","v":0},{"$f":"SUMIF('00 Alimenta'!$B:$B,'00 PDC SP'!$F307,'00 Alimenta'!G:G)","v":0},{"$f":"SUMIF('00 Alimenta'!$B:$B,'00 PDC SP'!$F307,'00 Alimenta'!H:H)","v":0},{"$f":"SUMIF('00 Alimenta'!$B:$B,'00 PDC SP'!$F307,'00 Alimenta'!I:I)","v":0},0]
["PAA130","PA","PAA130",6,null,"0201040201","Riserve da plusvalenze da reinvestire",{"$f":"SUMIF('00 Alimenta'!$B:$B,'00 PDC SP'!$F308,'00 Alimenta'!D:D)","v":0},{"$f":"SUMIF('00 Alimenta'!$B:$B,'00 PDC SP'!$F308,'00 Alimenta'!E:E)","v":0},{"$f":"SUMIF('00 Alimenta'!$B:$B,'00 PDC SP'!$F308,'00 Alimenta'!F:F)","v":0},{"$f":"SUMIF('00 Alimenta'!$B:$B,'00 PDC SP'!$F308,'00 Alimenta'!G:G)","v":0},{"$f":"SUMIF('00 Alimenta'!$B:$B,'00 PDC SP'!$F308,'00 Alimenta'!H:H)","v":0},{"$f":"SUMIF('00 Alimenta'!$B:$B,'00 PDC SP'!$F308,'00 Alimenta'!I:I)","v":0},0]
["PAA140","PA","PAA140",6,null,"0201040301","Contributi da reinvestire",{"$f":"SUMIF('00 Alimenta'!$B:$B,'00 PDC SP'!$F309,'00 Alimenta'!D:D)","v":0},{"$f":"SUMIF('00 Alimenta'!$B:$B,'00 PDC SP'!$F309,'00 Alimenta'!E:E)","v":0},{"$f":"SUMIF('00 Alimenta'!$B:$B,'00 PDC SP'!$F309,'00 Alimenta'!F:F)","v":0},{"$f":"SUMIF('00 Alimenta'!$B:$B,'00 PDC SP'!$F309,'00 Alimenta'!G:G)","v":0},{"$f":"SUMIF('00 Alimenta'!$B:$B,'00 PDC SP'!$F309,'00 Alimenta'!H:H)","v":0},{"$f":"SUMIF('00 Alimenta'!$B:$B,'00 PDC SP'!$F309,'00 Alimenta'!I:I)","v":0},0]
["PAA150","PA","PAA150",6,null,"0201040401","Riserve da utili di esercizio destinati ad investimenti",{"$f":"SUMIF('00 Alimenta'!$B:$B,'00 PDC SP'!$F310,'00 Alimenta'!D:D)","v":0},{"$f":"SUMIF('00 Alimenta'!$B:$B,'00 PDC SP'!$F310,'00 Alimenta'!E:E)","v":0},{"$f":"SUMIF('00 Alimenta'!$B:$B,'00 PDC SP'!$F310,'00 Alimenta'!F:F)","v":0},{"$f":"SUMIF('00 Alimenta'!$B:$B,'00 PDC SP'!$F310,'00 Alimenta'!G:G)","v":0},{"$f":"SUMIF('00 Alimenta'!$B:$B,'00 PDC SP'!$F310,'00 Alimenta'!H:H)","v":0},{"$f":"SUMIF('00 Alimenta'!$B:$B,'00 PDC SP'!$F310,'00 Alimenta'!I:I)","v":0},0]
["PAA160","PA","PAA160",6,null,"0201040501","Riserve diverse",{"$f":"SUMIF('00 Alimenta'!$B:$B,'00 PDC SP'!$F311,'00 Alimenta'!D:D)","v":0},{"$f":"SUMIF('00 Alimenta'!$B:$B,'00 PDC SP'!$F311,'00 Alimenta'!E:E)","v":2730000},{"$f":"SUMIF('00 Alimenta'!$B:$B,'00 PDC SP'!$F311,'00 Alimenta'!F:F)","v":0},{"$f":"SUMIF('00 Alimenta'!$B:$B,'00 PDC SP'!$F311,'00 Alimenta'!G:G)","v":2730000},{"$f":"SUMIF('00 Alimenta'!$B:$B,'00 PDC SP'!$F311,'00 Alimenta'!H:H)","v":0},{"$f":"SUMIF('00 Alimenta'!$B:$B,'00 PDC SP'!$F311,'00 Alimenta'!I:I)","v":0},2730000]
["PAA180","PA","PAA180",53,null,"0201050101","Contributi per copertura debiti al 31/12/2005",{"$f":"SUMIF('00 Alimenta'!$B:$B,'00 PDC SP'!$F312,'00 Alimenta'!D:D)","v":0},{"$f":"SUMIF('00 Alimenta'!$B:$B,'00 PDC SP'!$F312,'00 Alimenta'!E:E)","v":0},{"$f":"SUMIF('00 Alimenta'!$B:$B,'00 PDC SP'!$F312,'00 Alimenta'!F:F)","v":0},{"$f":"SUMIF('00 Alimenta'!$B:$B,'00 PDC SP'!$F312,'00 Alimenta'!G:G)","v":0},{"$f":"SUMIF('00 Alimenta'!$B:$B,'00 PDC SP'!$F312,'00 Alimenta'!H:H)","v":0},{"$f":"SUMIF('00 Alimenta'!$B:$B,'00 PDC SP'!$F312,'00 Alimenta'!I:I)","v":0},0]
["PAA190","PA","PAA190",53,null,"0201050201","Contributi per ricostituzione risorse da investimenti esercizi precedenti",{"$f":"SUMIF('00 Alimenta'!$B:$B,'00 PDC SP'!$F313,'00 Alimenta'!D:D)","v":0},{"$f":"SUMIF('00 Alimenta'!$B:$B,'00 PDC SP'!$F313,'00 Alimenta'!E:E)","v":0},{"$f":"SUMIF('00 Alimenta'!$B:$B,'00 PDC SP'!$F313,'00 Alimenta'!F:F)","v":0},{"$f":"SUMIF('00 Alimenta'!$B:$B,'00 PDC SP'!$F313,'00 Alimenta'!G:G)","v":0},{"$f":"SUMIF('00 Alimenta'!$B:$B,'00 PDC SP'!$F313,'00 Alimenta'!H:H)","v":0},{"$f":"SUMIF('00 Alimenta'!$B:$B,'00 PDC SP'!$F313,'00 Alimenta'!I:I)","v":0},0]
["PAA200","PA","PAA200",53,null,"0201050301","Altro - contributi per ripiano perdite",{"$f":"SUMIF('00 Alimenta'!$B:$B,'00 PDC SP'!$F314,'00 Alimenta'!D:D)","v":0},{"$f":"SUMIF('00 Alimenta'!$B:$B,'00 PDC SP'!$F314,'00 Alimenta'!E:E)","v":30778127.57},{"$f":"SUMIF('00 Alimenta'!$B:$B,'00 PDC SP'!$F314,'00 Alimenta'!F:F)","v":0},{"$f":"SUMIF('00 Alimenta'!$B:$B,'00 PDC SP'!$F314,'00 Alimenta'!G:G)","v":30778127.57},{"$f":"SUMIF('00 Alimenta'!$B:$B,'00 PDC SP'!$F314,'00 Alimenta'!H:H)","v":14264710},{"$f":"SUMIF('00 Alimenta'!$B:$B,'00 PDC SP'!$F314,'00 Alimenta'!I:I)","v":30778127.57},14264710]
["PAA210","PA","PAA210",53,null,"0201060101","UTILI PORTATI A NUOVO",{"$f":"SUMIF('00 Alimenta'!$B:$B,'00 PDC SP'!$F315,'00 Alimenta'!D:D)","v":17537176.260000002},{"$f":"SUMIF('00 Alimenta'!$B:$B,'00 PDC SP'!$F315,'00 Alimenta'!E:E)","v":0},{"$f":"SUMIF('00 Alimenta'!$B:$B,'00 PDC SP'!$F315,'00 Alimenta'!F:F)","v":17537176.260000002},{"$f":"SUMIF('00 Alimenta'!$B:$B,'00 PDC SP'!$F315,'00 Alimenta'!G:G)","v":0},{"$f":"SUMIF('00 Alimenta'!$B:$B,'00 PDC SP'!$F315,'00 Alimenta'!H:H)","v":0},{"$f":"SUMIF('00 Alimenta'!$B:$B,'00 PDC SP'!$F315,'00 Alimenta'!I:I)","v":0},0]
["PAA210","PA","PAA210",53,null,"0201060102","PERDITE PORTATI A NUOVO",{"$f":"SUMIF('00 Alimenta'!$B:$B,'00 PDC SP'!$F316,'00 Alimenta'!D:D)","v":0},{"$f":"SUMIF('00 Alimenta'!$B:$B,'00 PDC SP'!$F316,'00 Alimenta'!E:E)","v":0},{"$f":"SUMIF('00 Alimenta'!$B:$B,'00 PDC SP'!$F316,'00 Alimenta'!F:F)","v":30778127.57},{"$f":"SUMIF('00 Alimenta'!$B:$B,'00 PDC SP'!$F316,'00 Alimenta'!G:G)","v":-30778127.57},{"$f":"SUMIF('00 Alimenta'!$B:$B,'00 PDC SP'!$F316,'00 Alimenta'!H:H)","v":30778127.57},{"$f":"SUMIF('00 Alimenta'!$B:$B,'00 PDC SP'!$F316,'00 Alimenta'!I:I)","v":14264709.560000001},-14264709.560000001]
["PAA220","UT","PAA220",53,null,"0201070101","UTILE D'ESERCIZIO",{"$f":"SUMIF('00 Alimenta'!$B:$B,'00 PDC SP'!$F317,'00 Alimenta'!D:D)","v":0},{"$f":"SUMIF('00 Alimenta'!$B:$B,'00 PDC SP'!$F317,'00 Alimenta'!E:E)","v":0},{"$f":"SUMIF('00 Alimenta'!$B:$B,'00 PDC SP'!$F317,'00 Alimenta'!F:F)","v":0},{"$f":"SUMIF('00 Alimenta'!$B:$B,'00 PDC SP'!$F317,'00 Alimenta'!G:G)","v":0},{"$f":"SUMIF('00 Alimenta'!$B:$B,'00 PDC SP'!$F317,'00 Alimenta'!H:H)","v":0},{"$f":"SUMIF('00 Alimenta'!$B:$B,'00 PDC SP'!$F317,'00 Alimenta'!I:I)","v":0},0]
["PAA220","UT","PAA220",53,null,"0201070102","PERDITA D'ESERCIZIO",{"$f":"SUMIF('00 Alimenta'!$B:$B,'00 PDC SP'!$F318,'00 Alimenta'!D:D)","v":-30778127.57},{"$f":"SUMIF('00 Alimenta'!$B:$B,'00 PDC SP'!$F318,'00 Alimenta'!E:E)","v":30778127.57},{"$f":"SUMIF('00 Alimenta'!$B:$B,'00 PDC SP'!$F318,'00 Alimenta'!F:F)","v":14264709.560000001},{"$f":"SUMIF('00 Alimenta'!$B:$B,'00 PDC SP'!$F318,'00 Alimenta'!G:G)","v":-14264709.560000001},{"$f":"SUMIF('00 Alimenta'!$B:$B,'00 PDC SP'!$F318,'00 Alimenta'!H:H)","v":14264709.560000001},{"$f":"SUMIF('00 Alimenta'!$B:$B,'00 PDC SP'!$F318,'00 Alimenta'!I:I)","v":13609624.26},-13609624.26]
["AAA030","AA","AAA030",4,null,"0202010101","F.do Amm.to costi di impianto e di ampliamento",{"$f":"SUMIF('00 Alimenta'!$B:$B,'00 PDC SP'!$F319,'00 Alimenta'!D:D)","v":0},{"$f":"SUMIF('00 Alimenta'!$B:$B,'00 PDC SP'!$F319,'00 Alimenta'!E:E)","v":0},{"$f":"SUMIF('00 Alimenta'!$B:$B,'00 PDC SP'!$F319,'00 Alimenta'!F:F)","v":0},{"$f":"SUMIF('00 Alimenta'!$B:$B,'00 PDC SP'!$F319,'00 Alimenta'!G:G)","v":0},{"$f":"SUMIF('00 Alimenta'!$B:$B,'00 PDC SP'!$F319,'00 Alimenta'!H:H)","v":0},{"$f":"SUMIF('00 Alimenta'!$B:$B,'00 PDC SP'!$F319,'00 Alimenta'!I:I)","v":0},0]
["AAA060","AA","AAA060",4,null,"0202010201","F.do Amm.to costi di ricerca e sviluppo",{"$f":"SUMIF('00 Alimenta'!$B:$B,'00 PDC SP'!$F320,'00 Alimenta'!D:D)","v":0},{"$f":"SUMIF('00 Alimenta'!$B:$B,'00 PDC SP'!$F320,'00 Alimenta'!E:E)","v":0},{"$f":"SUMIF('00 Alimenta'!$B:$B,'00 PDC SP'!$F320,'00 Alimenta'!F:F)","v":0},{"$f":"SUMIF('00 Alimenta'!$B:$B,'00 PDC SP'!$F320,'00 Alimenta'!G:G)","v":0},{"$f":"SUMIF('00 Alimenta'!$B:$B,'00 PDC SP'!$F320,'00 Alimenta'!H:H)","v":0},{"$f":"SUMIF('00 Alimenta'!$B:$B,'00 PDC SP'!$F320,'00 Alimenta'!I:I)","v":0},0]
["AAA090","AA","AAA090",4,null,"0202010301","F.do Amm.to diritti di brevetto e diritti di utilizzazione delle opere d'ingegno - derivanti dall'attività di ricerca",{"$f":"SUMIF('00 Alimenta'!$B:$B,'00 PDC SP'!$F321,'00 Alimenta'!D:D)","v":0},{"$f":"SUMIF('00 Alimenta'!$B:$B,'00 PDC SP'!$F321,'00 Alimenta'!E:E)","v":0},{"$f":"SUMIF('00 Alimenta'!$B:$B,'00 PDC SP'!$F321,'00 Alimenta'!F:F)","v":0},{"$f":"SUMIF('00 Alimenta'!$B:$B,'00 PDC SP'!$F321,'00 Alimenta'!G:G)","v":0},{"$f":"SUMIF('00 Alimenta'!$B:$B,'00 PDC SP'!$F321,'00 Alimenta'!H:H)","v":0},{"$f":"SUMIF('00 Alimenta'!$B:$B,'00 PDC SP'!$F321,'00 Alimenta'!I:I)","v":0},0]
["AAA110","AA","AAA110",4,null,"0202010401","F.do Amm.to diritti di brevetto e diritti di utilizzazione delle opere d'ingegno - altri",{"$f":"SUMIF('00 Alimenta'!$B:$B,'00 PDC SP'!$F322,'00 Alimenta'!D:D)","v":0},{"$f":"SUMIF('00 Alimenta'!$B:$B,'00 PDC SP'!$F322,'00 Alimenta'!E:E)","v":0},{"$f":"SUMIF('00 Alimenta'!$B:$B,'00 PDC SP'!$F322,'00 Alimenta'!F:F)","v":0},{"$f":"SUMIF('00 Alimenta'!$B:$B,'00 PDC SP'!$F322,'00 Alimenta'!G:G)","v":0},{"$f":"SUMIF('00 Alimenta'!$B:$B,'00 PDC SP'!$F322,'00 Alimenta'!H:H)","v":0},{"$f":"SUMIF('00 Alimenta'!$B:$B,'00 PDC SP'!$F322,'00 Alimenta'!I:I)","v":0},0]
["AAA150","AA","AAA150",4,null,"0202010501","F.do Amm.to concessioni pluriennali",{"$f":"SUMIF('00 Alimenta'!$B:$B,'00 PDC SP'!$F323,'00 Alimenta'!D:D)","v":0},{"$f":"SUMIF('00 Alimenta'!$B:$B,'00 PDC SP'!$F323,'00 Alimenta'!E:E)","v":0},{"$f":"SUMIF('00 Alimenta'!$B:$B,'00 PDC SP'!$F323,'00 Alimenta'!F:F)","v":0},{"$f":"SUMIF('00 Alimenta'!$B:$B,'00 PDC SP'!$F323,'00 Alimenta'!G:G)","v":0},{"$f":"SUMIF('00 Alimenta'!$B:$B,'00 PDC SP'!$F323,'00 Alimenta'!H:H)","v":0},{"$f":"SUMIF('00 Alimenta'!$B:$B,'00 PDC SP'!$F323,'00 Alimenta'!I:I)","v":0},0]
["AAA150","AA","AAA150",4,null,"0202010601","F.do Amm.to licenze d'uso software",{"$f":"SUMIF('00 Alimenta'!$B:$B,'00 PDC SP'!$F324,'00 Alimenta'!D:D)","v":-1459747.82},{"$f":"SUMIF('00 Alimenta'!$B:$B,'00 PDC SP'!$F324,'00 Alimenta'!E:E)","v":-105301.39},{"$f":"SUMIF('00 Alimenta'!$B:$B,'00 PDC SP'!$F324,'00 Alimenta'!F:F)","v":-6424.06},{"$f":"SUMIF('00 Alimenta'!$B:$B,'00 PDC SP'!$F324,'00 Alimenta'!G:G)","v":-1558625.15},{"$f":"SUMIF('00 Alimenta'!$B:$B,'00 PDC SP'!$F324,'00 Alimenta'!H:H)","v":-136552.39000000001},{"$f":"SUMIF('00 Alimenta'!$B:$B,'00 PDC SP'!$F324,'00 Alimenta'!I:I)","v":0},-1695177.54]
["AAA150","AA","AAA150",4,null,"0202010701","F.do amm.to marchi e diritti simili",{"$f":"SUMIF('00 Alimenta'!$B:$B,'00 PDC SP'!$F325,'00 Alimenta'!D:D)","v":0},{"$f":"SUMIF('00 Alimenta'!$B:$B,'00 PDC SP'!$F325,'00 Alimenta'!E:E)","v":0},{"$f":"SUMIF('00 Alimenta'!$B:$B,'00 PDC SP'!$F325,'00 Alimenta'!F:F)","v":0},{"$f":"SUMIF('00 Alimenta'!$B:$B,'00 PDC SP'!$F325,'00 Alimenta'!G:G)","v":0},{"$f":"SUMIF('00 Alimenta'!$B:$B,'00 PDC SP'!$F325,'00 Alimenta'!H:H)","v":0},{"$f":"SUMIF('00 Alimenta'!$B:$B,'00 PDC SP'!$F325,'00 Alimenta'!I:I)","v":0},0]
["AAA170","AA","AAA170",4,null,"0202010801","F.do Amm.to migliorie su beni di terzi",{"$f":"SUMIF('00 Alimenta'!$B:$B,'00 PDC SP'!$F326,'00 Alimenta'!D:D)","v":0},{"$f":"SUMIF('00 Alimenta'!$B:$B,'00 PDC SP'!$F326,'00 Alimenta'!E:E)","v":0},{"$f":"SUMIF('00 Alimenta'!$B:$B,'00 PDC SP'!$F326,'00 Alimenta'!F:F)","v":0},{"$f":"SUMIF('00 Alimenta'!$B:$B,'00 PDC SP'!$F326,'00 Alimenta'!G:G)","v":0},{"$f":"SUMIF('00 Alimenta'!$B:$B,'00 PDC SP'!$F326,'00 Alimenta'!H:H)","v":0},{"$f":"SUMIF('00 Alimenta'!$B:$B,'00 PDC SP'!$F326,'00 Alimenta'!I:I)","v":0},0]
[{"$f":"IF(E327=\"\",C327,C327&E327)","v":"AAA190"},{"$f":"LEFT(C327,2)","v":"AA"},"AAA190",4,null,"0202010901","F.do Amm.to pubblicità",{"$f":"SUMIF('00 Alimenta'!$B:$B,'00 PDC SP'!$F327,'00 Alimenta'!D:D)","v":0},{"$f":"SUMIF('00 Alimenta'!$B:$B,'00 PDC SP'!$F327,'00 Alimenta'!E:E)","v":0},{"$f":"SUMIF('00 Alimenta'!$B:$B,'00 PDC SP'!$F327,'00 Alimenta'!F:F)","v":0},{"$f":"SUMIF('00 Alimenta'!$B:$B,'00 PDC SP'!$F327,'00 Alimenta'!G:G)","v":0},{"$f":"SUMIF('00 Alimenta'!$B:$B,'00 PDC SP'!$F327,'00 Alimenta'!H:H)","v":0},{"$f":"SUMIF('00 Alimenta'!$B:$B,'00 PDC SP'!$F327,'00 Alimenta'!I:I)","v":0},{"$f":"K327+L327-M327","v":0}]
["AAA210","AA","AAA210",4,null,"0202011001","F.do Amm.to altre immobilizzazioni immateriali",{"$f":"SUMIF('00 Alimenta'!$B:$B,'00 PDC SP'!$F328,'00 Alimenta'!D:D)","v":0},{"$f":"SUMIF('00 Alimenta'!$B:$B,'00 PDC SP'!$F328,'00 Alimenta'!E:E)","v":0},{"$f":"SUMIF('00 Alimenta'!$B:$B,'00 PDC SP'!$F328,'00 Alimenta'!F:F)","v":0},{"$f":"SUMIF('00 Alimenta'!$B:$B,'00 PDC SP'!$F328,'00 Alimenta'!G:G)","v":0},{"$f":"SUMIF('00 Alimenta'!$B:$B,'00 PDC SP'!$F328,'00 Alimenta'!H:H)","v":0},{"$f":"SUMIF('00 Alimenta'!$B:$B,'00 PDC SP'!$F328,'00 Alimenta'!I:I)","v":0},0]
["AAA340","AA","AAA340",2,null,"0202020101","F.do Amm.to Fabbricati non strumentali (disponibili)",{"$f":"SUMIF('00 Alimenta'!$B:$B,'00 PDC SP'!$F329,'00 Alimenta'!D:D)","v":0},{"$f":"SUMIF('00 Alimenta'!$B:$B,'00 PDC SP'!$F329,'00 Alimenta'!E:E)","v":0},{"$f":"SUMIF('00 Alimenta'!$B:$B,'00 PDC SP'!$F329,'00 Alimenta'!F:F)","v":0},{"$f":"SUMIF('00 Alimenta'!$B:$B,'00 PDC SP'!$F329,'00 Alimenta'!G:G)","v":0},{"$f":"SUMIF('00 Alimenta'!$B:$B,'00 PDC SP'!$F329,'00 Alimenta'!H:H)","v":0},{"$f":"SUMIF('00 Alimenta'!$B:$B,'00 PDC SP'!$F329,'00 Alimenta'!I:I)","v":0},0]
["AAA340","AA","AAA340",2,null,"0202020201","F.do Amm.to costruzioni leggere",{"$f":"SUMIF('00 Alimenta'!$B:$B,'00 PDC SP'!$F330,'00 Alimenta'!D:D)","v":0},{"$f":"SUMIF('00 Alimenta'!$B:$B,'00 PDC SP'!$F330,'00 Alimenta'!E:E)","v":0},{"$f":"SUMIF('00 Alimenta'!$B:$B,'00 PDC SP'!$F330,'00 Alimenta'!F:F)","v":0},{"$f":"SUMIF('00 Alimenta'!$B:$B,'00 PDC SP'!$F330,'00 Alimenta'!G:G)","v":0},{"$f":"SUMIF('00 Alimenta'!$B:$B,'00 PDC SP'!$F330,'00 Alimenta'!H:H)","v":0},{"$f":"SUMIF('00 Alimenta'!$B:$B,'00 PDC SP'!$F330,'00 Alimenta'!I:I)","v":0},0]
["AAA370","AA","AAA370",2,null,"0202020301","F.do Amm.to Fabbricati strumentali (indisponibili)",{"$f":"SUMIF('00 Alimenta'!$B:$B,'00 PDC SP'!$F331,'00 Alimenta'!D:D)","v":-80941200.239999995},{"$f":"SUMIF('00 Alimenta'!$B:$B,'00 PDC SP'!$F331,'00 Alimenta'!E:E)","v":-4970287.05},{"$f":"SUMIF('00 Alimenta'!$B:$B,'00 PDC SP'!$F331,'00 Alimenta'!F:F)","v":0},{"$f":"SUMIF('00 Alimenta'!$B:$B,'00 PDC SP'!$F331,'00 Alimenta'!G:G)","v":-85911487.290000007},{"$f":"SUMIF('00 Alimenta'!$B:$B,'00 PDC SP'!$F331,'00 Alimenta'!H:H)","v":-4970287.05},{"$f":"SUMIF('00 Alimenta'!$B:$B,'00 PDC SP'!$F331,'00 Alimenta'!I:I)","v":0},-90881774.340000004]
["AAA400","AA","AAA400",3,null,"0202020401","F.do ammortamento impianti sanitari",{"$f":"SUMIF('00 Alimenta'!$B:$B,'00 PDC SP'!$F332,'00 Alimenta'!D:D)","v":0},{"$f":"SUMIF('00 Alimenta'!$B:$B,'00 PDC SP'!$F332,'00 Alimenta'!E:E)","v":0},{"$f":"SUMIF('00 Alimenta'!$B:$B,'00 PDC SP'!$F332,'00 Alimenta'!F:F)","v":0},{"$f":"SUMIF('00 Alimenta'!$B:$B,'00 PDC SP'!$F332,'00 Alimenta'!G:G)","v":0},{"$f":"SUMIF('00 Alimenta'!$B:$B,'00 PDC SP'!$F332,'00 Alimenta'!H:H)","v":0},{"$f":"SUMIF('00 Alimenta'!$B:$B,'00 PDC SP'!$F332,'00 Alimenta'!I:I)","v":0},0]
["AAA400","AA","AAA400",3,null,"0202020501","F.do ammortamento impianti generici",{"$f":"SUMIF('00 Alimenta'!$B:$B,'00 PDC SP'!$F333,'00 Alimenta'!D:D)","v":0},{"$f":"SUMIF('00 Alimenta'!$B:$B,'00 PDC SP'!$F333,'00 Alimenta'!E:E)","v":0},{"$f":"SUMIF('00 Alimenta'!$B:$B,'00 PDC SP'!$F333,'00 Alimenta'!F:F)","v":0},{"$f":"SUMIF('00 Alimenta'!$B:$B,'00 PDC SP'!$F333,'00 Alimenta'!G:G)","v":0},{"$f":"SUMIF('00 Alimenta'!$B:$B,'00 PDC SP'!$F333,'00 Alimenta'!H:H)","v":0},{"$f":"SUMIF('00 Alimenta'!$B:$B,'00 PDC SP'!$F333,'00 Alimenta'!I:I)","v":0},0]
["AAA400","AA","AAA400",3,null,"0202020601","F.do amm.to macchinari sanitari",{"$f":"SUMIF('00 Alimenta'!$B:$B,'00 PDC SP'!$F334,'00 Alimenta'!D:D)","v":0},{"$f":"SUMIF('00 Alimenta'!$B:$B,'00 PDC SP'!$F334,'00 Alimenta'!E:E)","v":0},{"$f":"SUMIF('00 Alimenta'!$B:$B,'00 PDC SP'!$F334,'00 Alimenta'!F:F)","v":0},{"$f":"SUMIF('00 Alimenta'!$B:$B,'00 PDC SP'!$F334,'00 Alimenta'!G:G)","v":0},{"$f":"SUMIF('00 Alimenta'!$B:$B,'00 PDC SP'!$F334,'00 Alimenta'!H:H)","v":0},{"$f":"SUMIF('00 Alimenta'!$B:$B,'00 PDC SP'!$F334,'00 Alimenta'!I:I)","v":0},0]
["AAA400","AA","AAA400",3,null,"0202020701","F.do ammortamento macchinari generici",{"$f":"SUMIF('00 Alimenta'!$B:$B,'00 PDC SP'!$F335,'00 Alimenta'!D:D)","v":-4631648.04},{"$f":"SUMIF('00 Alimenta'!$B:$B,'00 PDC SP'!$F335,'00 Alimenta'!E:E)","v":-256690.95},{"$f":"SUMIF('00 Alimenta'!$B:$B,'00 PDC SP'!$F335,'00 Alimenta'!F:F)","v":-244.8},{"$f":"SUMIF('00 Alimenta'!$B:$B,'00 PDC SP'!$F335,'00 Alimenta'!G:G)","v":-4888094.1900000004},{"$f":"SUMIF('00 Alimenta'!$B:$B,'00 PDC SP'!$F335,'00 Alimenta'!H:H)","v":-263002.39},{"$f":"SUMIF('00 Alimenta'!$B:$B,'00 PDC SP'!$F335,'00 Alimenta'!I:I)","v":0},-5151096.58]
["AAA400","AA","AAA400",3,null,"0202020801","F.do Amm.to impianti e macchinari < 516 euro",{"$f":"SUMIF('00 Alimenta'!$B:$B,'00 PDC SP'!$F336,'00 Alimenta'!D:D)","v":0},{"$f":"SUMIF('00 Alimenta'!$B:$B,'00 PDC SP'!$F336,'00 Alimenta'!E:E)","v":0},{"$f":"SUMIF('00 Alimenta'!$B:$B,'00 PDC SP'!$F336,'00 Alimenta'!F:F)","v":0},{"$f":"SUMIF('00 Alimenta'!$B:$B,'00 PDC SP'!$F336,'00 Alimenta'!G:G)","v":0},{"$f":"SUMIF('00 Alimenta'!$B:$B,'00 PDC SP'!$F336,'00 Alimenta'!H:H)","v":0},{"$f":"SUMIF('00 Alimenta'!$B:$B,'00 PDC SP'!$F336,'00 Alimenta'!I:I)","v":0},0]
["AAA430","AA","AAA430",3,null,"0202020901","F.do Amm.to Attrezzature sanitarie e scientifiche",{"$f":"SUMIF('00 Alimenta'!$B:$B,'00 PDC SP'!$F337,'00 Alimenta'!D:D)","v":0},{"$f":"SUMIF('00 Alimenta'!$B:$B,'00 PDC SP'!$F337,'00 Alimenta'!E:E)","v":0},{"$f":"SUMIF('00 Alimenta'!$B:$B,'00 PDC SP'!$F337,'00 Alimenta'!F:F)","v":0},{"$f":"SUMIF('00 Alimenta'!$B:$B,'00 PDC SP'!$F337,'00 Alimenta'!G:G)","v":0},{"$f":"SUMIF('00 Alimenta'!$B:$B,'00 PDC SP'!$F337,'00 Alimenta'!H:H)","v":0},{"$f":"SUMIF('00 Alimenta'!$B:$B,'00 PDC SP'!$F337,'00 Alimenta'!I:I)","v":0},0]
["AAA430","AA","AAA430",3,null,"0202021001","F.do Amm.to Attrezzature generiche",{"$f":"SUMIF('00 Alimenta'!$B:$B,'00 PDC SP'!$F338,'00 Alimenta'!D:D)","v":-66200383.810000002},{"$f":"SUMIF('00 Alimenta'!$B:$B,'00 PDC SP'!$F338,'00 Alimenta'!E:E)","v":-2925362.99},{"$f":"SUMIF('00 Alimenta'!$B:$B,'00 PDC SP'!$F338,'00 Alimenta'!F:F)","v":-2791997.79},{"$f":"SUMIF('00 Alimenta'!$B:$B,'00 PDC SP'!$F338,'00 Alimenta'!G:G)","v":-66333749.009999998},{"$f":"SUMIF('00 Alimenta'!$B:$B,'00 PDC SP'!$F338,'00 Alimenta'!H:H)","v":-4163720.13},{"$f":"SUMIF('00 Alimenta'!$B:$B,'00 PDC SP'!$F338,'00 Alimenta'!I:I)","v":-70.78},-70497398.359999999]
["AAA430","AA","AAA430",3,null,"0202021101","F.do amm.to attrezzature sanitarie e scientifiche < 516 euro",{"$f":"SUMIF('00 Alimenta'!$B:$B,'00 PDC SP'!$F339,'00 Alimenta'!D:D)","v":0},{"$f":"SUMIF('00 Alimenta'!$B:$B,'00 PDC SP'!$F339,'00 Alimenta'!E:E)","v":0},{"$f":"SUMIF('00 Alimenta'!$B:$B,'00 PDC SP'!$F339,'00 Alimenta'!F:F)","v":0},{"$f":"SUMIF('00 Alimenta'!$B:$B,'00 PDC SP'!$F339,'00 Alimenta'!G:G)","v":0},{"$f":"SUMIF('00 Alimenta'!$B:$B,'00 PDC SP'!$F339,'00 Alimenta'!H:H)","v":0},{"$f":"SUMIF('00 Alimenta'!$B:$B,'00 PDC SP'!$F339,'00 Alimenta'!I:I)","v":0},0]
["AAA460","AA","AAA460",3,null,"0202021201","F.do Amm.to mobili e arredi",{"$f":"SUMIF('00 Alimenta'!$B:$B,'00 PDC SP'!$F340,'00 Alimenta'!D:D)","v":-8512357.8499999996},{"$f":"SUMIF('00 Alimenta'!$B:$B,'00 PDC SP'!$F340,'00 Alimenta'!E:E)","v":-363135.86},{"$f":"SUMIF('00 Alimenta'!$B:$B,'00 PDC SP'!$F340,'00 Alimenta'!F:F)","v":-152898.04},{"$f":"SUMIF('00 Alimenta'!$B:$B,'00 PDC SP'!$F340,'00 Alimenta'!G:G)","v":-8722595.6699999999},{"$f":"SUMIF('00 Alimenta'!$B:$B,'00 PDC SP'!$F340,'00 Alimenta'!H:H)","v":-361188.29},{"$f":"SUMIF('00 Alimenta'!$B:$B,'00 PDC SP'!$F340,'00 Alimenta'!I:I)","v":0},-9083783.959999999]
["AAA460","AA","AAA460",3,null,"0202021301","F.do Amm.to mobili d'ufficio",{"$f":"SUMIF('00 Alimenta'!$B:$B,'00 PDC SP'!$F341,'00 Alimenta'!D:D)","v":0},{"$f":"SUMIF('00 Alimenta'!$B:$B,'00 PDC SP'!$F341,'00 Alimenta'!E:E)","v":0},{"$f":"SUMIF('00 Alimenta'!$B:$B,'00 PDC SP'!$F341,'00 Alimenta'!F:F)","v":0},{"$f":"SUMIF('00 Alimenta'!$B:$B,'00 PDC SP'!$F341,'00 Alimenta'!G:G)","v":0},{"$f":"SUMIF('00 Alimenta'!$B:$B,'00 PDC SP'!$F341,'00 Alimenta'!H:H)","v":0},{"$f":"SUMIF('00 Alimenta'!$B:$B,'00 PDC SP'!$F341,'00 Alimenta'!I:I)","v":0},0]
["AAA460","AA","AAA460",3,null,"0202021401","F.do amm.to mobili d'ufficio < 516 euro",{"$f":"SUMIF('00 Alimenta'!$B:$B,'00 PDC SP'!$F342,'00 Alimenta'!D:D)","v":0},{"$f":"SUMIF('00 Alimenta'!$B:$B,'00 PDC SP'!$F342,'00 Alimenta'!E:E)","v":0},{"$f":"SUMIF('00 Alimenta'!$B:$B,'00 PDC SP'!$F342,'00 Alimenta'!F:F)","v":0},{"$f":"SUMIF('00 Alimenta'!$B:$B,'00 PDC SP'!$F342,'00 Alimenta'!G:G)","v":0},{"$f":"SUMIF('00 Alimenta'!$B:$B,'00 PDC SP'!$F342,'00 Alimenta'!H:H)","v":0},{"$f":"SUMIF('00 Alimenta'!$B:$B,'00 PDC SP'!$F342,'00 Alimenta'!I:I)","v":0},0]
["AAA490","AA","AAA490",3,null,"0202021501","F.do Amm.to Elicotteri",{"$f":"SUMIF('00 Alimenta'!$B:$B,'00 PDC SP'!$F343,'00 Alimenta'!D:D)","v":0},{"$f":"SUMIF('00 Alimenta'!$B:$B,'00 PDC SP'!$F343,'00 Alimenta'!E:E)","v":0},{"$f":"SUMIF('00 Alimenta'!$B:$B,'00 PDC SP'!$F343,'00 Alimenta'!F:F)","v":0},{"$f":"SUMIF('00 Alimenta'!$B:$B,'00 PDC SP'!$F343,'00 Alimenta'!G:G)","v":0},{"$f":"SUMIF('00 Alimenta'!$B:$B,'00 PDC SP'!$F343,'00 Alimenta'!H:H)","v":0},{"$f":"SUMIF('00 Alimenta'!$B:$B,'00 PDC SP'!$F343,'00 Alimenta'!I:I)","v":0},0]
["AAA490","AA","AAA490",3,null,"0202021601","F.do Amm.to Ambulanze ",{"$f":"SUMIF('00 Alimenta'!$B:$B,'00 PDC SP'!$F344,'00 Alimenta'!D:D)","v":0},{"$f":"SUMIF('00 Alimenta'!$B:$B,'00 PDC SP'!$F344,'00 Alimenta'!E:E)","v":0},{"$f":"SUMIF('00 Alimenta'!$B:$B,'00 PDC SP'!$F344,'00 Alimenta'!F:F)","v":0},{"$f":"SUMIF('00 Alimenta'!$B:$B,'00 PDC SP'!$F344,'00 Alimenta'!G:G)","v":0},{"$f":"SUMIF('00 Alimenta'!$B:$B,'00 PDC SP'!$F344,'00 Alimenta'!H:H)","v":0},{"$f":"SUMIF('00 Alimenta'!$B:$B,'00 PDC SP'!$F344,'00 Alimenta'!I:I)","v":0},0]
["AAA490","AA","AAA490",3,null,"0202021701","F.do Amm.to Altri mezzi di trasporto",{"$f":"SUMIF('00 Alimenta'!$B:$B,'00 PDC SP'!$F345,'00 Alimenta'!D:D)","v":-1566393},{"$f":"SUMIF('00 Alimenta'!$B:$B,'00 PDC SP'!$F345,'00 Alimenta'!E:E)","v":-102573.35},{"$f":"SUMIF('00 Alimenta'!$B:$B,'00 PDC SP'!$F345,'00 Alimenta'!F:F)","v":-63157.24},{"$f":"SUMIF('00 Alimenta'!$B:$B,'00 PDC SP'!$F345,'00 Alimenta'!G:G)","v":-1605809.11},{"$f":"SUMIF('00 Alimenta'!$B:$B,'00 PDC SP'!$F345,'00 Alimenta'!H:H)","v":-122740.86},{"$f":"SUMIF('00 Alimenta'!$B:$B,'00 PDC SP'!$F345,'00 Alimenta'!I:I)","v":0},-1728549.9700000002]
["AAA530","AA","AAA530",3,null,"0202021801","F.do Amm.to attrezzature e macchine d'ufficio",{"$f":"SUMIF('00 Alimenta'!$B:$B,'00 PDC SP'!$F346,'00 Alimenta'!D:D)","v":0},{"$f":"SUMIF('00 Alimenta'!$B:$B,'00 PDC SP'!$F346,'00 Alimenta'!E:E)","v":0},{"$f":"SUMIF('00 Alimenta'!$B:$B,'00 PDC SP'!$F346,'00 Alimenta'!F:F)","v":0},{"$f":"SUMIF('00 Alimenta'!$B:$B,'00 PDC SP'!$F346,'00 Alimenta'!G:G)","v":0},{"$f":"SUMIF('00 Alimenta'!$B:$B,'00 PDC SP'!$F346,'00 Alimenta'!H:H)","v":0},{"$f":"SUMIF('00 Alimenta'!$B:$B,'00 PDC SP'!$F346,'00 Alimenta'!I:I)","v":0},0]
["AAA530","AA","AAA530",3,null,"0202021901","F.do Amm.to attrezzature tecnico - economali",{"$f":"SUMIF('00 Alimenta'!$B:$B,'00 PDC SP'!$F347,'00 Alimenta'!D:D)","v":0},{"$f":"SUMIF('00 Alimenta'!$B:$B,'00 PDC SP'!$F347,'00 Alimenta'!E:E)","v":0},{"$f":"SUMIF('00 Alimenta'!$B:$B,'00 PDC SP'!$F347,'00 Alimenta'!F:F)","v":0},{"$f":"SUMIF('00 Alimenta'!$B:$B,'00 PDC SP'!$F347,'00 Alimenta'!G:G)","v":0},{"$f":"SUMIF('00 Alimenta'!$B:$B,'00 PDC SP'!$F347,'00 Alimenta'!H:H)","v":0},{"$f":"SUMIF('00 Alimenta'!$B:$B,'00 PDC SP'!$F347,'00 Alimenta'!I:I)","v":0},0]
["AAA530","AA","AAA530",3,null,"0202022001","F.do Amm.to computer e macchinari elettronici",{"$f":"SUMIF('00 Alimenta'!$B:$B,'00 PDC SP'!$F348,'00 Alimenta'!D:D)","v":-4553005.97},{"$f":"SUMIF('00 Alimenta'!$B:$B,'00 PDC SP'!$F348,'00 Alimenta'!E:E)","v":-232801.69},{"$f":"SUMIF('00 Alimenta'!$B:$B,'00 PDC SP'!$F348,'00 Alimenta'!F:F)","v":-152751.62},{"$f":"SUMIF('00 Alimenta'!$B:$B,'00 PDC SP'!$F348,'00 Alimenta'!G:G)","v":-4633056.04},{"$f":"SUMIF('00 Alimenta'!$B:$B,'00 PDC SP'!$F348,'00 Alimenta'!H:H)","v":-228512.78},{"$f":"SUMIF('00 Alimenta'!$B:$B,'00 PDC SP'!$F348,'00 Alimenta'!I:I)","v":-2012.8},-4859556.0200000005]
["AAA530","AA","AAA530",3,null,"0202022101","F.do Amm.to altri beni materiali",{"$f":"SUMIF('00 Alimenta'!$B:$B,'00 PDC SP'!$F349,'00 Alimenta'!D:D)","v":-363569.19},{"$f":"SUMIF('00 Alimenta'!$B:$B,'00 PDC SP'!$F349,'00 Alimenta'!E:E)","v":-21260.63},{"$f":"SUMIF('00 Alimenta'!$B:$B,'00 PDC SP'!$F349,'00 Alimenta'!F:F)","v":-5066.79},{"$f":"SUMIF('00 Alimenta'!$B:$B,'00 PDC SP'!$F349,'00 Alimenta'!G:G)","v":-379763.03},{"$f":"SUMIF('00 Alimenta'!$B:$B,'00 PDC SP'!$F349,'00 Alimenta'!H:H)","v":-16373.87},{"$f":"SUMIF('00 Alimenta'!$B:$B,'00 PDC SP'!$F349,'00 Alimenta'!I:I)","v":0},-396136.9]
["AAA530","AA","AAA530",3,null,"0202022201","F.do Amm.to altri beni < 516 euro",{"$f":"SUMIF('00 Alimenta'!$B:$B,'00 PDC SP'!$F350,'00 Alimenta'!D:D)","v":0},{"$f":"SUMIF('00 Alimenta'!$B:$B,'00 PDC SP'!$F350,'00 Alimenta'!E:E)","v":0},{"$f":"SUMIF('00 Alimenta'!$B:$B,'00 PDC SP'!$F350,'00 Alimenta'!F:F)","v":0},{"$f":"SUMIF('00 Alimenta'!$B:$B,'00 PDC SP'!$F350,'00 Alimenta'!G:G)","v":0},{"$f":"SUMIF('00 Alimenta'!$B:$B,'00 PDC SP'!$F350,'00 Alimenta'!H:H)","v":0},{"$f":"SUMIF('00 Alimenta'!$B:$B,'00 PDC SP'!$F350,'00 Alimenta'!I:I)","v":0},0]
["AAA230","AA","AAA230",34,null,"0202030101","F.do Svalut. Costi di impianto e di ampliamento",{"$f":"SUMIF('00 Alimenta'!$B:$B,'00 PDC SP'!$F351,'00 Alimenta'!D:D)","v":0},{"$f":"SUMIF('00 Alimenta'!$B:$B,'00 PDC SP'!$F351,'00 Alimenta'!E:E)","v":0},{"$f":"SUMIF('00 Alimenta'!$B:$B,'00 PDC SP'!$F351,'00 Alimenta'!F:F)","v":0},{"$f":"SUMIF('00 Alimenta'!$B:$B,'00 PDC SP'!$F351,'00 Alimenta'!G:G)","v":0},{"$f":"SUMIF('00 Alimenta'!$B:$B,'00 PDC SP'!$F351,'00 Alimenta'!H:H)","v":0},{"$f":"SUMIF('00 Alimenta'!$B:$B,'00 PDC SP'!$F351,'00 Alimenta'!I:I)","v":0},0]
["AAA240","AA","AAA240",35,null,"0202030102","F.do Svalut. Costi di ricerca e sviluppo",{"$f":"SUMIF('00 Alimenta'!$B:$B,'00 PDC SP'!$F352,'00 Alimenta'!D:D)","v":0},{"$f":"SUMIF('00 Alimenta'!$B:$B,'00 PDC SP'!$F352,'00 Alimenta'!E:E)","v":0},{"$f":"SUMIF('00 Alimenta'!$B:$B,'00 PDC SP'!$F352,'00 Alimenta'!F:F)","v":0},{"$f":"SUMIF('00 Alimenta'!$B:$B,'00 PDC SP'!$F352,'00 Alimenta'!G:G)","v":0},{"$f":"SUMIF('00 Alimenta'!$B:$B,'00 PDC SP'!$F352,'00 Alimenta'!H:H)","v":0},{"$f":"SUMIF('00 Alimenta'!$B:$B,'00 PDC SP'!$F352,'00 Alimenta'!I:I)","v":0},0]
["AAA250","AA","AAA250",36,null,"0202030103","F.do Svalut. Diritti di brevetto e diritti di utilizzazione delle opere d'ingegno",{"$f":"SUMIF('00 Alimenta'!$B:$B,'00 PDC SP'!$F353,'00 Alimenta'!D:D)","v":0},{"$f":"SUMIF('00 Alimenta'!$B:$B,'00 PDC SP'!$F353,'00 Alimenta'!E:E)","v":0},{"$f":"SUMIF('00 Alimenta'!$B:$B,'00 PDC SP'!$F353,'00 Alimenta'!F:F)","v":0},{"$f":"SUMIF('00 Alimenta'!$B:$B,'00 PDC SP'!$F353,'00 Alimenta'!G:G)","v":0},{"$f":"SUMIF('00 Alimenta'!$B:$B,'00 PDC SP'!$F353,'00 Alimenta'!H:H)","v":0},{"$f":"SUMIF('00 Alimenta'!$B:$B,'00 PDC SP'!$F353,'00 Alimenta'!I:I)","v":0},0]
["AAA260","AA","AAA260",38,null,"0202030104","F.do Svalut.  Concessioni pluriennali",{"$f":"SUMIF('00 Alimenta'!$B:$B,'00 PDC SP'!$F354,'00 Alimenta'!D:D)","v":0},{"$f":"SUMIF('00 Alimenta'!$B:$B,'00 PDC SP'!$F354,'00 Alimenta'!E:E)","v":0},{"$f":"SUMIF('00 Alimenta'!$B:$B,'00 PDC SP'!$F354,'00 Alimenta'!F:F)","v":0},{"$f":"SUMIF('00 Alimenta'!$B:$B,'00 PDC SP'!$F354,'00 Alimenta'!G:G)","v":0},{"$f":"SUMIF('00 Alimenta'!$B:$B,'00 PDC SP'!$F354,'00 Alimenta'!H:H)","v":0},{"$f":"SUMIF('00 Alimenta'!$B:$B,'00 PDC SP'!$F354,'00 Alimenta'!I:I)","v":0},0]
["AAA260","AA","AAA260",38,null,"0202030105","F.do Svalut. Licenze d'uso software",{"$f":"SUMIF('00 Alimenta'!$B:$B,'00 PDC SP'!$F355,'00 Alimenta'!D:D)","v":0},{"$f":"SUMIF('00 Alimenta'!$B:$B,'00 PDC SP'!$F355,'00 Alimenta'!E:E)","v":0},{"$f":"SUMIF('00 Alimenta'!$B:$B,'00 PDC SP'!$F355,'00 Alimenta'!F:F)","v":0},{"$f":"SUMIF('00 Alimenta'!$B:$B,'00 PDC SP'!$F355,'00 Alimenta'!G:G)","v":0},{"$f":"SUMIF('00 Alimenta'!$B:$B,'00 PDC SP'!$F355,'00 Alimenta'!H:H)","v":0},{"$f":"SUMIF('00 Alimenta'!$B:$B,'00 PDC SP'!$F355,'00 Alimenta'!I:I)","v":0},0]
["AAA260","AA","AAA260",38,null,"0202030106","F.do Svalut. Marchi",{"$f":"SUMIF('00 Alimenta'!$B:$B,'00 PDC SP'!$F356,'00 Alimenta'!D:D)","v":0},{"$f":"SUMIF('00 Alimenta'!$B:$B,'00 PDC SP'!$F356,'00 Alimenta'!E:E)","v":0},{"$f":"SUMIF('00 Alimenta'!$B:$B,'00 PDC SP'!$F356,'00 Alimenta'!F:F)","v":0},{"$f":"SUMIF('00 Alimenta'!$B:$B,'00 PDC SP'!$F356,'00 Alimenta'!G:G)","v":0},{"$f":"SUMIF('00 Alimenta'!$B:$B,'00 PDC SP'!$F356,'00 Alimenta'!H:H)","v":0},{"$f":"SUMIF('00 Alimenta'!$B:$B,'00 PDC SP'!$F356,'00 Alimenta'!I:I)","v":0},0]
["AAA260","AA","AAA260",38,null,"0202030107","F.do Svalut. Altre immobilizzazioni immateriali",{"$f":"SUMIF('00 Alimenta'!$B:$B,'00 PDC SP'!$F357,'00 Alimenta'!D:D)","v":0},{"$f":"SUMIF('00 Alimenta'!$B:$B,'00 PDC SP'!$F357,'00 Alimenta'!E:E)","v":0},{"$f":"SUMIF('00 Alimenta'!$B:$B,'00 PDC SP'!$F357,'00 Alimenta'!F:F)","v":0},{"$f":"SUMIF('00 Alimenta'!$B:$B,'00 PDC SP'!$F357,'00 Alimenta'!G:G)","v":0},{"$f":"SUMIF('00 Alimenta'!$B:$B,'00 PDC SP'!$F357,'00 Alimenta'!H:H)","v":0},{"$f":"SUMIF('00 Alimenta'!$B:$B,'00 PDC SP'!$F357,'00 Alimenta'!I:I)","v":0},0]
["AAA560","AA","AAA560",39,null,"0202030201","F.do Svalut. Terreni",{"$f":"SUMIF('00 Alimenta'!$B:$B,'00 PDC SP'!$F358,'00 Alimenta'!D:D)","v":0},{"$f":"SUMIF('00 Alimenta'!$B:$B,'00 PDC SP'!$F358,'00 Alimenta'!E:E)","v":0},{"$f":"SUMIF('00 Alimenta'!$B:$B,'00 PDC SP'!$F358,'00 Alimenta'!F:F)","v":0},{"$f":"SUMIF('00 Alimenta'!$B:$B,'00 PDC SP'!$F358,'00 Alimenta'!G:G)","v":0},{"$f":"SUMIF('00 Alimenta'!$B:$B,'00 PDC SP'!$F358,'00 Alimenta'!H:H)","v":0},{"$f":"SUMIF('00 Alimenta'!$B:$B,'00 PDC SP'!$F358,'00 Alimenta'!I:I)","v":0},0]
["AAA570","AA","AAA570",40,null,"0202030202","F.do Svalut. Fabbricati non strumentali (disponibili)",{"$f":"SUMIF('00 Alimenta'!$B:$B,'00 PDC SP'!$F359,'00 Alimenta'!D:D)","v":0},{"$f":"SUMIF('00 Alimenta'!$B:$B,'00 PDC SP'!$F359,'00 Alimenta'!E:E)","v":0},{"$f":"SUMIF('00 Alimenta'!$B:$B,'00 PDC SP'!$F359,'00 Alimenta'!F:F)","v":0},{"$f":"SUMIF('00 Alimenta'!$B:$B,'00 PDC SP'!$F359,'00 Alimenta'!G:G)","v":0},{"$f":"SUMIF('00 Alimenta'!$B:$B,'00 PDC SP'!$F359,'00 Alimenta'!H:H)","v":0},{"$f":"SUMIF('00 Alimenta'!$B:$B,'00 PDC SP'!$F359,'00 Alimenta'!I:I)","v":0},0]
["AAA570","AA","AAA570",40,null,"0202030203","F.do Svalut. Fabbricati strumentali (indisponibili)",{"$f":"SUMIF('00 Alimenta'!$B:$B,'00 PDC SP'!$F360,'00 Alimenta'!D:D)","v":0},{"$f":"SUMIF('00 Alimenta'!$B:$B,'00 PDC SP'!$F360,'00 Alimenta'!E:E)","v":0},{"$f":"SUMIF('00 Alimenta'!$B:$B,'00 PDC SP'!$F360,'00 Alimenta'!F:F)","v":0},{"$f":"SUMIF('00 Alimenta'!$B:$B,'00 PDC SP'!$F360,'00 Alimenta'!G:G)","v":0},{"$f":"SUMIF('00 Alimenta'!$B:$B,'00 PDC SP'!$F360,'00 Alimenta'!H:H)","v":0},{"$f":"SUMIF('00 Alimenta'!$B:$B,'00 PDC SP'!$F360,'00 Alimenta'!I:I)","v":0},0]
["AAA580","AA","AAA580",41,null,"0202030204","F.do Svalut. Impianti e macchinari",{"$f":"SUMIF('00 Alimenta'!$B:$B,'00 PDC SP'!$F361,'00 Alimenta'!D:D)","v":0},{"$f":"SUMIF('00 Alimenta'!$B:$B,'00 PDC SP'!$F361,'00 Alimenta'!E:E)","v":0},{"$f":"SUMIF('00 Alimenta'!$B:$B,'00 PDC SP'!$F361,'00 Alimenta'!F:F)","v":0},{"$f":"SUMIF('00 Alimenta'!$B:$B,'00 PDC SP'!$F361,'00 Alimenta'!G:G)","v":0},{"$f":"SUMIF('00 Alimenta'!$B:$B,'00 PDC SP'!$F361,'00 Alimenta'!H:H)","v":0},{"$f":"SUMIF('00 Alimenta'!$B:$B,'00 PDC SP'!$F361,'00 Alimenta'!I:I)","v":0},0]
["AAA590","AA","AAA590",42,null,"0202030205","F.do Svalut. Attrezzature sanitarie e scientifiche",{"$f":"SUMIF('00 Alimenta'!$B:$B,'00 PDC SP'!$F362,'00 Alimenta'!D:D)","v":0},{"$f":"SUMIF('00 Alimenta'!$B:$B,'00 PDC SP'!$F362,'00 Alimenta'!E:E)","v":0},{"$f":"SUMIF('00 Alimenta'!$B:$B,'00 PDC SP'!$F362,'00 Alimenta'!F:F)","v":0},{"$f":"SUMIF('00 Alimenta'!$B:$B,'00 PDC SP'!$F362,'00 Alimenta'!G:G)","v":0},{"$f":"SUMIF('00 Alimenta'!$B:$B,'00 PDC SP'!$F362,'00 Alimenta'!H:H)","v":0},{"$f":"SUMIF('00 Alimenta'!$B:$B,'00 PDC SP'!$F362,'00 Alimenta'!I:I)","v":0},0]
["AAA600","AA","AAA600",43,null,"0202030206","F.do Svalut. Mobili e arredi",{"$f":"SUMIF('00 Alimenta'!$B:$B,'00 PDC SP'!$F363,'00 Alimenta'!D:D)","v":0},{"$f":"SUMIF('00 Alimenta'!$B:$B,'00 PDC SP'!$F363,'00 Alimenta'!E:E)","v":0},{"$f":"SUMIF('00 Alimenta'!$B:$B,'00 PDC SP'!$F363,'00 Alimenta'!F:F)","v":0},{"$f":"SUMIF('00 Alimenta'!$B:$B,'00 PDC SP'!$F363,'00 Alimenta'!G:G)","v":0},{"$f":"SUMIF('00 Alimenta'!$B:$B,'00 PDC SP'!$F363,'00 Alimenta'!H:H)","v":0},{"$f":"SUMIF('00 Alimenta'!$B:$B,'00 PDC SP'!$F363,'00 Alimenta'!I:I)","v":0},0]
["AAA610","AA","AAA610",44,null,"0202030207","F.do Svalut. Automezzi e altri mezzi di trasporto",{"$f":"SUMIF('00 Alimenta'!$B:$B,'00 PDC SP'!$F364,'00 Alimenta'!D:D)","v":0},{"$f":"SUMIF('00 Alimenta'!$B:$B,'00 PDC SP'!$F364,'00 Alimenta'!E:E)","v":0},{"$f":"SUMIF('00 Alimenta'!$B:$B,'00 PDC SP'!$F364,'00 Alimenta'!F:F)","v":0},{"$f":"SUMIF('00 Alimenta'!$B:$B,'00 PDC SP'!$F364,'00 Alimenta'!G:G)","v":0},{"$f":"SUMIF('00 Alimenta'!$B:$B,'00 PDC SP'!$F364,'00 Alimenta'!H:H)","v":0},{"$f":"SUMIF('00 Alimenta'!$B:$B,'00 PDC SP'!$F364,'00 Alimenta'!I:I)","v":0},0]
["AAA620","AA","AAA620",45,null,"0202030208","F.do Svalut. Oggetti d'arte",{"$f":"SUMIF('00 Alimenta'!$B:$B,'00 PDC SP'!$F365,'00 Alimenta'!D:D)","v":0},{"$f":"SUMIF('00 Alimenta'!$B:$B,'00 PDC SP'!$F365,'00 Alimenta'!E:E)","v":0},{"$f":"SUMIF('00 Alimenta'!$B:$B,'00 PDC SP'!$F365,'00 Alimenta'!F:F)","v":0},{"$f":"SUMIF('00 Alimenta'!$B:$B,'00 PDC SP'!$F365,'00 Alimenta'!G:G)","v":0},{"$f":"SUMIF('00 Alimenta'!$B:$B,'00 PDC SP'!$F365,'00 Alimenta'!H:H)","v":0},{"$f":"SUMIF('00 Alimenta'!$B:$B,'00 PDC SP'!$F365,'00 Alimenta'!I:I)","v":0},0]
["AAA630","AA","AAA630",45,null,"0202030209","F.do Svalut. Altre immobilizzazioni materiali",{"$f":"SUMIF('00 Alimenta'!$B:$B,'00 PDC SP'!$F366,'00 Alimenta'!D:D)","v":0},{"$f":"SUMIF('00 Alimenta'!$B:$B,'00 PDC SP'!$F366,'00 Alimenta'!E:E)","v":0},{"$f":"SUMIF('00 Alimenta'!$B:$B,'00 PDC SP'!$F366,'00 Alimenta'!F:F)","v":0},{"$f":"SUMIF('00 Alimenta'!$B:$B,'00 PDC SP'!$F366,'00 Alimenta'!G:G)","v":0},{"$f":"SUMIF('00 Alimenta'!$B:$B,'00 PDC SP'!$F366,'00 Alimenta'!H:H)","v":0},{"$f":"SUMIF('00 Alimenta'!$B:$B,'00 PDC SP'!$F366,'00 Alimenta'!I:I)","v":0},0]
["AAA690","AA","AAA690",46,null,"0202030301","F.do svalutazione crediti finanziari",{"$f":"SUMIF('00 Alimenta'!$B:$B,'00 PDC SP'!$F367,'00 Alimenta'!D:D)","v":0},{"$f":"SUMIF('00 Alimenta'!$B:$B,'00 PDC SP'!$F367,'00 Alimenta'!E:E)","v":0},{"$f":"SUMIF('00 Alimenta'!$B:$B,'00 PDC SP'!$F367,'00 Alimenta'!F:F)","v":0},{"$f":"SUMIF('00 Alimenta'!$B:$B,'00 PDC SP'!$F367,'00 Alimenta'!G:G)","v":0},{"$f":"SUMIF('00 Alimenta'!$B:$B,'00 PDC SP'!$F367,'00 Alimenta'!H:H)","v":0},{"$f":"SUMIF('00 Alimenta'!$B:$B,'00 PDC SP'!$F367,'00 Alimenta'!I:I)","v":0},0]
["ABA090","AB","ABA090",10,null,"0202030401","F.do deprezzamento magazzino beni sanitari",{"$f":"SUMIF('00 Alimenta'!$B:$B,'00 PDC SP'!$F368,'00 Alimenta'!D:D)","v":0},{"$f":"SUMIF('00 Alimenta'!$B:$B,'00 PDC SP'!$F368,'00 Alimenta'!E:E)","v":0},{"$f":"SUMIF('00 Alimenta'!$B:$B,'00 PDC SP'!$F368,'00 Alimenta'!F:F)","v":0},{"$f":"SUMIF('00 Alimenta'!$B:$B,'00 PDC SP'!$F368,'00 Alimenta'!G:G)","v":0},{"$f":"SUMIF('00 Alimenta'!$B:$B,'00 PDC SP'!$F368,'00 Alimenta'!H:H)","v":0},{"$f":"SUMIF('00 Alimenta'!$B:$B,'00 PDC SP'!$F368,'00 Alimenta'!I:I)","v":0},0]
["ABA170","AB","ABA170",10,null,"0202030402","F.do deprezzamento magazzino beni non sanitari",{"$f":"SUMIF('00 Alimenta'!$B:$B,'00 PDC SP'!$F369,'00 Alimenta'!D:D)","v":0},{"$f":"SUMIF('00 Alimenta'!$B:$B,'00 PDC SP'!$F369,'00 Alimenta'!E:E)","v":0},{"$f":"SUMIF('00 Alimenta'!$B:$B,'00 PDC SP'!$F369,'00 Alimenta'!F:F)","v":0},{"$f":"SUMIF('00 Alimenta'!$B:$B,'00 PDC SP'!$F369,'00 Alimenta'!G:G)","v":0},{"$f":"SUMIF('00 Alimenta'!$B:$B,'00 PDC SP'!$F369,'00 Alimenta'!H:H)","v":0},{"$f":"SUMIF('00 Alimenta'!$B:$B,'00 PDC SP'!$F369,'00 Alimenta'!I:I)","v":0},0]
["ABA230FS","AB","ABA230",10,"FS","0202030501","F.do svalutazione crediti v/Stato per mobilità attiva pubblica extraregionale",{"$f":"SUMIF('00 Alimenta'!$B:$B,'00 PDC SP'!$F370,'00 Alimenta'!D:D)","v":0},{"$f":"SUMIF('00 Alimenta'!$B:$B,'00 PDC SP'!$F370,'00 Alimenta'!E:E)","v":0},{"$f":"SUMIF('00 Alimenta'!$B:$B,'00 PDC SP'!$F370,'00 Alimenta'!F:F)","v":0},{"$f":"SUMIF('00 Alimenta'!$B:$B,'00 PDC SP'!$F370,'00 Alimenta'!G:G)","v":0},{"$f":"SUMIF('00 Alimenta'!$B:$B,'00 PDC SP'!$F370,'00 Alimenta'!H:H)","v":0},{"$f":"SUMIF('00 Alimenta'!$B:$B,'00 PDC SP'!$F370,'00 Alimenta'!I:I)","v":0},0]
["ABA230FS","AB","ABA230",10,"FS","0202030502","F.do svalutazione crediti v/Stato per mobilità attiva privata extraregionale",{"$f":"SUMIF('00 Alimenta'!$B:$B,'00 PDC SP'!$F371,'00 Alimenta'!D:D)","v":0},{"$f":"SUMIF('00 Alimenta'!$B:$B,'00 PDC SP'!$F371,'00 Alimenta'!E:E)","v":0},{"$f":"SUMIF('00 Alimenta'!$B:$B,'00 PDC SP'!$F371,'00 Alimenta'!F:F)","v":0},{"$f":"SUMIF('00 Alimenta'!$B:$B,'00 PDC SP'!$F371,'00 Alimenta'!G:G)","v":0},{"$f":"SUMIF('00 Alimenta'!$B:$B,'00 PDC SP'!$F371,'00 Alimenta'!H:H)","v":0},{"$f":"SUMIF('00 Alimenta'!$B:$B,'00 PDC SP'!$F371,'00 Alimenta'!I:I)","v":0},0]
["ABA240FS","AB","ABA240",10,"FS","0202030503","F.do svalutazione crediti v/Stato per mobilità attiva internazionale",{"$f":"SUMIF('00 Alimenta'!$B:$B,'00 PDC SP'!$F372,'00 Alimenta'!D:D)","v":0},{"$f":"SUMIF('00 Alimenta'!$B:$B,'00 PDC SP'!$F372,'00 Alimenta'!E:E)","v":0},{"$f":"SUMIF('00 Alimenta'!$B:$B,'00 PDC SP'!$F372,'00 Alimenta'!F:F)","v":0},{"$f":"SUMIF('00 Alimenta'!$B:$B,'00 PDC SP'!$F372,'00 Alimenta'!G:G)","v":0},{"$f":"SUMIF('00 Alimenta'!$B:$B,'00 PDC SP'!$F372,'00 Alimenta'!H:H)","v":0},{"$f":"SUMIF('00 Alimenta'!$B:$B,'00 PDC SP'!$F372,'00 Alimenta'!I:I)","v":0},0]
["ABA250FS","AB","ABA250",10,"FS","0202030504","F.do svalutazione crediti v/Stato per acconto quota fabbisogno sanitario regionale standard",{"$f":"SUMIF('00 Alimenta'!$B:$B,'00 PDC SP'!$F373,'00 Alimenta'!D:D)","v":0},{"$f":"SUMIF('00 Alimenta'!$B:$B,'00 PDC SP'!$F373,'00 Alimenta'!E:E)","v":0},{"$f":"SUMIF('00 Alimenta'!$B:$B,'00 PDC SP'!$F373,'00 Alimenta'!F:F)","v":0},{"$f":"SUMIF('00 Alimenta'!$B:$B,'00 PDC SP'!$F373,'00 Alimenta'!G:G)","v":0},{"$f":"SUMIF('00 Alimenta'!$B:$B,'00 PDC SP'!$F373,'00 Alimenta'!H:H)","v":0},{"$f":"SUMIF('00 Alimenta'!$B:$B,'00 PDC SP'!$F373,'00 Alimenta'!I:I)","v":0},0]
["ABA270FS","AB","ABA270",10,"FS","0202030505","F.do svalutazione crediti v/Stato per spesa corrente - altro",{"$f":"SUMIF('00 Alimenta'!$B:$B,'00 PDC SP'!$F374,'00 Alimenta'!D:D)","v":0},{"$f":"SUMIF('00 Alimenta'!$B:$B,'00 PDC SP'!$F374,'00 Alimenta'!E:E)","v":0},{"$f":"SUMIF('00 Alimenta'!$B:$B,'00 PDC SP'!$F374,'00 Alimenta'!F:F)","v":0},{"$f":"SUMIF('00 Alimenta'!$B:$B,'00 PDC SP'!$F374,'00 Alimenta'!G:G)","v":0},{"$f":"SUMIF('00 Alimenta'!$B:$B,'00 PDC SP'!$F374,'00 Alimenta'!H:H)","v":0},{"$f":"SUMIF('00 Alimenta'!$B:$B,'00 PDC SP'!$F374,'00 Alimenta'!I:I)","v":0},0]
["ABA280FS","AB","ABA280",10,"FS","0202030506","F.do svalutazione crediti v/Stato per finanziamenti per investimenti",{"$f":"SUMIF('00 Alimenta'!$B:$B,'00 PDC SP'!$F375,'00 Alimenta'!D:D)","v":0},{"$f":"SUMIF('00 Alimenta'!$B:$B,'00 PDC SP'!$F375,'00 Alimenta'!E:E)","v":0},{"$f":"SUMIF('00 Alimenta'!$B:$B,'00 PDC SP'!$F375,'00 Alimenta'!F:F)","v":0},{"$f":"SUMIF('00 Alimenta'!$B:$B,'00 PDC SP'!$F375,'00 Alimenta'!G:G)","v":0},{"$f":"SUMIF('00 Alimenta'!$B:$B,'00 PDC SP'!$F375,'00 Alimenta'!H:H)","v":0},{"$f":"SUMIF('00 Alimenta'!$B:$B,'00 PDC SP'!$F375,'00 Alimenta'!I:I)","v":0},0]
["ABA300FS","AB","ABA300",10,"FS","0202030507","F.do svalutazione crediti v/Stato per ricerca corrente - Ministero della Salute",{"$f":"SUMIF('00 Alimenta'!$B:$B,'00 PDC SP'!$F376,'00 Alimenta'!D:D)","v":0},{"$f":"SUMIF('00 Alimenta'!$B:$B,'00 PDC SP'!$F376,'00 Alimenta'!E:E)","v":0},{"$f":"SUMIF('00 Alimenta'!$B:$B,'00 PDC SP'!$F376,'00 Alimenta'!F:F)","v":0},{"$f":"SUMIF('00 Alimenta'!$B:$B,'00 PDC SP'!$F376,'00 Alimenta'!G:G)","v":0},{"$f":"SUMIF('00 Alimenta'!$B:$B,'00 PDC SP'!$F376,'00 Alimenta'!H:H)","v":0},{"$f":"SUMIF('00 Alimenta'!$B:$B,'00 PDC SP'!$F376,'00 Alimenta'!I:I)","v":0},0]
["ABA310FS","AB","ABA310",10,"FS","0202030508","F.do svalutazione crediti v/Stato per ricerca finalizzata - Ministero della Salute",{"$f":"SUMIF('00 Alimenta'!$B:$B,'00 PDC SP'!$F377,'00 Alimenta'!D:D)","v":0},{"$f":"SUMIF('00 Alimenta'!$B:$B,'00 PDC SP'!$F377,'00 Alimenta'!E:E)","v":0},{"$f":"SUMIF('00 Alimenta'!$B:$B,'00 PDC SP'!$F377,'00 Alimenta'!F:F)","v":0},{"$f":"SUMIF('00 Alimenta'!$B:$B,'00 PDC SP'!$F377,'00 Alimenta'!G:G)","v":0},{"$f":"SUMIF('00 Alimenta'!$B:$B,'00 PDC SP'!$F377,'00 Alimenta'!H:H)","v":0},{"$f":"SUMIF('00 Alimenta'!$B:$B,'00 PDC SP'!$F377,'00 Alimenta'!I:I)","v":0},0]
["ABA320FS","AB","ABA320",10,"FS","0202030509","F.do svalutazione crediti v/Stato per ricerca - altre Amministrazioni centrali",{"$f":"SUMIF('00 Alimenta'!$B:$B,'00 PDC SP'!$F378,'00 Alimenta'!D:D)","v":0},{"$f":"SUMIF('00 Alimenta'!$B:$B,'00 PDC SP'!$F378,'00 Alimenta'!E:E)","v":0},{"$f":"SUMIF('00 Alimenta'!$B:$B,'00 PDC SP'!$F378,'00 Alimenta'!F:F)","v":0},{"$f":"SUMIF('00 Alimenta'!$B:$B,'00 PDC SP'!$F378,'00 Alimenta'!G:G)","v":0},{"$f":"SUMIF('00 Alimenta'!$B:$B,'00 PDC SP'!$F378,'00 Alimenta'!H:H)","v":0},{"$f":"SUMIF('00 Alimenta'!$B:$B,'00 PDC SP'!$F378,'00 Alimenta'!I:I)","v":0},0]
["ABA330FS","AB","ABA330",10,"FS","0202030510","F.do svalutazione crediti v/Stato per ricerca - finanziamenti per investimenti",{"$f":"SUMIF('00 Alimenta'!$B:$B,'00 PDC SP'!$F379,'00 Alimenta'!D:D)","v":0},{"$f":"SUMIF('00 Alimenta'!$B:$B,'00 PDC SP'!$F379,'00 Alimenta'!E:E)","v":0},{"$f":"SUMIF('00 Alimenta'!$B:$B,'00 PDC SP'!$F379,'00 Alimenta'!F:F)","v":0},{"$f":"SUMIF('00 Alimenta'!$B:$B,'00 PDC SP'!$F379,'00 Alimenta'!G:G)","v":0},{"$f":"SUMIF('00 Alimenta'!$B:$B,'00 PDC SP'!$F379,'00 Alimenta'!H:H)","v":0},{"$f":"SUMIF('00 Alimenta'!$B:$B,'00 PDC SP'!$F379,'00 Alimenta'!I:I)","v":0},0]
["ABA340FS","AB","ABA340",10,"FS","0202030511","F.do svalutazione crediti v/prefetture",{"$f":"SUMIF('00 Alimenta'!$B:$B,'00 PDC SP'!$F380,'00 Alimenta'!D:D)","v":0},{"$f":"SUMIF('00 Alimenta'!$B:$B,'00 PDC SP'!$F380,'00 Alimenta'!E:E)","v":0},{"$f":"SUMIF('00 Alimenta'!$B:$B,'00 PDC SP'!$F380,'00 Alimenta'!F:F)","v":0},{"$f":"SUMIF('00 Alimenta'!$B:$B,'00 PDC SP'!$F380,'00 Alimenta'!G:G)","v":0},{"$f":"SUMIF('00 Alimenta'!$B:$B,'00 PDC SP'!$F380,'00 Alimenta'!H:H)","v":0},{"$f":"SUMIF('00 Alimenta'!$B:$B,'00 PDC SP'!$F380,'00 Alimenta'!I:I)","v":0},0]
["ABA460FS","AB","ABA460",10,"FS","0202030512","F.do svalutazione crediti v/Regione o Provincia Autonoma per ricerca",{"$f":"SUMIF('00 Alimenta'!$B:$B,'00 PDC SP'!$F381,'00 Alimenta'!D:D)","v":0},{"$f":"SUMIF('00 Alimenta'!$B:$B,'00 PDC SP'!$F381,'00 Alimenta'!E:E)","v":0},{"$f":"SUMIF('00 Alimenta'!$B:$B,'00 PDC SP'!$F381,'00 Alimenta'!F:F)","v":0},{"$f":"SUMIF('00 Alimenta'!$B:$B,'00 PDC SP'!$F381,'00 Alimenta'!G:G)","v":0},{"$f":"SUMIF('00 Alimenta'!$B:$B,'00 PDC SP'!$F381,'00 Alimenta'!H:H)","v":0},{"$f":"SUMIF('00 Alimenta'!$B:$B,'00 PDC SP'!$F381,'00 Alimenta'!I:I)","v":0},0]
["ABA480FS","AB","ABA480",10,"FS","0202030513","F.do svalutazione crediti v/Regione o Provincia Autonoma per finanziamenti per investimenti",{"$f":"SUMIF('00 Alimenta'!$B:$B,'00 PDC SP'!$F382,'00 Alimenta'!D:D)","v":0},{"$f":"SUMIF('00 Alimenta'!$B:$B,'00 PDC SP'!$F382,'00 Alimenta'!E:E)","v":0},{"$f":"SUMIF('00 Alimenta'!$B:$B,'00 PDC SP'!$F382,'00 Alimenta'!F:F)","v":0},{"$f":"SUMIF('00 Alimenta'!$B:$B,'00 PDC SP'!$F382,'00 Alimenta'!G:G)","v":0},{"$f":"SUMIF('00 Alimenta'!$B:$B,'00 PDC SP'!$F382,'00 Alimenta'!H:H)","v":0},{"$f":"SUMIF('00 Alimenta'!$B:$B,'00 PDC SP'!$F382,'00 Alimenta'!I:I)","v":0},0]
["ABA490FS","AB","ABA490",10,"FS","0202030514","F.do svalutazione crediti v/Regione per incremento fondo di dotazione",{"$f":"SUMIF('00 Alimenta'!$B:$B,'00 PDC SP'!$F383,'00 Alimenta'!D:D)","v":0},{"$f":"SUMIF('00 Alimenta'!$B:$B,'00 PDC SP'!$F383,'00 Alimenta'!E:E)","v":0},{"$f":"SUMIF('00 Alimenta'!$B:$B,'00 PDC SP'!$F383,'00 Alimenta'!F:F)","v":0},{"$f":"SUMIF('00 Alimenta'!$B:$B,'00 PDC SP'!$F383,'00 Alimenta'!G:G)","v":0},{"$f":"SUMIF('00 Alimenta'!$B:$B,'00 PDC SP'!$F383,'00 Alimenta'!H:H)","v":0},{"$f":"SUMIF('00 Alimenta'!$B:$B,'00 PDC SP'!$F383,'00 Alimenta'!I:I)","v":0},0]
["ABA500FS","AB","ABA500",10,"FS","0202030515","F.do svalutazione crediti v/Regione per ripiano perdite",{"$f":"SUMIF('00 Alimenta'!$B:$B,'00 PDC SP'!$F384,'00 Alimenta'!D:D)","v":0},{"$f":"SUMIF('00 Alimenta'!$B:$B,'00 PDC SP'!$F384,'00 Alimenta'!E:E)","v":0},{"$f":"SUMIF('00 Alimenta'!$B:$B,'00 PDC SP'!$F384,'00 Alimenta'!F:F)","v":0},{"$f":"SUMIF('00 Alimenta'!$B:$B,'00 PDC SP'!$F384,'00 Alimenta'!G:G)","v":0},{"$f":"SUMIF('00 Alimenta'!$B:$B,'00 PDC SP'!$F384,'00 Alimenta'!H:H)","v":0},{"$f":"SUMIF('00 Alimenta'!$B:$B,'00 PDC SP'!$F384,'00 Alimenta'!I:I)","v":0},0]
["ABA510FS","AB","ABA510",10,"FS","0202030516","F.do svalutazione crediti v/Regione per copertura debiti al 31/12/2005",{"$f":"SUMIF('00 Alimenta'!$B:$B,'00 PDC SP'!$F385,'00 Alimenta'!D:D)","v":0},{"$f":"SUMIF('00 Alimenta'!$B:$B,'00 PDC SP'!$F385,'00 Alimenta'!E:E)","v":0},{"$f":"SUMIF('00 Alimenta'!$B:$B,'00 PDC SP'!$F385,'00 Alimenta'!F:F)","v":0},{"$f":"SUMIF('00 Alimenta'!$B:$B,'00 PDC SP'!$F385,'00 Alimenta'!G:G)","v":0},{"$f":"SUMIF('00 Alimenta'!$B:$B,'00 PDC SP'!$F385,'00 Alimenta'!H:H)","v":0},{"$f":"SUMIF('00 Alimenta'!$B:$B,'00 PDC SP'!$F385,'00 Alimenta'!I:I)","v":0},0]
["ABA530FS","AB","ABA530",10,"FS","0202030517","F.do svalutazione crediti v/Comuni",{"$f":"SUMIF('00 Alimenta'!$B:$B,'00 PDC SP'!$F386,'00 Alimenta'!D:D)","v":0},{"$f":"SUMIF('00 Alimenta'!$B:$B,'00 PDC SP'!$F386,'00 Alimenta'!E:E)","v":0},{"$f":"SUMIF('00 Alimenta'!$B:$B,'00 PDC SP'!$F386,'00 Alimenta'!F:F)","v":0},{"$f":"SUMIF('00 Alimenta'!$B:$B,'00 PDC SP'!$F386,'00 Alimenta'!G:G)","v":0},{"$f":"SUMIF('00 Alimenta'!$B:$B,'00 PDC SP'!$F386,'00 Alimenta'!H:H)","v":0},{"$f":"SUMIF('00 Alimenta'!$B:$B,'00 PDC SP'!$F386,'00 Alimenta'!I:I)","v":0},0]
["ABA580FS","AB","ABA580",10,"FS","0202030518","F.do svalutazione Crediti  v/Aziende sanitarie pubbliche della Regione",{"$f":"SUMIF('00 Alimenta'!$B:$B,'00 PDC SP'!$F387,'00 Alimenta'!D:D)","v":-3259926.7},{"$f":"SUMIF('00 Alimenta'!$B:$B,'00 PDC SP'!$F387,'00 Alimenta'!E:E)","v":0},{"$f":"SUMIF('00 Alimenta'!$B:$B,'00 PDC SP'!$F387,'00 Alimenta'!F:F)","v":0},{"$f":"SUMIF('00 Alimenta'!$B:$B,'00 PDC SP'!$F387,'00 Alimenta'!G:G)","v":-3259926.7},{"$f":"SUMIF('00 Alimenta'!$B:$B,'00 PDC SP'!$F387,'00 Alimenta'!H:H)","v":0},{"$f":"SUMIF('00 Alimenta'!$B:$B,'00 PDC SP'!$F387,'00 Alimenta'!I:I)","v":0},-3259926.7]
["ABA600FS","AB","ABA600",10,"FS","0202030519","F.do svalutazione crediti v/Aziende sanitarie pubbliche Extraregione",{"$f":"SUMIF('00 Alimenta'!$B:$B,'00 PDC SP'!$F388,'00 Alimenta'!D:D)","v":0},{"$f":"SUMIF('00 Alimenta'!$B:$B,'00 PDC SP'!$F388,'00 Alimenta'!E:E)","v":0},{"$f":"SUMIF('00 Alimenta'!$B:$B,'00 PDC SP'!$F388,'00 Alimenta'!F:F)","v":0},{"$f":"SUMIF('00 Alimenta'!$B:$B,'00 PDC SP'!$F388,'00 Alimenta'!G:G)","v":0},{"$f":"SUMIF('00 Alimenta'!$B:$B,'00 PDC SP'!$F388,'00 Alimenta'!H:H)","v":0},{"$f":"SUMIF('00 Alimenta'!$B:$B,'00 PDC SP'!$F388,'00 Alimenta'!I:I)","v":0},0]
["ABA620FS","AB","ABA620",10,"FS","0202030520","F.do svalutazione crediti v/enti regionali",{"$f":"SUMIF('00 Alimenta'!$B:$B,'00 PDC SP'!$F389,'00 Alimenta'!D:D)","v":0},{"$f":"SUMIF('00 Alimenta'!$B:$B,'00 PDC SP'!$F389,'00 Alimenta'!E:E)","v":0},{"$f":"SUMIF('00 Alimenta'!$B:$B,'00 PDC SP'!$F389,'00 Alimenta'!F:F)","v":0},{"$f":"SUMIF('00 Alimenta'!$B:$B,'00 PDC SP'!$F389,'00 Alimenta'!G:G)","v":0},{"$f":"SUMIF('00 Alimenta'!$B:$B,'00 PDC SP'!$F389,'00 Alimenta'!H:H)","v":0},{"$f":"SUMIF('00 Alimenta'!$B:$B,'00 PDC SP'!$F389,'00 Alimenta'!I:I)","v":0},0]
["ABA630FS","AB","ABA630",10,"FS","0202030521","F.do svalutazione crediti verso sperimentazioni gestionali",{"$f":"SUMIF('00 Alimenta'!$B:$B,'00 PDC SP'!$F390,'00 Alimenta'!D:D)","v":0},{"$f":"SUMIF('00 Alimenta'!$B:$B,'00 PDC SP'!$F390,'00 Alimenta'!E:E)","v":0},{"$f":"SUMIF('00 Alimenta'!$B:$B,'00 PDC SP'!$F390,'00 Alimenta'!F:F)","v":0},{"$f":"SUMIF('00 Alimenta'!$B:$B,'00 PDC SP'!$F390,'00 Alimenta'!G:G)","v":0},{"$f":"SUMIF('00 Alimenta'!$B:$B,'00 PDC SP'!$F390,'00 Alimenta'!H:H)","v":0},{"$f":"SUMIF('00 Alimenta'!$B:$B,'00 PDC SP'!$F390,'00 Alimenta'!I:I)","v":0},0]
[{"$f":"IF(E391=\"\",C391,C391&E391)","v":"ABA640FS"},{"$f":"LEFT(C391,2)","v":"AB"},"ABA640",10,"FS","0202030522","F.do svalutazione crediti v/altre partecipate",{"$f":"SUMIF('00 Alimenta'!$B:$B,'00 PDC SP'!$F391,'00 Alimenta'!D:D)","v":0},{"$f":"SUMIF('00 Alimenta'!$B:$B,'00 PDC SP'!$F391,'00 Alimenta'!E:E)","v":0},{"$f":"SUMIF('00 Alimenta'!$B:$B,'00 PDC SP'!$F391,'00 Alimenta'!F:F)","v":0},{"$f":"SUMIF('00 Alimenta'!$B:$B,'00 PDC SP'!$F391,'00 Alimenta'!G:G)","v":0},{"$f":"SUMIF('00 Alimenta'!$B:$B,'00 PDC SP'!$F391,'00 Alimenta'!H:H)","v":0},{"$f":"SUMIF('00 Alimenta'!$B:$B,'00 PDC SP'!$F391,'00 Alimenta'!I:I)","v":0},{"$f":"K391+L391-M391","v":0}]
["ABA650FS","AB","ABA650",10,"FS","0202030523","F.do svalutazione crediti verso Erario",{"$f":"SUMIF('00 Alimenta'!$B:$B,'00 PDC SP'!$F392,'00 Alimenta'!D:D)","v":0},{"$f":"SUMIF('00 Alimenta'!$B:$B,'00 PDC SP'!$F392,'00 Alimenta'!E:E)","v":0},{"$f":"SUMIF('00 Alimenta'!$B:$B,'00 PDC SP'!$F392,'00 Alimenta'!F:F)","v":0},{"$f":"SUMIF('00 Alimenta'!$B:$B,'00 PDC SP'!$F392,'00 Alimenta'!G:G)","v":0},{"$f":"SUMIF('00 Alimenta'!$B:$B,'00 PDC SP'!$F392,'00 Alimenta'!H:H)","v":0},{"$f":"SUMIF('00 Alimenta'!$B:$B,'00 PDC SP'!$F392,'00 Alimenta'!I:I)","v":0},0]
["ABA670FS","AB","ABA670",10,"FS","0202030524","F.do svalutazione crediti  verso clienti privati ",{"$f":"SUMIF('00 Alimenta'!$B:$B,'00 PDC SP'!$F393,'00 Alimenta'!D:D)","v":-2874726.99},{"$f":"SUMIF('00 Alimenta'!$B:$B,'00 PDC SP'!$F393,'00 Alimenta'!E:E)","v":0},{"$f":"SUMIF('00 Alimenta'!$B:$B,'00 PDC SP'!$F393,'00 Alimenta'!F:F)","v":0},{"$f":"SUMIF('00 Alimenta'!$B:$B,'00 PDC SP'!$F393,'00 Alimenta'!G:G)","v":-2874726.99},{"$f":"SUMIF('00 Alimenta'!$B:$B,'00 PDC SP'!$F393,'00 Alimenta'!H:H)","v":0},{"$f":"SUMIF('00 Alimenta'!$B:$B,'00 PDC SP'!$F393,'00 Alimenta'!I:I)","v":0},-2874726.99]
["ABA680FS","AB","ABA680",10,"FS","0202030525","F.do svalutazione crediti v/gestioni liquidatorie",{"$f":"SUMIF('00 Alimenta'!$B:$B,'00 PDC SP'!$F394,'00 Alimenta'!D:D)","v":0},{"$f":"SUMIF('00 Alimenta'!$B:$B,'00 PDC SP'!$F394,'00 Alimenta'!E:E)","v":0},{"$f":"SUMIF('00 Alimenta'!$B:$B,'00 PDC SP'!$F394,'00 Alimenta'!F:F)","v":0},{"$f":"SUMIF('00 Alimenta'!$B:$B,'00 PDC SP'!$F394,'00 Alimenta'!G:G)","v":0},{"$f":"SUMIF('00 Alimenta'!$B:$B,'00 PDC SP'!$F394,'00 Alimenta'!H:H)","v":0},{"$f":"SUMIF('00 Alimenta'!$B:$B,'00 PDC SP'!$F394,'00 Alimenta'!I:I)","v":0},0]
["ABA690FS","AB","ABA690",10,"FS","0202030526","F.do svalutazione crediti v/altri enti pubblici",{"$f":"SUMIF('00 Alimenta'!$B:$B,'00 PDC SP'!$F395,'00 Alimenta'!D:D)","v":0},{"$f":"SUMIF('00 Alimenta'!$B:$B,'00 PDC SP'!$F395,'00 Alimenta'!E:E)","v":0},{"$f":"SUMIF('00 Alimenta'!$B:$B,'00 PDC SP'!$F395,'00 Alimenta'!F:F)","v":0},{"$f":"SUMIF('00 Alimenta'!$B:$B,'00 PDC SP'!$F395,'00 Alimenta'!G:G)","v":0},{"$f":"SUMIF('00 Alimenta'!$B:$B,'00 PDC SP'!$F395,'00 Alimenta'!H:H)","v":0},{"$f":"SUMIF('00 Alimenta'!$B:$B,'00 PDC SP'!$F395,'00 Alimenta'!I:I)","v":0},0]
["ABA700FS","AB","ABA700",10,"FS","0202030527","F.do svalutazione crediti v/altri enti pubblici per ricerca",{"$f":"SUMIF('00 Alimenta'!$B:$B,'00 PDC SP'!$F396,'00 Alimenta'!D:D)","v":0},{"$f":"SUMIF('00 Alimenta'!$B:$B,'00 PDC SP'!$F396,'00 Alimenta'!E:E)","v":0},{"$f":"SUMIF('00 Alimenta'!$B:$B,'00 PDC SP'!$F396,'00 Alimenta'!F:F)","v":0},{"$f":"SUMIF('00 Alimenta'!$B:$B,'00 PDC SP'!$F396,'00 Alimenta'!G:G)","v":0},{"$f":"SUMIF('00 Alimenta'!$B:$B,'00 PDC SP'!$F396,'00 Alimenta'!H:H)","v":0},{"$f":"SUMIF('00 Alimenta'!$B:$B,'00 PDC SP'!$F396,'00 Alimenta'!I:I)","v":0},0]
["ABA710FS","AB","ABA710",10,"FS","0202030528","F.do svalutazione altri crediti diversi",{"$f":"SUMIF('00 Alimenta'!$B:$B,'00 PDC SP'!$F397,'00 Alimenta'!D:D)","v":0},{"$f":"SUMIF('00 Alimenta'!$B:$B,'00 PDC SP'!$F397,'00 Alimenta'!E:E)","v":0},{"$f":"SUMIF('00 Alimenta'!$B:$B,'00 PDC SP'!$F397,'00 Alimenta'!F:F)","v":0},{"$f":"SUMIF('00 Alimenta'!$B:$B,'00 PDC SP'!$F397,'00 Alimenta'!G:G)","v":0},{"$f":"SUMIF('00 Alimenta'!$B:$B,'00 PDC SP'!$F397,'00 Alimenta'!H:H)","v":-300000},{"$f":"SUMIF('00 Alimenta'!$B:$B,'00 PDC SP'!$F397,'00 Alimenta'!I:I)","v":0},-300000]
["ABA390FS","AB","ABA390",10,"FS","0202030529","F.do svalutazione crediti v/Regione o Provincia Autonoma per quota FSR",{"$f":"SUMIF('00 Alimenta'!$B:$B,'00 PDC SP'!$F398,'00 Alimenta'!D:D)","v":-3047520.97},{"$f":"SUMIF('00 Alimenta'!$B:$B,'00 PDC SP'!$F398,'00 Alimenta'!E:E)","v":0},{"$f":"SUMIF('00 Alimenta'!$B:$B,'00 PDC SP'!$F398,'00 Alimenta'!F:F)","v":0},{"$f":"SUMIF('00 Alimenta'!$B:$B,'00 PDC SP'!$F398,'00 Alimenta'!G:G)","v":-3047520.97},{"$f":"SUMIF('00 Alimenta'!$B:$B,'00 PDC SP'!$F398,'00 Alimenta'!H:H)","v":0},{"$f":"SUMIF('00 Alimenta'!$B:$B,'00 PDC SP'!$F398,'00 Alimenta'!I:I)","v":0},-3047520.97]
["ABA400FS","AB","ABA400",10,"FS","0202030530","F.do svalutazione crediti v/Regione o Provincia Autonoma per mobilità attiva intraregionale",{"$f":"SUMIF('00 Alimenta'!$B:$B,'00 PDC SP'!$F399,'00 Alimenta'!D:D)","v":0},{"$f":"SUMIF('00 Alimenta'!$B:$B,'00 PDC SP'!$F399,'00 Alimenta'!E:E)","v":0},{"$f":"SUMIF('00 Alimenta'!$B:$B,'00 PDC SP'!$F399,'00 Alimenta'!F:F)","v":0},{"$f":"SUMIF('00 Alimenta'!$B:$B,'00 PDC SP'!$F399,'00 Alimenta'!G:G)","v":0},{"$f":"SUMIF('00 Alimenta'!$B:$B,'00 PDC SP'!$F399,'00 Alimenta'!H:H)","v":0},{"$f":"SUMIF('00 Alimenta'!$B:$B,'00 PDC SP'!$F399,'00 Alimenta'!I:I)","v":0},0]
["ABA410FS","AB","ABA410",10,"FS","0202030531","F.do svalutazione crediti v/Regione o Provincia Autonoma per mobilità attiva extraregionale",{"$f":"SUMIF('00 Alimenta'!$B:$B,'00 PDC SP'!$F400,'00 Alimenta'!D:D)","v":0},{"$f":"SUMIF('00 Alimenta'!$B:$B,'00 PDC SP'!$F400,'00 Alimenta'!E:E)","v":0},{"$f":"SUMIF('00 Alimenta'!$B:$B,'00 PDC SP'!$F400,'00 Alimenta'!F:F)","v":0},{"$f":"SUMIF('00 Alimenta'!$B:$B,'00 PDC SP'!$F400,'00 Alimenta'!G:G)","v":0},{"$f":"SUMIF('00 Alimenta'!$B:$B,'00 PDC SP'!$F400,'00 Alimenta'!H:H)","v":0},{"$f":"SUMIF('00 Alimenta'!$B:$B,'00 PDC SP'!$F400,'00 Alimenta'!I:I)","v":0},0]
["ABA420FS","AB","ABA420",10,"FS","0202030532","F.do svalutazione crediti v/Regione o Provincia Autonoma per acconto quota FSR",{"$f":"SUMIF('00 Alimenta'!$B:$B,'00 PDC SP'!$F401,'00 Alimenta'!D:D)","v":0},{"$f":"SUMIF('00 Alimenta'!$B:$B,'00 PDC SP'!$F401,'00 Alimenta'!E:E)","v":0},{"$f":"SUMIF('00 Alimenta'!$B:$B,'00 PDC SP'!$F401,'00 Alimenta'!F:F)","v":0},{"$f":"SUMIF('00 Alimenta'!$B:$B,'00 PDC SP'!$F401,'00 Alimenta'!G:G)","v":0},{"$f":"SUMIF('00 Alimenta'!$B:$B,'00 PDC SP'!$F401,'00 Alimenta'!H:H)","v":0},{"$f":"SUMIF('00 Alimenta'!$B:$B,'00 PDC SP'!$F401,'00 Alimenta'!I:I)","v":0},0]
["ABA430FS","AB","ABA430",10,"FS","0202030533","F.do svalutazione crediti v/Regione o Provincia Autonoma per finanziamento sanitario aggiuntivo corrente LEA",{"$f":"SUMIF('00 Alimenta'!$B:$B,'00 PDC SP'!$F402,'00 Alimenta'!D:D)","v":0},{"$f":"SUMIF('00 Alimenta'!$B:$B,'00 PDC SP'!$F402,'00 Alimenta'!E:E)","v":0},{"$f":"SUMIF('00 Alimenta'!$B:$B,'00 PDC SP'!$F402,'00 Alimenta'!F:F)","v":0},{"$f":"SUMIF('00 Alimenta'!$B:$B,'00 PDC SP'!$F402,'00 Alimenta'!G:G)","v":0},{"$f":"SUMIF('00 Alimenta'!$B:$B,'00 PDC SP'!$F402,'00 Alimenta'!H:H)","v":0},{"$f":"SUMIF('00 Alimenta'!$B:$B,'00 PDC SP'!$F402,'00 Alimenta'!I:I)","v":0},0]
["ABA440FS","AB","ABA440",10,"FS","0202030534","F.do svalutazione crediti v/Regione o Provincia Autonoma per finanziamento sanitario aggiuntivo corrente extra LEA",{"$f":"SUMIF('00 Alimenta'!$B:$B,'00 PDC SP'!$F403,'00 Alimenta'!D:D)","v":0},{"$f":"SUMIF('00 Alimenta'!$B:$B,'00 PDC SP'!$F403,'00 Alimenta'!E:E)","v":0},{"$f":"SUMIF('00 Alimenta'!$B:$B,'00 PDC SP'!$F403,'00 Alimenta'!F:F)","v":0},{"$f":"SUMIF('00 Alimenta'!$B:$B,'00 PDC SP'!$F403,'00 Alimenta'!G:G)","v":0},{"$f":"SUMIF('00 Alimenta'!$B:$B,'00 PDC SP'!$F403,'00 Alimenta'!H:H)","v":0},{"$f":"SUMIF('00 Alimenta'!$B:$B,'00 PDC SP'!$F403,'00 Alimenta'!I:I)","v":0},0]
["ABA450FS","AB","ABA450",10,"FS","0202030535","F.do svalutazione crediti v/Regione o Provincia Autonoma per spesa corrente - altro",{"$f":"SUMIF('00 Alimenta'!$B:$B,'00 PDC SP'!$F404,'00 Alimenta'!D:D)","v":0},{"$f":"SUMIF('00 Alimenta'!$B:$B,'00 PDC SP'!$F404,'00 Alimenta'!E:E)","v":0},{"$f":"SUMIF('00 Alimenta'!$B:$B,'00 PDC SP'!$F404,'00 Alimenta'!F:F)","v":0},{"$f":"SUMIF('00 Alimenta'!$B:$B,'00 PDC SP'!$F404,'00 Alimenta'!G:G)","v":0},{"$f":"SUMIF('00 Alimenta'!$B:$B,'00 PDC SP'!$F404,'00 Alimenta'!H:H)","v":0},{"$f":"SUMIF('00 Alimenta'!$B:$B,'00 PDC SP'!$F404,'00 Alimenta'!I:I)","v":0},0]
["ABA520FS","AB","ABA520",10,"FS","0202030536","F.do svalutazione crediti v/Regione o Provincia Autonoma per ricostituzione risorse da investimenti esercizi precedenti",{"$f":"SUMIF('00 Alimenta'!$B:$B,'00 PDC SP'!$F405,'00 Alimenta'!D:D)","v":0},{"$f":"SUMIF('00 Alimenta'!$B:$B,'00 PDC SP'!$F405,'00 Alimenta'!E:E)","v":0},{"$f":"SUMIF('00 Alimenta'!$B:$B,'00 PDC SP'!$F405,'00 Alimenta'!F:F)","v":0},{"$f":"SUMIF('00 Alimenta'!$B:$B,'00 PDC SP'!$F405,'00 Alimenta'!G:G)","v":0},{"$f":"SUMIF('00 Alimenta'!$B:$B,'00 PDC SP'!$F405,'00 Alimenta'!H:H)","v":0},{"$f":"SUMIF('00 Alimenta'!$B:$B,'00 PDC SP'!$F405,'00 Alimenta'!I:I)","v":0},0]
["PBA000","PB","PBA000",11,null,"0203010101","Fondi per imposte, anche differite",{"$f":"SUMIF('00 Alimenta'!$B:$B,'00 PDC SP'!$F406,'00 Alimenta'!D:D)","v":-205513.69},{"$f":"SUMIF('00 Alimenta'!$B:$B,'00 PDC SP'!$F406,'00 Alimenta'!E:E)","v":0},{"$f":"SUMIF('00 Alimenta'!$B:$B,'00 PDC SP'!$F406,'00 Alimenta'!F:F)","v":-205513.69},{"$f":"SUMIF('00 Alimenta'!$B:$B,'00 PDC SP'!$F406,'00 Alimenta'!G:G)","v":0},{"$f":"SUMIF('00 Alimenta'!$B:$B,'00 PDC SP'!$F406,'00 Alimenta'!H:H)","v":0},{"$f":"SUMIF('00 Alimenta'!$B:$B,'00 PDC SP'!$F406,'00 Alimenta'!I:I)","v":0},0]
["PBA020","PB","PBA020",11,null,"0203020101","Fondo rischi per cause civili ed oneri processuali",{"$f":"SUMIF('00 Alimenta'!$B:$B,'00 PDC SP'!$F407,'00 Alimenta'!D:D)","v":-7400000},{"$f":"SUMIF('00 Alimenta'!$B:$B,'00 PDC SP'!$F407,'00 Alimenta'!E:E)","v":-2008370.76},{"$f":"SUMIF('00 Alimenta'!$B:$B,'00 PDC SP'!$F407,'00 Alimenta'!F:F)","v":-2258370.7599999998},{"$f":"SUMIF('00 Alimenta'!$B:$B,'00 PDC SP'!$F407,'00 Alimenta'!G:G)","v":-7150000},{"$f":"SUMIF('00 Alimenta'!$B:$B,'00 PDC SP'!$F407,'00 Alimenta'!H:H)","v":-9280260.1600000001},{"$f":"SUMIF('00 Alimenta'!$B:$B,'00 PDC SP'!$F407,'00 Alimenta'!I:I)","v":-165038.16},-16265222]
["PBA030","PB","PBA030",11,null,"0203020201","Fondo rischi per contenzioso personale dipendente",{"$f":"SUMIF('00 Alimenta'!$B:$B,'00 PDC SP'!$F408,'00 Alimenta'!D:D)","v":-1000000},{"$f":"SUMIF('00 Alimenta'!$B:$B,'00 PDC SP'!$F408,'00 Alimenta'!E:E)","v":-666865.78},{"$f":"SUMIF('00 Alimenta'!$B:$B,'00 PDC SP'!$F408,'00 Alimenta'!F:F)","v":-416865.78},{"$f":"SUMIF('00 Alimenta'!$B:$B,'00 PDC SP'!$F408,'00 Alimenta'!G:G)","v":-1250000},{"$f":"SUMIF('00 Alimenta'!$B:$B,'00 PDC SP'!$F408,'00 Alimenta'!H:H)","v":-563110.28},{"$f":"SUMIF('00 Alimenta'!$B:$B,'00 PDC SP'!$F408,'00 Alimenta'!I:I)","v":-563110.28},-1250000]
["PBA040","PB","PBA040",11,null,"0203020301","Fondo rischi connessi all'acquisto di prestazioni sanitarie da privato",{"$f":"SUMIF('00 Alimenta'!$B:$B,'00 PDC SP'!$F409,'00 Alimenta'!D:D)","v":-29269594.190000001},{"$f":"SUMIF('00 Alimenta'!$B:$B,'00 PDC SP'!$F409,'00 Alimenta'!E:E)","v":0},{"$f":"SUMIF('00 Alimenta'!$B:$B,'00 PDC SP'!$F409,'00 Alimenta'!F:F)","v":-6639211.8499999996},{"$f":"SUMIF('00 Alimenta'!$B:$B,'00 PDC SP'!$F409,'00 Alimenta'!G:G)","v":-22630382.34},{"$f":"SUMIF('00 Alimenta'!$B:$B,'00 PDC SP'!$F409,'00 Alimenta'!H:H)","v":-4358962},{"$f":"SUMIF('00 Alimenta'!$B:$B,'00 PDC SP'!$F409,'00 Alimenta'!I:I)","v":-3664507.83},-23324836.509999998]
["PBA050","PB","PBA050",11,null,"0203020401","Fondo rischi per copertura diretta dei rischi (autoassicurazione)",{"$f":"SUMIF('00 Alimenta'!$B:$B,'00 PDC SP'!$F410,'00 Alimenta'!D:D)","v":-4500000},{"$f":"SUMIF('00 Alimenta'!$B:$B,'00 PDC SP'!$F410,'00 Alimenta'!E:E)","v":-3681140.26},{"$f":"SUMIF('00 Alimenta'!$B:$B,'00 PDC SP'!$F410,'00 Alimenta'!F:F)","v":-2681140.2599999998},{"$f":"SUMIF('00 Alimenta'!$B:$B,'00 PDC SP'!$F410,'00 Alimenta'!G:G)","v":-5500000},{"$f":"SUMIF('00 Alimenta'!$B:$B,'00 PDC SP'!$F410,'00 Alimenta'!H:H)","v":-3111381.31},{"$f":"SUMIF('00 Alimenta'!$B:$B,'00 PDC SP'!$F410,'00 Alimenta'!I:I)","v":-3111381.31},-5500000]
["PBA060","PB","PBA060",11,null,"0203020501","Altri fondi rischi",{"$f":"SUMIF('00 Alimenta'!$B:$B,'00 PDC SP'!$F411,'00 Alimenta'!D:D)","v":0},{"$f":"SUMIF('00 Alimenta'!$B:$B,'00 PDC SP'!$F411,'00 Alimenta'!E:E)","v":0},{"$f":"SUMIF('00 Alimenta'!$B:$B,'00 PDC SP'!$F411,'00 Alimenta'!F:F)","v":0},{"$f":"SUMIF('00 Alimenta'!$B:$B,'00 PDC SP'!$F411,'00 Alimenta'!G:G)","v":0},{"$f":"SUMIF('00 Alimenta'!$B:$B,'00 PDC SP'!$F411,'00 Alimenta'!H:H)","v":0},{"$f":"SUMIF('00 Alimenta'!$B:$B,'00 PDC SP'!$F411,'00 Alimenta'!I:I)","v":0},0]
["PBA080","PB","PBA080",11,null,"0203030101","FSR indistinto da distribuire",{"$f":"SUMIF('00 Alimenta'!$B:$B,'00 PDC SP'!$F412,'00 Alimenta'!D:D)","v":0},{"$f":"SUMIF('00 Alimenta'!$B:$B,'00 PDC SP'!$F412,'00 Alimenta'!E:E)","v":0},{"$f":"SUMIF('00 Alimenta'!$B:$B,'00 PDC SP'!$F412,'00 Alimenta'!F:F)","v":0},{"$f":"SUMIF('00 Alimenta'!$B:$B,'00 PDC SP'!$F412,'00 Alimenta'!G:G)","v":0},{"$f":"SUMIF('00 Alimenta'!$B:$B,'00 PDC SP'!$F412,'00 Alimenta'!H:H)","v":0},{"$f":"SUMIF('00 Alimenta'!$B:$B,'00 PDC SP'!$F412,'00 Alimenta'!I:I)","v":0},0]
["PBA080","PB","PBA080",11,null,"0203030102","FSR indistinto disimpegni",{"$f":"SUMIF('00 Alimenta'!$B:$B,'00 PDC SP'!$F413,'00 Alimenta'!D:D)","v":0},{"$f":"SUMIF('00 Alimenta'!$B:$B,'00 PDC SP'!$F413,'00 Alimenta'!E:E)","v":0},{"$f":"SUMIF('00 Alimenta'!$B:$B,'00 PDC SP'!$F413,'00 Alimenta'!F:F)","v":0},{"$f":"SUMIF('00 Alimenta'!$B:$B,'00 PDC SP'!$F413,'00 Alimenta'!G:G)","v":0},{"$f":"SUMIF('00 Alimenta'!$B:$B,'00 PDC SP'!$F413,'00 Alimenta'!H:H)","v":0},{"$f":"SUMIF('00 Alimenta'!$B:$B,'00 PDC SP'!$F413,'00 Alimenta'!I:I)","v":0},0]
["PBA090","PB","PBA090",11,null,"0203030201","Quota per rinnovo convenzioni L 133/08",{"$f":"SUMIF('00 Alimenta'!$B:$B,'00 PDC SP'!$F414,'00 Alimenta'!D:D)","v":0},{"$f":"SUMIF('00 Alimenta'!$B:$B,'00 PDC SP'!$F414,'00 Alimenta'!E:E)","v":0},{"$f":"SUMIF('00 Alimenta'!$B:$B,'00 PDC SP'!$F414,'00 Alimenta'!F:F)","v":0},{"$f":"SUMIF('00 Alimenta'!$B:$B,'00 PDC SP'!$F414,'00 Alimenta'!G:G)","v":0},{"$f":"SUMIF('00 Alimenta'!$B:$B,'00 PDC SP'!$F414,'00 Alimenta'!H:H)","v":0},{"$f":"SUMIF('00 Alimenta'!$B:$B,'00 PDC SP'!$F414,'00 Alimenta'!I:I)","v":0},0]
["PBA090","PB","PBA090",11,null,"0203030202","Quota per emersione extracomunitari L. 102/09 art. 1 ter, comma 17 e D.Lgs. 109/2012 art. 5, comma 16",{"$f":"SUMIF('00 Alimenta'!$B:$B,'00 PDC SP'!$F415,'00 Alimenta'!D:D)","v":0},{"$f":"SUMIF('00 Alimenta'!$B:$B,'00 PDC SP'!$F415,'00 Alimenta'!E:E)","v":0},{"$f":"SUMIF('00 Alimenta'!$B:$B,'00 PDC SP'!$F415,'00 Alimenta'!F:F)","v":0},{"$f":"SUMIF('00 Alimenta'!$B:$B,'00 PDC SP'!$F415,'00 Alimenta'!G:G)","v":0},{"$f":"SUMIF('00 Alimenta'!$B:$B,'00 PDC SP'!$F415,'00 Alimenta'!H:H)","v":0},{"$f":"SUMIF('00 Alimenta'!$B:$B,'00 PDC SP'!$F415,'00 Alimenta'!I:I)","v":0},0]
["PBA090","PB","PBA090",11,null,"0203030203","Quota per medicina Penitenziaria art. 2 co. 283 L. 244/07",{"$f":"SUMIF('00 Alimenta'!$B:$B,'00 PDC SP'!$F416,'00 Alimenta'!D:D)","v":0},{"$f":"SUMIF('00 Alimenta'!$B:$B,'00 PDC SP'!$F416,'00 Alimenta'!E:E)","v":0},{"$f":"SUMIF('00 Alimenta'!$B:$B,'00 PDC SP'!$F416,'00 Alimenta'!F:F)","v":0},{"$f":"SUMIF('00 Alimenta'!$B:$B,'00 PDC SP'!$F416,'00 Alimenta'!G:G)","v":0},{"$f":"SUMIF('00 Alimenta'!$B:$B,'00 PDC SP'!$F416,'00 Alimenta'!H:H)","v":0},{"$f":"SUMIF('00 Alimenta'!$B:$B,'00 PDC SP'!$F416,'00 Alimenta'!I:I)","v":0},0]
["PBA090","PB","PBA090",11,null,"0203030204","Quota per medicina Penitenziaria D.Lgs 230/99",{"$f":"SUMIF('00 Alimenta'!$B:$B,'00 PDC SP'!$F417,'00 Alimenta'!D:D)","v":0},{"$f":"SUMIF('00 Alimenta'!$B:$B,'00 PDC SP'!$F417,'00 Alimenta'!E:E)","v":0},{"$f":"SUMIF('00 Alimenta'!$B:$B,'00 PDC SP'!$F417,'00 Alimenta'!F:F)","v":0},{"$f":"SUMIF('00 Alimenta'!$B:$B,'00 PDC SP'!$F417,'00 Alimenta'!G:G)","v":0},{"$f":"SUMIF('00 Alimenta'!$B:$B,'00 PDC SP'!$F417,'00 Alimenta'!H:H)","v":0},{"$f":"SUMIF('00 Alimenta'!$B:$B,'00 PDC SP'!$F417,'00 Alimenta'!I:I)","v":0},0]
["PBA090","PB","PBA090",11,null,"0203030205","Quota per hanseniani L. 31/86",{"$f":"SUMIF('00 Alimenta'!$B:$B,'00 PDC SP'!$F418,'00 Alimenta'!D:D)","v":0},{"$f":"SUMIF('00 Alimenta'!$B:$B,'00 PDC SP'!$F418,'00 Alimenta'!E:E)","v":0},{"$f":"SUMIF('00 Alimenta'!$B:$B,'00 PDC SP'!$F418,'00 Alimenta'!F:F)","v":0},{"$f":"SUMIF('00 Alimenta'!$B:$B,'00 PDC SP'!$F418,'00 Alimenta'!G:G)","v":0},{"$f":"SUMIF('00 Alimenta'!$B:$B,'00 PDC SP'!$F418,'00 Alimenta'!H:H)","v":0},{"$f":"SUMIF('00 Alimenta'!$B:$B,'00 PDC SP'!$F418,'00 Alimenta'!I:I)","v":0},0]
["PBA090","PB","PBA090",11,null,"0203030206","Quota per fibrosi Cistica L. 362/98",{"$f":"SUMIF('00 Alimenta'!$B:$B,'00 PDC SP'!$F419,'00 Alimenta'!D:D)","v":0},{"$f":"SUMIF('00 Alimenta'!$B:$B,'00 PDC SP'!$F419,'00 Alimenta'!E:E)","v":0},{"$f":"SUMIF('00 Alimenta'!$B:$B,'00 PDC SP'!$F419,'00 Alimenta'!F:F)","v":0},{"$f":"SUMIF('00 Alimenta'!$B:$B,'00 PDC SP'!$F419,'00 Alimenta'!G:G)","v":0},{"$f":"SUMIF('00 Alimenta'!$B:$B,'00 PDC SP'!$F419,'00 Alimenta'!H:H)","v":0},{"$f":"SUMIF('00 Alimenta'!$B:$B,'00 PDC SP'!$F419,'00 Alimenta'!I:I)","v":0},0]
["PBA090","PB","PBA090",11,null,"0203030207","Quota per extracomunitari irregolari L. 40/98",{"$f":"SUMIF('00 Alimenta'!$B:$B,'00 PDC SP'!$F420,'00 Alimenta'!D:D)","v":0},{"$f":"SUMIF('00 Alimenta'!$B:$B,'00 PDC SP'!$F420,'00 Alimenta'!E:E)","v":0},{"$f":"SUMIF('00 Alimenta'!$B:$B,'00 PDC SP'!$F420,'00 Alimenta'!F:F)","v":0},{"$f":"SUMIF('00 Alimenta'!$B:$B,'00 PDC SP'!$F420,'00 Alimenta'!G:G)","v":0},{"$f":"SUMIF('00 Alimenta'!$B:$B,'00 PDC SP'!$F420,'00 Alimenta'!H:H)","v":0},{"$f":"SUMIF('00 Alimenta'!$B:$B,'00 PDC SP'!$F420,'00 Alimenta'!I:I)","v":0},0]
["PBA090","PB","PBA090",11,null,"0203030208","Quota per fondo esclusività L. 488/99",{"$f":"SUMIF('00 Alimenta'!$B:$B,'00 PDC SP'!$F421,'00 Alimenta'!D:D)","v":0},{"$f":"SUMIF('00 Alimenta'!$B:$B,'00 PDC SP'!$F421,'00 Alimenta'!E:E)","v":0},{"$f":"SUMIF('00 Alimenta'!$B:$B,'00 PDC SP'!$F421,'00 Alimenta'!F:F)","v":0},{"$f":"SUMIF('00 Alimenta'!$B:$B,'00 PDC SP'!$F421,'00 Alimenta'!G:G)","v":0},{"$f":"SUMIF('00 Alimenta'!$B:$B,'00 PDC SP'!$F421,'00 Alimenta'!H:H)","v":0},{"$f":"SUMIF('00 Alimenta'!$B:$B,'00 PDC SP'!$F421,'00 Alimenta'!I:I)","v":0},0]
["PBA090","PB","PBA090",11,null,"0203030209","Quota per borse studio MG L. 109/88",{"$f":"SUMIF('00 Alimenta'!$B:$B,'00 PDC SP'!$F422,'00 Alimenta'!D:D)","v":0},{"$f":"SUMIF('00 Alimenta'!$B:$B,'00 PDC SP'!$F422,'00 Alimenta'!E:E)","v":0},{"$f":"SUMIF('00 Alimenta'!$B:$B,'00 PDC SP'!$F422,'00 Alimenta'!F:F)","v":0},{"$f":"SUMIF('00 Alimenta'!$B:$B,'00 PDC SP'!$F422,'00 Alimenta'!G:G)","v":0},{"$f":"SUMIF('00 Alimenta'!$B:$B,'00 PDC SP'!$F422,'00 Alimenta'!H:H)","v":0},{"$f":"SUMIF('00 Alimenta'!$B:$B,'00 PDC SP'!$F422,'00 Alimenta'!I:I)","v":0},0]
["PBA090","PB","PBA090",11,null,"0203030210","Quota per veterinaria L. 218/88",{"$f":"SUMIF('00 Alimenta'!$B:$B,'00 PDC SP'!$F423,'00 Alimenta'!D:D)","v":0},{"$f":"SUMIF('00 Alimenta'!$B:$B,'00 PDC SP'!$F423,'00 Alimenta'!E:E)","v":0},{"$f":"SUMIF('00 Alimenta'!$B:$B,'00 PDC SP'!$F423,'00 Alimenta'!F:F)","v":0},{"$f":"SUMIF('00 Alimenta'!$B:$B,'00 PDC SP'!$F423,'00 Alimenta'!G:G)","v":0},{"$f":"SUMIF('00 Alimenta'!$B:$B,'00 PDC SP'!$F423,'00 Alimenta'!H:H)","v":0},{"$f":"SUMIF('00 Alimenta'!$B:$B,'00 PDC SP'!$F423,'00 Alimenta'!I:I)","v":0},0]
["PBA090","PB","PBA090",11,null,"0203030211","Quota per Aids L.135/90",{"$f":"SUMIF('00 Alimenta'!$B:$B,'00 PDC SP'!$F424,'00 Alimenta'!D:D)","v":0},{"$f":"SUMIF('00 Alimenta'!$B:$B,'00 PDC SP'!$F424,'00 Alimenta'!E:E)","v":0},{"$f":"SUMIF('00 Alimenta'!$B:$B,'00 PDC SP'!$F424,'00 Alimenta'!F:F)","v":0},{"$f":"SUMIF('00 Alimenta'!$B:$B,'00 PDC SP'!$F424,'00 Alimenta'!G:G)","v":0},{"$f":"SUMIF('00 Alimenta'!$B:$B,'00 PDC SP'!$F424,'00 Alimenta'!H:H)","v":0},{"$f":"SUMIF('00 Alimenta'!$B:$B,'00 PDC SP'!$F424,'00 Alimenta'!I:I)","v":0},0]
["PBA090","PB","PBA090",11,null,"0203030212","Quota per progetti di PSN L. 662/96",{"$f":"SUMIF('00 Alimenta'!$B:$B,'00 PDC SP'!$F425,'00 Alimenta'!D:D)","v":0},{"$f":"SUMIF('00 Alimenta'!$B:$B,'00 PDC SP'!$F425,'00 Alimenta'!E:E)","v":0},{"$f":"SUMIF('00 Alimenta'!$B:$B,'00 PDC SP'!$F425,'00 Alimenta'!F:F)","v":0},{"$f":"SUMIF('00 Alimenta'!$B:$B,'00 PDC SP'!$F425,'00 Alimenta'!G:G)","v":0},{"$f":"SUMIF('00 Alimenta'!$B:$B,'00 PDC SP'!$F425,'00 Alimenta'!H:H)","v":0},{"$f":"SUMIF('00 Alimenta'!$B:$B,'00 PDC SP'!$F425,'00 Alimenta'!I:I)","v":0},0]
["PBA090","PB","PBA090",11,null,"0203030213","Quota per mutui pre-riforma",{"$f":"SUMIF('00 Alimenta'!$B:$B,'00 PDC SP'!$F426,'00 Alimenta'!D:D)","v":0},{"$f":"SUMIF('00 Alimenta'!$B:$B,'00 PDC SP'!$F426,'00 Alimenta'!E:E)","v":0},{"$f":"SUMIF('00 Alimenta'!$B:$B,'00 PDC SP'!$F426,'00 Alimenta'!F:F)","v":0},{"$f":"SUMIF('00 Alimenta'!$B:$B,'00 PDC SP'!$F426,'00 Alimenta'!G:G)","v":0},{"$f":"SUMIF('00 Alimenta'!$B:$B,'00 PDC SP'!$F426,'00 Alimenta'!H:H)","v":0},{"$f":"SUMIF('00 Alimenta'!$B:$B,'00 PDC SP'!$F426,'00 Alimenta'!I:I)","v":0},0]
["PBA090","PB","PBA090",11,null,"0203030214","Quota per borse studio specializzandi",{"$f":"SUMIF('00 Alimenta'!$B:$B,'00 PDC SP'!$F427,'00 Alimenta'!D:D)","v":0},{"$f":"SUMIF('00 Alimenta'!$B:$B,'00 PDC SP'!$F427,'00 Alimenta'!E:E)","v":0},{"$f":"SUMIF('00 Alimenta'!$B:$B,'00 PDC SP'!$F427,'00 Alimenta'!F:F)","v":0},{"$f":"SUMIF('00 Alimenta'!$B:$B,'00 PDC SP'!$F427,'00 Alimenta'!G:G)","v":0},{"$f":"SUMIF('00 Alimenta'!$B:$B,'00 PDC SP'!$F427,'00 Alimenta'!H:H)","v":0},{"$f":"SUMIF('00 Alimenta'!$B:$B,'00 PDC SP'!$F427,'00 Alimenta'!I:I)","v":0},0]
["PBA090","PB","PBA090",11,null,"0203030215","Quota per per superamento degli ospedali psichiatrici giudiziari (O.P.G.) L. 9/2012, art. 3 ter, comma 7",{"$f":"SUMIF('00 Alimenta'!$B:$B,'00 PDC SP'!$F428,'00 Alimenta'!D:D)","v":0},{"$f":"SUMIF('00 Alimenta'!$B:$B,'00 PDC SP'!$F428,'00 Alimenta'!E:E)","v":0},{"$f":"SUMIF('00 Alimenta'!$B:$B,'00 PDC SP'!$F428,'00 Alimenta'!F:F)","v":0},{"$f":"SUMIF('00 Alimenta'!$B:$B,'00 PDC SP'!$F428,'00 Alimenta'!G:G)","v":0},{"$f":"SUMIF('00 Alimenta'!$B:$B,'00 PDC SP'!$F428,'00 Alimenta'!H:H)","v":0},{"$f":"SUMIF('00 Alimenta'!$B:$B,'00 PDC SP'!$F428,'00 Alimenta'!I:I)","v":0},0]
["PBA090","PB","PBA090",11,null,"0203030216","FSR vincolato da distribuire",{"$f":"SUMIF('00 Alimenta'!$B:$B,'00 PDC SP'!$F429,'00 Alimenta'!D:D)","v":0},{"$f":"SUMIF('00 Alimenta'!$B:$B,'00 PDC SP'!$F429,'00 Alimenta'!E:E)","v":0},{"$f":"SUMIF('00 Alimenta'!$B:$B,'00 PDC SP'!$F429,'00 Alimenta'!F:F)","v":0},{"$f":"SUMIF('00 Alimenta'!$B:$B,'00 PDC SP'!$F429,'00 Alimenta'!G:G)","v":0},{"$f":"SUMIF('00 Alimenta'!$B:$B,'00 PDC SP'!$F429,'00 Alimenta'!H:H)","v":0},{"$f":"SUMIF('00 Alimenta'!$B:$B,'00 PDC SP'!$F429,'00 Alimenta'!I:I)","v":0},0]
["PBA100","PB","PBA100",11,null,"0203030301","Fondo per ripiano disavanzi pregressi",{"$f":"SUMIF('00 Alimenta'!$B:$B,'00 PDC SP'!$F430,'00 Alimenta'!D:D)","v":0},{"$f":"SUMIF('00 Alimenta'!$B:$B,'00 PDC SP'!$F430,'00 Alimenta'!E:E)","v":0},{"$f":"SUMIF('00 Alimenta'!$B:$B,'00 PDC SP'!$F430,'00 Alimenta'!F:F)","v":0},{"$f":"SUMIF('00 Alimenta'!$B:$B,'00 PDC SP'!$F430,'00 Alimenta'!G:G)","v":0},{"$f":"SUMIF('00 Alimenta'!$B:$B,'00 PDC SP'!$F430,'00 Alimenta'!H:H)","v":0},{"$f":"SUMIF('00 Alimenta'!$B:$B,'00 PDC SP'!$F430,'00 Alimenta'!I:I)","v":0},0]
["PBA110","PB","PBA110",11,null,"0203030401","Fondo finanziamento sanitario aggiuntivo corrente LEA da distribuire DG1",{"$f":"SUMIF('00 Alimenta'!$B:$B,'00 PDC SP'!$F431,'00 Alimenta'!D:D)","v":0},{"$f":"SUMIF('00 Alimenta'!$B:$B,'00 PDC SP'!$F431,'00 Alimenta'!E:E)","v":0},{"$f":"SUMIF('00 Alimenta'!$B:$B,'00 PDC SP'!$F431,'00 Alimenta'!F:F)","v":0},{"$f":"SUMIF('00 Alimenta'!$B:$B,'00 PDC SP'!$F431,'00 Alimenta'!G:G)","v":0},{"$f":"SUMIF('00 Alimenta'!$B:$B,'00 PDC SP'!$F431,'00 Alimenta'!H:H)","v":0},{"$f":"SUMIF('00 Alimenta'!$B:$B,'00 PDC SP'!$F431,'00 Alimenta'!I:I)","v":0},0]
["PBA110","PB","PBA110",11,null,"0203030402","Fondo finanziamento sanitario aggiuntivo corrente LEA da distribuire DG8",{"$f":"SUMIF('00 Alimenta'!$B:$B,'00 PDC SP'!$F432,'00 Alimenta'!D:D)","v":0},{"$f":"SUMIF('00 Alimenta'!$B:$B,'00 PDC SP'!$F432,'00 Alimenta'!E:E)","v":0},{"$f":"SUMIF('00 Alimenta'!$B:$B,'00 PDC SP'!$F432,'00 Alimenta'!F:F)","v":0},{"$f":"SUMIF('00 Alimenta'!$B:$B,'00 PDC SP'!$F432,'00 Alimenta'!G:G)","v":0},{"$f":"SUMIF('00 Alimenta'!$B:$B,'00 PDC SP'!$F432,'00 Alimenta'!H:H)","v":0},{"$f":"SUMIF('00 Alimenta'!$B:$B,'00 PDC SP'!$F432,'00 Alimenta'!I:I)","v":0},0]
["PBA110","PB","PBA110",11,null,"0203030403","Fondo finanziamento sanitario aggiuntivo corrente LEA da distribuire DG12",{"$f":"SUMIF('00 Alimenta'!$B:$B,'00 PDC SP'!$F433,'00 Alimenta'!D:D)","v":0},{"$f":"SUMIF('00 Alimenta'!$B:$B,'00 PDC SP'!$F433,'00 Alimenta'!E:E)","v":0},{"$f":"SUMIF('00 Alimenta'!$B:$B,'00 PDC SP'!$F433,'00 Alimenta'!F:F)","v":0},{"$f":"SUMIF('00 Alimenta'!$B:$B,'00 PDC SP'!$F433,'00 Alimenta'!G:G)","v":0},{"$f":"SUMIF('00 Alimenta'!$B:$B,'00 PDC SP'!$F433,'00 Alimenta'!H:H)","v":0},{"$f":"SUMIF('00 Alimenta'!$B:$B,'00 PDC SP'!$F433,'00 Alimenta'!I:I)","v":0},0]
["PBA110","PB","PBA110",11,null,"0203030404","Fondo finanziamento sanitario aggiuntivo corrente LEA da distribuire DG13",{"$f":"SUMIF('00 Alimenta'!$B:$B,'00 PDC SP'!$F434,'00 Alimenta'!D:D)","v":0},{"$f":"SUMIF('00 Alimenta'!$B:$B,'00 PDC SP'!$F434,'00 Alimenta'!E:E)","v":0},{"$f":"SUMIF('00 Alimenta'!$B:$B,'00 PDC SP'!$F434,'00 Alimenta'!F:F)","v":0},{"$f":"SUMIF('00 Alimenta'!$B:$B,'00 PDC SP'!$F434,'00 Alimenta'!G:G)","v":0},{"$f":"SUMIF('00 Alimenta'!$B:$B,'00 PDC SP'!$F434,'00 Alimenta'!H:H)","v":0},{"$f":"SUMIF('00 Alimenta'!$B:$B,'00 PDC SP'!$F434,'00 Alimenta'!I:I)","v":0},0]
["PBA110","PB","PBA110",11,null,"0203030405","Fondo finanziamento sanitario aggiuntivo corrente LEA da distribuire DG16",{"$f":"SUMIF('00 Alimenta'!$B:$B,'00 PDC SP'!$F435,'00 Alimenta'!D:D)","v":0},{"$f":"SUMIF('00 Alimenta'!$B:$B,'00 PDC SP'!$F435,'00 Alimenta'!E:E)","v":0},{"$f":"SUMIF('00 Alimenta'!$B:$B,'00 PDC SP'!$F435,'00 Alimenta'!F:F)","v":0},{"$f":"SUMIF('00 Alimenta'!$B:$B,'00 PDC SP'!$F435,'00 Alimenta'!G:G)","v":0},{"$f":"SUMIF('00 Alimenta'!$B:$B,'00 PDC SP'!$F435,'00 Alimenta'!H:H)","v":0},{"$f":"SUMIF('00 Alimenta'!$B:$B,'00 PDC SP'!$F435,'00 Alimenta'!I:I)","v":0},0]
["PBA110","PB","PBA110",11,null,"0203030406","Fondo finanziamento sanitario aggiuntivo corrente LEA da distribuire DG18",{"$f":"SUMIF('00 Alimenta'!$B:$B,'00 PDC SP'!$F436,'00 Alimenta'!D:D)","v":0},{"$f":"SUMIF('00 Alimenta'!$B:$B,'00 PDC SP'!$F436,'00 Alimenta'!E:E)","v":0},{"$f":"SUMIF('00 Alimenta'!$B:$B,'00 PDC SP'!$F436,'00 Alimenta'!F:F)","v":0},{"$f":"SUMIF('00 Alimenta'!$B:$B,'00 PDC SP'!$F436,'00 Alimenta'!G:G)","v":0},{"$f":"SUMIF('00 Alimenta'!$B:$B,'00 PDC SP'!$F436,'00 Alimenta'!H:H)","v":0},{"$f":"SUMIF('00 Alimenta'!$B:$B,'00 PDC SP'!$F436,'00 Alimenta'!I:I)","v":0},0]
["PBA110","PB","PBA110",11,null,"0203030407","Fondo finanziamento sanitario aggiuntivo corrente LEA da distribuire DG19",{"$f":"SUMIF('00 Alimenta'!$B:$B,'00 PDC SP'!$F437,'00 Alimenta'!D:D)","v":0},{"$f":"SUMIF('00 Alimenta'!$B:$B,'00 PDC SP'!$F437,'00 Alimenta'!E:E)","v":0},{"$f":"SUMIF('00 Alimenta'!$B:$B,'00 PDC SP'!$F437,'00 Alimenta'!F:F)","v":0},{"$f":"SUMIF('00 Alimenta'!$B:$B,'00 PDC SP'!$F437,'00 Alimenta'!G:G)","v":0},{"$f":"SUMIF('00 Alimenta'!$B:$B,'00 PDC SP'!$F437,'00 Alimenta'!H:H)","v":0},{"$f":"SUMIF('00 Alimenta'!$B:$B,'00 PDC SP'!$F437,'00 Alimenta'!I:I)","v":0},0]
["PBA110","PB","PBA110",11,null,"0203030408","Fondo finanziamento sanitario aggiuntivo corrente LEA da distribuire DG20",{"$f":"SUMIF('00 Alimenta'!$B:$B,'00 PDC SP'!$F438,'00 Alimenta'!D:D)","v":0},{"$f":"SUMIF('00 Alimenta'!$B:$B,'00 PDC SP'!$F438,'00 Alimenta'!E:E)","v":0},{"$f":"SUMIF('00 Alimenta'!$B:$B,'00 PDC SP'!$F438,'00 Alimenta'!F:F)","v":0},{"$f":"SUMIF('00 Alimenta'!$B:$B,'00 PDC SP'!$F438,'00 Alimenta'!G:G)","v":0},{"$f":"SUMIF('00 Alimenta'!$B:$B,'00 PDC SP'!$F438,'00 Alimenta'!H:H)","v":0},{"$f":"SUMIF('00 Alimenta'!$B:$B,'00 PDC SP'!$F438,'00 Alimenta'!I:I)","v":0},0]
["PBA110","PB","PBA110",11,null,"0203030409","Fondo finanziamento sanitario aggiuntivo corrente LEA da distribuire DG21",{"$f":"SUMIF('00 Alimenta'!$B:$B,'00 PDC SP'!$F439,'00 Alimenta'!D:D)","v":0},{"$f":"SUMIF('00 Alimenta'!$B:$B,'00 PDC SP'!$F439,'00 Alimenta'!E:E)","v":0},{"$f":"SUMIF('00 Alimenta'!$B:$B,'00 PDC SP'!$F439,'00 Alimenta'!F:F)","v":0},{"$f":"SUMIF('00 Alimenta'!$B:$B,'00 PDC SP'!$F439,'00 Alimenta'!G:G)","v":0},{"$f":"SUMIF('00 Alimenta'!$B:$B,'00 PDC SP'!$F439,'00 Alimenta'!H:H)","v":0},{"$f":"SUMIF('00 Alimenta'!$B:$B,'00 PDC SP'!$F439,'00 Alimenta'!I:I)","v":0},0]
["PBA110","PB","PBA110",11,null,"0203030410","Fondo finanziamento sanitario aggiuntivo corrente LEA da distribuire DG22",{"$f":"SUMIF('00 Alimenta'!$B:$B,'00 PDC SP'!$F440,'00 Alimenta'!D:D)","v":0},{"$f":"SUMIF('00 Alimenta'!$B:$B,'00 PDC SP'!$F440,'00 Alimenta'!E:E)","v":0},{"$f":"SUMIF('00 Alimenta'!$B:$B,'00 PDC SP'!$F440,'00 Alimenta'!F:F)","v":0},{"$f":"SUMIF('00 Alimenta'!$B:$B,'00 PDC SP'!$F440,'00 Alimenta'!G:G)","v":0},{"$f":"SUMIF('00 Alimenta'!$B:$B,'00 PDC SP'!$F440,'00 Alimenta'!H:H)","v":0},{"$f":"SUMIF('00 Alimenta'!$B:$B,'00 PDC SP'!$F440,'00 Alimenta'!I:I)","v":0},0]
["PBA110","PB","PBA110",11,null,"0203030411","Fondo trasferimenti da AIFA",{"$f":"SUMIF('00 Alimenta'!$B:$B,'00 PDC SP'!$F441,'00 Alimenta'!D:D)","v":0},{"$f":"SUMIF('00 Alimenta'!$B:$B,'00 PDC SP'!$F441,'00 Alimenta'!E:E)","v":0},{"$f":"SUMIF('00 Alimenta'!$B:$B,'00 PDC SP'!$F441,'00 Alimenta'!F:F)","v":0},{"$f":"SUMIF('00 Alimenta'!$B:$B,'00 PDC SP'!$F441,'00 Alimenta'!G:G)","v":0},{"$f":"SUMIF('00 Alimenta'!$B:$B,'00 PDC SP'!$F441,'00 Alimenta'!H:H)","v":0},{"$f":"SUMIF('00 Alimenta'!$B:$B,'00 PDC SP'!$F441,'00 Alimenta'!I:I)","v":0},0]
["PBA120","PB","PBA120",11,null,"0203030501","Fondo finanziamento sanitario aggiuntivo corrente extra LEA da distribuire DG1",{"$f":"SUMIF('00 Alimenta'!$B:$B,'00 PDC SP'!$F442,'00 Alimenta'!D:D)","v":0},{"$f":"SUMIF('00 Alimenta'!$B:$B,'00 PDC SP'!$F442,'00 Alimenta'!E:E)","v":0},{"$f":"SUMIF('00 Alimenta'!$B:$B,'00 PDC SP'!$F442,'00 Alimenta'!F:F)","v":0},{"$f":"SUMIF('00 Alimenta'!$B:$B,'00 PDC SP'!$F442,'00 Alimenta'!G:G)","v":0},{"$f":"SUMIF('00 Alimenta'!$B:$B,'00 PDC SP'!$F442,'00 Alimenta'!H:H)","v":0},{"$f":"SUMIF('00 Alimenta'!$B:$B,'00 PDC SP'!$F442,'00 Alimenta'!I:I)","v":0},0]
["PBA120","PB","PBA120",11,null,"0203030502","Fondo finanziamento sanitario aggiuntivo corrente extra LEA da distribuire DG8",{"$f":"SUMIF('00 Alimenta'!$B:$B,'00 PDC SP'!$F443,'00 Alimenta'!D:D)","v":0},{"$f":"SUMIF('00 Alimenta'!$B:$B,'00 PDC SP'!$F443,'00 Alimenta'!E:E)","v":0},{"$f":"SUMIF('00 Alimenta'!$B:$B,'00 PDC SP'!$F443,'00 Alimenta'!F:F)","v":0},{"$f":"SUMIF('00 Alimenta'!$B:$B,'00 PDC SP'!$F443,'00 Alimenta'!G:G)","v":0},{"$f":"SUMIF('00 Alimenta'!$B:$B,'00 PDC SP'!$F443,'00 Alimenta'!H:H)","v":0},{"$f":"SUMIF('00 Alimenta'!$B:$B,'00 PDC SP'!$F443,'00 Alimenta'!I:I)","v":0},0]
["PBA120","PB","PBA120",11,null,"0203030503","Fondo finanziamento sanitario aggiuntivo corrente extra LEA da distribuire DG12",{"$f":"SUMIF('00 Alimenta'!$B:$B,'00 PDC SP'!$F444,'00 Alimenta'!D:D)","v":0},{"$f":"SUMIF('00 Alimenta'!$B:$B,'00 PDC SP'!$F444,'00 Alimenta'!E:E)","v":0},{"$f":"SUMIF('00 Alimenta'!$B:$B,'00 PDC SP'!$F444,'00 Alimenta'!F:F)","v":0},{"$f":"SUMIF('00 Alimenta'!$B:$B,'00 PDC SP'!$F444,'00 Alimenta'!G:G)","v":0},{"$f":"SUMIF('00 Alimenta'!$B:$B,'00 PDC SP'!$F444,'00 Alimenta'!H:H)","v":0},{"$f":"SUMIF('00 Alimenta'!$B:$B,'00 PDC SP'!$F444,'00 Alimenta'!I:I)","v":0},0]
["PBA120","PB","PBA120",11,null,"0203030504","Fondo finanziamento sanitario aggiuntivo corrente extra LEA da distribuire DG13",{"$f":"SUMIF('00 Alimenta'!$B:$B,'00 PDC SP'!$F445,'00 Alimenta'!D:D)","v":0},{"$f":"SUMIF('00 Alimenta'!$B:$B,'00 PDC SP'!$F445,'00 Alimenta'!E:E)","v":0},{"$f":"SUMIF('00 Alimenta'!$B:$B,'00 PDC SP'!$F445,'00 Alimenta'!F:F)","v":0},{"$f":"SUMIF('00 Alimenta'!$B:$B,'00 PDC SP'!$F445,'00 Alimenta'!G:G)","v":0},{"$f":"SUMIF('00 Alimenta'!$B:$B,'00 PDC SP'!$F445,'00 Alimenta'!H:H)","v":0},{"$f":"SUMIF('00 Alimenta'!$B:$B,'00 PDC SP'!$F445,'00 Alimenta'!I:I)","v":0},0]
["PBA120","PB","PBA120",11,null,"0203030505","Fondo finanziamento sanitario aggiuntivo corrente extra LEA da distribuire DG16",{"$f":"SUMIF('00 Alimenta'!$B:$B,'00 PDC SP'!$F446,'00 Alimenta'!D:D)","v":0},{"$f":"SUMIF('00 Alimenta'!$B:$B,'00 PDC SP'!$F446,'00 Alimenta'!E:E)","v":0},{"$f":"SUMIF('00 Alimenta'!$B:$B,'00 PDC SP'!$F446,'00 Alimenta'!F:F)","v":0},{"$f":"SUMIF('00 Alimenta'!$B:$B,'00 PDC SP'!$F446,'00 Alimenta'!G:G)","v":0},{"$f":"SUMIF('00 Alimenta'!$B:$B,'00 PDC SP'!$F446,'00 Alimenta'!H:H)","v":0},{"$f":"SUMIF('00 Alimenta'!$B:$B,'00 PDC SP'!$F446,'00 Alimenta'!I:I)","v":0},0]
["PBA120","PB","PBA120",11,null,"0203030506","Fondo finanziamento sanitario aggiuntivo corrente extra LEA da distribuire DG18",{"$f":"SUMIF('00 Alimenta'!$B:$B,'00 PDC SP'!$F447,'00 Alimenta'!D:D)","v":0},{"$f":"SUMIF('00 Alimenta'!$B:$B,'00 PDC SP'!$F447,'00 Alimenta'!E:E)","v":0},{"$f":"SUMIF('00 Alimenta'!$B:$B,'00 PDC SP'!$F447,'00 Alimenta'!F:F)","v":0},{"$f":"SUMIF('00 Alimenta'!$B:$B,'00 PDC SP'!$F447,'00 Alimenta'!G:G)","v":0},{"$f":"SUMIF('00 Alimenta'!$B:$B,'00 PDC SP'!$F447,'00 Alimenta'!H:H)","v":0},{"$f":"SUMIF('00 Alimenta'!$B:$B,'00 PDC SP'!$F447,'00 Alimenta'!I:I)","v":0},0]
["PBA120","PB","PBA120",11,null,"0203030507","Fondo finanziamento sanitario aggiuntivo corrente extra LEA da distribuire DG19",{"$f":"SUMIF('00 Alimenta'!$B:$B,'00 PDC SP'!$F448,'00 Alimenta'!D:D)","v":0},{"$f":"SUMIF('00 Alimenta'!$B:$B,'00 PDC SP'!$F448,'00 Alimenta'!E:E)","v":0},{"$f":"SUMIF('00 Alimenta'!$B:$B,'00 PDC SP'!$F448,'00 Alimenta'!F:F)","v":0},{"$f":"SUMIF('00 Alimenta'!$B:$B,'00 PDC SP'!$F448,'00 Alimenta'!G:G)","v":0},{"$f":"SUMIF('00 Alimenta'!$B:$B,'00 PDC SP'!$F448,'00 Alimenta'!H:H)","v":0},{"$f":"SUMIF('00 Alimenta'!$B:$B,'00 PDC SP'!$F448,'00 Alimenta'!I:I)","v":0},0]
["PBA120","PB","PBA120",11,null,"0203030508","Fondo finanziamento sanitario aggiuntivo corrente extra LEA da distribuire DG20",{"$f":"SUMIF('00 Alimenta'!$B:$B,'00 PDC SP'!$F449,'00 Alimenta'!D:D)","v":0},{"$f":"SUMIF('00 Alimenta'!$B:$B,'00 PDC SP'!$F449,'00 Alimenta'!E:E)","v":0},{"$f":"SUMIF('00 Alimenta'!$B:$B,'00 PDC SP'!$F449,'00 Alimenta'!F:F)","v":0},{"$f":"SUMIF('00 Alimenta'!$B:$B,'00 PDC SP'!$F449,'00 Alimenta'!G:G)","v":0},{"$f":"SUMIF('00 Alimenta'!$B:$B,'00 PDC SP'!$F449,'00 Alimenta'!H:H)","v":0},{"$f":"SUMIF('00 Alimenta'!$B:$B,'00 PDC SP'!$F449,'00 Alimenta'!I:I)","v":0},0]
["PBA120","PB","PBA120",11,null,"0203030509","Fondo finanziamento sanitario aggiuntivo corrente extra LEA da distribuire DG21",{"$f":"SUMIF('00 Alimenta'!$B:$B,'00 PDC SP'!$F450,'00 Alimenta'!D:D)","v":0},{"$f":"SUMIF('00 Alimenta'!$B:$B,'00 PDC SP'!$F450,'00 Alimenta'!E:E)","v":0},{"$f":"SUMIF('00 Alimenta'!$B:$B,'00 PDC SP'!$F450,'00 Alimenta'!F:F)","v":0},{"$f":"SUMIF('00 Alimenta'!$B:$B,'00 PDC SP'!$F450,'00 Alimenta'!G:G)","v":0},{"$f":"SUMIF('00 Alimenta'!$B:$B,'00 PDC SP'!$F450,'00 Alimenta'!H:H)","v":0},{"$f":"SUMIF('00 Alimenta'!$B:$B,'00 PDC SP'!$F450,'00 Alimenta'!I:I)","v":0},0]
["PBA120","PB","PBA120",11,null,"0203030510","Fondo finanziamento sanitario aggiuntivo corrente extra LEA da distribuire DG22",{"$f":"SUMIF('00 Alimenta'!$B:$B,'00 PDC SP'!$F451,'00 Alimenta'!D:D)","v":0},{"$f":"SUMIF('00 Alimenta'!$B:$B,'00 PDC SP'!$F451,'00 Alimenta'!E:E)","v":0},{"$f":"SUMIF('00 Alimenta'!$B:$B,'00 PDC SP'!$F451,'00 Alimenta'!F:F)","v":0},{"$f":"SUMIF('00 Alimenta'!$B:$B,'00 PDC SP'!$F451,'00 Alimenta'!G:G)","v":0},{"$f":"SUMIF('00 Alimenta'!$B:$B,'00 PDC SP'!$F451,'00 Alimenta'!H:H)","v":0},{"$f":"SUMIF('00 Alimenta'!$B:$B,'00 PDC SP'!$F451,'00 Alimenta'!I:I)","v":0},0]
["PBA130","PB","PBA130",11,null,"0203030601","Fondo finanziamento per ricerca ",{"$f":"SUMIF('00 Alimenta'!$B:$B,'00 PDC SP'!$F452,'00 Alimenta'!D:D)","v":0},{"$f":"SUMIF('00 Alimenta'!$B:$B,'00 PDC SP'!$F452,'00 Alimenta'!E:E)","v":0},{"$f":"SUMIF('00 Alimenta'!$B:$B,'00 PDC SP'!$F452,'00 Alimenta'!F:F)","v":0},{"$f":"SUMIF('00 Alimenta'!$B:$B,'00 PDC SP'!$F452,'00 Alimenta'!G:G)","v":0},{"$f":"SUMIF('00 Alimenta'!$B:$B,'00 PDC SP'!$F452,'00 Alimenta'!H:H)","v":0},{"$f":"SUMIF('00 Alimenta'!$B:$B,'00 PDC SP'!$F452,'00 Alimenta'!I:I)","v":0},0]
["PBA140","PB","PBA140",11,null,"0203030701","Fondo finanziamento per investimenti  ",{"$f":"SUMIF('00 Alimenta'!$B:$B,'00 PDC SP'!$F453,'00 Alimenta'!D:D)","v":0},{"$f":"SUMIF('00 Alimenta'!$B:$B,'00 PDC SP'!$F453,'00 Alimenta'!E:E)","v":0},{"$f":"SUMIF('00 Alimenta'!$B:$B,'00 PDC SP'!$F453,'00 Alimenta'!F:F)","v":0},{"$f":"SUMIF('00 Alimenta'!$B:$B,'00 PDC SP'!$F453,'00 Alimenta'!G:G)","v":0},{"$f":"SUMIF('00 Alimenta'!$B:$B,'00 PDC SP'!$F453,'00 Alimenta'!H:H)","v":0},{"$f":"SUMIF('00 Alimenta'!$B:$B,'00 PDC SP'!$F453,'00 Alimenta'!I:I)","v":0},0]
["PBA160","PB","PBA160",11,null,"0203040101","Quote inutilizzate contributi da Regione o Prov. Aut. per quota F.S. vincolato",{"$f":"SUMIF('00 Alimenta'!$B:$B,'00 PDC SP'!$F454,'00 Alimenta'!D:D)","v":-841520.06},{"$f":"SUMIF('00 Alimenta'!$B:$B,'00 PDC SP'!$F454,'00 Alimenta'!E:E)","v":0},{"$f":"SUMIF('00 Alimenta'!$B:$B,'00 PDC SP'!$F454,'00 Alimenta'!F:F)","v":-841520.06},{"$f":"SUMIF('00 Alimenta'!$B:$B,'00 PDC SP'!$F454,'00 Alimenta'!G:G)","v":0},{"$f":"SUMIF('00 Alimenta'!$B:$B,'00 PDC SP'!$F454,'00 Alimenta'!H:H)","v":0},{"$f":"SUMIF('00 Alimenta'!$B:$B,'00 PDC SP'!$F454,'00 Alimenta'!I:I)","v":0},0]
[{"$f":"IF(E455=\"\",C455,C455&E455)","v":"PBA160"},{"$f":"LEFT(C455,2)","v":"PB"},"PBA160",11,null,"0203040102","Quote inutilizzate contributi da Regione per rinnovo convenzioni L 133/08",{"$f":"SUMIF('00 Alimenta'!$B:$B,'00 PDC SP'!$F455,'00 Alimenta'!D:D)","v":0},{"$f":"SUMIF('00 Alimenta'!$B:$B,'00 PDC SP'!$F455,'00 Alimenta'!E:E)","v":0},{"$f":"SUMIF('00 Alimenta'!$B:$B,'00 PDC SP'!$F455,'00 Alimenta'!F:F)","v":0},{"$f":"SUMIF('00 Alimenta'!$B:$B,'00 PDC SP'!$F455,'00 Alimenta'!G:G)","v":0},{"$f":"SUMIF('00 Alimenta'!$B:$B,'00 PDC SP'!$F455,'00 Alimenta'!H:H)","v":0},{"$f":"SUMIF('00 Alimenta'!$B:$B,'00 PDC SP'!$F455,'00 Alimenta'!I:I)","v":0},{"$f":"K455+L455-M455","v":0}]
["PBA160","PB","PBA160",11,null,"0203040103","Quote inutilizzate contributi da Regione per emersione extracomunitari L. 102/09 art. 1 ter, comma 17 e D.Lgs. 109/2012 art. 5, comma 16",{"$f":"SUMIF('00 Alimenta'!$B:$B,'00 PDC SP'!$F456,'00 Alimenta'!D:D)","v":0},{"$f":"SUMIF('00 Alimenta'!$B:$B,'00 PDC SP'!$F456,'00 Alimenta'!E:E)","v":0},{"$f":"SUMIF('00 Alimenta'!$B:$B,'00 PDC SP'!$F456,'00 Alimenta'!F:F)","v":0},{"$f":"SUMIF('00 Alimenta'!$B:$B,'00 PDC SP'!$F456,'00 Alimenta'!G:G)","v":0},{"$f":"SUMIF('00 Alimenta'!$B:$B,'00 PDC SP'!$F456,'00 Alimenta'!H:H)","v":0},{"$f":"SUMIF('00 Alimenta'!$B:$B,'00 PDC SP'!$F456,'00 Alimenta'!I:I)","v":0},0]
["PBA160","PB","PBA160",11,null,"0203040104","Quote inutilizzate contributi da Regione per medicina Penitenziaria art. 2 co. 283 L. 244/07",{"$f":"SUMIF('00 Alimenta'!$B:$B,'00 PDC SP'!$F457,'00 Alimenta'!D:D)","v":0},{"$f":"SUMIF('00 Alimenta'!$B:$B,'00 PDC SP'!$F457,'00 Alimenta'!E:E)","v":0},{"$f":"SUMIF('00 Alimenta'!$B:$B,'00 PDC SP'!$F457,'00 Alimenta'!F:F)","v":0},{"$f":"SUMIF('00 Alimenta'!$B:$B,'00 PDC SP'!$F457,'00 Alimenta'!G:G)","v":0},{"$f":"SUMIF('00 Alimenta'!$B:$B,'00 PDC SP'!$F457,'00 Alimenta'!H:H)","v":0},{"$f":"SUMIF('00 Alimenta'!$B:$B,'00 PDC SP'!$F457,'00 Alimenta'!I:I)","v":0},0]
["PBA160","PB","PBA160",11,null,"0203040105","Quote inutilizzate contributi da Regione per medicina Penitenziaria Dlvo 230/99",{"$f":"SUMIF('00 Alimenta'!$B:$B,'00 PDC SP'!$F458,'00 Alimenta'!D:D)","v":0},{"$f":"SUMIF('00 Alimenta'!$B:$B,'00 PDC SP'!$F458,'00 Alimenta'!E:E)","v":0},{"$f":"SUMIF('00 Alimenta'!$B:$B,'00 PDC SP'!$F458,'00 Alimenta'!F:F)","v":0},{"$f":"SUMIF('00 Alimenta'!$B:$B,'00 PDC SP'!$F458,'00 Alimenta'!G:G)","v":0},{"$f":"SUMIF('00 Alimenta'!$B:$B,'00 PDC SP'!$F458,'00 Alimenta'!H:H)","v":0},{"$f":"SUMIF('00 Alimenta'!$B:$B,'00 PDC SP'!$F458,'00 Alimenta'!I:I)","v":0},0]
["PBA160","PB","PBA160",11,null,"0203040106","Quote inutilizzate contributi da Regione per hanseniani L 31/86",{"$f":"SUMIF('00 Alimenta'!$B:$B,'00 PDC SP'!$F459,'00 Alimenta'!D:D)","v":0},{"$f":"SUMIF('00 Alimenta'!$B:$B,'00 PDC SP'!$F459,'00 Alimenta'!E:E)","v":0},{"$f":"SUMIF('00 Alimenta'!$B:$B,'00 PDC SP'!$F459,'00 Alimenta'!F:F)","v":0},{"$f":"SUMIF('00 Alimenta'!$B:$B,'00 PDC SP'!$F459,'00 Alimenta'!G:G)","v":0},{"$f":"SUMIF('00 Alimenta'!$B:$B,'00 PDC SP'!$F459,'00 Alimenta'!H:H)","v":0},{"$f":"SUMIF('00 Alimenta'!$B:$B,'00 PDC SP'!$F459,'00 Alimenta'!I:I)","v":0},0]
["PBA160","PB","PBA160",11,null,"0203040107","Quote inutilizzate contributi da Regione per Fibrosi Cistica L 362/98",{"$f":"SUMIF('00 Alimenta'!$B:$B,'00 PDC SP'!$F460,'00 Alimenta'!D:D)","v":0},{"$f":"SUMIF('00 Alimenta'!$B:$B,'00 PDC SP'!$F460,'00 Alimenta'!E:E)","v":0},{"$f":"SUMIF('00 Alimenta'!$B:$B,'00 PDC SP'!$F460,'00 Alimenta'!F:F)","v":0},{"$f":"SUMIF('00 Alimenta'!$B:$B,'00 PDC SP'!$F460,'00 Alimenta'!G:G)","v":0},{"$f":"SUMIF('00 Alimenta'!$B:$B,'00 PDC SP'!$F460,'00 Alimenta'!H:H)","v":0},{"$f":"SUMIF('00 Alimenta'!$B:$B,'00 PDC SP'!$F460,'00 Alimenta'!I:I)","v":0},0]
["PBA160","PB","PBA160",11,null,"0203040108","Quote inutilizzate contributi da Regione per Extracomunitari irregolari L 40/98",{"$f":"SUMIF('00 Alimenta'!$B:$B,'00 PDC SP'!$F461,'00 Alimenta'!D:D)","v":0},{"$f":"SUMIF('00 Alimenta'!$B:$B,'00 PDC SP'!$F461,'00 Alimenta'!E:E)","v":0},{"$f":"SUMIF('00 Alimenta'!$B:$B,'00 PDC SP'!$F461,'00 Alimenta'!F:F)","v":0},{"$f":"SUMIF('00 Alimenta'!$B:$B,'00 PDC SP'!$F461,'00 Alimenta'!G:G)","v":0},{"$f":"SUMIF('00 Alimenta'!$B:$B,'00 PDC SP'!$F461,'00 Alimenta'!H:H)","v":0},{"$f":"SUMIF('00 Alimenta'!$B:$B,'00 PDC SP'!$F461,'00 Alimenta'!I:I)","v":0},0]
["PBA160","PB","PBA160",11,null,"0203040109","Quote inutilizzate contributi da Regione per Fondo esclusività L 488/99",{"$f":"SUMIF('00 Alimenta'!$B:$B,'00 PDC SP'!$F462,'00 Alimenta'!D:D)","v":0},{"$f":"SUMIF('00 Alimenta'!$B:$B,'00 PDC SP'!$F462,'00 Alimenta'!E:E)","v":0},{"$f":"SUMIF('00 Alimenta'!$B:$B,'00 PDC SP'!$F462,'00 Alimenta'!F:F)","v":0},{"$f":"SUMIF('00 Alimenta'!$B:$B,'00 PDC SP'!$F462,'00 Alimenta'!G:G)","v":0},{"$f":"SUMIF('00 Alimenta'!$B:$B,'00 PDC SP'!$F462,'00 Alimenta'!H:H)","v":0},{"$f":"SUMIF('00 Alimenta'!$B:$B,'00 PDC SP'!$F462,'00 Alimenta'!I:I)","v":0},0]
["PBA160","PB","PBA160",11,null,"0203040110","Quote inutilizzate contributi da Regione per Borse studio MG L 109/88",{"$f":"SUMIF('00 Alimenta'!$B:$B,'00 PDC SP'!$F463,'00 Alimenta'!D:D)","v":0},{"$f":"SUMIF('00 Alimenta'!$B:$B,'00 PDC SP'!$F463,'00 Alimenta'!E:E)","v":0},{"$f":"SUMIF('00 Alimenta'!$B:$B,'00 PDC SP'!$F463,'00 Alimenta'!F:F)","v":0},{"$f":"SUMIF('00 Alimenta'!$B:$B,'00 PDC SP'!$F463,'00 Alimenta'!G:G)","v":0},{"$f":"SUMIF('00 Alimenta'!$B:$B,'00 PDC SP'!$F463,'00 Alimenta'!H:H)","v":0},{"$f":"SUMIF('00 Alimenta'!$B:$B,'00 PDC SP'!$F463,'00 Alimenta'!I:I)","v":0},0]
["PBA160","PB","PBA160",11,null,"0203040111","Quote inutilizzate contributi da Regione per Veterinaria L 218/88",{"$f":"SUMIF('00 Alimenta'!$B:$B,'00 PDC SP'!$F464,'00 Alimenta'!D:D)","v":0},{"$f":"SUMIF('00 Alimenta'!$B:$B,'00 PDC SP'!$F464,'00 Alimenta'!E:E)","v":0},{"$f":"SUMIF('00 Alimenta'!$B:$B,'00 PDC SP'!$F464,'00 Alimenta'!F:F)","v":0},{"$f":"SUMIF('00 Alimenta'!$B:$B,'00 PDC SP'!$F464,'00 Alimenta'!G:G)","v":0},{"$f":"SUMIF('00 Alimenta'!$B:$B,'00 PDC SP'!$F464,'00 Alimenta'!H:H)","v":0},{"$f":"SUMIF('00 Alimenta'!$B:$B,'00 PDC SP'!$F464,'00 Alimenta'!I:I)","v":0},0]
["PBA160","PB","PBA160",11,null,"0203040112","Quote inutilizzate contributi da Regione per Aids L 135/90",{"$f":"SUMIF('00 Alimenta'!$B:$B,'00 PDC SP'!$F465,'00 Alimenta'!D:D)","v":0},{"$f":"SUMIF('00 Alimenta'!$B:$B,'00 PDC SP'!$F465,'00 Alimenta'!E:E)","v":0},{"$f":"SUMIF('00 Alimenta'!$B:$B,'00 PDC SP'!$F465,'00 Alimenta'!F:F)","v":0},{"$f":"SUMIF('00 Alimenta'!$B:$B,'00 PDC SP'!$F465,'00 Alimenta'!G:G)","v":0},{"$f":"SUMIF('00 Alimenta'!$B:$B,'00 PDC SP'!$F465,'00 Alimenta'!H:H)","v":0},{"$f":"SUMIF('00 Alimenta'!$B:$B,'00 PDC SP'!$F465,'00 Alimenta'!I:I)","v":0},0]
["PBA160","PB","PBA160",11,null,"0203040113","Quote inutilizzate contributi da Regione per Progetti di PSN L 662/96",{"$f":"SUMIF('00 Alimenta'!$B:$B,'00 PDC SP'!$F466,'00 Alimenta'!D:D)","v":-29027060.890000001},{"$f":"SUMIF('00 Alimenta'!$B:$B,'00 PDC SP'!$F466,'00 Alimenta'!E:E)","v":-4021566.65},{"$f":"SUMIF('00 Alimenta'!$B:$B,'00 PDC SP'!$F466,'00 Alimenta'!F:F)","v":-2738576.76},{"$f":"SUMIF('00 Alimenta'!$B:$B,'00 PDC SP'!$F466,'00 Alimenta'!G:G)","v":-30310050.780000001},{"$f":"SUMIF('00 Alimenta'!$B:$B,'00 PDC SP'!$F466,'00 Alimenta'!H:H)","v":-7206482.5499999998},{"$f":"SUMIF('00 Alimenta'!$B:$B,'00 PDC SP'!$F466,'00 Alimenta'!I:I)","v":-5006728.5599999996},-32509804.77]
["PBA160","PB","PBA160",11,null,"0203040114","Quote inutilizzate contributi da Regione per Mutui pre-riforma",{"$f":"SUMIF('00 Alimenta'!$B:$B,'00 PDC SP'!$F467,'00 Alimenta'!D:D)","v":0},{"$f":"SUMIF('00 Alimenta'!$B:$B,'00 PDC SP'!$F467,'00 Alimenta'!E:E)","v":0},{"$f":"SUMIF('00 Alimenta'!$B:$B,'00 PDC SP'!$F467,'00 Alimenta'!F:F)","v":0},{"$f":"SUMIF('00 Alimenta'!$B:$B,'00 PDC SP'!$F467,'00 Alimenta'!G:G)","v":0},{"$f":"SUMIF('00 Alimenta'!$B:$B,'00 PDC SP'!$F467,'00 Alimenta'!H:H)","v":0},{"$f":"SUMIF('00 Alimenta'!$B:$B,'00 PDC SP'!$F467,'00 Alimenta'!I:I)","v":0},0]
["PBA160","PB","PBA160",11,null,"0203040115","Quote inutilizzate contributi da Regione per Borse studio specializzandi",{"$f":"SUMIF('00 Alimenta'!$B:$B,'00 PDC SP'!$F468,'00 Alimenta'!D:D)","v":0},{"$f":"SUMIF('00 Alimenta'!$B:$B,'00 PDC SP'!$F468,'00 Alimenta'!E:E)","v":0},{"$f":"SUMIF('00 Alimenta'!$B:$B,'00 PDC SP'!$F468,'00 Alimenta'!F:F)","v":0},{"$f":"SUMIF('00 Alimenta'!$B:$B,'00 PDC SP'!$F468,'00 Alimenta'!G:G)","v":0},{"$f":"SUMIF('00 Alimenta'!$B:$B,'00 PDC SP'!$F468,'00 Alimenta'!H:H)","v":0},{"$f":"SUMIF('00 Alimenta'!$B:$B,'00 PDC SP'!$F468,'00 Alimenta'!I:I)","v":0},0]
["PBA160","PB","PBA160",11,null,"0203040116","Quote inutilizzate contributi da Regione per superamento degli ospedali psichiatrici giudiziari (O.P.G.) L. 9/2012, art. 3 ter, comma 7",{"$f":"SUMIF('00 Alimenta'!$B:$B,'00 PDC SP'!$F469,'00 Alimenta'!D:D)","v":0},{"$f":"SUMIF('00 Alimenta'!$B:$B,'00 PDC SP'!$F469,'00 Alimenta'!E:E)","v":0},{"$f":"SUMIF('00 Alimenta'!$B:$B,'00 PDC SP'!$F469,'00 Alimenta'!F:F)","v":0},{"$f":"SUMIF('00 Alimenta'!$B:$B,'00 PDC SP'!$F469,'00 Alimenta'!G:G)","v":0},{"$f":"SUMIF('00 Alimenta'!$B:$B,'00 PDC SP'!$F469,'00 Alimenta'!H:H)","v":0},{"$f":"SUMIF('00 Alimenta'!$B:$B,'00 PDC SP'!$F469,'00 Alimenta'!I:I)","v":0},0]
[{"$f":"IF(E470=\"\",C470,C470&E470)","v":"PBA160"},{"$f":"LEFT(C470,2)","v":"PB"},"PBA160",11,null,"0203040118","Quote inutilizzate contributi da Regione per quota gioco d'azzardo Patologico (GAP) Legge 190/2014 e ss.mm.ii.",{"$f":"SUMIF('00 Alimenta'!$B:$B,'00 PDC SP'!$F470,'00 Alimenta'!D:D)","v":0},{"$f":"SUMIF('00 Alimenta'!$B:$B,'00 PDC SP'!$F470,'00 Alimenta'!E:E)","v":0},{"$f":"SUMIF('00 Alimenta'!$B:$B,'00 PDC SP'!$F470,'00 Alimenta'!F:F)","v":0},{"$f":"SUMIF('00 Alimenta'!$B:$B,'00 PDC SP'!$F470,'00 Alimenta'!G:G)","v":0},{"$f":"SUMIF('00 Alimenta'!$B:$B,'00 PDC SP'!$F470,'00 Alimenta'!H:H)","v":-220805},{"$f":"SUMIF('00 Alimenta'!$B:$B,'00 PDC SP'!$F470,'00 Alimenta'!I:I)","v":0},{"$f":"K470+L470-M470","v":-220805}]
["PBA170","PB","PBA170",11,null,"0203040201","Quote inutilizzate contributi vincolati da soggetti pubblici (extra fondo)",{"$f":"SUMIF('00 Alimenta'!$B:$B,'00 PDC SP'!$F471,'00 Alimenta'!D:D)","v":-299262.65000000002},{"$f":"SUMIF('00 Alimenta'!$B:$B,'00 PDC SP'!$F471,'00 Alimenta'!E:E)","v":-180605.96},{"$f":"SUMIF('00 Alimenta'!$B:$B,'00 PDC SP'!$F471,'00 Alimenta'!F:F)","v":-299262.65000000002},{"$f":"SUMIF('00 Alimenta'!$B:$B,'00 PDC SP'!$F471,'00 Alimenta'!G:G)","v":-180605.96},{"$f":"SUMIF('00 Alimenta'!$B:$B,'00 PDC SP'!$F471,'00 Alimenta'!H:H)","v":-50302.400000000001},{"$f":"SUMIF('00 Alimenta'!$B:$B,'00 PDC SP'!$F471,'00 Alimenta'!I:I)","v":-92452.46},-138455.89999999997]
["PBA180","PB","PBA180",11,null,"0203040301","Quote inutilizzate contributi per ricerca",{"$f":"SUMIF('00 Alimenta'!$B:$B,'00 PDC SP'!$F472,'00 Alimenta'!D:D)","v":0},{"$f":"SUMIF('00 Alimenta'!$B:$B,'00 PDC SP'!$F472,'00 Alimenta'!E:E)","v":0},{"$f":"SUMIF('00 Alimenta'!$B:$B,'00 PDC SP'!$F472,'00 Alimenta'!F:F)","v":0},{"$f":"SUMIF('00 Alimenta'!$B:$B,'00 PDC SP'!$F472,'00 Alimenta'!G:G)","v":0},{"$f":"SUMIF('00 Alimenta'!$B:$B,'00 PDC SP'!$F472,'00 Alimenta'!H:H)","v":0},{"$f":"SUMIF('00 Alimenta'!$B:$B,'00 PDC SP'!$F472,'00 Alimenta'!I:I)","v":0},0]
["PBA190","PB","PBA190",11,null,"0203040401","Quote inutilizzate contributi vincolati da privati",{"$f":"SUMIF('00 Alimenta'!$B:$B,'00 PDC SP'!$F473,'00 Alimenta'!D:D)","v":0},{"$f":"SUMIF('00 Alimenta'!$B:$B,'00 PDC SP'!$F473,'00 Alimenta'!E:E)","v":0},{"$f":"SUMIF('00 Alimenta'!$B:$B,'00 PDC SP'!$F473,'00 Alimenta'!F:F)","v":0},{"$f":"SUMIF('00 Alimenta'!$B:$B,'00 PDC SP'!$F473,'00 Alimenta'!G:G)","v":0},{"$f":"SUMIF('00 Alimenta'!$B:$B,'00 PDC SP'!$F473,'00 Alimenta'!H:H)","v":0},{"$f":"SUMIF('00 Alimenta'!$B:$B,'00 PDC SP'!$F473,'00 Alimenta'!I:I)","v":0},0]
["PBA210","PB","PBA210",11,null,"0203050101","Fondi integrativi pensione",{"$f":"SUMIF('00 Alimenta'!$B:$B,'00 PDC SP'!$F474,'00 Alimenta'!D:D)","v":0},{"$f":"SUMIF('00 Alimenta'!$B:$B,'00 PDC SP'!$F474,'00 Alimenta'!E:E)","v":0},{"$f":"SUMIF('00 Alimenta'!$B:$B,'00 PDC SP'!$F474,'00 Alimenta'!F:F)","v":0},{"$f":"SUMIF('00 Alimenta'!$B:$B,'00 PDC SP'!$F474,'00 Alimenta'!G:G)","v":0},{"$f":"SUMIF('00 Alimenta'!$B:$B,'00 PDC SP'!$F474,'00 Alimenta'!H:H)","v":0},{"$f":"SUMIF('00 Alimenta'!$B:$B,'00 PDC SP'!$F474,'00 Alimenta'!I:I)","v":0},0]
["PBA230","PB","PBA230",11,null,"0203050201","Fondo rinnovi contrattuali personale dipendente",{"$f":"SUMIF('00 Alimenta'!$B:$B,'00 PDC SP'!$F475,'00 Alimenta'!D:D)","v":0},{"$f":"SUMIF('00 Alimenta'!$B:$B,'00 PDC SP'!$F475,'00 Alimenta'!E:E)","v":-675624},{"$f":"SUMIF('00 Alimenta'!$B:$B,'00 PDC SP'!$F475,'00 Alimenta'!F:F)","v":0},{"$f":"SUMIF('00 Alimenta'!$B:$B,'00 PDC SP'!$F475,'00 Alimenta'!G:G)","v":-675624},{"$f":"SUMIF('00 Alimenta'!$B:$B,'00 PDC SP'!$F475,'00 Alimenta'!H:H)","v":-1841073},{"$f":"SUMIF('00 Alimenta'!$B:$B,'00 PDC SP'!$F475,'00 Alimenta'!I:I)","v":0},-2516697]
["PBA240","PB","PBA240",11,null,"0203050301","Fondo rinnovi convenzioni MMG/PLS/MCA",{"$f":"SUMIF('00 Alimenta'!$B:$B,'00 PDC SP'!$F476,'00 Alimenta'!D:D)","v":-2746621.15},{"$f":"SUMIF('00 Alimenta'!$B:$B,'00 PDC SP'!$F476,'00 Alimenta'!E:E)","v":-407348},{"$f":"SUMIF('00 Alimenta'!$B:$B,'00 PDC SP'!$F476,'00 Alimenta'!F:F)","v":0},{"$f":"SUMIF('00 Alimenta'!$B:$B,'00 PDC SP'!$F476,'00 Alimenta'!G:G)","v":-3153969.15},{"$f":"SUMIF('00 Alimenta'!$B:$B,'00 PDC SP'!$F476,'00 Alimenta'!H:H)","v":-653733},{"$f":"SUMIF('00 Alimenta'!$B:$B,'00 PDC SP'!$F476,'00 Alimenta'!I:I)","v":0},-3807702.15]
["PBA250","PB","PBA250",11,null,"0203050401","Fondo rinnovi convenzioni medici Sumai",{"$f":"SUMIF('00 Alimenta'!$B:$B,'00 PDC SP'!$F477,'00 Alimenta'!D:D)","v":-87267},{"$f":"SUMIF('00 Alimenta'!$B:$B,'00 PDC SP'!$F477,'00 Alimenta'!E:E)","v":-48849},{"$f":"SUMIF('00 Alimenta'!$B:$B,'00 PDC SP'!$F477,'00 Alimenta'!F:F)","v":0},{"$f":"SUMIF('00 Alimenta'!$B:$B,'00 PDC SP'!$F477,'00 Alimenta'!G:G)","v":-136116},{"$f":"SUMIF('00 Alimenta'!$B:$B,'00 PDC SP'!$F477,'00 Alimenta'!H:H)","v":-82934},{"$f":"SUMIF('00 Alimenta'!$B:$B,'00 PDC SP'!$F477,'00 Alimenta'!I:I)","v":0},-219050]
["PBA260","PB","PBA260",11,null,"0203050501","Altri fondi per oneri e spese",{"$f":"SUMIF('00 Alimenta'!$B:$B,'00 PDC SP'!$F478,'00 Alimenta'!D:D)","v":0},{"$f":"SUMIF('00 Alimenta'!$B:$B,'00 PDC SP'!$F478,'00 Alimenta'!E:E)","v":0},{"$f":"SUMIF('00 Alimenta'!$B:$B,'00 PDC SP'!$F478,'00 Alimenta'!F:F)","v":0},{"$f":"SUMIF('00 Alimenta'!$B:$B,'00 PDC SP'!$F478,'00 Alimenta'!G:G)","v":0},{"$f":"SUMIF('00 Alimenta'!$B:$B,'00 PDC SP'!$F478,'00 Alimenta'!H:H)","v":0},{"$f":"SUMIF('00 Alimenta'!$B:$B,'00 PDC SP'!$F478,'00 Alimenta'!I:I)","v":0},0]
["PBA260","PB","PBA260",11,null,"0203050502","Fondo incentivazioni",{"$f":"SUMIF('00 Alimenta'!$B:$B,'00 PDC SP'!$F479,'00 Alimenta'!D:D)","v":0},{"$f":"SUMIF('00 Alimenta'!$B:$B,'00 PDC SP'!$F479,'00 Alimenta'!E:E)","v":0},{"$f":"SUMIF('00 Alimenta'!$B:$B,'00 PDC SP'!$F479,'00 Alimenta'!F:F)","v":0},{"$f":"SUMIF('00 Alimenta'!$B:$B,'00 PDC SP'!$F479,'00 Alimenta'!G:G)","v":0},{"$f":"SUMIF('00 Alimenta'!$B:$B,'00 PDC SP'!$F479,'00 Alimenta'!H:H)","v":0},{"$f":"SUMIF('00 Alimenta'!$B:$B,'00 PDC SP'!$F479,'00 Alimenta'!I:I)","v":0},0]
["PBA260","PB","PBA260",11,null,"0203050503","Fondi per straordinari ",{"$f":"SUMIF('00 Alimenta'!$B:$B,'00 PDC SP'!$F480,'00 Alimenta'!D:D)","v":0},{"$f":"SUMIF('00 Alimenta'!$B:$B,'00 PDC SP'!$F480,'00 Alimenta'!E:E)","v":0},{"$f":"SUMIF('00 Alimenta'!$B:$B,'00 PDC SP'!$F480,'00 Alimenta'!F:F)","v":0},{"$f":"SUMIF('00 Alimenta'!$B:$B,'00 PDC SP'!$F480,'00 Alimenta'!G:G)","v":0},{"$f":"SUMIF('00 Alimenta'!$B:$B,'00 PDC SP'!$F480,'00 Alimenta'!H:H)","v":0},{"$f":"SUMIF('00 Alimenta'!$B:$B,'00 PDC SP'!$F480,'00 Alimenta'!I:I)","v":0},0]
["PBA260","PB","PBA260",11,null,"0203050504","Fondi per altre competenze accessorie",{"$f":"SUMIF('00 Alimenta'!$B:$B,'00 PDC SP'!$F481,'00 Alimenta'!D:D)","v":0},{"$f":"SUMIF('00 Alimenta'!$B:$B,'00 PDC SP'!$F481,'00 Alimenta'!E:E)","v":0},{"$f":"SUMIF('00 Alimenta'!$B:$B,'00 PDC SP'!$F481,'00 Alimenta'!F:F)","v":0},{"$f":"SUMIF('00 Alimenta'!$B:$B,'00 PDC SP'!$F481,'00 Alimenta'!G:G)","v":0},{"$f":"SUMIF('00 Alimenta'!$B:$B,'00 PDC SP'!$F481,'00 Alimenta'!H:H)","v":0},{"$f":"SUMIF('00 Alimenta'!$B:$B,'00 PDC SP'!$F481,'00 Alimenta'!I:I)","v":0},0]
["PBA260","PB","PBA260",11,null,"0203050505","Fondi per indennità a fine esercizio ",{"$f":"SUMIF('00 Alimenta'!$B:$B,'00 PDC SP'!$F482,'00 Alimenta'!D:D)","v":0},{"$f":"SUMIF('00 Alimenta'!$B:$B,'00 PDC SP'!$F482,'00 Alimenta'!E:E)","v":0},{"$f":"SUMIF('00 Alimenta'!$B:$B,'00 PDC SP'!$F482,'00 Alimenta'!F:F)","v":0},{"$f":"SUMIF('00 Alimenta'!$B:$B,'00 PDC SP'!$F482,'00 Alimenta'!G:G)","v":0},{"$f":"SUMIF('00 Alimenta'!$B:$B,'00 PDC SP'!$F482,'00 Alimenta'!H:H)","v":0},{"$f":"SUMIF('00 Alimenta'!$B:$B,'00 PDC SP'!$F482,'00 Alimenta'!I:I)","v":0},0]
["PBA260","PB","PBA260",11,null,"0203050506","Fondi equo indennizzo ",{"$f":"SUMIF('00 Alimenta'!$B:$B,'00 PDC SP'!$F483,'00 Alimenta'!D:D)","v":0},{"$f":"SUMIF('00 Alimenta'!$B:$B,'00 PDC SP'!$F483,'00 Alimenta'!E:E)","v":0},{"$f":"SUMIF('00 Alimenta'!$B:$B,'00 PDC SP'!$F483,'00 Alimenta'!F:F)","v":0},{"$f":"SUMIF('00 Alimenta'!$B:$B,'00 PDC SP'!$F483,'00 Alimenta'!G:G)","v":0},{"$f":"SUMIF('00 Alimenta'!$B:$B,'00 PDC SP'!$F483,'00 Alimenta'!H:H)","v":0},{"$f":"SUMIF('00 Alimenta'!$B:$B,'00 PDC SP'!$F483,'00 Alimenta'!I:I)","v":0},0]
["PBA260","PB","PBA260",11,null,"0203050507","Fondi oneri differiti per attività libero professionale ",{"$f":"SUMIF('00 Alimenta'!$B:$B,'00 PDC SP'!$F484,'00 Alimenta'!D:D)","v":0},{"$f":"SUMIF('00 Alimenta'!$B:$B,'00 PDC SP'!$F484,'00 Alimenta'!E:E)","v":0},{"$f":"SUMIF('00 Alimenta'!$B:$B,'00 PDC SP'!$F484,'00 Alimenta'!F:F)","v":0},{"$f":"SUMIF('00 Alimenta'!$B:$B,'00 PDC SP'!$F484,'00 Alimenta'!G:G)","v":0},{"$f":"SUMIF('00 Alimenta'!$B:$B,'00 PDC SP'!$F484,'00 Alimenta'!H:H)","v":0},{"$f":"SUMIF('00 Alimenta'!$B:$B,'00 PDC SP'!$F484,'00 Alimenta'!I:I)","v":0},0]
["PBA260","PB","PBA260",11,null,"0203050508","Fondi per altri oneri da liquidare al personale ",{"$f":"SUMIF('00 Alimenta'!$B:$B,'00 PDC SP'!$F485,'00 Alimenta'!D:D)","v":0},{"$f":"SUMIF('00 Alimenta'!$B:$B,'00 PDC SP'!$F485,'00 Alimenta'!E:E)","v":0},{"$f":"SUMIF('00 Alimenta'!$B:$B,'00 PDC SP'!$F485,'00 Alimenta'!F:F)","v":0},{"$f":"SUMIF('00 Alimenta'!$B:$B,'00 PDC SP'!$F485,'00 Alimenta'!G:G)","v":0},{"$f":"SUMIF('00 Alimenta'!$B:$B,'00 PDC SP'!$F485,'00 Alimenta'!H:H)","v":0},{"$f":"SUMIF('00 Alimenta'!$B:$B,'00 PDC SP'!$F485,'00 Alimenta'!I:I)","v":0},0]
["PCA000","PC","PCA000",7,null,"0204010101","Fondo per premi operosità medici SUMAI",{"$f":"SUMIF('00 Alimenta'!$B:$B,'00 PDC SP'!$F486,'00 Alimenta'!D:D)","v":-2082932.89},{"$f":"SUMIF('00 Alimenta'!$B:$B,'00 PDC SP'!$F486,'00 Alimenta'!E:E)","v":-225172.71},{"$f":"SUMIF('00 Alimenta'!$B:$B,'00 PDC SP'!$F486,'00 Alimenta'!F:F)","v":-112162.58},{"$f":"SUMIF('00 Alimenta'!$B:$B,'00 PDC SP'!$F486,'00 Alimenta'!G:G)","v":-2195943.02},{"$f":"SUMIF('00 Alimenta'!$B:$B,'00 PDC SP'!$F486,'00 Alimenta'!H:H)","v":-223015.56},{"$f":"SUMIF('00 Alimenta'!$B:$B,'00 PDC SP'!$F486,'00 Alimenta'!I:I)","v":-217866.17},-2201092.41]
["PCA010","PC","PCA010",8,null,"0204020101","Fondo per trattamento di fine rapporto dipendenti",{"$f":"SUMIF('00 Alimenta'!$B:$B,'00 PDC SP'!$F487,'00 Alimenta'!D:D)","v":0},{"$f":"SUMIF('00 Alimenta'!$B:$B,'00 PDC SP'!$F487,'00 Alimenta'!E:E)","v":0},{"$f":"SUMIF('00 Alimenta'!$B:$B,'00 PDC SP'!$F487,'00 Alimenta'!F:F)","v":0},{"$f":"SUMIF('00 Alimenta'!$B:$B,'00 PDC SP'!$F487,'00 Alimenta'!G:G)","v":0},{"$f":"SUMIF('00 Alimenta'!$B:$B,'00 PDC SP'!$F487,'00 Alimenta'!H:H)","v":0},{"$f":"SUMIF('00 Alimenta'!$B:$B,'00 PDC SP'!$F487,'00 Alimenta'!I:I)","v":0},0]
["PDA000DB","PD","PDA000",55,"DB","0205010101","Debiti per mutui passivi",{"$f":"SUMIF('00 Alimenta'!$B:$B,'00 PDC SP'!$F488,'00 Alimenta'!D:D)","v":0},{"$f":"SUMIF('00 Alimenta'!$B:$B,'00 PDC SP'!$F488,'00 Alimenta'!E:E)","v":0},{"$f":"SUMIF('00 Alimenta'!$B:$B,'00 PDC SP'!$F488,'00 Alimenta'!F:F)","v":0},{"$f":"SUMIF('00 Alimenta'!$B:$B,'00 PDC SP'!$F488,'00 Alimenta'!G:G)","v":0},{"$f":"SUMIF('00 Alimenta'!$B:$B,'00 PDC SP'!$F488,'00 Alimenta'!H:H)","v":0},{"$f":"SUMIF('00 Alimenta'!$B:$B,'00 PDC SP'!$F488,'00 Alimenta'!I:I)","v":0},0]
["PDA020DB","PD","PDA020",12,"DB","0205020101","Debiti v/Stato per mobilità passiva extraregionale",{"$f":"SUMIF('00 Alimenta'!$B:$B,'00 PDC SP'!$F489,'00 Alimenta'!D:D)","v":0},{"$f":"SUMIF('00 Alimenta'!$B:$B,'00 PDC SP'!$F489,'00 Alimenta'!E:E)","v":0},{"$f":"SUMIF('00 Alimenta'!$B:$B,'00 PDC SP'!$F489,'00 Alimenta'!F:F)","v":0},{"$f":"SUMIF('00 Alimenta'!$B:$B,'00 PDC SP'!$F489,'00 Alimenta'!G:G)","v":0},{"$f":"SUMIF('00 Alimenta'!$B:$B,'00 PDC SP'!$F489,'00 Alimenta'!H:H)","v":0},{"$f":"SUMIF('00 Alimenta'!$B:$B,'00 PDC SP'!$F489,'00 Alimenta'!I:I)","v":0},0]
["PDA030DB","PD","PDA030",12,"DB","0205020201","Debiti v/Stato per mobilità passiva internazionale",{"$f":"SUMIF('00 Alimenta'!$B:$B,'00 PDC SP'!$F490,'00 Alimenta'!D:D)","v":0},{"$f":"SUMIF('00 Alimenta'!$B:$B,'00 PDC SP'!$F490,'00 Alimenta'!E:E)","v":0},{"$f":"SUMIF('00 Alimenta'!$B:$B,'00 PDC SP'!$F490,'00 Alimenta'!F:F)","v":0},{"$f":"SUMIF('00 Alimenta'!$B:$B,'00 PDC SP'!$F490,'00 Alimenta'!G:G)","v":0},{"$f":"SUMIF('00 Alimenta'!$B:$B,'00 PDC SP'!$F490,'00 Alimenta'!H:H)","v":0},{"$f":"SUMIF('00 Alimenta'!$B:$B,'00 PDC SP'!$F490,'00 Alimenta'!I:I)","v":0},0]
["PDA040DB","PD","PDA040",12,"DB","0205020301","Acconto quota FSR v/Stato",{"$f":"SUMIF('00 Alimenta'!$B:$B,'00 PDC SP'!$F491,'00 Alimenta'!D:D)","v":0},{"$f":"SUMIF('00 Alimenta'!$B:$B,'00 PDC SP'!$F491,'00 Alimenta'!E:E)","v":0},{"$f":"SUMIF('00 Alimenta'!$B:$B,'00 PDC SP'!$F491,'00 Alimenta'!F:F)","v":0},{"$f":"SUMIF('00 Alimenta'!$B:$B,'00 PDC SP'!$F491,'00 Alimenta'!G:G)","v":0},{"$f":"SUMIF('00 Alimenta'!$B:$B,'00 PDC SP'!$F491,'00 Alimenta'!H:H)","v":0},{"$f":"SUMIF('00 Alimenta'!$B:$B,'00 PDC SP'!$F491,'00 Alimenta'!I:I)","v":0},0]
["PDA040DB","PD","PDA040",12,"DB","0205020302","Acconto quota FSR v/Stato IRAP",{"$f":"SUMIF('00 Alimenta'!$B:$B,'00 PDC SP'!$F492,'00 Alimenta'!D:D)","v":0},{"$f":"SUMIF('00 Alimenta'!$B:$B,'00 PDC SP'!$F492,'00 Alimenta'!E:E)","v":0},{"$f":"SUMIF('00 Alimenta'!$B:$B,'00 PDC SP'!$F492,'00 Alimenta'!F:F)","v":0},{"$f":"SUMIF('00 Alimenta'!$B:$B,'00 PDC SP'!$F492,'00 Alimenta'!G:G)","v":0},{"$f":"SUMIF('00 Alimenta'!$B:$B,'00 PDC SP'!$F492,'00 Alimenta'!H:H)","v":0},{"$f":"SUMIF('00 Alimenta'!$B:$B,'00 PDC SP'!$F492,'00 Alimenta'!I:I)","v":0},0]
["PDA040DB","PD","PDA040",12,"DB","0205020303","Acconto quota FSR v/Stato IRPEF",{"$f":"SUMIF('00 Alimenta'!$B:$B,'00 PDC SP'!$F493,'00 Alimenta'!D:D)","v":0},{"$f":"SUMIF('00 Alimenta'!$B:$B,'00 PDC SP'!$F493,'00 Alimenta'!E:E)","v":0},{"$f":"SUMIF('00 Alimenta'!$B:$B,'00 PDC SP'!$F493,'00 Alimenta'!F:F)","v":0},{"$f":"SUMIF('00 Alimenta'!$B:$B,'00 PDC SP'!$F493,'00 Alimenta'!G:G)","v":0},{"$f":"SUMIF('00 Alimenta'!$B:$B,'00 PDC SP'!$F493,'00 Alimenta'!H:H)","v":0},{"$f":"SUMIF('00 Alimenta'!$B:$B,'00 PDC SP'!$F493,'00 Alimenta'!I:I)","v":0},0]
["PDA040DB","PD","PDA040",12,"DB","0205020304","Acconto quota FSR v/Stato compartecipazione IVA",{"$f":"SUMIF('00 Alimenta'!$B:$B,'00 PDC SP'!$F494,'00 Alimenta'!D:D)","v":0},{"$f":"SUMIF('00 Alimenta'!$B:$B,'00 PDC SP'!$F494,'00 Alimenta'!E:E)","v":0},{"$f":"SUMIF('00 Alimenta'!$B:$B,'00 PDC SP'!$F494,'00 Alimenta'!F:F)","v":0},{"$f":"SUMIF('00 Alimenta'!$B:$B,'00 PDC SP'!$F494,'00 Alimenta'!G:G)","v":0},{"$f":"SUMIF('00 Alimenta'!$B:$B,'00 PDC SP'!$F494,'00 Alimenta'!H:H)","v":0},{"$f":"SUMIF('00 Alimenta'!$B:$B,'00 PDC SP'!$F494,'00 Alimenta'!I:I)","v":0},0]
["PDA040DB","PD","PDA040",12,"DB","0205020305","Debiti per acconto v/Stato",{"$f":"SUMIF('00 Alimenta'!$B:$B,'00 PDC SP'!$F495,'00 Alimenta'!D:D)","v":0},{"$f":"SUMIF('00 Alimenta'!$B:$B,'00 PDC SP'!$F495,'00 Alimenta'!E:E)","v":0},{"$f":"SUMIF('00 Alimenta'!$B:$B,'00 PDC SP'!$F495,'00 Alimenta'!F:F)","v":0},{"$f":"SUMIF('00 Alimenta'!$B:$B,'00 PDC SP'!$F495,'00 Alimenta'!G:G)","v":0},{"$f":"SUMIF('00 Alimenta'!$B:$B,'00 PDC SP'!$F495,'00 Alimenta'!H:H)","v":0},{"$f":"SUMIF('00 Alimenta'!$B:$B,'00 PDC SP'!$F495,'00 Alimenta'!I:I)","v":0},0]
["PDA050DB","PD","PDA050",12,"DB","0205020401","Debiti v/Stato per restituzione finanziamenti - per ricerca",{"$f":"SUMIF('00 Alimenta'!$B:$B,'00 PDC SP'!$F496,'00 Alimenta'!D:D)","v":0},{"$f":"SUMIF('00 Alimenta'!$B:$B,'00 PDC SP'!$F496,'00 Alimenta'!E:E)","v":0},{"$f":"SUMIF('00 Alimenta'!$B:$B,'00 PDC SP'!$F496,'00 Alimenta'!F:F)","v":0},{"$f":"SUMIF('00 Alimenta'!$B:$B,'00 PDC SP'!$F496,'00 Alimenta'!G:G)","v":0},{"$f":"SUMIF('00 Alimenta'!$B:$B,'00 PDC SP'!$F496,'00 Alimenta'!H:H)","v":0},{"$f":"SUMIF('00 Alimenta'!$B:$B,'00 PDC SP'!$F496,'00 Alimenta'!I:I)","v":0},0]
["PDA060DB","PD","PDA060",12,"DB","0205020501","Altri debiti v/Stato",{"$f":"SUMIF('00 Alimenta'!$B:$B,'00 PDC SP'!$F497,'00 Alimenta'!D:D)","v":0},{"$f":"SUMIF('00 Alimenta'!$B:$B,'00 PDC SP'!$F497,'00 Alimenta'!E:E)","v":0},{"$f":"SUMIF('00 Alimenta'!$B:$B,'00 PDC SP'!$F497,'00 Alimenta'!F:F)","v":0},{"$f":"SUMIF('00 Alimenta'!$B:$B,'00 PDC SP'!$F497,'00 Alimenta'!G:G)","v":0},{"$f":"SUMIF('00 Alimenta'!$B:$B,'00 PDC SP'!$F497,'00 Alimenta'!H:H)","v":0},{"$f":"SUMIF('00 Alimenta'!$B:$B,'00 PDC SP'!$F497,'00 Alimenta'!I:I)","v":0},0]
["PDA060DB","PD","PDA060",12,"DB","0205020502","Debiti per acconto v/altri soggetti pubblici",{"$f":"SUMIF('00 Alimenta'!$B:$B,'00 PDC SP'!$F498,'00 Alimenta'!D:D)","v":0},{"$f":"SUMIF('00 Alimenta'!$B:$B,'00 PDC SP'!$F498,'00 Alimenta'!E:E)","v":0},{"$f":"SUMIF('00 Alimenta'!$B:$B,'00 PDC SP'!$F498,'00 Alimenta'!F:F)","v":0},{"$f":"SUMIF('00 Alimenta'!$B:$B,'00 PDC SP'!$F498,'00 Alimenta'!G:G)","v":0},{"$f":"SUMIF('00 Alimenta'!$B:$B,'00 PDC SP'!$F498,'00 Alimenta'!H:H)","v":0},{"$f":"SUMIF('00 Alimenta'!$B:$B,'00 PDC SP'!$F498,'00 Alimenta'!I:I)","v":0},0]
["PDA080DB","PD","PDA080",12,"DB","0205030101","Debiti v/Regione o Provincia Autonoma per finanziamenti",{"$f":"SUMIF('00 Alimenta'!$B:$B,'00 PDC SP'!$F499,'00 Alimenta'!D:D)","v":0},{"$f":"SUMIF('00 Alimenta'!$B:$B,'00 PDC SP'!$F499,'00 Alimenta'!E:E)","v":0},{"$f":"SUMIF('00 Alimenta'!$B:$B,'00 PDC SP'!$F499,'00 Alimenta'!F:F)","v":0},{"$f":"SUMIF('00 Alimenta'!$B:$B,'00 PDC SP'!$F499,'00 Alimenta'!G:G)","v":0},{"$f":"SUMIF('00 Alimenta'!$B:$B,'00 PDC SP'!$F499,'00 Alimenta'!H:H)","v":0},{"$f":"SUMIF('00 Alimenta'!$B:$B,'00 PDC SP'!$F499,'00 Alimenta'!I:I)","v":0},0]
["PDA090DB","PD","PDA090",12,"DB","0205030201","Debiti v/Regione o Provincia Autonoma per mobilità passiva intraregionale",{"$f":"SUMIF('00 Alimenta'!$B:$B,'00 PDC SP'!$F500,'00 Alimenta'!D:D)","v":-21161062.010000002},{"$f":"SUMIF('00 Alimenta'!$B:$B,'00 PDC SP'!$F500,'00 Alimenta'!E:E)","v":-51326737.909999996},{"$f":"SUMIF('00 Alimenta'!$B:$B,'00 PDC SP'!$F500,'00 Alimenta'!F:F)","v":-51721455.340000004},{"$f":"SUMIF('00 Alimenta'!$B:$B,'00 PDC SP'!$F500,'00 Alimenta'!G:G)","v":-20766344.579999998},{"$f":"SUMIF('00 Alimenta'!$B:$B,'00 PDC SP'!$F500,'00 Alimenta'!H:H)","v":-51271679.93},{"$f":"SUMIF('00 Alimenta'!$B:$B,'00 PDC SP'!$F500,'00 Alimenta'!I:I)","v":-51272368.93},-20765655.579999991]
["PDA090FR","PD","PDA090",12,"FR","0205030202","Fatture da ricevere verso Regione per mobilità passiva intraregionale",{"$f":"SUMIF('00 Alimenta'!$B:$B,'00 PDC SP'!$F501,'00 Alimenta'!D:D)","v":0},{"$f":"SUMIF('00 Alimenta'!$B:$B,'00 PDC SP'!$F501,'00 Alimenta'!E:E)","v":0},{"$f":"SUMIF('00 Alimenta'!$B:$B,'00 PDC SP'!$F501,'00 Alimenta'!F:F)","v":0},{"$f":"SUMIF('00 Alimenta'!$B:$B,'00 PDC SP'!$F501,'00 Alimenta'!G:G)","v":0},{"$f":"SUMIF('00 Alimenta'!$B:$B,'00 PDC SP'!$F501,'00 Alimenta'!H:H)","v":0},{"$f":"SUMIF('00 Alimenta'!$B:$B,'00 PDC SP'!$F501,'00 Alimenta'!I:I)","v":0},0]
["PDA100DB","PD","PDA100",12,"DB","0205030301","Debiti v/Regione o Provincia Autonoma per mobilità passiva extraregionale",{"$f":"SUMIF('00 Alimenta'!$B:$B,'00 PDC SP'!$F502,'00 Alimenta'!D:D)","v":-9530548.0899999999},{"$f":"SUMIF('00 Alimenta'!$B:$B,'00 PDC SP'!$F502,'00 Alimenta'!E:E)","v":0},{"$f":"SUMIF('00 Alimenta'!$B:$B,'00 PDC SP'!$F502,'00 Alimenta'!F:F)","v":0},{"$f":"SUMIF('00 Alimenta'!$B:$B,'00 PDC SP'!$F502,'00 Alimenta'!G:G)","v":-9530548.0899999999},{"$f":"SUMIF('00 Alimenta'!$B:$B,'00 PDC SP'!$F502,'00 Alimenta'!H:H)","v":-57173157.460000001},{"$f":"SUMIF('00 Alimenta'!$B:$B,'00 PDC SP'!$F502,'00 Alimenta'!I:I)","v":-57173157.460000001},-9530548.0899999961]
["PDA100FR","PD","PDA100",12,"FR","0205030302","Fatture da ricevere verso Regione per mobilità passiva extraregionale",{"$f":"SUMIF('00 Alimenta'!$B:$B,'00 PDC SP'!$F503,'00 Alimenta'!D:D)","v":0},{"$f":"SUMIF('00 Alimenta'!$B:$B,'00 PDC SP'!$F503,'00 Alimenta'!E:E)","v":0},{"$f":"SUMIF('00 Alimenta'!$B:$B,'00 PDC SP'!$F503,'00 Alimenta'!F:F)","v":0},{"$f":"SUMIF('00 Alimenta'!$B:$B,'00 PDC SP'!$F503,'00 Alimenta'!G:G)","v":0},{"$f":"SUMIF('00 Alimenta'!$B:$B,'00 PDC SP'!$F503,'00 Alimenta'!H:H)","v":0},{"$f":"SUMIF('00 Alimenta'!$B:$B,'00 PDC SP'!$F503,'00 Alimenta'!I:I)","v":0},0]
["PDA110DB","PD","PDA110",12,"DB","0205030401","Acconto quota FSR da Regione o Provincia Autonoma",{"$f":"SUMIF('00 Alimenta'!$B:$B,'00 PDC SP'!$F504,'00 Alimenta'!D:D)","v":0},{"$f":"SUMIF('00 Alimenta'!$B:$B,'00 PDC SP'!$F504,'00 Alimenta'!E:E)","v":-533673541},{"$f":"SUMIF('00 Alimenta'!$B:$B,'00 PDC SP'!$F504,'00 Alimenta'!F:F)","v":-533673541},{"$f":"SUMIF('00 Alimenta'!$B:$B,'00 PDC SP'!$F504,'00 Alimenta'!G:G)","v":0},{"$f":"SUMIF('00 Alimenta'!$B:$B,'00 PDC SP'!$F504,'00 Alimenta'!H:H)","v":-546891755},{"$f":"SUMIF('00 Alimenta'!$B:$B,'00 PDC SP'!$F504,'00 Alimenta'!I:I)","v":-546891755},0]
["PDA120DB","PD","PDA120",12,"DB","0205030501","Altri debiti v/Regione o Provincia Autonoma",{"$f":"SUMIF('00 Alimenta'!$B:$B,'00 PDC SP'!$F505,'00 Alimenta'!D:D)","v":-9176068.75},{"$f":"SUMIF('00 Alimenta'!$B:$B,'00 PDC SP'!$F505,'00 Alimenta'!E:E)","v":-17537176},{"$f":"SUMIF('00 Alimenta'!$B:$B,'00 PDC SP'!$F505,'00 Alimenta'!F:F)","v":-26713244.75},{"$f":"SUMIF('00 Alimenta'!$B:$B,'00 PDC SP'!$F505,'00 Alimenta'!G:G)","v":0},{"$f":"SUMIF('00 Alimenta'!$B:$B,'00 PDC SP'!$F505,'00 Alimenta'!H:H)","v":-983421148.72000003},{"$f":"SUMIF('00 Alimenta'!$B:$B,'00 PDC SP'!$F505,'00 Alimenta'!I:I)","v":-983421148.72000003},0]
["PDA120FR","PD","PDA120",12,"FR","0205030502","Fatture da ricevere Altri debiti v/Regione o Provincia Autonoma",{"$f":"SUMIF('00 Alimenta'!$B:$B,'00 PDC SP'!$F506,'00 Alimenta'!D:D)","v":0},{"$f":"SUMIF('00 Alimenta'!$B:$B,'00 PDC SP'!$F506,'00 Alimenta'!E:E)","v":0},{"$f":"SUMIF('00 Alimenta'!$B:$B,'00 PDC SP'!$F506,'00 Alimenta'!F:F)","v":0},{"$f":"SUMIF('00 Alimenta'!$B:$B,'00 PDC SP'!$F506,'00 Alimenta'!G:G)","v":0},{"$f":"SUMIF('00 Alimenta'!$B:$B,'00 PDC SP'!$F506,'00 Alimenta'!H:H)","v":0},{"$f":"SUMIF('00 Alimenta'!$B:$B,'00 PDC SP'!$F506,'00 Alimenta'!I:I)","v":0},0]
["PDA130DB","PD","PDA130",13,"DB","0205040101","Debiti v/Comuni",{"$f":"SUMIF('00 Alimenta'!$B:$B,'00 PDC SP'!$F507,'00 Alimenta'!D:D)","v":-150000},{"$f":"SUMIF('00 Alimenta'!$B:$B,'00 PDC SP'!$F507,'00 Alimenta'!E:E)","v":0},{"$f":"SUMIF('00 Alimenta'!$B:$B,'00 PDC SP'!$F507,'00 Alimenta'!F:F)","v":0},{"$f":"SUMIF('00 Alimenta'!$B:$B,'00 PDC SP'!$F507,'00 Alimenta'!G:G)","v":-150000},{"$f":"SUMIF('00 Alimenta'!$B:$B,'00 PDC SP'!$F507,'00 Alimenta'!H:H)","v":0},{"$f":"SUMIF('00 Alimenta'!$B:$B,'00 PDC SP'!$F507,'00 Alimenta'!I:I)","v":0},-150000]
["PDA130FR","PD","PDA130",13,"FR","0205040102","Fatture da ricevere verso Comuni",{"$f":"SUMIF('00 Alimenta'!$B:$B,'00 PDC SP'!$F508,'00 Alimenta'!D:D)","v":0},{"$f":"SUMIF('00 Alimenta'!$B:$B,'00 PDC SP'!$F508,'00 Alimenta'!E:E)","v":0},{"$f":"SUMIF('00 Alimenta'!$B:$B,'00 PDC SP'!$F508,'00 Alimenta'!F:F)","v":0},{"$f":"SUMIF('00 Alimenta'!$B:$B,'00 PDC SP'!$F508,'00 Alimenta'!G:G)","v":0},{"$f":"SUMIF('00 Alimenta'!$B:$B,'00 PDC SP'!$F508,'00 Alimenta'!H:H)","v":0},{"$f":"SUMIF('00 Alimenta'!$B:$B,'00 PDC SP'!$F508,'00 Alimenta'!I:I)","v":0},0]
["PDA160DB","PD","PDA160",14,"DB","0205050101","Debiti per acconto v/ASL della Regione per quota FSR",{"$f":"SUMIF('00 Alimenta'!$B:$B,'00 PDC SP'!$F509,'00 Alimenta'!D:D)","v":0},{"$f":"SUMIF('00 Alimenta'!$B:$B,'00 PDC SP'!$F509,'00 Alimenta'!E:E)","v":0},{"$f":"SUMIF('00 Alimenta'!$B:$B,'00 PDC SP'!$F509,'00 Alimenta'!F:F)","v":0},{"$f":"SUMIF('00 Alimenta'!$B:$B,'00 PDC SP'!$F509,'00 Alimenta'!G:G)","v":0},{"$f":"SUMIF('00 Alimenta'!$B:$B,'00 PDC SP'!$F509,'00 Alimenta'!H:H)","v":0},{"$f":"SUMIF('00 Alimenta'!$B:$B,'00 PDC SP'!$F509,'00 Alimenta'!I:I)","v":0},0]
["PDA160DB","PD","PDA160",14,"DB","0205050102","Debiti v/ASL Avezzano Sulmona L'Aquila  per quota FSR",{"$f":"SUMIF('00 Alimenta'!$B:$B,'00 PDC SP'!$F510,'00 Alimenta'!D:D)","v":0},{"$f":"SUMIF('00 Alimenta'!$B:$B,'00 PDC SP'!$F510,'00 Alimenta'!E:E)","v":0},{"$f":"SUMIF('00 Alimenta'!$B:$B,'00 PDC SP'!$F510,'00 Alimenta'!F:F)","v":0},{"$f":"SUMIF('00 Alimenta'!$B:$B,'00 PDC SP'!$F510,'00 Alimenta'!G:G)","v":0},{"$f":"SUMIF('00 Alimenta'!$B:$B,'00 PDC SP'!$F510,'00 Alimenta'!H:H)","v":0},{"$f":"SUMIF('00 Alimenta'!$B:$B,'00 PDC SP'!$F510,'00 Alimenta'!I:I)","v":0},0]
["PDA160FR","PD","PDA160",14,"FR","0205050103","Fatture da ricevere verso ASL Avezzano Sulmona L'Aquila",{"$f":"SUMIF('00 Alimenta'!$B:$B,'00 PDC SP'!$F511,'00 Alimenta'!D:D)","v":0},{"$f":"SUMIF('00 Alimenta'!$B:$B,'00 PDC SP'!$F511,'00 Alimenta'!E:E)","v":0},{"$f":"SUMIF('00 Alimenta'!$B:$B,'00 PDC SP'!$F511,'00 Alimenta'!F:F)","v":0},{"$f":"SUMIF('00 Alimenta'!$B:$B,'00 PDC SP'!$F511,'00 Alimenta'!G:G)","v":0},{"$f":"SUMIF('00 Alimenta'!$B:$B,'00 PDC SP'!$F511,'00 Alimenta'!H:H)","v":0},{"$f":"SUMIF('00 Alimenta'!$B:$B,'00 PDC SP'!$F511,'00 Alimenta'!I:I)","v":0},0]
["PDA160DB","PD","PDA160",14,"DB","0205050104","Debiti v/ASL Lanciano Vasto Chieti per quota FSR",{"$f":"SUMIF('00 Alimenta'!$B:$B,'00 PDC SP'!$F512,'00 Alimenta'!D:D)","v":0},{"$f":"SUMIF('00 Alimenta'!$B:$B,'00 PDC SP'!$F512,'00 Alimenta'!E:E)","v":0},{"$f":"SUMIF('00 Alimenta'!$B:$B,'00 PDC SP'!$F512,'00 Alimenta'!F:F)","v":0},{"$f":"SUMIF('00 Alimenta'!$B:$B,'00 PDC SP'!$F512,'00 Alimenta'!G:G)","v":0},{"$f":"SUMIF('00 Alimenta'!$B:$B,'00 PDC SP'!$F512,'00 Alimenta'!H:H)","v":0},{"$f":"SUMIF('00 Alimenta'!$B:$B,'00 PDC SP'!$F512,'00 Alimenta'!I:I)","v":0},0]
["PDA160FR","PD","PDA160",14,"FR","0205050105","Fatture da ricevere verso ASL Lanciano Vasto Chieti",{"$f":"SUMIF('00 Alimenta'!$B:$B,'00 PDC SP'!$F513,'00 Alimenta'!D:D)","v":0},{"$f":"SUMIF('00 Alimenta'!$B:$B,'00 PDC SP'!$F513,'00 Alimenta'!E:E)","v":0},{"$f":"SUMIF('00 Alimenta'!$B:$B,'00 PDC SP'!$F513,'00 Alimenta'!F:F)","v":0},{"$f":"SUMIF('00 Alimenta'!$B:$B,'00 PDC SP'!$F513,'00 Alimenta'!G:G)","v":0},{"$f":"SUMIF('00 Alimenta'!$B:$B,'00 PDC SP'!$F513,'00 Alimenta'!H:H)","v":0},{"$f":"SUMIF('00 Alimenta'!$B:$B,'00 PDC SP'!$F513,'00 Alimenta'!I:I)","v":0},0]
["PDA160DB","PD","PDA160",14,"DB","0205050106","Debiti v/ASL Pescara per quota FSR",{"$f":"SUMIF('00 Alimenta'!$B:$B,'00 PDC SP'!$F514,'00 Alimenta'!D:D)","v":0},{"$f":"SUMIF('00 Alimenta'!$B:$B,'00 PDC SP'!$F514,'00 Alimenta'!E:E)","v":0},{"$f":"SUMIF('00 Alimenta'!$B:$B,'00 PDC SP'!$F514,'00 Alimenta'!F:F)","v":0},{"$f":"SUMIF('00 Alimenta'!$B:$B,'00 PDC SP'!$F514,'00 Alimenta'!G:G)","v":0},{"$f":"SUMIF('00 Alimenta'!$B:$B,'00 PDC SP'!$F514,'00 Alimenta'!H:H)","v":0},{"$f":"SUMIF('00 Alimenta'!$B:$B,'00 PDC SP'!$F514,'00 Alimenta'!I:I)","v":0},0]
["PDA160FR","PD","PDA160",14,"FR","0205050107","Fatture da ricevere verso ASL Pescara",{"$f":"SUMIF('00 Alimenta'!$B:$B,'00 PDC SP'!$F515,'00 Alimenta'!D:D)","v":0},{"$f":"SUMIF('00 Alimenta'!$B:$B,'00 PDC SP'!$F515,'00 Alimenta'!E:E)","v":0},{"$f":"SUMIF('00 Alimenta'!$B:$B,'00 PDC SP'!$F515,'00 Alimenta'!F:F)","v":0},{"$f":"SUMIF('00 Alimenta'!$B:$B,'00 PDC SP'!$F515,'00 Alimenta'!G:G)","v":0},{"$f":"SUMIF('00 Alimenta'!$B:$B,'00 PDC SP'!$F515,'00 Alimenta'!H:H)","v":0},{"$f":"SUMIF('00 Alimenta'!$B:$B,'00 PDC SP'!$F515,'00 Alimenta'!I:I)","v":0},0]
["PDA160DB","PD","PDA160",14,"DB","0205050108","Debiti v/ASL Teramo per quota FSR",{"$f":"SUMIF('00 Alimenta'!$B:$B,'00 PDC SP'!$F516,'00 Alimenta'!D:D)","v":0},{"$f":"SUMIF('00 Alimenta'!$B:$B,'00 PDC SP'!$F516,'00 Alimenta'!E:E)","v":0},{"$f":"SUMIF('00 Alimenta'!$B:$B,'00 PDC SP'!$F516,'00 Alimenta'!F:F)","v":0},{"$f":"SUMIF('00 Alimenta'!$B:$B,'00 PDC SP'!$F516,'00 Alimenta'!G:G)","v":0},{"$f":"SUMIF('00 Alimenta'!$B:$B,'00 PDC SP'!$F516,'00 Alimenta'!H:H)","v":0},{"$f":"SUMIF('00 Alimenta'!$B:$B,'00 PDC SP'!$F516,'00 Alimenta'!I:I)","v":0},0]
["PDA160FR","PD","PDA160",14,"FR","0205050109","Fatture da ricevere verso ASL Teramo",{"$f":"SUMIF('00 Alimenta'!$B:$B,'00 PDC SP'!$F517,'00 Alimenta'!D:D)","v":0},{"$f":"SUMIF('00 Alimenta'!$B:$B,'00 PDC SP'!$F517,'00 Alimenta'!E:E)","v":0},{"$f":"SUMIF('00 Alimenta'!$B:$B,'00 PDC SP'!$F517,'00 Alimenta'!F:F)","v":0},{"$f":"SUMIF('00 Alimenta'!$B:$B,'00 PDC SP'!$F517,'00 Alimenta'!G:G)","v":0},{"$f":"SUMIF('00 Alimenta'!$B:$B,'00 PDC SP'!$F517,'00 Alimenta'!H:H)","v":0},{"$f":"SUMIF('00 Alimenta'!$B:$B,'00 PDC SP'!$F517,'00 Alimenta'!I:I)","v":0},0]
["PDA170DB","PD","PDA170",14,"DB","0205050201","Debiti v/ASL Avezzano Sulmona L'Aquila per finanziamento sanitario aggiuntivo corrente LEA",{"$f":"SUMIF('00 Alimenta'!$B:$B,'00 PDC SP'!$F518,'00 Alimenta'!D:D)","v":0},{"$f":"SUMIF('00 Alimenta'!$B:$B,'00 PDC SP'!$F518,'00 Alimenta'!E:E)","v":0},{"$f":"SUMIF('00 Alimenta'!$B:$B,'00 PDC SP'!$F518,'00 Alimenta'!F:F)","v":0},{"$f":"SUMIF('00 Alimenta'!$B:$B,'00 PDC SP'!$F518,'00 Alimenta'!G:G)","v":0},{"$f":"SUMIF('00 Alimenta'!$B:$B,'00 PDC SP'!$F518,'00 Alimenta'!H:H)","v":0},{"$f":"SUMIF('00 Alimenta'!$B:$B,'00 PDC SP'!$F518,'00 Alimenta'!I:I)","v":0},0]
["PDA170FR","PD","PDA170",14,"FR","0205050202","Fatture da ricevere v/ASL Avezzano Sulmona L'Aquila per finanziamento sanitario aggiuntivo corrente LEA",{"$f":"SUMIF('00 Alimenta'!$B:$B,'00 PDC SP'!$F519,'00 Alimenta'!D:D)","v":0},{"$f":"SUMIF('00 Alimenta'!$B:$B,'00 PDC SP'!$F519,'00 Alimenta'!E:E)","v":0},{"$f":"SUMIF('00 Alimenta'!$B:$B,'00 PDC SP'!$F519,'00 Alimenta'!F:F)","v":0},{"$f":"SUMIF('00 Alimenta'!$B:$B,'00 PDC SP'!$F519,'00 Alimenta'!G:G)","v":0},{"$f":"SUMIF('00 Alimenta'!$B:$B,'00 PDC SP'!$F519,'00 Alimenta'!H:H)","v":0},{"$f":"SUMIF('00 Alimenta'!$B:$B,'00 PDC SP'!$F519,'00 Alimenta'!I:I)","v":0},0]
[{"$f":"IF(E520=\"\",C520,C520&E520)","v":"PDA170DB"},{"$f":"LEFT(C520,2)","v":"PD"},"PDA170",14,"DB","0205050203","Debiti v/ASL Lanciano Vasto Chieti per finanziamento sanitario aggiuntivo corrente LEA",{"$f":"SUMIF('00 Alimenta'!$B:$B,'00 PDC SP'!$F520,'00 Alimenta'!D:D)","v":0},{"$f":"SUMIF('00 Alimenta'!$B:$B,'00 PDC SP'!$F520,'00 Alimenta'!E:E)","v":0},{"$f":"SUMIF('00 Alimenta'!$B:$B,'00 PDC SP'!$F520,'00 Alimenta'!F:F)","v":0},{"$f":"SUMIF('00 Alimenta'!$B:$B,'00 PDC SP'!$F520,'00 Alimenta'!G:G)","v":0},{"$f":"SUMIF('00 Alimenta'!$B:$B,'00 PDC SP'!$F520,'00 Alimenta'!H:H)","v":0},{"$f":"SUMIF('00 Alimenta'!$B:$B,'00 PDC SP'!$F520,'00 Alimenta'!I:I)","v":0},{"$f":"K520+L520-M520","v":0}]
["PDA170FR","PD","PDA170",14,"FR","0205050204","Fatture da ricevere v/ASL Lanciano Vasto Chieti per finanziamento sanitario aggiuntivo corrente LEA",{"$f":"SUMIF('00 Alimenta'!$B:$B,'00 PDC SP'!$F521,'00 Alimenta'!D:D)","v":0},{"$f":"SUMIF('00 Alimenta'!$B:$B,'00 PDC SP'!$F521,'00 Alimenta'!E:E)","v":0},{"$f":"SUMIF('00 Alimenta'!$B:$B,'00 PDC SP'!$F521,'00 Alimenta'!F:F)","v":0},{"$f":"SUMIF('00 Alimenta'!$B:$B,'00 PDC SP'!$F521,'00 Alimenta'!G:G)","v":0},{"$f":"SUMIF('00 Alimenta'!$B:$B,'00 PDC SP'!$F521,'00 Alimenta'!H:H)","v":0},{"$f":"SUMIF('00 Alimenta'!$B:$B,'00 PDC SP'!$F521,'00 Alimenta'!I:I)","v":0},0]
["PDA170DB","PD","PDA170",14,"DB","0205050205","Debiti v/ASL Pescara per finanziamento sanitario aggiuntivo corrente LEA",{"$f":"SUMIF('00 Alimenta'!$B:$B,'00 PDC SP'!$F522,'00 Alimenta'!D:D)","v":0},{"$f":"SUMIF('00 Alimenta'!$B:$B,'00 PDC SP'!$F522,'00 Alimenta'!E:E)","v":0},{"$f":"SUMIF('00 Alimenta'!$B:$B,'00 PDC SP'!$F522,'00 Alimenta'!F:F)","v":0},{"$f":"SUMIF('00 Alimenta'!$B:$B,'00 PDC SP'!$F522,'00 Alimenta'!G:G)","v":0},{"$f":"SUMIF('00 Alimenta'!$B:$B,'00 PDC SP'!$F522,'00 Alimenta'!H:H)","v":0},{"$f":"SUMIF('00 Alimenta'!$B:$B,'00 PDC SP'!$F522,'00 Alimenta'!I:I)","v":0},0]
["PDA170FR","PD","PDA170",14,"FR","0205050206","Fatture da ricevere v/ASL Pescara per finanziamento sanitario aggiuntivo corrente LEA",{"$f":"SUMIF('00 Alimenta'!$B:$B,'00 PDC SP'!$F523,'00 Alimenta'!D:D)","v":0},{"$f":"SUMIF('00 Alimenta'!$B:$B,'00 PDC SP'!$F523,'00 Alimenta'!E:E)","v":0},{"$f":"SUMIF('00 Alimenta'!$B:$B,'00 PDC SP'!$F523,'00 Alimenta'!F:F)","v":0},{"$f":"SUMIF('00 Alimenta'!$B:$B,'00 PDC SP'!$F523,'00 Alimenta'!G:G)","v":0},{"$f":"SUMIF('00 Alimenta'!$B:$B,'00 PDC SP'!$F523,'00 Alimenta'!H:H)","v":0},{"$f":"SUMIF('00 Alimenta'!$B:$B,'00 PDC SP'!$F523,'00 Alimenta'!I:I)","v":0},0]
["PDA170DB","PD","PDA170",14,"DB","0205050207","Debiti v/ASL Teramo per finanziamento sanitario aggiuntivo corrente LEA",{"$f":"SUMIF('00 Alimenta'!$B:$B,'00 PDC SP'!$F524,'00 Alimenta'!D:D)","v":0},{"$f":"SUMIF('00 Alimenta'!$B:$B,'00 PDC SP'!$F524,'00 Alimenta'!E:E)","v":0},{"$f":"SUMIF('00 Alimenta'!$B:$B,'00 PDC SP'!$F524,'00 Alimenta'!F:F)","v":0},{"$f":"SUMIF('00 Alimenta'!$B:$B,'00 PDC SP'!$F524,'00 Alimenta'!G:G)","v":0},{"$f":"SUMIF('00 Alimenta'!$B:$B,'00 PDC SP'!$F524,'00 Alimenta'!H:H)","v":0},{"$f":"SUMIF('00 Alimenta'!$B:$B,'00 PDC SP'!$F524,'00 Alimenta'!I:I)","v":0},0]
["PDA170FR","PD","PDA170",14,"FR","0205050208","Fatture da ricevere v/ASL Teramo per finanziamento sanitario aggiuntivo corrente LEA",{"$f":"SUMIF('00 Alimenta'!$B:$B,'00 PDC SP'!$F525,'00 Alimenta'!D:D)","v":0},{"$f":"SUMIF('00 Alimenta'!$B:$B,'00 PDC SP'!$F525,'00 Alimenta'!E:E)","v":0},{"$f":"SUMIF('00 Alimenta'!$B:$B,'00 PDC SP'!$F525,'00 Alimenta'!F:F)","v":0},{"$f":"SUMIF('00 Alimenta'!$B:$B,'00 PDC SP'!$F525,'00 Alimenta'!G:G)","v":0},{"$f":"SUMIF('00 Alimenta'!$B:$B,'00 PDC SP'!$F525,'00 Alimenta'!H:H)","v":0},{"$f":"SUMIF('00 Alimenta'!$B:$B,'00 PDC SP'!$F525,'00 Alimenta'!I:I)","v":0},0]
["PDA180DB","PD","PDA180",14,"DB","0205050301","Debiti v/ASL Avezzano Sulmona L'Aquila per finanziamento sanitario aggiuntivo corrente extra LEA",{"$f":"SUMIF('00 Alimenta'!$B:$B,'00 PDC SP'!$F526,'00 Alimenta'!D:D)","v":0},{"$f":"SUMIF('00 Alimenta'!$B:$B,'00 PDC SP'!$F526,'00 Alimenta'!E:E)","v":0},{"$f":"SUMIF('00 Alimenta'!$B:$B,'00 PDC SP'!$F526,'00 Alimenta'!F:F)","v":0},{"$f":"SUMIF('00 Alimenta'!$B:$B,'00 PDC SP'!$F526,'00 Alimenta'!G:G)","v":0},{"$f":"SUMIF('00 Alimenta'!$B:$B,'00 PDC SP'!$F526,'00 Alimenta'!H:H)","v":0},{"$f":"SUMIF('00 Alimenta'!$B:$B,'00 PDC SP'!$F526,'00 Alimenta'!I:I)","v":0},0]
["PDA180FR","PD","PDA180",14,"FR","0205050302","Fatture da ricevere v/ASL Avezzano Sulmona L'Aquila per finanziamento sanitario aggiuntivo corrente extra LEA",{"$f":"SUMIF('00 Alimenta'!$B:$B,'00 PDC SP'!$F527,'00 Alimenta'!D:D)","v":0},{"$f":"SUMIF('00 Alimenta'!$B:$B,'00 PDC SP'!$F527,'00 Alimenta'!E:E)","v":0},{"$f":"SUMIF('00 Alimenta'!$B:$B,'00 PDC SP'!$F527,'00 Alimenta'!F:F)","v":0},{"$f":"SUMIF('00 Alimenta'!$B:$B,'00 PDC SP'!$F527,'00 Alimenta'!G:G)","v":0},{"$f":"SUMIF('00 Alimenta'!$B:$B,'00 PDC SP'!$F527,'00 Alimenta'!H:H)","v":0},{"$f":"SUMIF('00 Alimenta'!$B:$B,'00 PDC SP'!$F527,'00 Alimenta'!I:I)","v":0},0]
["PDA180DB","PD","PDA180",14,"DB","0205050303","Debiti v/ASL Lanciano Vasto Chieti per finanziamento sanitario aggiuntivo corrente extra LEA",{"$f":"SUMIF('00 Alimenta'!$B:$B,'00 PDC SP'!$F528,'00 Alimenta'!D:D)","v":0},{"$f":"SUMIF('00 Alimenta'!$B:$B,'00 PDC SP'!$F528,'00 Alimenta'!E:E)","v":0},{"$f":"SUMIF('00 Alimenta'!$B:$B,'00 PDC SP'!$F528,'00 Alimenta'!F:F)","v":0},{"$f":"SUMIF('00 Alimenta'!$B:$B,'00 PDC SP'!$F528,'00 Alimenta'!G:G)","v":0},{"$f":"SUMIF('00 Alimenta'!$B:$B,'00 PDC SP'!$F528,'00 Alimenta'!H:H)","v":0},{"$f":"SUMIF('00 Alimenta'!$B:$B,'00 PDC SP'!$F528,'00 Alimenta'!I:I)","v":0},0]
["PDA180FR","PD","PDA180",14,"FR","0205050304","Fatture da ricevere v/ASL Lanciano Vasto Chieti per finanziamento sanitario aggiuntivo corrente extra LEA",{"$f":"SUMIF('00 Alimenta'!$B:$B,'00 PDC SP'!$F529,'00 Alimenta'!D:D)","v":0},{"$f":"SUMIF('00 Alimenta'!$B:$B,'00 PDC SP'!$F529,'00 Alimenta'!E:E)","v":0},{"$f":"SUMIF('00 Alimenta'!$B:$B,'00 PDC SP'!$F529,'00 Alimenta'!F:F)","v":0},{"$f":"SUMIF('00 Alimenta'!$B:$B,'00 PDC SP'!$F529,'00 Alimenta'!G:G)","v":0},{"$f":"SUMIF('00 Alimenta'!$B:$B,'00 PDC SP'!$F529,'00 Alimenta'!H:H)","v":0},{"$f":"SUMIF('00 Alimenta'!$B:$B,'00 PDC SP'!$F529,'00 Alimenta'!I:I)","v":0},0]
["PDA180DB","PD","PDA180",14,"DB","0205050305","Debiti v/ASL Pescara per finanziamento sanitario aggiuntivo corrente extra LEA",{"$f":"SUMIF('00 Alimenta'!$B:$B,'00 PDC SP'!$F530,'00 Alimenta'!D:D)","v":0},{"$f":"SUMIF('00 Alimenta'!$B:$B,'00 PDC SP'!$F530,'00 Alimenta'!E:E)","v":0},{"$f":"SUMIF('00 Alimenta'!$B:$B,'00 PDC SP'!$F530,'00 Alimenta'!F:F)","v":0},{"$f":"SUMIF('00 Alimenta'!$B:$B,'00 PDC SP'!$F530,'00 Alimenta'!G:G)","v":0},{"$f":"SUMIF('00 Alimenta'!$B:$B,'00 PDC SP'!$F530,'00 Alimenta'!H:H)","v":0},{"$f":"SUMIF('00 Alimenta'!$B:$B,'00 PDC SP'!$F530,'00 Alimenta'!I:I)","v":0},0]
["PDA180FR","PD","PDA180",14,"FR","0205050306","Fatture da ricevere v/ASL Pescara per finanziamento sanitario aggiuntivo corrente extra LEA",{"$f":"SUMIF('00 Alimenta'!$B:$B,'00 PDC SP'!$F531,'00 Alimenta'!D:D)","v":0},{"$f":"SUMIF('00 Alimenta'!$B:$B,'00 PDC SP'!$F531,'00 Alimenta'!E:E)","v":0},{"$f":"SUMIF('00 Alimenta'!$B:$B,'00 PDC SP'!$F531,'00 Alimenta'!F:F)","v":0},{"$f":"SUMIF('00 Alimenta'!$B:$B,'00 PDC SP'!$F531,'00 Alimenta'!G:G)","v":0},{"$f":"SUMIF('00 Alimenta'!$B:$B,'00 PDC SP'!$F531,'00 Alimenta'!H:H)","v":0},{"$f":"SUMIF('00 Alimenta'!$B:$B,'00 PDC SP'!$F531,'00 Alimenta'!I:I)","v":0},0]
["PDA180DB","PD","PDA180",14,"DB","0205050307","Debiti v/ASL Teramo per finanziamento sanitario aggiuntivo corrente extra LEA",{"$f":"SUMIF('00 Alimenta'!$B:$B,'00 PDC SP'!$F532,'00 Alimenta'!D:D)","v":0},{"$f":"SUMIF('00 Alimenta'!$B:$B,'00 PDC SP'!$F532,'00 Alimenta'!E:E)","v":0},{"$f":"SUMIF('00 Alimenta'!$B:$B,'00 PDC SP'!$F532,'00 Alimenta'!F:F)","v":0},{"$f":"SUMIF('00 Alimenta'!$B:$B,'00 PDC SP'!$F532,'00 Alimenta'!G:G)","v":0},{"$f":"SUMIF('00 Alimenta'!$B:$B,'00 PDC SP'!$F532,'00 Alimenta'!H:H)","v":0},{"$f":"SUMIF('00 Alimenta'!$B:$B,'00 PDC SP'!$F532,'00 Alimenta'!I:I)","v":0},0]
["PDA180FR","PD","PDA180",14,"FR","0205050308","Fatture da ricevere v/ASL Teramo per finanziamento sanitario aggiuntivo corrente extra LEA",{"$f":"SUMIF('00 Alimenta'!$B:$B,'00 PDC SP'!$F533,'00 Alimenta'!D:D)","v":0},{"$f":"SUMIF('00 Alimenta'!$B:$B,'00 PDC SP'!$F533,'00 Alimenta'!E:E)","v":0},{"$f":"SUMIF('00 Alimenta'!$B:$B,'00 PDC SP'!$F533,'00 Alimenta'!F:F)","v":0},{"$f":"SUMIF('00 Alimenta'!$B:$B,'00 PDC SP'!$F533,'00 Alimenta'!G:G)","v":0},{"$f":"SUMIF('00 Alimenta'!$B:$B,'00 PDC SP'!$F533,'00 Alimenta'!H:H)","v":0},{"$f":"SUMIF('00 Alimenta'!$B:$B,'00 PDC SP'!$F533,'00 Alimenta'!I:I)","v":0},0]
["PDA190DB","PD","PDA190",14,"DB","0205050401","Debiti v/ASL Avezzano Sulmona L'Aquila per mobilità in compensazione",{"$f":"SUMIF('00 Alimenta'!$B:$B,'00 PDC SP'!$F534,'00 Alimenta'!D:D)","v":0},{"$f":"SUMIF('00 Alimenta'!$B:$B,'00 PDC SP'!$F534,'00 Alimenta'!E:E)","v":0},{"$f":"SUMIF('00 Alimenta'!$B:$B,'00 PDC SP'!$F534,'00 Alimenta'!F:F)","v":0},{"$f":"SUMIF('00 Alimenta'!$B:$B,'00 PDC SP'!$F534,'00 Alimenta'!G:G)","v":0},{"$f":"SUMIF('00 Alimenta'!$B:$B,'00 PDC SP'!$F534,'00 Alimenta'!H:H)","v":0},{"$f":"SUMIF('00 Alimenta'!$B:$B,'00 PDC SP'!$F534,'00 Alimenta'!I:I)","v":0},0]
["PDA190DB","PD","PDA190",14,"DB","0205050402","Debiti v/ASL Lanciano Vasto Chieti per mobilità in compensazione",{"$f":"SUMIF('00 Alimenta'!$B:$B,'00 PDC SP'!$F535,'00 Alimenta'!D:D)","v":0},{"$f":"SUMIF('00 Alimenta'!$B:$B,'00 PDC SP'!$F535,'00 Alimenta'!E:E)","v":0},{"$f":"SUMIF('00 Alimenta'!$B:$B,'00 PDC SP'!$F535,'00 Alimenta'!F:F)","v":0},{"$f":"SUMIF('00 Alimenta'!$B:$B,'00 PDC SP'!$F535,'00 Alimenta'!G:G)","v":0},{"$f":"SUMIF('00 Alimenta'!$B:$B,'00 PDC SP'!$F535,'00 Alimenta'!H:H)","v":0},{"$f":"SUMIF('00 Alimenta'!$B:$B,'00 PDC SP'!$F535,'00 Alimenta'!I:I)","v":0},0]
["PDA190DB","PD","PDA190",14,"DB","0205050403","Debiti v/ASL Pescara per mobilità in compensazione",{"$f":"SUMIF('00 Alimenta'!$B:$B,'00 PDC SP'!$F536,'00 Alimenta'!D:D)","v":0},{"$f":"SUMIF('00 Alimenta'!$B:$B,'00 PDC SP'!$F536,'00 Alimenta'!E:E)","v":0},{"$f":"SUMIF('00 Alimenta'!$B:$B,'00 PDC SP'!$F536,'00 Alimenta'!F:F)","v":0},{"$f":"SUMIF('00 Alimenta'!$B:$B,'00 PDC SP'!$F536,'00 Alimenta'!G:G)","v":0},{"$f":"SUMIF('00 Alimenta'!$B:$B,'00 PDC SP'!$F536,'00 Alimenta'!H:H)","v":0},{"$f":"SUMIF('00 Alimenta'!$B:$B,'00 PDC SP'!$F536,'00 Alimenta'!I:I)","v":0},0]
["PDA190DB","PD","PDA190",14,"DB","0205050404","Debiti v/ASL Teramo per mobilità in compensazione",{"$f":"SUMIF('00 Alimenta'!$B:$B,'00 PDC SP'!$F537,'00 Alimenta'!D:D)","v":0},{"$f":"SUMIF('00 Alimenta'!$B:$B,'00 PDC SP'!$F537,'00 Alimenta'!E:E)","v":0},{"$f":"SUMIF('00 Alimenta'!$B:$B,'00 PDC SP'!$F537,'00 Alimenta'!F:F)","v":0},{"$f":"SUMIF('00 Alimenta'!$B:$B,'00 PDC SP'!$F537,'00 Alimenta'!G:G)","v":0},{"$f":"SUMIF('00 Alimenta'!$B:$B,'00 PDC SP'!$F537,'00 Alimenta'!H:H)","v":0},{"$f":"SUMIF('00 Alimenta'!$B:$B,'00 PDC SP'!$F537,'00 Alimenta'!I:I)","v":0},0]
["PDA200DB","PD","PDA200",14,"DB","0205050501","Debiti v/ASL Avezzano Sulmona L'Aquila per mobilità non in compensazione",{"$f":"SUMIF('00 Alimenta'!$B:$B,'00 PDC SP'!$F538,'00 Alimenta'!D:D)","v":0},{"$f":"SUMIF('00 Alimenta'!$B:$B,'00 PDC SP'!$F538,'00 Alimenta'!E:E)","v":0},{"$f":"SUMIF('00 Alimenta'!$B:$B,'00 PDC SP'!$F538,'00 Alimenta'!F:F)","v":0},{"$f":"SUMIF('00 Alimenta'!$B:$B,'00 PDC SP'!$F538,'00 Alimenta'!G:G)","v":0},{"$f":"SUMIF('00 Alimenta'!$B:$B,'00 PDC SP'!$F538,'00 Alimenta'!H:H)","v":0},{"$f":"SUMIF('00 Alimenta'!$B:$B,'00 PDC SP'!$F538,'00 Alimenta'!I:I)","v":0},0]
["PDA200FR","PD","PDA200",14,"FR","0205050502","Fatture da ricevere v/ASL Avezzano Sulmona L'Aquila per mobilità non in compensazione",{"$f":"SUMIF('00 Alimenta'!$B:$B,'00 PDC SP'!$F539,'00 Alimenta'!D:D)","v":0},{"$f":"SUMIF('00 Alimenta'!$B:$B,'00 PDC SP'!$F539,'00 Alimenta'!E:E)","v":0},{"$f":"SUMIF('00 Alimenta'!$B:$B,'00 PDC SP'!$F539,'00 Alimenta'!F:F)","v":0},{"$f":"SUMIF('00 Alimenta'!$B:$B,'00 PDC SP'!$F539,'00 Alimenta'!G:G)","v":0},{"$f":"SUMIF('00 Alimenta'!$B:$B,'00 PDC SP'!$F539,'00 Alimenta'!H:H)","v":0},{"$f":"SUMIF('00 Alimenta'!$B:$B,'00 PDC SP'!$F539,'00 Alimenta'!I:I)","v":0},0]
["PDA200DB","PD","PDA200",14,"DB","0205050503","Debiti v/ASL Lanciano Vasto Chieti per mobilità non in compensazione",{"$f":"SUMIF('00 Alimenta'!$B:$B,'00 PDC SP'!$F540,'00 Alimenta'!D:D)","v":0},{"$f":"SUMIF('00 Alimenta'!$B:$B,'00 PDC SP'!$F540,'00 Alimenta'!E:E)","v":0},{"$f":"SUMIF('00 Alimenta'!$B:$B,'00 PDC SP'!$F540,'00 Alimenta'!F:F)","v":0},{"$f":"SUMIF('00 Alimenta'!$B:$B,'00 PDC SP'!$F540,'00 Alimenta'!G:G)","v":0},{"$f":"SUMIF('00 Alimenta'!$B:$B,'00 PDC SP'!$F540,'00 Alimenta'!H:H)","v":0},{"$f":"SUMIF('00 Alimenta'!$B:$B,'00 PDC SP'!$F540,'00 Alimenta'!I:I)","v":0},0]
["PDA200FR","PD","PDA200",14,"FR","0205050504","Fatture da ricevere v/ASL Lanciano Vasto Chieti per mobilità non in compensazione",{"$f":"SUMIF('00 Alimenta'!$B:$B,'00 PDC SP'!$F541,'00 Alimenta'!D:D)","v":0},{"$f":"SUMIF('00 Alimenta'!$B:$B,'00 PDC SP'!$F541,'00 Alimenta'!E:E)","v":0},{"$f":"SUMIF('00 Alimenta'!$B:$B,'00 PDC SP'!$F541,'00 Alimenta'!F:F)","v":0},{"$f":"SUMIF('00 Alimenta'!$B:$B,'00 PDC SP'!$F541,'00 Alimenta'!G:G)","v":0},{"$f":"SUMIF('00 Alimenta'!$B:$B,'00 PDC SP'!$F541,'00 Alimenta'!H:H)","v":0},{"$f":"SUMIF('00 Alimenta'!$B:$B,'00 PDC SP'!$F541,'00 Alimenta'!I:I)","v":0},0]
["PDA200DB","PD","PDA200",14,"DB","0205050505","Debiti v/ASL Pescara per mobilità non in compensazione",{"$f":"SUMIF('00 Alimenta'!$B:$B,'00 PDC SP'!$F542,'00 Alimenta'!D:D)","v":0},{"$f":"SUMIF('00 Alimenta'!$B:$B,'00 PDC SP'!$F542,'00 Alimenta'!E:E)","v":0},{"$f":"SUMIF('00 Alimenta'!$B:$B,'00 PDC SP'!$F542,'00 Alimenta'!F:F)","v":0},{"$f":"SUMIF('00 Alimenta'!$B:$B,'00 PDC SP'!$F542,'00 Alimenta'!G:G)","v":0},{"$f":"SUMIF('00 Alimenta'!$B:$B,'00 PDC SP'!$F542,'00 Alimenta'!H:H)","v":0},{"$f":"SUMIF('00 Alimenta'!$B:$B,'00 PDC SP'!$F542,'00 Alimenta'!I:I)","v":0},0]
["PDA200FR","PD","PDA200",14,"FR","0205050506","Fatture da ricevere v/ASL Pescara per mobilità non in compensazione",{"$f":"SUMIF('00 Alimenta'!$B:$B,'00 PDC SP'!$F543,'00 Alimenta'!D:D)","v":0},{"$f":"SUMIF('00 Alimenta'!$B:$B,'00 PDC SP'!$F543,'00 Alimenta'!E:E)","v":0},{"$f":"SUMIF('00 Alimenta'!$B:$B,'00 PDC SP'!$F543,'00 Alimenta'!F:F)","v":0},{"$f":"SUMIF('00 Alimenta'!$B:$B,'00 PDC SP'!$F543,'00 Alimenta'!G:G)","v":0},{"$f":"SUMIF('00 Alimenta'!$B:$B,'00 PDC SP'!$F543,'00 Alimenta'!H:H)","v":0},{"$f":"SUMIF('00 Alimenta'!$B:$B,'00 PDC SP'!$F543,'00 Alimenta'!I:I)","v":0},0]
["PDA200DB","PD","PDA200",14,"DB","0205050507","Debiti v/ASL Teramo per mobilità non in compensazione",{"$f":"SUMIF('00 Alimenta'!$B:$B,'00 PDC SP'!$F544,'00 Alimenta'!D:D)","v":0},{"$f":"SUMIF('00 Alimenta'!$B:$B,'00 PDC SP'!$F544,'00 Alimenta'!E:E)","v":0},{"$f":"SUMIF('00 Alimenta'!$B:$B,'00 PDC SP'!$F544,'00 Alimenta'!F:F)","v":0},{"$f":"SUMIF('00 Alimenta'!$B:$B,'00 PDC SP'!$F544,'00 Alimenta'!G:G)","v":0},{"$f":"SUMIF('00 Alimenta'!$B:$B,'00 PDC SP'!$F544,'00 Alimenta'!H:H)","v":0},{"$f":"SUMIF('00 Alimenta'!$B:$B,'00 PDC SP'!$F544,'00 Alimenta'!I:I)","v":0},0]
["PDA200FR","PD","PDA200",14,"FR","0205050508","Fatture da ricevere v/ASL Teramo per mobilità non in compensazione",{"$f":"SUMIF('00 Alimenta'!$B:$B,'00 PDC SP'!$F545,'00 Alimenta'!D:D)","v":0},{"$f":"SUMIF('00 Alimenta'!$B:$B,'00 PDC SP'!$F545,'00 Alimenta'!E:E)","v":0},{"$f":"SUMIF('00 Alimenta'!$B:$B,'00 PDC SP'!$F545,'00 Alimenta'!F:F)","v":0},{"$f":"SUMIF('00 Alimenta'!$B:$B,'00 PDC SP'!$F545,'00 Alimenta'!G:G)","v":0},{"$f":"SUMIF('00 Alimenta'!$B:$B,'00 PDC SP'!$F545,'00 Alimenta'!H:H)","v":0},{"$f":"SUMIF('00 Alimenta'!$B:$B,'00 PDC SP'!$F545,'00 Alimenta'!I:I)","v":0},0]
["PDA210DB","PD","PDA210",14,"DB","0205050601","Debiti v/ASL Avezzano Sulmona L'Aquila per altre prestazioni",{"$f":"SUMIF('00 Alimenta'!$B:$B,'00 PDC SP'!$F546,'00 Alimenta'!D:D)","v":-180212.98},{"$f":"SUMIF('00 Alimenta'!$B:$B,'00 PDC SP'!$F546,'00 Alimenta'!E:E)","v":-227138.82},{"$f":"SUMIF('00 Alimenta'!$B:$B,'00 PDC SP'!$F546,'00 Alimenta'!F:F)","v":-340225.52},{"$f":"SUMIF('00 Alimenta'!$B:$B,'00 PDC SP'!$F546,'00 Alimenta'!G:G)","v":-67126.28},{"$f":"SUMIF('00 Alimenta'!$B:$B,'00 PDC SP'!$F546,'00 Alimenta'!H:H)","v":-272401.8},{"$f":"SUMIF('00 Alimenta'!$B:$B,'00 PDC SP'!$F546,'00 Alimenta'!I:I)","v":-74123.62},-265404.45999999996]
["PDA210FR","PD","PDA210",14,"FR","0205050602","Fatture da ricevere v/ASL Avezzano Sulmona L'Aquila per altre prestazioni",{"$f":"SUMIF('00 Alimenta'!$B:$B,'00 PDC SP'!$F547,'00 Alimenta'!D:D)","v":-75971.990000000005},{"$f":"SUMIF('00 Alimenta'!$B:$B,'00 PDC SP'!$F547,'00 Alimenta'!E:E)","v":-198130.85},{"$f":"SUMIF('00 Alimenta'!$B:$B,'00 PDC SP'!$F547,'00 Alimenta'!F:F)","v":-75971.990000000005},{"$f":"SUMIF('00 Alimenta'!$B:$B,'00 PDC SP'!$F547,'00 Alimenta'!G:G)","v":-198130.85},{"$f":"SUMIF('00 Alimenta'!$B:$B,'00 PDC SP'!$F547,'00 Alimenta'!H:H)","v":-84346.32},{"$f":"SUMIF('00 Alimenta'!$B:$B,'00 PDC SP'!$F547,'00 Alimenta'!I:I)","v":-198130.85},-84346.320000000036]
["PDA210DB","PD","PDA210",14,"DB","0205050603","Debiti v/ASL Lanciano Vasto Chieti per altre prestazioni",{"$f":"SUMIF('00 Alimenta'!$B:$B,'00 PDC SP'!$F548,'00 Alimenta'!D:D)","v":-38840.86},{"$f":"SUMIF('00 Alimenta'!$B:$B,'00 PDC SP'!$F548,'00 Alimenta'!E:E)","v":-114253.79},{"$f":"SUMIF('00 Alimenta'!$B:$B,'00 PDC SP'!$F548,'00 Alimenta'!F:F)","v":-82872.25},{"$f":"SUMIF('00 Alimenta'!$B:$B,'00 PDC SP'!$F548,'00 Alimenta'!G:G)","v":-70222.399999999994},{"$f":"SUMIF('00 Alimenta'!$B:$B,'00 PDC SP'!$F548,'00 Alimenta'!H:H)","v":-58278.06},{"$f":"SUMIF('00 Alimenta'!$B:$B,'00 PDC SP'!$F548,'00 Alimenta'!I:I)","v":-69229.149999999994},-59271.31]
["PDA210FR","PD","PDA210",14,"FR","0205050604","Fatture da ricevere v/ASL Lanciano Vasto Chieti per altre prestazioni",{"$f":"SUMIF('00 Alimenta'!$B:$B,'00 PDC SP'!$F549,'00 Alimenta'!D:D)","v":-26285.81},{"$f":"SUMIF('00 Alimenta'!$B:$B,'00 PDC SP'!$F549,'00 Alimenta'!E:E)","v":-27859.87},{"$f":"SUMIF('00 Alimenta'!$B:$B,'00 PDC SP'!$F549,'00 Alimenta'!F:F)","v":-26285.81},{"$f":"SUMIF('00 Alimenta'!$B:$B,'00 PDC SP'!$F549,'00 Alimenta'!G:G)","v":-27859.87},{"$f":"SUMIF('00 Alimenta'!$B:$B,'00 PDC SP'!$F549,'00 Alimenta'!H:H)","v":-23505.119999999999},{"$f":"SUMIF('00 Alimenta'!$B:$B,'00 PDC SP'!$F549,'00 Alimenta'!I:I)","v":-27859.87},-23505.119999999999]
["PDA210DB","PD","PDA210",14,"DB","0205050605","Debiti v/ASL Pescara per altre prestazioni",{"$f":"SUMIF('00 Alimenta'!$B:$B,'00 PDC SP'!$F550,'00 Alimenta'!D:D)","v":0},{"$f":"SUMIF('00 Alimenta'!$B:$B,'00 PDC SP'!$F550,'00 Alimenta'!E:E)","v":0},{"$f":"SUMIF('00 Alimenta'!$B:$B,'00 PDC SP'!$F550,'00 Alimenta'!F:F)","v":0},{"$f":"SUMIF('00 Alimenta'!$B:$B,'00 PDC SP'!$F550,'00 Alimenta'!G:G)","v":0},{"$f":"SUMIF('00 Alimenta'!$B:$B,'00 PDC SP'!$F550,'00 Alimenta'!H:H)","v":0},{"$f":"SUMIF('00 Alimenta'!$B:$B,'00 PDC SP'!$F550,'00 Alimenta'!I:I)","v":0},0]
["PDA210FR","PD","PDA210",14,"FR","0205050606","Fatture da ricevere v/ASL Pescara per altre prestazioni",{"$f":"SUMIF('00 Alimenta'!$B:$B,'00 PDC SP'!$F551,'00 Alimenta'!D:D)","v":0},{"$f":"SUMIF('00 Alimenta'!$B:$B,'00 PDC SP'!$F551,'00 Alimenta'!E:E)","v":0},{"$f":"SUMIF('00 Alimenta'!$B:$B,'00 PDC SP'!$F551,'00 Alimenta'!F:F)","v":0},{"$f":"SUMIF('00 Alimenta'!$B:$B,'00 PDC SP'!$F551,'00 Alimenta'!G:G)","v":0},{"$f":"SUMIF('00 Alimenta'!$B:$B,'00 PDC SP'!$F551,'00 Alimenta'!H:H)","v":0},{"$f":"SUMIF('00 Alimenta'!$B:$B,'00 PDC SP'!$F551,'00 Alimenta'!I:I)","v":0},0]
["PDA210DB","PD","PDA210",14,"DB","0205050607","Debiti v/ASL Teramo per altre prestazioni",{"$f":"SUMIF('00 Alimenta'!$B:$B,'00 PDC SP'!$F552,'00 Alimenta'!D:D)","v":-1613366.91},{"$f":"SUMIF('00 Alimenta'!$B:$B,'00 PDC SP'!$F552,'00 Alimenta'!E:E)","v":-150282.79999999999},{"$f":"SUMIF('00 Alimenta'!$B:$B,'00 PDC SP'!$F552,'00 Alimenta'!F:F)","v":-22760.93},{"$f":"SUMIF('00 Alimenta'!$B:$B,'00 PDC SP'!$F552,'00 Alimenta'!G:G)","v":-1740888.78},{"$f":"SUMIF('00 Alimenta'!$B:$B,'00 PDC SP'!$F552,'00 Alimenta'!H:H)","v":-280639.09000000003},{"$f":"SUMIF('00 Alimenta'!$B:$B,'00 PDC SP'!$F552,'00 Alimenta'!I:I)","v":-94079},-1927448.87]
["PDA210FR","PD","PDA210",14,"FR","0205050608","Fatture da ricevere v/ASL Teramo per altre prestazioni",{"$f":"SUMIF('00 Alimenta'!$B:$B,'00 PDC SP'!$F553,'00 Alimenta'!D:D)","v":-140054.32999999999},{"$f":"SUMIF('00 Alimenta'!$B:$B,'00 PDC SP'!$F553,'00 Alimenta'!E:E)","v":-32310.93},{"$f":"SUMIF('00 Alimenta'!$B:$B,'00 PDC SP'!$F553,'00 Alimenta'!F:F)","v":-140054.32999999999},{"$f":"SUMIF('00 Alimenta'!$B:$B,'00 PDC SP'!$F553,'00 Alimenta'!G:G)","v":-32310.93},{"$f":"SUMIF('00 Alimenta'!$B:$B,'00 PDC SP'!$F553,'00 Alimenta'!H:H)","v":-29786},{"$f":"SUMIF('00 Alimenta'!$B:$B,'00 PDC SP'!$F553,'00 Alimenta'!I:I)","v":-32310.93},-29786]
["PDA220DB","PD","PDA220",14,"DB","0205050701","Debiti v/Aziende sanitarie pubbliche Extraregione",{"$f":"SUMIF('00 Alimenta'!$B:$B,'00 PDC SP'!$F554,'00 Alimenta'!D:D)","v":-124910.91},{"$f":"SUMIF('00 Alimenta'!$B:$B,'00 PDC SP'!$F554,'00 Alimenta'!E:E)","v":-405823.74},{"$f":"SUMIF('00 Alimenta'!$B:$B,'00 PDC SP'!$F554,'00 Alimenta'!F:F)","v":-378069.99},{"$f":"SUMIF('00 Alimenta'!$B:$B,'00 PDC SP'!$F554,'00 Alimenta'!G:G)","v":-152664.66},{"$f":"SUMIF('00 Alimenta'!$B:$B,'00 PDC SP'!$F554,'00 Alimenta'!H:H)","v":-207261.11},{"$f":"SUMIF('00 Alimenta'!$B:$B,'00 PDC SP'!$F554,'00 Alimenta'!I:I)","v":-265226.40999999997},-94699.360000000044]
["PDA220FR","PD","PDA220",14,"FR","0205050702","Fatture da ricevere v/Aziende sanitarie pubbliche Extraregione",{"$f":"SUMIF('00 Alimenta'!$B:$B,'00 PDC SP'!$F555,'00 Alimenta'!D:D)","v":-34471.89},{"$f":"SUMIF('00 Alimenta'!$B:$B,'00 PDC SP'!$F555,'00 Alimenta'!E:E)","v":-36898.550000000003},{"$f":"SUMIF('00 Alimenta'!$B:$B,'00 PDC SP'!$F555,'00 Alimenta'!F:F)","v":-34471.89},{"$f":"SUMIF('00 Alimenta'!$B:$B,'00 PDC SP'!$F555,'00 Alimenta'!G:G)","v":-36898.550000000003},{"$f":"SUMIF('00 Alimenta'!$B:$B,'00 PDC SP'!$F555,'00 Alimenta'!H:H)","v":-15263.65},{"$f":"SUMIF('00 Alimenta'!$B:$B,'00 PDC SP'!$F555,'00 Alimenta'!I:I)","v":-36898.550000000003},-15263.650000000001]
["PDA220DB","PD","PDA220",14,"DB","0205050703","Debiti v/Aziende Ospedaliere, IRCCS, Policlinici, Fondazioni Extraregione",{"$f":"SUMIF('00 Alimenta'!$B:$B,'00 PDC SP'!$F556,'00 Alimenta'!D:D)","v":-55493},{"$f":"SUMIF('00 Alimenta'!$B:$B,'00 PDC SP'!$F556,'00 Alimenta'!E:E)","v":-61987.95},{"$f":"SUMIF('00 Alimenta'!$B:$B,'00 PDC SP'!$F556,'00 Alimenta'!F:F)","v":-87165.31},{"$f":"SUMIF('00 Alimenta'!$B:$B,'00 PDC SP'!$F556,'00 Alimenta'!G:G)","v":-30315.64},{"$f":"SUMIF('00 Alimenta'!$B:$B,'00 PDC SP'!$F556,'00 Alimenta'!H:H)","v":-81219.11},{"$f":"SUMIF('00 Alimenta'!$B:$B,'00 PDC SP'!$F556,'00 Alimenta'!I:I)","v":-54298.28},-57236.47]
["PDA220FR","PD","PDA220",14,"FR","0205050704","Fatture da ricevere v/Aziende Ospedaliere, IRCCS, Policlinici, Fondazioni Extraregione",{"$f":"SUMIF('00 Alimenta'!$B:$B,'00 PDC SP'!$F557,'00 Alimenta'!D:D)","v":-23282.01},{"$f":"SUMIF('00 Alimenta'!$B:$B,'00 PDC SP'!$F557,'00 Alimenta'!E:E)","v":-35195.339999999997},{"$f":"SUMIF('00 Alimenta'!$B:$B,'00 PDC SP'!$F557,'00 Alimenta'!F:F)","v":-23282.01},{"$f":"SUMIF('00 Alimenta'!$B:$B,'00 PDC SP'!$F557,'00 Alimenta'!G:G)","v":-35195.339999999997},{"$f":"SUMIF('00 Alimenta'!$B:$B,'00 PDC SP'!$F557,'00 Alimenta'!H:H)","v":-33826.42},{"$f":"SUMIF('00 Alimenta'!$B:$B,'00 PDC SP'!$F557,'00 Alimenta'!I:I)","v":-35195.339999999997},-33826.42]
["PDA230DB","PD","PDA230",14,"DB","0205050801","Debiti v/ASL Avezzano Sulmona L'Aquila per versamenti c/patrimonio netto",{"$f":"SUMIF('00 Alimenta'!$B:$B,'00 PDC SP'!$F558,'00 Alimenta'!D:D)","v":0},{"$f":"SUMIF('00 Alimenta'!$B:$B,'00 PDC SP'!$F558,'00 Alimenta'!E:E)","v":0},{"$f":"SUMIF('00 Alimenta'!$B:$B,'00 PDC SP'!$F558,'00 Alimenta'!F:F)","v":0},{"$f":"SUMIF('00 Alimenta'!$B:$B,'00 PDC SP'!$F558,'00 Alimenta'!G:G)","v":0},{"$f":"SUMIF('00 Alimenta'!$B:$B,'00 PDC SP'!$F558,'00 Alimenta'!H:H)","v":0},{"$f":"SUMIF('00 Alimenta'!$B:$B,'00 PDC SP'!$F558,'00 Alimenta'!I:I)","v":0},0]
["PDA230DB","PD","PDA230",14,"DB","0205050802","Debiti v/ASL Lanciano Vasto Chieti per versamenti c/patrimonio netto",{"$f":"SUMIF('00 Alimenta'!$B:$B,'00 PDC SP'!$F559,'00 Alimenta'!D:D)","v":0},{"$f":"SUMIF('00 Alimenta'!$B:$B,'00 PDC SP'!$F559,'00 Alimenta'!E:E)","v":0},{"$f":"SUMIF('00 Alimenta'!$B:$B,'00 PDC SP'!$F559,'00 Alimenta'!F:F)","v":0},{"$f":"SUMIF('00 Alimenta'!$B:$B,'00 PDC SP'!$F559,'00 Alimenta'!G:G)","v":0},{"$f":"SUMIF('00 Alimenta'!$B:$B,'00 PDC SP'!$F559,'00 Alimenta'!H:H)","v":0},{"$f":"SUMIF('00 Alimenta'!$B:$B,'00 PDC SP'!$F559,'00 Alimenta'!I:I)","v":0},0]
["PDA230DB","PD","PDA230",14,"DB","0205050803","Debiti v/ASL Pescara per versamenti c/patrimonio netto",{"$f":"SUMIF('00 Alimenta'!$B:$B,'00 PDC SP'!$F560,'00 Alimenta'!D:D)","v":0},{"$f":"SUMIF('00 Alimenta'!$B:$B,'00 PDC SP'!$F560,'00 Alimenta'!E:E)","v":0},{"$f":"SUMIF('00 Alimenta'!$B:$B,'00 PDC SP'!$F560,'00 Alimenta'!F:F)","v":0},{"$f":"SUMIF('00 Alimenta'!$B:$B,'00 PDC SP'!$F560,'00 Alimenta'!G:G)","v":0},{"$f":"SUMIF('00 Alimenta'!$B:$B,'00 PDC SP'!$F560,'00 Alimenta'!H:H)","v":0},{"$f":"SUMIF('00 Alimenta'!$B:$B,'00 PDC SP'!$F560,'00 Alimenta'!I:I)","v":0},0]
["PDA230DB","PD","PDA230",14,"DB","0205050804","Debiti v/ASL Teramo per versamenti c/patrimonio netto",{"$f":"SUMIF('00 Alimenta'!$B:$B,'00 PDC SP'!$F561,'00 Alimenta'!D:D)","v":0},{"$f":"SUMIF('00 Alimenta'!$B:$B,'00 PDC SP'!$F561,'00 Alimenta'!E:E)","v":0},{"$f":"SUMIF('00 Alimenta'!$B:$B,'00 PDC SP'!$F561,'00 Alimenta'!F:F)","v":0},{"$f":"SUMIF('00 Alimenta'!$B:$B,'00 PDC SP'!$F561,'00 Alimenta'!G:G)","v":0},{"$f":"SUMIF('00 Alimenta'!$B:$B,'00 PDC SP'!$F561,'00 Alimenta'!H:H)","v":0},{"$f":"SUMIF('00 Alimenta'!$B:$B,'00 PDC SP'!$F561,'00 Alimenta'!I:I)","v":0},0]
["PDA230DB","PD","PDA230",14,"DB","0205050805","Debiti v/ASL ASL Regionali per versamenti c/patrimonio netto",{"$f":"SUMIF('00 Alimenta'!$B:$B,'00 PDC SP'!$F562,'00 Alimenta'!D:D)","v":0},{"$f":"SUMIF('00 Alimenta'!$B:$B,'00 PDC SP'!$F562,'00 Alimenta'!E:E)","v":0},{"$f":"SUMIF('00 Alimenta'!$B:$B,'00 PDC SP'!$F562,'00 Alimenta'!F:F)","v":0},{"$f":"SUMIF('00 Alimenta'!$B:$B,'00 PDC SP'!$F562,'00 Alimenta'!G:G)","v":0},{"$f":"SUMIF('00 Alimenta'!$B:$B,'00 PDC SP'!$F562,'00 Alimenta'!H:H)","v":0},{"$f":"SUMIF('00 Alimenta'!$B:$B,'00 PDC SP'!$F562,'00 Alimenta'!I:I)","v":0},0]
["PDA250DB","PD","PDA250",15,"DB","0205060101","Debiti v/ARTA",{"$f":"SUMIF('00 Alimenta'!$B:$B,'00 PDC SP'!$F563,'00 Alimenta'!D:D)","v":0},{"$f":"SUMIF('00 Alimenta'!$B:$B,'00 PDC SP'!$F563,'00 Alimenta'!E:E)","v":0},{"$f":"SUMIF('00 Alimenta'!$B:$B,'00 PDC SP'!$F563,'00 Alimenta'!F:F)","v":0},{"$f":"SUMIF('00 Alimenta'!$B:$B,'00 PDC SP'!$F563,'00 Alimenta'!G:G)","v":0},{"$f":"SUMIF('00 Alimenta'!$B:$B,'00 PDC SP'!$F563,'00 Alimenta'!H:H)","v":0},{"$f":"SUMIF('00 Alimenta'!$B:$B,'00 PDC SP'!$F563,'00 Alimenta'!I:I)","v":0},0]
["PDA250FR","PD","PDA250",15,"FR","0205060102","Fatture da ricevere v/ARTA",{"$f":"SUMIF('00 Alimenta'!$B:$B,'00 PDC SP'!$F564,'00 Alimenta'!D:D)","v":0},{"$f":"SUMIF('00 Alimenta'!$B:$B,'00 PDC SP'!$F564,'00 Alimenta'!E:E)","v":0},{"$f":"SUMIF('00 Alimenta'!$B:$B,'00 PDC SP'!$F564,'00 Alimenta'!F:F)","v":0},{"$f":"SUMIF('00 Alimenta'!$B:$B,'00 PDC SP'!$F564,'00 Alimenta'!G:G)","v":0},{"$f":"SUMIF('00 Alimenta'!$B:$B,'00 PDC SP'!$F564,'00 Alimenta'!H:H)","v":0},{"$f":"SUMIF('00 Alimenta'!$B:$B,'00 PDC SP'!$F564,'00 Alimenta'!I:I)","v":0},0]
["PDA250DB","PD","PDA250",15,"DB","0205060103","Debiti v/Agenzia Sanitaria Regionale",{"$f":"SUMIF('00 Alimenta'!$B:$B,'00 PDC SP'!$F565,'00 Alimenta'!D:D)","v":0},{"$f":"SUMIF('00 Alimenta'!$B:$B,'00 PDC SP'!$F565,'00 Alimenta'!E:E)","v":0},{"$f":"SUMIF('00 Alimenta'!$B:$B,'00 PDC SP'!$F565,'00 Alimenta'!F:F)","v":0},{"$f":"SUMIF('00 Alimenta'!$B:$B,'00 PDC SP'!$F565,'00 Alimenta'!G:G)","v":0},{"$f":"SUMIF('00 Alimenta'!$B:$B,'00 PDC SP'!$F565,'00 Alimenta'!H:H)","v":0},{"$f":"SUMIF('00 Alimenta'!$B:$B,'00 PDC SP'!$F565,'00 Alimenta'!I:I)","v":0},0]
["PDA250FR","PD","PDA250",15,"FR","0205060104","Fatture da ricevere v/Agenzia Sanitaria Regionale",{"$f":"SUMIF('00 Alimenta'!$B:$B,'00 PDC SP'!$F566,'00 Alimenta'!D:D)","v":0},{"$f":"SUMIF('00 Alimenta'!$B:$B,'00 PDC SP'!$F566,'00 Alimenta'!E:E)","v":0},{"$f":"SUMIF('00 Alimenta'!$B:$B,'00 PDC SP'!$F566,'00 Alimenta'!F:F)","v":0},{"$f":"SUMIF('00 Alimenta'!$B:$B,'00 PDC SP'!$F566,'00 Alimenta'!G:G)","v":0},{"$f":"SUMIF('00 Alimenta'!$B:$B,'00 PDC SP'!$F566,'00 Alimenta'!H:H)","v":0},{"$f":"SUMIF('00 Alimenta'!$B:$B,'00 PDC SP'!$F566,'00 Alimenta'!I:I)","v":0},0]
["PDA250DB","PD","PDA250",15,"DB","0205060105","Debiti v/altri enti regionali",{"$f":"SUMIF('00 Alimenta'!$B:$B,'00 PDC SP'!$F567,'00 Alimenta'!D:D)","v":-7311.52},{"$f":"SUMIF('00 Alimenta'!$B:$B,'00 PDC SP'!$F567,'00 Alimenta'!E:E)","v":-13241.9},{"$f":"SUMIF('00 Alimenta'!$B:$B,'00 PDC SP'!$F567,'00 Alimenta'!F:F)","v":-20553.419999999998},{"$f":"SUMIF('00 Alimenta'!$B:$B,'00 PDC SP'!$F567,'00 Alimenta'!G:G)","v":0},{"$f":"SUMIF('00 Alimenta'!$B:$B,'00 PDC SP'!$F567,'00 Alimenta'!H:H)","v":0},{"$f":"SUMIF('00 Alimenta'!$B:$B,'00 PDC SP'!$F567,'00 Alimenta'!I:I)","v":0},0]
["PDA250FR","PD","PDA250",15,"FR","0205060106","Fatture da ricevere v/altri enti regionali",{"$f":"SUMIF('00 Alimenta'!$B:$B,'00 PDC SP'!$F568,'00 Alimenta'!D:D)","v":0},{"$f":"SUMIF('00 Alimenta'!$B:$B,'00 PDC SP'!$F568,'00 Alimenta'!E:E)","v":0},{"$f":"SUMIF('00 Alimenta'!$B:$B,'00 PDC SP'!$F568,'00 Alimenta'!F:F)","v":0},{"$f":"SUMIF('00 Alimenta'!$B:$B,'00 PDC SP'!$F568,'00 Alimenta'!G:G)","v":0},{"$f":"SUMIF('00 Alimenta'!$B:$B,'00 PDC SP'!$F568,'00 Alimenta'!H:H)","v":0},{"$f":"SUMIF('00 Alimenta'!$B:$B,'00 PDC SP'!$F568,'00 Alimenta'!I:I)","v":0},0]
["PDA260DB","PD","PDA260",15,"DB","0205060201","Debiti v/sperimentazioni gestionali",{"$f":"SUMIF('00 Alimenta'!$B:$B,'00 PDC SP'!$F569,'00 Alimenta'!D:D)","v":0},{"$f":"SUMIF('00 Alimenta'!$B:$B,'00 PDC SP'!$F569,'00 Alimenta'!E:E)","v":0},{"$f":"SUMIF('00 Alimenta'!$B:$B,'00 PDC SP'!$F569,'00 Alimenta'!F:F)","v":0},{"$f":"SUMIF('00 Alimenta'!$B:$B,'00 PDC SP'!$F569,'00 Alimenta'!G:G)","v":0},{"$f":"SUMIF('00 Alimenta'!$B:$B,'00 PDC SP'!$F569,'00 Alimenta'!H:H)","v":0},{"$f":"SUMIF('00 Alimenta'!$B:$B,'00 PDC SP'!$F569,'00 Alimenta'!I:I)","v":0},0]
["PDA260FR","PD","PDA260",15,"FR","0205060202","Fatture da ricevere v/sperimentazioni gestionali",{"$f":"SUMIF('00 Alimenta'!$B:$B,'00 PDC SP'!$F570,'00 Alimenta'!D:D)","v":0},{"$f":"SUMIF('00 Alimenta'!$B:$B,'00 PDC SP'!$F570,'00 Alimenta'!E:E)","v":0},{"$f":"SUMIF('00 Alimenta'!$B:$B,'00 PDC SP'!$F570,'00 Alimenta'!F:F)","v":0},{"$f":"SUMIF('00 Alimenta'!$B:$B,'00 PDC SP'!$F570,'00 Alimenta'!G:G)","v":0},{"$f":"SUMIF('00 Alimenta'!$B:$B,'00 PDC SP'!$F570,'00 Alimenta'!H:H)","v":0},{"$f":"SUMIF('00 Alimenta'!$B:$B,'00 PDC SP'!$F570,'00 Alimenta'!I:I)","v":0},0]
["PDA270DB","PD","PDA270",15,"DB","0205060301","Debiti v/altre partecipate",{"$f":"SUMIF('00 Alimenta'!$B:$B,'00 PDC SP'!$F571,'00 Alimenta'!D:D)","v":0},{"$f":"SUMIF('00 Alimenta'!$B:$B,'00 PDC SP'!$F571,'00 Alimenta'!E:E)","v":0},{"$f":"SUMIF('00 Alimenta'!$B:$B,'00 PDC SP'!$F571,'00 Alimenta'!F:F)","v":0},{"$f":"SUMIF('00 Alimenta'!$B:$B,'00 PDC SP'!$F571,'00 Alimenta'!G:G)","v":0},{"$f":"SUMIF('00 Alimenta'!$B:$B,'00 PDC SP'!$F571,'00 Alimenta'!H:H)","v":0},{"$f":"SUMIF('00 Alimenta'!$B:$B,'00 PDC SP'!$F571,'00 Alimenta'!I:I)","v":0},0]
["PDA270FR","PD","PDA270",15,"FR","0205060302","Fatture da ricevere v/altre partecipate",{"$f":"SUMIF('00 Alimenta'!$B:$B,'00 PDC SP'!$F572,'00 Alimenta'!D:D)","v":0},{"$f":"SUMIF('00 Alimenta'!$B:$B,'00 PDC SP'!$F572,'00 Alimenta'!E:E)","v":0},{"$f":"SUMIF('00 Alimenta'!$B:$B,'00 PDC SP'!$F572,'00 Alimenta'!F:F)","v":0},{"$f":"SUMIF('00 Alimenta'!$B:$B,'00 PDC SP'!$F572,'00 Alimenta'!G:G)","v":0},{"$f":"SUMIF('00 Alimenta'!$B:$B,'00 PDC SP'!$F572,'00 Alimenta'!H:H)","v":0},{"$f":"SUMIF('00 Alimenta'!$B:$B,'00 PDC SP'!$F572,'00 Alimenta'!I:I)","v":0},0]
["PDA290DB","PD","PDA290",16,"DB","0205070101","Debiti v/medici di base",{"$f":"SUMIF('00 Alimenta'!$B:$B,'00 PDC SP'!$F573,'00 Alimenta'!D:D)","v":-1904301.11},{"$f":"SUMIF('00 Alimenta'!$B:$B,'00 PDC SP'!$F573,'00 Alimenta'!E:E)","v":-22756730.199999999},{"$f":"SUMIF('00 Alimenta'!$B:$B,'00 PDC SP'!$F573,'00 Alimenta'!F:F)","v":-22774999.760000002},{"$f":"SUMIF('00 Alimenta'!$B:$B,'00 PDC SP'!$F573,'00 Alimenta'!G:G)","v":-1886031.55},{"$f":"SUMIF('00 Alimenta'!$B:$B,'00 PDC SP'!$F573,'00 Alimenta'!H:H)","v":-22027402.870000001},{"$f":"SUMIF('00 Alimenta'!$B:$B,'00 PDC SP'!$F573,'00 Alimenta'!I:I)","v":-22164628.670000002},-1748805.75]
["PDA290DB","PD","PDA290",16,"DB","0205070102","Debiti v/farmacie",{"$f":"SUMIF('00 Alimenta'!$B:$B,'00 PDC SP'!$F574,'00 Alimenta'!D:D)","v":-6852235.6699999999},{"$f":"SUMIF('00 Alimenta'!$B:$B,'00 PDC SP'!$F574,'00 Alimenta'!E:E)","v":-52586498.329999998},{"$f":"SUMIF('00 Alimenta'!$B:$B,'00 PDC SP'!$F574,'00 Alimenta'!F:F)","v":-51738705.240000002},{"$f":"SUMIF('00 Alimenta'!$B:$B,'00 PDC SP'!$F574,'00 Alimenta'!G:G)","v":-7700028.7599999998},{"$f":"SUMIF('00 Alimenta'!$B:$B,'00 PDC SP'!$F574,'00 Alimenta'!H:H)","v":-52286610.909999996},{"$f":"SUMIF('00 Alimenta'!$B:$B,'00 PDC SP'!$F574,'00 Alimenta'!I:I)","v":-56980917.469999999},-3005722.1999999955]
["PDA290DB","PD","PDA290",16,"DB","0205070103","Debiti v/medici SUMAI",{"$f":"SUMIF('00 Alimenta'!$B:$B,'00 PDC SP'!$F575,'00 Alimenta'!D:D)","v":0},{"$f":"SUMIF('00 Alimenta'!$B:$B,'00 PDC SP'!$F575,'00 Alimenta'!E:E)","v":-2882899.79},{"$f":"SUMIF('00 Alimenta'!$B:$B,'00 PDC SP'!$F575,'00 Alimenta'!F:F)","v":-2882899.79},{"$f":"SUMIF('00 Alimenta'!$B:$B,'00 PDC SP'!$F575,'00 Alimenta'!G:G)","v":0},{"$f":"SUMIF('00 Alimenta'!$B:$B,'00 PDC SP'!$F575,'00 Alimenta'!H:H)","v":-2870787.24},{"$f":"SUMIF('00 Alimenta'!$B:$B,'00 PDC SP'!$F575,'00 Alimenta'!I:I)","v":-2870787.23},-1.0000000242143869E-2]
["PDA290DB","PD","PDA290",16,"DB","0205070104","Debiti v/IRCCS privati e Policlinici",{"$f":"SUMIF('00 Alimenta'!$B:$B,'00 PDC SP'!$F576,'00 Alimenta'!D:D)","v":0},{"$f":"SUMIF('00 Alimenta'!$B:$B,'00 PDC SP'!$F576,'00 Alimenta'!E:E)","v":0},{"$f":"SUMIF('00 Alimenta'!$B:$B,'00 PDC SP'!$F576,'00 Alimenta'!F:F)","v":0},{"$f":"SUMIF('00 Alimenta'!$B:$B,'00 PDC SP'!$F576,'00 Alimenta'!G:G)","v":0},{"$f":"SUMIF('00 Alimenta'!$B:$B,'00 PDC SP'!$F576,'00 Alimenta'!H:H)","v":0},{"$f":"SUMIF('00 Alimenta'!$B:$B,'00 PDC SP'!$F576,'00 Alimenta'!I:I)","v":0},0]
["PDA290FR","PD","PDA290",16,"FR","0205070105","Fatture da ricevere v/IRCCS privati e Policlinici",{"$f":"SUMIF('00 Alimenta'!$B:$B,'00 PDC SP'!$F577,'00 Alimenta'!D:D)","v":0},{"$f":"SUMIF('00 Alimenta'!$B:$B,'00 PDC SP'!$F577,'00 Alimenta'!E:E)","v":0},{"$f":"SUMIF('00 Alimenta'!$B:$B,'00 PDC SP'!$F577,'00 Alimenta'!F:F)","v":0},{"$f":"SUMIF('00 Alimenta'!$B:$B,'00 PDC SP'!$F577,'00 Alimenta'!G:G)","v":0},{"$f":"SUMIF('00 Alimenta'!$B:$B,'00 PDC SP'!$F577,'00 Alimenta'!H:H)","v":0},{"$f":"SUMIF('00 Alimenta'!$B:$B,'00 PDC SP'!$F577,'00 Alimenta'!I:I)","v":0},0]
["PDA290DB","PD","PDA290",16,"DB","0205070106","Debiti v/Ospedali Classificati",{"$f":"SUMIF('00 Alimenta'!$B:$B,'00 PDC SP'!$F578,'00 Alimenta'!D:D)","v":0},{"$f":"SUMIF('00 Alimenta'!$B:$B,'00 PDC SP'!$F578,'00 Alimenta'!E:E)","v":0},{"$f":"SUMIF('00 Alimenta'!$B:$B,'00 PDC SP'!$F578,'00 Alimenta'!F:F)","v":0},{"$f":"SUMIF('00 Alimenta'!$B:$B,'00 PDC SP'!$F578,'00 Alimenta'!G:G)","v":0},{"$f":"SUMIF('00 Alimenta'!$B:$B,'00 PDC SP'!$F578,'00 Alimenta'!H:H)","v":0},{"$f":"SUMIF('00 Alimenta'!$B:$B,'00 PDC SP'!$F578,'00 Alimenta'!I:I)","v":0},0]
["PDA290FR","PD","PDA290",16,"FR","0205070107","Fatture da ricevere v/Ospedali Classificati",{"$f":"SUMIF('00 Alimenta'!$B:$B,'00 PDC SP'!$F579,'00 Alimenta'!D:D)","v":0},{"$f":"SUMIF('00 Alimenta'!$B:$B,'00 PDC SP'!$F579,'00 Alimenta'!E:E)","v":0},{"$f":"SUMIF('00 Alimenta'!$B:$B,'00 PDC SP'!$F579,'00 Alimenta'!F:F)","v":0},{"$f":"SUMIF('00 Alimenta'!$B:$B,'00 PDC SP'!$F579,'00 Alimenta'!G:G)","v":0},{"$f":"SUMIF('00 Alimenta'!$B:$B,'00 PDC SP'!$F579,'00 Alimenta'!H:H)","v":-9382.08},{"$f":"SUMIF('00 Alimenta'!$B:$B,'00 PDC SP'!$F579,'00 Alimenta'!I:I)","v":0},-9382.08]
["PDA290DB","PD","PDA290",16,"DB","0205070108","Debiti v/Case di Cura",{"$f":"SUMIF('00 Alimenta'!$B:$B,'00 PDC SP'!$F580,'00 Alimenta'!D:D)","v":-24298118.510000002},{"$f":"SUMIF('00 Alimenta'!$B:$B,'00 PDC SP'!$F580,'00 Alimenta'!E:E)","v":-92785612.480000004},{"$f":"SUMIF('00 Alimenta'!$B:$B,'00 PDC SP'!$F580,'00 Alimenta'!F:F)","v":-90370658.530000001},{"$f":"SUMIF('00 Alimenta'!$B:$B,'00 PDC SP'!$F580,'00 Alimenta'!G:G)","v":-26713072.460000001},{"$f":"SUMIF('00 Alimenta'!$B:$B,'00 PDC SP'!$F580,'00 Alimenta'!H:H)","v":-90789013.549999997},{"$f":"SUMIF('00 Alimenta'!$B:$B,'00 PDC SP'!$F580,'00 Alimenta'!I:I)","v":-88317822.109999999},-29184263.899999991]
["PDA290FR","PD","PDA290",16,"FR","0205070109","Fatture da ricevere v/Case di Cura",{"$f":"SUMIF('00 Alimenta'!$B:$B,'00 PDC SP'!$F581,'00 Alimenta'!D:D)","v":-11479360.48},{"$f":"SUMIF('00 Alimenta'!$B:$B,'00 PDC SP'!$F581,'00 Alimenta'!E:E)","v":-7968416.6200000001},{"$f":"SUMIF('00 Alimenta'!$B:$B,'00 PDC SP'!$F581,'00 Alimenta'!F:F)","v":-11479360.48},{"$f":"SUMIF('00 Alimenta'!$B:$B,'00 PDC SP'!$F581,'00 Alimenta'!G:G)","v":-7968416.6200000001},{"$f":"SUMIF('00 Alimenta'!$B:$B,'00 PDC SP'!$F581,'00 Alimenta'!H:H)","v":-7390453.0199999996},{"$f":"SUMIF('00 Alimenta'!$B:$B,'00 PDC SP'!$F581,'00 Alimenta'!I:I)","v":-7968416.6200000001},-7390453.0200000005]
["PDA290DB","PD","PDA290",16,"DB","0205070110","Debiti v/altri erogatori di prestazioni sanitarie - intraregione",{"$f":"SUMIF('00 Alimenta'!$B:$B,'00 PDC SP'!$F582,'00 Alimenta'!D:D)","v":-83694158.010000005},{"$f":"SUMIF('00 Alimenta'!$B:$B,'00 PDC SP'!$F582,'00 Alimenta'!E:E)","v":-31669823.199999999},{"$f":"SUMIF('00 Alimenta'!$B:$B,'00 PDC SP'!$F582,'00 Alimenta'!F:F)","v":-39064390.719999999},{"$f":"SUMIF('00 Alimenta'!$B:$B,'00 PDC SP'!$F582,'00 Alimenta'!G:G)","v":-76299590.489999995},{"$f":"SUMIF('00 Alimenta'!$B:$B,'00 PDC SP'!$F582,'00 Alimenta'!H:H)","v":-29383017.210000001},{"$f":"SUMIF('00 Alimenta'!$B:$B,'00 PDC SP'!$F582,'00 Alimenta'!I:I)","v":-46042284.130000003},-59640323.569999985]
["PDA290FR","PD","PDA290",16,"FR","0205070111","Fatture da ricevere v/altri erogatori di prestazioni sanitarie - intraregione",{"$f":"SUMIF('00 Alimenta'!$B:$B,'00 PDC SP'!$F583,'00 Alimenta'!D:D)","v":-3007372.21},{"$f":"SUMIF('00 Alimenta'!$B:$B,'00 PDC SP'!$F583,'00 Alimenta'!E:E)","v":-2785600.51},{"$f":"SUMIF('00 Alimenta'!$B:$B,'00 PDC SP'!$F583,'00 Alimenta'!F:F)","v":-3007372.21},{"$f":"SUMIF('00 Alimenta'!$B:$B,'00 PDC SP'!$F583,'00 Alimenta'!G:G)","v":-2785600.51},{"$f":"SUMIF('00 Alimenta'!$B:$B,'00 PDC SP'!$F583,'00 Alimenta'!H:H)","v":-2195879.3199999998},{"$f":"SUMIF('00 Alimenta'!$B:$B,'00 PDC SP'!$F583,'00 Alimenta'!I:I)","v":-2785600.51},-2195879.3200000003]
[{"$f":"IF(E584=\"\",C584,C584&E584)","v":"PDA290DB"},{"$f":"LEFT(C584,2)","v":"PD"},"PDA290",16,"DB","0205070112","Debiti v/erogatori sanitari privati per mobilità attiva privata extraregione",{"$f":"SUMIF('00 Alimenta'!$B:$B,'00 PDC SP'!$F584,'00 Alimenta'!D:D)","v":0},{"$f":"SUMIF('00 Alimenta'!$B:$B,'00 PDC SP'!$F584,'00 Alimenta'!E:E)","v":0},{"$f":"SUMIF('00 Alimenta'!$B:$B,'00 PDC SP'!$F584,'00 Alimenta'!F:F)","v":0},{"$f":"SUMIF('00 Alimenta'!$B:$B,'00 PDC SP'!$F584,'00 Alimenta'!G:G)","v":0},{"$f":"SUMIF('00 Alimenta'!$B:$B,'00 PDC SP'!$F584,'00 Alimenta'!H:H)","v":0},{"$f":"SUMIF('00 Alimenta'!$B:$B,'00 PDC SP'!$F584,'00 Alimenta'!I:I)","v":0},{"$f":"K584+L584-M584","v":0}]
["PDA290FR","PD","PDA290",16,"FR","0205070113","Fatture da ricevere v/erogatori sanitari privati per mobilità attiva privata extraregione",{"$f":"SUMIF('00 Alimenta'!$B:$B,'00 PDC SP'!$F585,'00 Alimenta'!D:D)","v":0},{"$f":"SUMIF('00 Alimenta'!$B:$B,'00 PDC SP'!$F585,'00 Alimenta'!E:E)","v":0},{"$f":"SUMIF('00 Alimenta'!$B:$B,'00 PDC SP'!$F585,'00 Alimenta'!F:F)","v":0},{"$f":"SUMIF('00 Alimenta'!$B:$B,'00 PDC SP'!$F585,'00 Alimenta'!G:G)","v":0},{"$f":"SUMIF('00 Alimenta'!$B:$B,'00 PDC SP'!$F585,'00 Alimenta'!H:H)","v":0},{"$f":"SUMIF('00 Alimenta'!$B:$B,'00 PDC SP'!$F585,'00 Alimenta'!I:I)","v":0},0]
["PDA300DB","PD","PDA300",16,"DB","0205070201","Debiti verso altri fornitori nazionali",{"$f":"SUMIF('00 Alimenta'!$B:$B,'00 PDC SP'!$F586,'00 Alimenta'!D:D)","v":-27726601.77},{"$f":"SUMIF('00 Alimenta'!$B:$B,'00 PDC SP'!$F586,'00 Alimenta'!E:E)","v":-277859292.93000001},{"$f":"SUMIF('00 Alimenta'!$B:$B,'00 PDC SP'!$F586,'00 Alimenta'!F:F)","v":-271296475.86000001},{"$f":"SUMIF('00 Alimenta'!$B:$B,'00 PDC SP'!$F586,'00 Alimenta'!G:G)","v":-34289418.840000004},{"$f":"SUMIF('00 Alimenta'!$B:$B,'00 PDC SP'!$F586,'00 Alimenta'!H:H)","v":-287511239.07999998},{"$f":"SUMIF('00 Alimenta'!$B:$B,'00 PDC SP'!$F586,'00 Alimenta'!I:I)","v":-283661530.74000001},-38139127.179999948]
["PDA300FR","PD","PDA300",16,"FR","0205070202","Fatture da ricevere verso altri fornitori nazionali",{"$f":"SUMIF('00 Alimenta'!$B:$B,'00 PDC SP'!$F587,'00 Alimenta'!D:D)","v":-13625295.27},{"$f":"SUMIF('00 Alimenta'!$B:$B,'00 PDC SP'!$F587,'00 Alimenta'!E:E)","v":-9359359.1099999994},{"$f":"SUMIF('00 Alimenta'!$B:$B,'00 PDC SP'!$F587,'00 Alimenta'!F:F)","v":-13625295.27},{"$f":"SUMIF('00 Alimenta'!$B:$B,'00 PDC SP'!$F587,'00 Alimenta'!G:G)","v":-9359359.1099999994},{"$f":"SUMIF('00 Alimenta'!$B:$B,'00 PDC SP'!$F587,'00 Alimenta'!H:H)","v":-14638757.890000001},{"$f":"SUMIF('00 Alimenta'!$B:$B,'00 PDC SP'!$F587,'00 Alimenta'!I:I)","v":-9359359.1099999994},-14638757.890000001]
["PDA300DB","PD","PDA300",16,"DB","0205070203","Debiti verso altri fornitori esteri",{"$f":"SUMIF('00 Alimenta'!$B:$B,'00 PDC SP'!$F588,'00 Alimenta'!D:D)","v":-51597.87},{"$f":"SUMIF('00 Alimenta'!$B:$B,'00 PDC SP'!$F588,'00 Alimenta'!E:E)","v":-1409173.81},{"$f":"SUMIF('00 Alimenta'!$B:$B,'00 PDC SP'!$F588,'00 Alimenta'!F:F)","v":-1427106.84},{"$f":"SUMIF('00 Alimenta'!$B:$B,'00 PDC SP'!$F588,'00 Alimenta'!G:G)","v":-33664.839999999997},{"$f":"SUMIF('00 Alimenta'!$B:$B,'00 PDC SP'!$F588,'00 Alimenta'!H:H)","v":-1046725.94},{"$f":"SUMIF('00 Alimenta'!$B:$B,'00 PDC SP'!$F588,'00 Alimenta'!I:I)","v":-1025764.24},-54626.540000000037]
["PDA300FR","PD","PDA300",16,"FR","0205070204","Fatture da ricevere verso altri fornitori esteri",{"$f":"SUMIF('00 Alimenta'!$B:$B,'00 PDC SP'!$F589,'00 Alimenta'!D:D)","v":-78709.97},{"$f":"SUMIF('00 Alimenta'!$B:$B,'00 PDC SP'!$F589,'00 Alimenta'!E:E)","v":-127330.11},{"$f":"SUMIF('00 Alimenta'!$B:$B,'00 PDC SP'!$F589,'00 Alimenta'!F:F)","v":-78709.97},{"$f":"SUMIF('00 Alimenta'!$B:$B,'00 PDC SP'!$F589,'00 Alimenta'!G:G)","v":-127330.11},{"$f":"SUMIF('00 Alimenta'!$B:$B,'00 PDC SP'!$F589,'00 Alimenta'!H:H)","v":-51772.21},{"$f":"SUMIF('00 Alimenta'!$B:$B,'00 PDC SP'!$F589,'00 Alimenta'!I:I)","v":-127330.11},-51772.210000000006]
["PDA300DB","PD","PDA300",16,"DB","0205070205","Debiti verso professionisti e collaboratori (ad esclusione degli organi diretti)",{"$f":"SUMIF('00 Alimenta'!$B:$B,'00 PDC SP'!$F590,'00 Alimenta'!D:D)","v":-28474.26},{"$f":"SUMIF('00 Alimenta'!$B:$B,'00 PDC SP'!$F590,'00 Alimenta'!E:E)","v":-548603.25},{"$f":"SUMIF('00 Alimenta'!$B:$B,'00 PDC SP'!$F590,'00 Alimenta'!F:F)","v":-562683.36},{"$f":"SUMIF('00 Alimenta'!$B:$B,'00 PDC SP'!$F590,'00 Alimenta'!G:G)","v":-14394.15},{"$f":"SUMIF('00 Alimenta'!$B:$B,'00 PDC SP'!$F590,'00 Alimenta'!H:H)","v":-416392.57},{"$f":"SUMIF('00 Alimenta'!$B:$B,'00 PDC SP'!$F590,'00 Alimenta'!I:I)","v":-350886.89},-79899.830000000016]
["PDA300DB","PD","PDA300",16,"DB","0205070206","Debiti cartolarizzati",{"$f":"SUMIF('00 Alimenta'!$B:$B,'00 PDC SP'!$F591,'00 Alimenta'!D:D)","v":0},{"$f":"SUMIF('00 Alimenta'!$B:$B,'00 PDC SP'!$F591,'00 Alimenta'!E:E)","v":0},{"$f":"SUMIF('00 Alimenta'!$B:$B,'00 PDC SP'!$F591,'00 Alimenta'!F:F)","v":0},{"$f":"SUMIF('00 Alimenta'!$B:$B,'00 PDC SP'!$F591,'00 Alimenta'!G:G)","v":0},{"$f":"SUMIF('00 Alimenta'!$B:$B,'00 PDC SP'!$F591,'00 Alimenta'!H:H)","v":0},{"$f":"SUMIF('00 Alimenta'!$B:$B,'00 PDC SP'!$F591,'00 Alimenta'!I:I)","v":0},0]
["PDA310DB","PD","PDA310",54,"DB","0205080101","Debiti v/istituto tesoriere",{"$f":"SUMIF('00 Alimenta'!$B:$B,'00 PDC SP'!$F592,'00 Alimenta'!D:D)","v":0},{"$f":"SUMIF('00 Alimenta'!$B:$B,'00 PDC SP'!$F592,'00 Alimenta'!E:E)","v":0},{"$f":"SUMIF('00 Alimenta'!$B:$B,'00 PDC SP'!$F592,'00 Alimenta'!F:F)","v":0},{"$f":"SUMIF('00 Alimenta'!$B:$B,'00 PDC SP'!$F592,'00 Alimenta'!G:G)","v":0},{"$f":"SUMIF('00 Alimenta'!$B:$B,'00 PDC SP'!$F592,'00 Alimenta'!H:H)","v":0},{"$f":"SUMIF('00 Alimenta'!$B:$B,'00 PDC SP'!$F592,'00 Alimenta'!I:I)","v":0},0]
["PDA310DB","PD","PDA310",54,"DB","0205080102","Debiti verso istituto tesoriere per anticipazione ordinaria",{"$f":"SUMIF('00 Alimenta'!$B:$B,'00 PDC SP'!$F593,'00 Alimenta'!D:D)","v":0},{"$f":"SUMIF('00 Alimenta'!$B:$B,'00 PDC SP'!$F593,'00 Alimenta'!E:E)","v":0},{"$f":"SUMIF('00 Alimenta'!$B:$B,'00 PDC SP'!$F593,'00 Alimenta'!F:F)","v":0},{"$f":"SUMIF('00 Alimenta'!$B:$B,'00 PDC SP'!$F593,'00 Alimenta'!G:G)","v":0},{"$f":"SUMIF('00 Alimenta'!$B:$B,'00 PDC SP'!$F593,'00 Alimenta'!H:H)","v":0},{"$f":"SUMIF('00 Alimenta'!$B:$B,'00 PDC SP'!$F593,'00 Alimenta'!I:I)","v":0},0]
["PDA310DB","PD","PDA310",54,"DB","0205080103","Debiti verso istituto tesoriere per anticipazione straordinaria",{"$f":"SUMIF('00 Alimenta'!$B:$B,'00 PDC SP'!$F594,'00 Alimenta'!D:D)","v":0},{"$f":"SUMIF('00 Alimenta'!$B:$B,'00 PDC SP'!$F594,'00 Alimenta'!E:E)","v":0},{"$f":"SUMIF('00 Alimenta'!$B:$B,'00 PDC SP'!$F594,'00 Alimenta'!F:F)","v":0},{"$f":"SUMIF('00 Alimenta'!$B:$B,'00 PDC SP'!$F594,'00 Alimenta'!G:G)","v":0},{"$f":"SUMIF('00 Alimenta'!$B:$B,'00 PDC SP'!$F594,'00 Alimenta'!H:H)","v":0},{"$f":"SUMIF('00 Alimenta'!$B:$B,'00 PDC SP'!$F594,'00 Alimenta'!I:I)","v":0},0]
["PDA310DB","PD","PDA310",54,"DB","0205080104","Debiti per interessi passivi per anticipazioni",{"$f":"SUMIF('00 Alimenta'!$B:$B,'00 PDC SP'!$F595,'00 Alimenta'!D:D)","v":0},{"$f":"SUMIF('00 Alimenta'!$B:$B,'00 PDC SP'!$F595,'00 Alimenta'!E:E)","v":0},{"$f":"SUMIF('00 Alimenta'!$B:$B,'00 PDC SP'!$F595,'00 Alimenta'!F:F)","v":0},{"$f":"SUMIF('00 Alimenta'!$B:$B,'00 PDC SP'!$F595,'00 Alimenta'!G:G)","v":0},{"$f":"SUMIF('00 Alimenta'!$B:$B,'00 PDC SP'!$F595,'00 Alimenta'!H:H)","v":0},{"$f":"SUMIF('00 Alimenta'!$B:$B,'00 PDC SP'!$F595,'00 Alimenta'!I:I)","v":0},0]
["PDA320DB","PD","PDA320",17,"DB","0205090101","Erario c/Ires",{"$f":"SUMIF('00 Alimenta'!$B:$B,'00 PDC SP'!$F596,'00 Alimenta'!D:D)","v":0},{"$f":"SUMIF('00 Alimenta'!$B:$B,'00 PDC SP'!$F596,'00 Alimenta'!E:E)","v":-498944},{"$f":"SUMIF('00 Alimenta'!$B:$B,'00 PDC SP'!$F596,'00 Alimenta'!F:F)","v":-498944},{"$f":"SUMIF('00 Alimenta'!$B:$B,'00 PDC SP'!$F596,'00 Alimenta'!G:G)","v":0},{"$f":"SUMIF('00 Alimenta'!$B:$B,'00 PDC SP'!$F596,'00 Alimenta'!H:H)","v":-557806.42000000004},{"$f":"SUMIF('00 Alimenta'!$B:$B,'00 PDC SP'!$F596,'00 Alimenta'!I:I)","v":-557806.42000000004},0]
["PDA320DB","PD","PDA320",17,"DB","0205090102","Erario c/ritenute su lavoro autonomo",{"$f":"SUMIF('00 Alimenta'!$B:$B,'00 PDC SP'!$F597,'00 Alimenta'!D:D)","v":-489322.42},{"$f":"SUMIF('00 Alimenta'!$B:$B,'00 PDC SP'!$F597,'00 Alimenta'!E:E)","v":-6270491.0800000001},{"$f":"SUMIF('00 Alimenta'!$B:$B,'00 PDC SP'!$F597,'00 Alimenta'!F:F)","v":-6266548.2599999998},{"$f":"SUMIF('00 Alimenta'!$B:$B,'00 PDC SP'!$F597,'00 Alimenta'!G:G)","v":-493265.24},{"$f":"SUMIF('00 Alimenta'!$B:$B,'00 PDC SP'!$F597,'00 Alimenta'!H:H)","v":-6154670.9299999997},{"$f":"SUMIF('00 Alimenta'!$B:$B,'00 PDC SP'!$F597,'00 Alimenta'!I:I)","v":-6175742},-472194.16999999993]
["PDA320DB","PD","PDA320",17,"DB","0205090103","Erario c/ritenute su lavoro dipendente",{"$f":"SUMIF('00 Alimenta'!$B:$B,'00 PDC SP'!$F598,'00 Alimenta'!D:D)","v":-798354.68},{"$f":"SUMIF('00 Alimenta'!$B:$B,'00 PDC SP'!$F598,'00 Alimenta'!E:E)","v":-34359982.07},{"$f":"SUMIF('00 Alimenta'!$B:$B,'00 PDC SP'!$F598,'00 Alimenta'!F:F)","v":-34314336.009999998},{"$f":"SUMIF('00 Alimenta'!$B:$B,'00 PDC SP'!$F598,'00 Alimenta'!G:G)","v":-844000.74},{"$f":"SUMIF('00 Alimenta'!$B:$B,'00 PDC SP'!$F598,'00 Alimenta'!H:H)","v":-33463877.68},{"$f":"SUMIF('00 Alimenta'!$B:$B,'00 PDC SP'!$F598,'00 Alimenta'!I:I)","v":-33517252.370000001},-790626.05000000075]
["PDA320DB","PD","PDA320",17,"DB","0205090104","Erario c/I.V.A.",{"$f":"SUMIF('00 Alimenta'!$B:$B,'00 PDC SP'!$F599,'00 Alimenta'!D:D)","v":-1935344.73},{"$f":"SUMIF('00 Alimenta'!$B:$B,'00 PDC SP'!$F599,'00 Alimenta'!E:E)","v":-24544141.039999999},{"$f":"SUMIF('00 Alimenta'!$B:$B,'00 PDC SP'!$F599,'00 Alimenta'!F:F)","v":-23689436.309999999},{"$f":"SUMIF('00 Alimenta'!$B:$B,'00 PDC SP'!$F599,'00 Alimenta'!G:G)","v":-2790049.46},{"$f":"SUMIF('00 Alimenta'!$B:$B,'00 PDC SP'!$F599,'00 Alimenta'!H:H)","v":-24692527.18},{"$f":"SUMIF('00 Alimenta'!$B:$B,'00 PDC SP'!$F599,'00 Alimenta'!I:I)","v":-25900361.960000001},-1582214.6799999997]
["PDA320DB","PD","PDA320",17,"DB","0205090105","Erario c/Irap",{"$f":"SUMIF('00 Alimenta'!$B:$B,'00 PDC SP'!$F600,'00 Alimenta'!D:D)","v":-232110.74},{"$f":"SUMIF('00 Alimenta'!$B:$B,'00 PDC SP'!$F600,'00 Alimenta'!E:E)","v":-12684805.15},{"$f":"SUMIF('00 Alimenta'!$B:$B,'00 PDC SP'!$F600,'00 Alimenta'!F:F)","v":-12699204.4},{"$f":"SUMIF('00 Alimenta'!$B:$B,'00 PDC SP'!$F600,'00 Alimenta'!G:G)","v":-217711.49},{"$f":"SUMIF('00 Alimenta'!$B:$B,'00 PDC SP'!$F600,'00 Alimenta'!H:H)","v":-12241857.25},{"$f":"SUMIF('00 Alimenta'!$B:$B,'00 PDC SP'!$F600,'00 Alimenta'!I:I)","v":-12229581.369999999},-229987.37000000104]
["PDA320DB","PD","PDA320",17,"DB","0205090106","Altre imposte e tasse",{"$f":"SUMIF('00 Alimenta'!$B:$B,'00 PDC SP'!$F601,'00 Alimenta'!D:D)","v":-900174},{"$f":"SUMIF('00 Alimenta'!$B:$B,'00 PDC SP'!$F601,'00 Alimenta'!E:E)","v":-63004.93},{"$f":"SUMIF('00 Alimenta'!$B:$B,'00 PDC SP'!$F601,'00 Alimenta'!F:F)","v":-934399},{"$f":"SUMIF('00 Alimenta'!$B:$B,'00 PDC SP'!$F601,'00 Alimenta'!G:G)","v":-28779.93},{"$f":"SUMIF('00 Alimenta'!$B:$B,'00 PDC SP'!$F601,'00 Alimenta'!H:H)","v":0},{"$f":"SUMIF('00 Alimenta'!$B:$B,'00 PDC SP'!$F601,'00 Alimenta'!I:I)","v":-28779.93},0]
["PDA330DB","PD","PDA330",18,"DB","0205100101","Debiti verso INPDAP",{"$f":"SUMIF('00 Alimenta'!$B:$B,'00 PDC SP'!$F602,'00 Alimenta'!D:D)","v":-593629.72},{"$f":"SUMIF('00 Alimenta'!$B:$B,'00 PDC SP'!$F602,'00 Alimenta'!E:E)","v":-49155510.619999997},{"$f":"SUMIF('00 Alimenta'!$B:$B,'00 PDC SP'!$F602,'00 Alimenta'!F:F)","v":-49037732.729999997},{"$f":"SUMIF('00 Alimenta'!$B:$B,'00 PDC SP'!$F602,'00 Alimenta'!G:G)","v":-711407.61},{"$f":"SUMIF('00 Alimenta'!$B:$B,'00 PDC SP'!$F602,'00 Alimenta'!H:H)","v":-48238495.859999999},{"$f":"SUMIF('00 Alimenta'!$B:$B,'00 PDC SP'!$F602,'00 Alimenta'!I:I)","v":-48109591.210000001},-840312.25999999791]
["PDA330DB","PD","PDA330",18,"DB","0205100102","Debiti verso INPS lavoratori dipendenti",{"$f":"SUMIF('00 Alimenta'!$B:$B,'00 PDC SP'!$F603,'00 Alimenta'!D:D)","v":-346.95},{"$f":"SUMIF('00 Alimenta'!$B:$B,'00 PDC SP'!$F603,'00 Alimenta'!E:E)","v":-252187.59},{"$f":"SUMIF('00 Alimenta'!$B:$B,'00 PDC SP'!$F603,'00 Alimenta'!F:F)","v":-251748.95},{"$f":"SUMIF('00 Alimenta'!$B:$B,'00 PDC SP'!$F603,'00 Alimenta'!G:G)","v":-785.59},{"$f":"SUMIF('00 Alimenta'!$B:$B,'00 PDC SP'!$F603,'00 Alimenta'!H:H)","v":-253039.95},{"$f":"SUMIF('00 Alimenta'!$B:$B,'00 PDC SP'!$F603,'00 Alimenta'!I:I)","v":-253200.01},-625.52999999999884]
["PDA330DB","PD","PDA330",18,"DB","0205100103","Debiti verso INPS lavoratori autonomi",{"$f":"SUMIF('00 Alimenta'!$B:$B,'00 PDC SP'!$F604,'00 Alimenta'!D:D)","v":0},{"$f":"SUMIF('00 Alimenta'!$B:$B,'00 PDC SP'!$F604,'00 Alimenta'!E:E)","v":0},{"$f":"SUMIF('00 Alimenta'!$B:$B,'00 PDC SP'!$F604,'00 Alimenta'!F:F)","v":0},{"$f":"SUMIF('00 Alimenta'!$B:$B,'00 PDC SP'!$F604,'00 Alimenta'!G:G)","v":0},{"$f":"SUMIF('00 Alimenta'!$B:$B,'00 PDC SP'!$F604,'00 Alimenta'!H:H)","v":0},{"$f":"SUMIF('00 Alimenta'!$B:$B,'00 PDC SP'!$F604,'00 Alimenta'!I:I)","v":0},0]
["PDA330DB","PD","PDA330",18,"DB","0205100104","Debiti verso INAIL",{"$f":"SUMIF('00 Alimenta'!$B:$B,'00 PDC SP'!$F605,'00 Alimenta'!D:D)","v":0},{"$f":"SUMIF('00 Alimenta'!$B:$B,'00 PDC SP'!$F605,'00 Alimenta'!E:E)","v":-1624419.64},{"$f":"SUMIF('00 Alimenta'!$B:$B,'00 PDC SP'!$F605,'00 Alimenta'!F:F)","v":-1620242.19},{"$f":"SUMIF('00 Alimenta'!$B:$B,'00 PDC SP'!$F605,'00 Alimenta'!G:G)","v":-4177.45},{"$f":"SUMIF('00 Alimenta'!$B:$B,'00 PDC SP'!$F605,'00 Alimenta'!H:H)","v":-1695871.72},{"$f":"SUMIF('00 Alimenta'!$B:$B,'00 PDC SP'!$F605,'00 Alimenta'!I:I)","v":-1700049.17},0]
["PDA330DB","PD","PDA330",18,"DB","0205100105","Debiti verso ENPAM",{"$f":"SUMIF('00 Alimenta'!$B:$B,'00 PDC SP'!$F606,'00 Alimenta'!D:D)","v":-477449.09},{"$f":"SUMIF('00 Alimenta'!$B:$B,'00 PDC SP'!$F606,'00 Alimenta'!E:E)","v":-8415311.9000000004},{"$f":"SUMIF('00 Alimenta'!$B:$B,'00 PDC SP'!$F606,'00 Alimenta'!F:F)","v":-8382252.4500000002},{"$f":"SUMIF('00 Alimenta'!$B:$B,'00 PDC SP'!$F606,'00 Alimenta'!G:G)","v":-510508.54},{"$f":"SUMIF('00 Alimenta'!$B:$B,'00 PDC SP'!$F606,'00 Alimenta'!H:H)","v":-8593062.6999999993},{"$f":"SUMIF('00 Alimenta'!$B:$B,'00 PDC SP'!$F606,'00 Alimenta'!I:I)","v":-8554648.1199999992},-548923.11999999918]
["PDA330DB","PD","PDA330",18,"DB","0205100106","Debiti verso ONAOSI",{"$f":"SUMIF('00 Alimenta'!$B:$B,'00 PDC SP'!$F607,'00 Alimenta'!D:D)","v":-55836.55},{"$f":"SUMIF('00 Alimenta'!$B:$B,'00 PDC SP'!$F607,'00 Alimenta'!E:E)","v":-113386.95},{"$f":"SUMIF('00 Alimenta'!$B:$B,'00 PDC SP'!$F607,'00 Alimenta'!F:F)","v":-114361.03},{"$f":"SUMIF('00 Alimenta'!$B:$B,'00 PDC SP'!$F607,'00 Alimenta'!G:G)","v":-54862.47},{"$f":"SUMIF('00 Alimenta'!$B:$B,'00 PDC SP'!$F607,'00 Alimenta'!H:H)","v":-111905.78},{"$f":"SUMIF('00 Alimenta'!$B:$B,'00 PDC SP'!$F607,'00 Alimenta'!I:I)","v":-112752.96000000001},-54015.289999999994]
["PDA330DB","PD","PDA330",18,"DB","0205100107","Debiti verso altri Istituti Previdenziali",{"$f":"SUMIF('00 Alimenta'!$B:$B,'00 PDC SP'!$F608,'00 Alimenta'!D:D)","v":-130579.01},{"$f":"SUMIF('00 Alimenta'!$B:$B,'00 PDC SP'!$F608,'00 Alimenta'!E:E)","v":-646160.81000000006},{"$f":"SUMIF('00 Alimenta'!$B:$B,'00 PDC SP'!$F608,'00 Alimenta'!F:F)","v":-665933.77},{"$f":"SUMIF('00 Alimenta'!$B:$B,'00 PDC SP'!$F608,'00 Alimenta'!G:G)","v":-110806.05},{"$f":"SUMIF('00 Alimenta'!$B:$B,'00 PDC SP'!$F608,'00 Alimenta'!H:H)","v":-646338.15},{"$f":"SUMIF('00 Alimenta'!$B:$B,'00 PDC SP'!$F608,'00 Alimenta'!I:I)","v":-682489.79},-74654.410000000033]
["PDA350DB","PD","PDA350",19,"DB","0205110101","Debiti v/altri finanziatori",{"$f":"SUMIF('00 Alimenta'!$B:$B,'00 PDC SP'!$F609,'00 Alimenta'!D:D)","v":0},{"$f":"SUMIF('00 Alimenta'!$B:$B,'00 PDC SP'!$F609,'00 Alimenta'!E:E)","v":0},{"$f":"SUMIF('00 Alimenta'!$B:$B,'00 PDC SP'!$F609,'00 Alimenta'!F:F)","v":0},{"$f":"SUMIF('00 Alimenta'!$B:$B,'00 PDC SP'!$F609,'00 Alimenta'!G:G)","v":0},{"$f":"SUMIF('00 Alimenta'!$B:$B,'00 PDC SP'!$F609,'00 Alimenta'!H:H)","v":0},{"$f":"SUMIF('00 Alimenta'!$B:$B,'00 PDC SP'!$F609,'00 Alimenta'!I:I)","v":0},0]
["PDA360DB","PD","PDA360",19,"DB","0205110201","Debiti verso personale retribuzioni esercizio in corso",{"$f":"SUMIF('00 Alimenta'!$B:$B,'00 PDC SP'!$F610,'00 Alimenta'!D:D)","v":0},{"$f":"SUMIF('00 Alimenta'!$B:$B,'00 PDC SP'!$F610,'00 Alimenta'!E:E)","v":0},{"$f":"SUMIF('00 Alimenta'!$B:$B,'00 PDC SP'!$F610,'00 Alimenta'!F:F)","v":0},{"$f":"SUMIF('00 Alimenta'!$B:$B,'00 PDC SP'!$F610,'00 Alimenta'!G:G)","v":0},{"$f":"SUMIF('00 Alimenta'!$B:$B,'00 PDC SP'!$F610,'00 Alimenta'!H:H)","v":0},{"$f":"SUMIF('00 Alimenta'!$B:$B,'00 PDC SP'!$F610,'00 Alimenta'!I:I)","v":0},0]
["PDA360DB","PD","PDA360",19,"DB","0205110202","Debiti verso il personale dipendente per fondi aziendali esercizio in corso",{"$f":"SUMIF('00 Alimenta'!$B:$B,'00 PDC SP'!$F611,'00 Alimenta'!D:D)","v":0},{"$f":"SUMIF('00 Alimenta'!$B:$B,'00 PDC SP'!$F611,'00 Alimenta'!E:E)","v":0},{"$f":"SUMIF('00 Alimenta'!$B:$B,'00 PDC SP'!$F611,'00 Alimenta'!F:F)","v":0},{"$f":"SUMIF('00 Alimenta'!$B:$B,'00 PDC SP'!$F611,'00 Alimenta'!G:G)","v":0},{"$f":"SUMIF('00 Alimenta'!$B:$B,'00 PDC SP'!$F611,'00 Alimenta'!H:H)","v":0},{"$f":"SUMIF('00 Alimenta'!$B:$B,'00 PDC SP'!$F611,'00 Alimenta'!I:I)","v":0},0]
["PDA360DB","PD","PDA360",19,"DB","0205110203","Debiti verso personale retribuzioni esercizi precedenti",{"$f":"SUMIF('00 Alimenta'!$B:$B,'00 PDC SP'!$F612,'00 Alimenta'!D:D)","v":0},{"$f":"SUMIF('00 Alimenta'!$B:$B,'00 PDC SP'!$F612,'00 Alimenta'!E:E)","v":-283633.53999999998},{"$f":"SUMIF('00 Alimenta'!$B:$B,'00 PDC SP'!$F612,'00 Alimenta'!F:F)","v":0},{"$f":"SUMIF('00 Alimenta'!$B:$B,'00 PDC SP'!$F612,'00 Alimenta'!G:G)","v":-283633.53999999998},{"$f":"SUMIF('00 Alimenta'!$B:$B,'00 PDC SP'!$F612,'00 Alimenta'!H:H)","v":-447192.1},{"$f":"SUMIF('00 Alimenta'!$B:$B,'00 PDC SP'!$F612,'00 Alimenta'!I:I)","v":-143843.88},-586981.75999999989]
["PDA360DB","PD","PDA360",19,"DB","0205110204","Debiti verso il personale dipendente per fondi aziendali esercizi precedenti",{"$f":"SUMIF('00 Alimenta'!$B:$B,'00 PDC SP'!$F613,'00 Alimenta'!D:D)","v":-12933734.98},{"$f":"SUMIF('00 Alimenta'!$B:$B,'00 PDC SP'!$F613,'00 Alimenta'!E:E)","v":-9641244.1300000008},{"$f":"SUMIF('00 Alimenta'!$B:$B,'00 PDC SP'!$F613,'00 Alimenta'!F:F)","v":-9920312.6300000008},{"$f":"SUMIF('00 Alimenta'!$B:$B,'00 PDC SP'!$F613,'00 Alimenta'!G:G)","v":-12654666.48},{"$f":"SUMIF('00 Alimenta'!$B:$B,'00 PDC SP'!$F613,'00 Alimenta'!H:H)","v":-8508847.9900000002},{"$f":"SUMIF('00 Alimenta'!$B:$B,'00 PDC SP'!$F613,'00 Alimenta'!I:I)","v":-10201928.810000001},-10961585.659999998]
["PDA360DB","PD","PDA360",19,"DB","0205110205","Debiti verso personale per rimborsi spese",{"$f":"SUMIF('00 Alimenta'!$B:$B,'00 PDC SP'!$F614,'00 Alimenta'!D:D)","v":0},{"$f":"SUMIF('00 Alimenta'!$B:$B,'00 PDC SP'!$F614,'00 Alimenta'!E:E)","v":0},{"$f":"SUMIF('00 Alimenta'!$B:$B,'00 PDC SP'!$F614,'00 Alimenta'!F:F)","v":0},{"$f":"SUMIF('00 Alimenta'!$B:$B,'00 PDC SP'!$F614,'00 Alimenta'!G:G)","v":0},{"$f":"SUMIF('00 Alimenta'!$B:$B,'00 PDC SP'!$F614,'00 Alimenta'!H:H)","v":0},{"$f":"SUMIF('00 Alimenta'!$B:$B,'00 PDC SP'!$F614,'00 Alimenta'!I:I)","v":0},0]
["PDA360DB","PD","PDA360",19,"DB","0205110206","Altri debiti verso il personale per ferie maturate e non godute",{"$f":"SUMIF('00 Alimenta'!$B:$B,'00 PDC SP'!$F615,'00 Alimenta'!D:D)","v":-20739.900000000001},{"$f":"SUMIF('00 Alimenta'!$B:$B,'00 PDC SP'!$F615,'00 Alimenta'!E:E)","v":-35585.980000000003},{"$f":"SUMIF('00 Alimenta'!$B:$B,'00 PDC SP'!$F615,'00 Alimenta'!F:F)","v":-34325.879999999997},{"$f":"SUMIF('00 Alimenta'!$B:$B,'00 PDC SP'!$F615,'00 Alimenta'!G:G)","v":-22000},{"$f":"SUMIF('00 Alimenta'!$B:$B,'00 PDC SP'!$F615,'00 Alimenta'!H:H)","v":-75182.12},{"$f":"SUMIF('00 Alimenta'!$B:$B,'00 PDC SP'!$F615,'00 Alimenta'!I:I)","v":-22000},-75182.12]
["PDA360DB","PD","PDA360",19,"DB","0205110207","Altri debiti verso il personale dipendente",{"$f":"SUMIF('00 Alimenta'!$B:$B,'00 PDC SP'!$F616,'00 Alimenta'!D:D)","v":-2195984.29},{"$f":"SUMIF('00 Alimenta'!$B:$B,'00 PDC SP'!$F616,'00 Alimenta'!E:E)","v":-2335769698.8600001},{"$f":"SUMIF('00 Alimenta'!$B:$B,'00 PDC SP'!$F616,'00 Alimenta'!F:F)","v":-2335907551.9000001},{"$f":"SUMIF('00 Alimenta'!$B:$B,'00 PDC SP'!$F616,'00 Alimenta'!G:G)","v":-2058131.25},{"$f":"SUMIF('00 Alimenta'!$B:$B,'00 PDC SP'!$F616,'00 Alimenta'!H:H)","v":-87054195.269999996},{"$f":"SUMIF('00 Alimenta'!$B:$B,'00 PDC SP'!$F616,'00 Alimenta'!I:I)","v":-86880830.620000005},-2231495.8999999911]
["PDA370DB","PD","PDA370",19,"DB","0205110301","Debiti v/gestioni liquidatorie",{"$f":"SUMIF('00 Alimenta'!$B:$B,'00 PDC SP'!$F617,'00 Alimenta'!D:D)","v":-19594.54},{"$f":"SUMIF('00 Alimenta'!$B:$B,'00 PDC SP'!$F617,'00 Alimenta'!E:E)","v":0},{"$f":"SUMIF('00 Alimenta'!$B:$B,'00 PDC SP'!$F617,'00 Alimenta'!F:F)","v":-19594.54},{"$f":"SUMIF('00 Alimenta'!$B:$B,'00 PDC SP'!$F617,'00 Alimenta'!G:G)","v":0},{"$f":"SUMIF('00 Alimenta'!$B:$B,'00 PDC SP'!$F617,'00 Alimenta'!H:H)","v":0},{"$f":"SUMIF('00 Alimenta'!$B:$B,'00 PDC SP'!$F617,'00 Alimenta'!I:I)","v":0},0]
["PDA370FR","PD","PDA370",19,"FR","0205110302","Fatture da ricevere v/gestioni liquidatorie",{"$f":"SUMIF('00 Alimenta'!$B:$B,'00 PDC SP'!$F618,'00 Alimenta'!D:D)","v":0},{"$f":"SUMIF('00 Alimenta'!$B:$B,'00 PDC SP'!$F618,'00 Alimenta'!E:E)","v":0},{"$f":"SUMIF('00 Alimenta'!$B:$B,'00 PDC SP'!$F618,'00 Alimenta'!F:F)","v":0},{"$f":"SUMIF('00 Alimenta'!$B:$B,'00 PDC SP'!$F618,'00 Alimenta'!G:G)","v":0},{"$f":"SUMIF('00 Alimenta'!$B:$B,'00 PDC SP'!$F618,'00 Alimenta'!H:H)","v":0},{"$f":"SUMIF('00 Alimenta'!$B:$B,'00 PDC SP'!$F618,'00 Alimenta'!I:I)","v":0},0]
["PDA380DB","PD","PDA380",19,"DB","0205110401","Debiti verso organizzazioni sindacali",{"$f":"SUMIF('00 Alimenta'!$B:$B,'00 PDC SP'!$F619,'00 Alimenta'!D:D)","v":0},{"$f":"SUMIF('00 Alimenta'!$B:$B,'00 PDC SP'!$F619,'00 Alimenta'!E:E)","v":0},{"$f":"SUMIF('00 Alimenta'!$B:$B,'00 PDC SP'!$F619,'00 Alimenta'!F:F)","v":0},{"$f":"SUMIF('00 Alimenta'!$B:$B,'00 PDC SP'!$F619,'00 Alimenta'!G:G)","v":0},{"$f":"SUMIF('00 Alimenta'!$B:$B,'00 PDC SP'!$F619,'00 Alimenta'!H:H)","v":0},{"$f":"SUMIF('00 Alimenta'!$B:$B,'00 PDC SP'!$F619,'00 Alimenta'!I:I)","v":0},0]
["PDA380DB","PD","PDA380",19,"DB","0205110402","Debiti verso organi direttivi e istituzionali",{"$f":"SUMIF('00 Alimenta'!$B:$B,'00 PDC SP'!$F620,'00 Alimenta'!D:D)","v":0},{"$f":"SUMIF('00 Alimenta'!$B:$B,'00 PDC SP'!$F620,'00 Alimenta'!E:E)","v":-213370.93},{"$f":"SUMIF('00 Alimenta'!$B:$B,'00 PDC SP'!$F620,'00 Alimenta'!F:F)","v":-206506.85},{"$f":"SUMIF('00 Alimenta'!$B:$B,'00 PDC SP'!$F620,'00 Alimenta'!G:G)","v":-6864.08},{"$f":"SUMIF('00 Alimenta'!$B:$B,'00 PDC SP'!$F620,'00 Alimenta'!H:H)","v":-191036.95},{"$f":"SUMIF('00 Alimenta'!$B:$B,'00 PDC SP'!$F620,'00 Alimenta'!I:I)","v":-195883.3},-2017.7300000000105]
["PDA380DB","PD","PDA380",19,"DB","0205110403","Debiti verso assistiti",{"$f":"SUMIF('00 Alimenta'!$B:$B,'00 PDC SP'!$F621,'00 Alimenta'!D:D)","v":-182408.95},{"$f":"SUMIF('00 Alimenta'!$B:$B,'00 PDC SP'!$F621,'00 Alimenta'!E:E)","v":-1922798.55},{"$f":"SUMIF('00 Alimenta'!$B:$B,'00 PDC SP'!$F621,'00 Alimenta'!F:F)","v":-1912112.69},{"$f":"SUMIF('00 Alimenta'!$B:$B,'00 PDC SP'!$F621,'00 Alimenta'!G:G)","v":-193094.81},{"$f":"SUMIF('00 Alimenta'!$B:$B,'00 PDC SP'!$F621,'00 Alimenta'!H:H)","v":-1704684.22},{"$f":"SUMIF('00 Alimenta'!$B:$B,'00 PDC SP'!$F621,'00 Alimenta'!I:I)","v":-1649097.7},-248681.33000000007]
["PDA380DB","PD","PDA380",19,"DB","0205110404","Altri debiti diversi",{"$f":"SUMIF('00 Alimenta'!$B:$B,'00 PDC SP'!$F622,'00 Alimenta'!D:D)","v":-707068.98},{"$f":"SUMIF('00 Alimenta'!$B:$B,'00 PDC SP'!$F622,'00 Alimenta'!E:E)","v":-10824199.369999999},{"$f":"SUMIF('00 Alimenta'!$B:$B,'00 PDC SP'!$F622,'00 Alimenta'!F:F)","v":-10848237.550000001},{"$f":"SUMIF('00 Alimenta'!$B:$B,'00 PDC SP'!$F622,'00 Alimenta'!G:G)","v":-683030.8},{"$f":"SUMIF('00 Alimenta'!$B:$B,'00 PDC SP'!$F622,'00 Alimenta'!H:H)","v":-5415617.7599999998},{"$f":"SUMIF('00 Alimenta'!$B:$B,'00 PDC SP'!$F622,'00 Alimenta'!I:I)","v":-5774336.5},-324312.05999999959]
["PDA380DB","PD","PDA380",19,"DB","0205110405","Debiti verso personale esterno non convenzionato",{"$f":"SUMIF('00 Alimenta'!$B:$B,'00 PDC SP'!$F623,'00 Alimenta'!D:D)","v":0},{"$f":"SUMIF('00 Alimenta'!$B:$B,'00 PDC SP'!$F623,'00 Alimenta'!E:E)","v":0},{"$f":"SUMIF('00 Alimenta'!$B:$B,'00 PDC SP'!$F623,'00 Alimenta'!F:F)","v":0},{"$f":"SUMIF('00 Alimenta'!$B:$B,'00 PDC SP'!$F623,'00 Alimenta'!G:G)","v":0},{"$f":"SUMIF('00 Alimenta'!$B:$B,'00 PDC SP'!$F623,'00 Alimenta'!H:H)","v":0},{"$f":"SUMIF('00 Alimenta'!$B:$B,'00 PDC SP'!$F623,'00 Alimenta'!I:I)","v":0},0]
["PDA380DB","PD","PDA380",19,"DB","0205110406","Debiti verso personale tirocinante e borsisti",{"$f":"SUMIF('00 Alimenta'!$B:$B,'00 PDC SP'!$F624,'00 Alimenta'!D:D)","v":0},{"$f":"SUMIF('00 Alimenta'!$B:$B,'00 PDC SP'!$F624,'00 Alimenta'!E:E)","v":-698700},{"$f":"SUMIF('00 Alimenta'!$B:$B,'00 PDC SP'!$F624,'00 Alimenta'!F:F)","v":-698700},{"$f":"SUMIF('00 Alimenta'!$B:$B,'00 PDC SP'!$F624,'00 Alimenta'!G:G)","v":0},{"$f":"SUMIF('00 Alimenta'!$B:$B,'00 PDC SP'!$F624,'00 Alimenta'!H:H)","v":-746835},{"$f":"SUMIF('00 Alimenta'!$B:$B,'00 PDC SP'!$F624,'00 Alimenta'!I:I)","v":-746108},-727]
["PDA380DB","PD","PDA380",19,"DB","0205110407","Debiti verso altro personale esterno",{"$f":"SUMIF('00 Alimenta'!$B:$B,'00 PDC SP'!$F625,'00 Alimenta'!D:D)","v":-7612.67},{"$f":"SUMIF('00 Alimenta'!$B:$B,'00 PDC SP'!$F625,'00 Alimenta'!E:E)","v":-126604.38},{"$f":"SUMIF('00 Alimenta'!$B:$B,'00 PDC SP'!$F625,'00 Alimenta'!F:F)","v":-126193.95},{"$f":"SUMIF('00 Alimenta'!$B:$B,'00 PDC SP'!$F625,'00 Alimenta'!G:G)","v":-8023.1},{"$f":"SUMIF('00 Alimenta'!$B:$B,'00 PDC SP'!$F625,'00 Alimenta'!H:H)","v":-134770.54},{"$f":"SUMIF('00 Alimenta'!$B:$B,'00 PDC SP'!$F625,'00 Alimenta'!I:I)","v":-132414.44},-10379.200000000012]
["PDA380DB","PD","PDA380",19,"DB","0205110408","Debiti verso personale universitario",{"$f":"SUMIF('00 Alimenta'!$B:$B,'00 PDC SP'!$F626,'00 Alimenta'!D:D)","v":0},{"$f":"SUMIF('00 Alimenta'!$B:$B,'00 PDC SP'!$F626,'00 Alimenta'!E:E)","v":0},{"$f":"SUMIF('00 Alimenta'!$B:$B,'00 PDC SP'!$F626,'00 Alimenta'!F:F)","v":0},{"$f":"SUMIF('00 Alimenta'!$B:$B,'00 PDC SP'!$F626,'00 Alimenta'!G:G)","v":0},{"$f":"SUMIF('00 Alimenta'!$B:$B,'00 PDC SP'!$F626,'00 Alimenta'!H:H)","v":0},{"$f":"SUMIF('00 Alimenta'!$B:$B,'00 PDC SP'!$F626,'00 Alimenta'!I:I)","v":0},0]
["PDA380FR","PD","PDA380",19,"FR","0205110409","Fatture da ricevere Altri debiti diversi",{"$f":"SUMIF('00 Alimenta'!$B:$B,'00 PDC SP'!$F627,'00 Alimenta'!D:D)","v":-415026.05},{"$f":"SUMIF('00 Alimenta'!$B:$B,'00 PDC SP'!$F627,'00 Alimenta'!E:E)","v":-342650.42},{"$f":"SUMIF('00 Alimenta'!$B:$B,'00 PDC SP'!$F627,'00 Alimenta'!F:F)","v":-415026.05},{"$f":"SUMIF('00 Alimenta'!$B:$B,'00 PDC SP'!$F627,'00 Alimenta'!G:G)","v":-342650.42},{"$f":"SUMIF('00 Alimenta'!$B:$B,'00 PDC SP'!$F627,'00 Alimenta'!H:H)","v":-321864.53999999998},{"$f":"SUMIF('00 Alimenta'!$B:$B,'00 PDC SP'!$F627,'00 Alimenta'!I:I)","v":-342650.42},-321864.53999999998]
["PDA380DB","PD","PDA380",19,"DB","0205110410","Debiti al 31/12/2005",{"$f":"SUMIF('00 Alimenta'!$B:$B,'00 PDC SP'!$F628,'00 Alimenta'!D:D)","v":0},{"$f":"SUMIF('00 Alimenta'!$B:$B,'00 PDC SP'!$F628,'00 Alimenta'!E:E)","v":0},{"$f":"SUMIF('00 Alimenta'!$B:$B,'00 PDC SP'!$F628,'00 Alimenta'!F:F)","v":0},{"$f":"SUMIF('00 Alimenta'!$B:$B,'00 PDC SP'!$F628,'00 Alimenta'!G:G)","v":0},{"$f":"SUMIF('00 Alimenta'!$B:$B,'00 PDC SP'!$F628,'00 Alimenta'!H:H)","v":0},{"$f":"SUMIF('00 Alimenta'!$B:$B,'00 PDC SP'!$F628,'00 Alimenta'!I:I)","v":0},0]
["PDA380DB","PD","PDA380",19,"DB","0205110411","Debiti anno 2006",{"$f":"SUMIF('00 Alimenta'!$B:$B,'00 PDC SP'!$F629,'00 Alimenta'!D:D)","v":0},{"$f":"SUMIF('00 Alimenta'!$B:$B,'00 PDC SP'!$F629,'00 Alimenta'!E:E)","v":0},{"$f":"SUMIF('00 Alimenta'!$B:$B,'00 PDC SP'!$F629,'00 Alimenta'!F:F)","v":0},{"$f":"SUMIF('00 Alimenta'!$B:$B,'00 PDC SP'!$F629,'00 Alimenta'!G:G)","v":0},{"$f":"SUMIF('00 Alimenta'!$B:$B,'00 PDC SP'!$F629,'00 Alimenta'!H:H)","v":0},{"$f":"SUMIF('00 Alimenta'!$B:$B,'00 PDC SP'!$F629,'00 Alimenta'!I:I)","v":0},0]
["ABA370FE","AB","ABA370",25,"FE","0205110501","Note credito da emettere v/Regione per spesa corrente - IRAP",{"$f":"SUMIF('00 Alimenta'!$B:$B,'00 PDC SP'!$F630,'00 Alimenta'!D:D)","v":0},{"$f":"SUMIF('00 Alimenta'!$B:$B,'00 PDC SP'!$F630,'00 Alimenta'!E:E)","v":0},{"$f":"SUMIF('00 Alimenta'!$B:$B,'00 PDC SP'!$F630,'00 Alimenta'!F:F)","v":0},{"$f":"SUMIF('00 Alimenta'!$B:$B,'00 PDC SP'!$F630,'00 Alimenta'!G:G)","v":0},{"$f":"SUMIF('00 Alimenta'!$B:$B,'00 PDC SP'!$F630,'00 Alimenta'!H:H)","v":0},{"$f":"SUMIF('00 Alimenta'!$B:$B,'00 PDC SP'!$F630,'00 Alimenta'!I:I)","v":0},0]
["ABA380FE","AB","ABA380",25,"FE","0205110502","Note credito da emettere v/Regione per spesa corrente - addizionale IRPEF",{"$f":"SUMIF('00 Alimenta'!$B:$B,'00 PDC SP'!$F631,'00 Alimenta'!D:D)","v":0},{"$f":"SUMIF('00 Alimenta'!$B:$B,'00 PDC SP'!$F631,'00 Alimenta'!E:E)","v":0},{"$f":"SUMIF('00 Alimenta'!$B:$B,'00 PDC SP'!$F631,'00 Alimenta'!F:F)","v":0},{"$f":"SUMIF('00 Alimenta'!$B:$B,'00 PDC SP'!$F631,'00 Alimenta'!G:G)","v":0},{"$f":"SUMIF('00 Alimenta'!$B:$B,'00 PDC SP'!$F631,'00 Alimenta'!H:H)","v":0},{"$f":"SUMIF('00 Alimenta'!$B:$B,'00 PDC SP'!$F631,'00 Alimenta'!I:I)","v":0},0]
["ABA390FE","AB","ABA390",25,"FE","0205110503","Note credito da emettere v/Regione per quota FSR",{"$f":"SUMIF('00 Alimenta'!$B:$B,'00 PDC SP'!$F632,'00 Alimenta'!D:D)","v":0},{"$f":"SUMIF('00 Alimenta'!$B:$B,'00 PDC SP'!$F632,'00 Alimenta'!E:E)","v":0},{"$f":"SUMIF('00 Alimenta'!$B:$B,'00 PDC SP'!$F632,'00 Alimenta'!F:F)","v":0},{"$f":"SUMIF('00 Alimenta'!$B:$B,'00 PDC SP'!$F632,'00 Alimenta'!G:G)","v":0},{"$f":"SUMIF('00 Alimenta'!$B:$B,'00 PDC SP'!$F632,'00 Alimenta'!H:H)","v":0},{"$f":"SUMIF('00 Alimenta'!$B:$B,'00 PDC SP'!$F632,'00 Alimenta'!I:I)","v":0},0]
["ABA400FE","AB","ABA400",25,"FE","0205110504","Note credito da emettere v/Regione per mobilità attiva intraregionale",{"$f":"SUMIF('00 Alimenta'!$B:$B,'00 PDC SP'!$F633,'00 Alimenta'!D:D)","v":0},{"$f":"SUMIF('00 Alimenta'!$B:$B,'00 PDC SP'!$F633,'00 Alimenta'!E:E)","v":0},{"$f":"SUMIF('00 Alimenta'!$B:$B,'00 PDC SP'!$F633,'00 Alimenta'!F:F)","v":0},{"$f":"SUMIF('00 Alimenta'!$B:$B,'00 PDC SP'!$F633,'00 Alimenta'!G:G)","v":0},{"$f":"SUMIF('00 Alimenta'!$B:$B,'00 PDC SP'!$F633,'00 Alimenta'!H:H)","v":0},{"$f":"SUMIF('00 Alimenta'!$B:$B,'00 PDC SP'!$F633,'00 Alimenta'!I:I)","v":0},0]
["ABA400FE","AB","ABA400",25,"FE","0205110505","Note credito da emettere v/Regione per mobilità attiva da privato",{"$f":"SUMIF('00 Alimenta'!$B:$B,'00 PDC SP'!$F634,'00 Alimenta'!D:D)","v":0},{"$f":"SUMIF('00 Alimenta'!$B:$B,'00 PDC SP'!$F634,'00 Alimenta'!E:E)","v":0},{"$f":"SUMIF('00 Alimenta'!$B:$B,'00 PDC SP'!$F634,'00 Alimenta'!F:F)","v":0},{"$f":"SUMIF('00 Alimenta'!$B:$B,'00 PDC SP'!$F634,'00 Alimenta'!G:G)","v":0},{"$f":"SUMIF('00 Alimenta'!$B:$B,'00 PDC SP'!$F634,'00 Alimenta'!H:H)","v":0},{"$f":"SUMIF('00 Alimenta'!$B:$B,'00 PDC SP'!$F634,'00 Alimenta'!I:I)","v":0},0]
["ABA410FE","AB","ABA410",25,"FE","0205110506","Note credito  da emettere v/Regione per mobilità attiva extraregionale",{"$f":"SUMIF('00 Alimenta'!$B:$B,'00 PDC SP'!$F635,'00 Alimenta'!D:D)","v":0},{"$f":"SUMIF('00 Alimenta'!$B:$B,'00 PDC SP'!$F635,'00 Alimenta'!E:E)","v":0},{"$f":"SUMIF('00 Alimenta'!$B:$B,'00 PDC SP'!$F635,'00 Alimenta'!F:F)","v":0},{"$f":"SUMIF('00 Alimenta'!$B:$B,'00 PDC SP'!$F635,'00 Alimenta'!G:G)","v":0},{"$f":"SUMIF('00 Alimenta'!$B:$B,'00 PDC SP'!$F635,'00 Alimenta'!H:H)","v":0},{"$f":"SUMIF('00 Alimenta'!$B:$B,'00 PDC SP'!$F635,'00 Alimenta'!I:I)","v":0},0]
["ABA420FE","AB","ABA420",25,"FE","0205110507","Note credito da emettere v/Regione per creditiv/Regione o Provincia Autonoma per acconto FSR",{"$f":"SUMIF('00 Alimenta'!$B:$B,'00 PDC SP'!$F636,'00 Alimenta'!D:D)","v":0},{"$f":"SUMIF('00 Alimenta'!$B:$B,'00 PDC SP'!$F636,'00 Alimenta'!E:E)","v":0},{"$f":"SUMIF('00 Alimenta'!$B:$B,'00 PDC SP'!$F636,'00 Alimenta'!F:F)","v":0},{"$f":"SUMIF('00 Alimenta'!$B:$B,'00 PDC SP'!$F636,'00 Alimenta'!G:G)","v":0},{"$f":"SUMIF('00 Alimenta'!$B:$B,'00 PDC SP'!$F636,'00 Alimenta'!H:H)","v":0},{"$f":"SUMIF('00 Alimenta'!$B:$B,'00 PDC SP'!$F636,'00 Alimenta'!I:I)","v":0},0]
["ABA430FE","AB","ABA430",25,"FE","0205110508","Note credito da emettere v/Regione per crediti v/Regione o Provincia Autonoma per finanziamento sanitario aggiuntivo corrente LEA",{"$f":"SUMIF('00 Alimenta'!$B:$B,'00 PDC SP'!$F637,'00 Alimenta'!D:D)","v":0},{"$f":"SUMIF('00 Alimenta'!$B:$B,'00 PDC SP'!$F637,'00 Alimenta'!E:E)","v":0},{"$f":"SUMIF('00 Alimenta'!$B:$B,'00 PDC SP'!$F637,'00 Alimenta'!F:F)","v":0},{"$f":"SUMIF('00 Alimenta'!$B:$B,'00 PDC SP'!$F637,'00 Alimenta'!G:G)","v":0},{"$f":"SUMIF('00 Alimenta'!$B:$B,'00 PDC SP'!$F637,'00 Alimenta'!H:H)","v":0},{"$f":"SUMIF('00 Alimenta'!$B:$B,'00 PDC SP'!$F637,'00 Alimenta'!I:I)","v":0},0]
["ABA440FE","AB","ABA440",25,"FE","0205110509","Note credito da emettere v/Regione per crediti v/Regione o Provincia Autonoma per finanziamento sanitario aggiuntivo corrente extra LEA",{"$f":"SUMIF('00 Alimenta'!$B:$B,'00 PDC SP'!$F638,'00 Alimenta'!D:D)","v":0},{"$f":"SUMIF('00 Alimenta'!$B:$B,'00 PDC SP'!$F638,'00 Alimenta'!E:E)","v":0},{"$f":"SUMIF('00 Alimenta'!$B:$B,'00 PDC SP'!$F638,'00 Alimenta'!F:F)","v":0},{"$f":"SUMIF('00 Alimenta'!$B:$B,'00 PDC SP'!$F638,'00 Alimenta'!G:G)","v":0},{"$f":"SUMIF('00 Alimenta'!$B:$B,'00 PDC SP'!$F638,'00 Alimenta'!H:H)","v":0},{"$f":"SUMIF('00 Alimenta'!$B:$B,'00 PDC SP'!$F638,'00 Alimenta'!I:I)","v":0},0]
["ABA450FE","AB","ABA450",25,"FE","0205110510","Note credito da emettere v/Regione per creditiv/Regione o Provincia Autonoma per spesa corrente - altro",{"$f":"SUMIF('00 Alimenta'!$B:$B,'00 PDC SP'!$F639,'00 Alimenta'!D:D)","v":0},{"$f":"SUMIF('00 Alimenta'!$B:$B,'00 PDC SP'!$F639,'00 Alimenta'!E:E)","v":0},{"$f":"SUMIF('00 Alimenta'!$B:$B,'00 PDC SP'!$F639,'00 Alimenta'!F:F)","v":0},{"$f":"SUMIF('00 Alimenta'!$B:$B,'00 PDC SP'!$F639,'00 Alimenta'!G:G)","v":0},{"$f":"SUMIF('00 Alimenta'!$B:$B,'00 PDC SP'!$F639,'00 Alimenta'!H:H)","v":0},{"$f":"SUMIF('00 Alimenta'!$B:$B,'00 PDC SP'!$F639,'00 Alimenta'!I:I)","v":0},0]
["ABA530FE","AB","ABA530",26,"FE","0205110511","Note credito da emettere v/Comuni",{"$f":"SUMIF('00 Alimenta'!$B:$B,'00 PDC SP'!$F640,'00 Alimenta'!D:D)","v":0},{"$f":"SUMIF('00 Alimenta'!$B:$B,'00 PDC SP'!$F640,'00 Alimenta'!E:E)","v":0},{"$f":"SUMIF('00 Alimenta'!$B:$B,'00 PDC SP'!$F640,'00 Alimenta'!F:F)","v":0},{"$f":"SUMIF('00 Alimenta'!$B:$B,'00 PDC SP'!$F640,'00 Alimenta'!G:G)","v":0},{"$f":"SUMIF('00 Alimenta'!$B:$B,'00 PDC SP'!$F640,'00 Alimenta'!H:H)","v":-1801.13},{"$f":"SUMIF('00 Alimenta'!$B:$B,'00 PDC SP'!$F640,'00 Alimenta'!I:I)","v":0},-1801.13]
["ABA560FE","AB","ABA560",27,"FE","0205110512","Note credito da emettere v/ASL Avezzano Sulmona L'Aquila per mobilità in compensazione",{"$f":"SUMIF('00 Alimenta'!$B:$B,'00 PDC SP'!$F641,'00 Alimenta'!D:D)","v":0},{"$f":"SUMIF('00 Alimenta'!$B:$B,'00 PDC SP'!$F641,'00 Alimenta'!E:E)","v":0},{"$f":"SUMIF('00 Alimenta'!$B:$B,'00 PDC SP'!$F641,'00 Alimenta'!F:F)","v":0},{"$f":"SUMIF('00 Alimenta'!$B:$B,'00 PDC SP'!$F641,'00 Alimenta'!G:G)","v":0},{"$f":"SUMIF('00 Alimenta'!$B:$B,'00 PDC SP'!$F641,'00 Alimenta'!H:H)","v":0},{"$f":"SUMIF('00 Alimenta'!$B:$B,'00 PDC SP'!$F641,'00 Alimenta'!I:I)","v":0},0]
["ABA560FE","AB","ABA560",27,"FE","0205110513","Note credito da emettere v/ASLLanciano Vasto Chieti per mobilità in compensazione",{"$f":"SUMIF('00 Alimenta'!$B:$B,'00 PDC SP'!$F642,'00 Alimenta'!D:D)","v":0},{"$f":"SUMIF('00 Alimenta'!$B:$B,'00 PDC SP'!$F642,'00 Alimenta'!E:E)","v":0},{"$f":"SUMIF('00 Alimenta'!$B:$B,'00 PDC SP'!$F642,'00 Alimenta'!F:F)","v":0},{"$f":"SUMIF('00 Alimenta'!$B:$B,'00 PDC SP'!$F642,'00 Alimenta'!G:G)","v":0},{"$f":"SUMIF('00 Alimenta'!$B:$B,'00 PDC SP'!$F642,'00 Alimenta'!H:H)","v":0},{"$f":"SUMIF('00 Alimenta'!$B:$B,'00 PDC SP'!$F642,'00 Alimenta'!I:I)","v":0},0]
["ABA560FE","AB","ABA560",27,"FE","0205110514","Note credito da emettere v/ASL Pescara per mobilità in compensazione",{"$f":"SUMIF('00 Alimenta'!$B:$B,'00 PDC SP'!$F643,'00 Alimenta'!D:D)","v":0},{"$f":"SUMIF('00 Alimenta'!$B:$B,'00 PDC SP'!$F643,'00 Alimenta'!E:E)","v":0},{"$f":"SUMIF('00 Alimenta'!$B:$B,'00 PDC SP'!$F643,'00 Alimenta'!F:F)","v":0},{"$f":"SUMIF('00 Alimenta'!$B:$B,'00 PDC SP'!$F643,'00 Alimenta'!G:G)","v":0},{"$f":"SUMIF('00 Alimenta'!$B:$B,'00 PDC SP'!$F643,'00 Alimenta'!H:H)","v":0},{"$f":"SUMIF('00 Alimenta'!$B:$B,'00 PDC SP'!$F643,'00 Alimenta'!I:I)","v":0},0]
["ABA560FE","AB","ABA560",27,"FE","0205110515","Note credito da emettere v/ASL Teramo per mobilità in compensazione",{"$f":"SUMIF('00 Alimenta'!$B:$B,'00 PDC SP'!$F644,'00 Alimenta'!D:D)","v":0},{"$f":"SUMIF('00 Alimenta'!$B:$B,'00 PDC SP'!$F644,'00 Alimenta'!E:E)","v":0},{"$f":"SUMIF('00 Alimenta'!$B:$B,'00 PDC SP'!$F644,'00 Alimenta'!F:F)","v":0},{"$f":"SUMIF('00 Alimenta'!$B:$B,'00 PDC SP'!$F644,'00 Alimenta'!G:G)","v":0},{"$f":"SUMIF('00 Alimenta'!$B:$B,'00 PDC SP'!$F644,'00 Alimenta'!H:H)","v":0},{"$f":"SUMIF('00 Alimenta'!$B:$B,'00 PDC SP'!$F644,'00 Alimenta'!I:I)","v":0},0]
["ABA570FE","AB","ABA570",27,"FE","0205110516","Note credito da emettere v/ASL AvezzanoSulmona L'Aquila per mobilità non in compensazione",{"$f":"SUMIF('00 Alimenta'!$B:$B,'00 PDC SP'!$F645,'00 Alimenta'!D:D)","v":0},{"$f":"SUMIF('00 Alimenta'!$B:$B,'00 PDC SP'!$F645,'00 Alimenta'!E:E)","v":0},{"$f":"SUMIF('00 Alimenta'!$B:$B,'00 PDC SP'!$F645,'00 Alimenta'!F:F)","v":0},{"$f":"SUMIF('00 Alimenta'!$B:$B,'00 PDC SP'!$F645,'00 Alimenta'!G:G)","v":0},{"$f":"SUMIF('00 Alimenta'!$B:$B,'00 PDC SP'!$F645,'00 Alimenta'!H:H)","v":0},{"$f":"SUMIF('00 Alimenta'!$B:$B,'00 PDC SP'!$F645,'00 Alimenta'!I:I)","v":0},0]
["ABA570FE","AB","ABA570",27,"FE","0205110517","Note credito da emettere v/ASL Lanciano Vasto Chieti per mobilità non in compensazione",{"$f":"SUMIF('00 Alimenta'!$B:$B,'00 PDC SP'!$F646,'00 Alimenta'!D:D)","v":0},{"$f":"SUMIF('00 Alimenta'!$B:$B,'00 PDC SP'!$F646,'00 Alimenta'!E:E)","v":0},{"$f":"SUMIF('00 Alimenta'!$B:$B,'00 PDC SP'!$F646,'00 Alimenta'!F:F)","v":0},{"$f":"SUMIF('00 Alimenta'!$B:$B,'00 PDC SP'!$F646,'00 Alimenta'!G:G)","v":0},{"$f":"SUMIF('00 Alimenta'!$B:$B,'00 PDC SP'!$F646,'00 Alimenta'!H:H)","v":0},{"$f":"SUMIF('00 Alimenta'!$B:$B,'00 PDC SP'!$F646,'00 Alimenta'!I:I)","v":0},0]
["ABA570FE","AB","ABA570",27,"FE","0205110518","Note credito da emettere v/ASL Pescara per mobilità non in compensazione",{"$f":"SUMIF('00 Alimenta'!$B:$B,'00 PDC SP'!$F647,'00 Alimenta'!D:D)","v":0},{"$f":"SUMIF('00 Alimenta'!$B:$B,'00 PDC SP'!$F647,'00 Alimenta'!E:E)","v":0},{"$f":"SUMIF('00 Alimenta'!$B:$B,'00 PDC SP'!$F647,'00 Alimenta'!F:F)","v":0},{"$f":"SUMIF('00 Alimenta'!$B:$B,'00 PDC SP'!$F647,'00 Alimenta'!G:G)","v":0},{"$f":"SUMIF('00 Alimenta'!$B:$B,'00 PDC SP'!$F647,'00 Alimenta'!H:H)","v":0},{"$f":"SUMIF('00 Alimenta'!$B:$B,'00 PDC SP'!$F647,'00 Alimenta'!I:I)","v":0},0]
[{"$f":"IF(E648=\"\",C648,C648&E648)","v":"ABA570FE"},{"$f":"LEFT(C648,2)","v":"AB"},"ABA570",27,"FE","0205110519","Note credito da emettere v/ASL Teramo per mobilità non in compensazione",{"$f":"SUMIF('00 Alimenta'!$B:$B,'00 PDC SP'!$F648,'00 Alimenta'!D:D)","v":0},{"$f":"SUMIF('00 Alimenta'!$B:$B,'00 PDC SP'!$F648,'00 Alimenta'!E:E)","v":0},{"$f":"SUMIF('00 Alimenta'!$B:$B,'00 PDC SP'!$F648,'00 Alimenta'!F:F)","v":0},{"$f":"SUMIF('00 Alimenta'!$B:$B,'00 PDC SP'!$F648,'00 Alimenta'!G:G)","v":0},{"$f":"SUMIF('00 Alimenta'!$B:$B,'00 PDC SP'!$F648,'00 Alimenta'!H:H)","v":0},{"$f":"SUMIF('00 Alimenta'!$B:$B,'00 PDC SP'!$F648,'00 Alimenta'!I:I)","v":0},{"$f":"K648+L648-M648","v":0}]
["ABA580FE","AB","ABA580",27,"FE","0205110520","Note credito da emettere v/ASL Avezzano Sulmona L'Aquila della Regione per altre prestazioni",{"$f":"SUMIF('00 Alimenta'!$B:$B,'00 PDC SP'!$F649,'00 Alimenta'!D:D)","v":0},{"$f":"SUMIF('00 Alimenta'!$B:$B,'00 PDC SP'!$F649,'00 Alimenta'!E:E)","v":0},{"$f":"SUMIF('00 Alimenta'!$B:$B,'00 PDC SP'!$F649,'00 Alimenta'!F:F)","v":0},{"$f":"SUMIF('00 Alimenta'!$B:$B,'00 PDC SP'!$F649,'00 Alimenta'!G:G)","v":0},{"$f":"SUMIF('00 Alimenta'!$B:$B,'00 PDC SP'!$F649,'00 Alimenta'!H:H)","v":0},{"$f":"SUMIF('00 Alimenta'!$B:$B,'00 PDC SP'!$F649,'00 Alimenta'!I:I)","v":0},0]
["ABA580FE","AB","ABA580",27,"FE","0205110521","Note credito da emettere v/ASL Lanciano Vasto Chieti della Regione per altre prestazioni",{"$f":"SUMIF('00 Alimenta'!$B:$B,'00 PDC SP'!$F650,'00 Alimenta'!D:D)","v":0},{"$f":"SUMIF('00 Alimenta'!$B:$B,'00 PDC SP'!$F650,'00 Alimenta'!E:E)","v":0},{"$f":"SUMIF('00 Alimenta'!$B:$B,'00 PDC SP'!$F650,'00 Alimenta'!F:F)","v":0},{"$f":"SUMIF('00 Alimenta'!$B:$B,'00 PDC SP'!$F650,'00 Alimenta'!G:G)","v":0},{"$f":"SUMIF('00 Alimenta'!$B:$B,'00 PDC SP'!$F650,'00 Alimenta'!H:H)","v":0},{"$f":"SUMIF('00 Alimenta'!$B:$B,'00 PDC SP'!$F650,'00 Alimenta'!I:I)","v":0},0]
["ABA580FE","AB","ABA580",27,"FE","0205110522","Note credito da emettere v/ASL Pescara della Regione per altre prestazioni",{"$f":"SUMIF('00 Alimenta'!$B:$B,'00 PDC SP'!$F651,'00 Alimenta'!D:D)","v":0},{"$f":"SUMIF('00 Alimenta'!$B:$B,'00 PDC SP'!$F651,'00 Alimenta'!E:E)","v":0},{"$f":"SUMIF('00 Alimenta'!$B:$B,'00 PDC SP'!$F651,'00 Alimenta'!F:F)","v":0},{"$f":"SUMIF('00 Alimenta'!$B:$B,'00 PDC SP'!$F651,'00 Alimenta'!G:G)","v":0},{"$f":"SUMIF('00 Alimenta'!$B:$B,'00 PDC SP'!$F651,'00 Alimenta'!H:H)","v":0},{"$f":"SUMIF('00 Alimenta'!$B:$B,'00 PDC SP'!$F651,'00 Alimenta'!I:I)","v":0},0]
["ABA580FE","AB","ABA580",27,"FE","0205110523","Note credito da emettere v/ASL Teramo della Regione per altre prestazioni",{"$f":"SUMIF('00 Alimenta'!$B:$B,'00 PDC SP'!$F652,'00 Alimenta'!D:D)","v":0},{"$f":"SUMIF('00 Alimenta'!$B:$B,'00 PDC SP'!$F652,'00 Alimenta'!E:E)","v":0},{"$f":"SUMIF('00 Alimenta'!$B:$B,'00 PDC SP'!$F652,'00 Alimenta'!F:F)","v":0},{"$f":"SUMIF('00 Alimenta'!$B:$B,'00 PDC SP'!$F652,'00 Alimenta'!G:G)","v":0},{"$f":"SUMIF('00 Alimenta'!$B:$B,'00 PDC SP'!$F652,'00 Alimenta'!H:H)","v":0},{"$f":"SUMIF('00 Alimenta'!$B:$B,'00 PDC SP'!$F652,'00 Alimenta'!I:I)","v":0},0]
["ABA590FE","AB","ABA590",27,"FE","0205110524","Note credito da emettere v/ASL Avezzano Sulmona L'Aquila per acconto quota FSR da distribuire",{"$f":"SUMIF('00 Alimenta'!$B:$B,'00 PDC SP'!$F653,'00 Alimenta'!D:D)","v":0},{"$f":"SUMIF('00 Alimenta'!$B:$B,'00 PDC SP'!$F653,'00 Alimenta'!E:E)","v":0},{"$f":"SUMIF('00 Alimenta'!$B:$B,'00 PDC SP'!$F653,'00 Alimenta'!F:F)","v":0},{"$f":"SUMIF('00 Alimenta'!$B:$B,'00 PDC SP'!$F653,'00 Alimenta'!G:G)","v":0},{"$f":"SUMIF('00 Alimenta'!$B:$B,'00 PDC SP'!$F653,'00 Alimenta'!H:H)","v":0},{"$f":"SUMIF('00 Alimenta'!$B:$B,'00 PDC SP'!$F653,'00 Alimenta'!I:I)","v":0},0]
["ABA590FE","AB","ABA590",27,"FE","0205110525","Note credito da emettere v/ASL Lanciano Vasto Chieti per acconto quota FSR da distribuire",{"$f":"SUMIF('00 Alimenta'!$B:$B,'00 PDC SP'!$F654,'00 Alimenta'!D:D)","v":0},{"$f":"SUMIF('00 Alimenta'!$B:$B,'00 PDC SP'!$F654,'00 Alimenta'!E:E)","v":0},{"$f":"SUMIF('00 Alimenta'!$B:$B,'00 PDC SP'!$F654,'00 Alimenta'!F:F)","v":0},{"$f":"SUMIF('00 Alimenta'!$B:$B,'00 PDC SP'!$F654,'00 Alimenta'!G:G)","v":0},{"$f":"SUMIF('00 Alimenta'!$B:$B,'00 PDC SP'!$F654,'00 Alimenta'!H:H)","v":0},{"$f":"SUMIF('00 Alimenta'!$B:$B,'00 PDC SP'!$F654,'00 Alimenta'!I:I)","v":0},0]
["ABA590FE","AB","ABA590",27,"FE","0205110526","Note credito da emettere v/ASL Pescara per acconto quota FSR da distribuire",{"$f":"SUMIF('00 Alimenta'!$B:$B,'00 PDC SP'!$F655,'00 Alimenta'!D:D)","v":0},{"$f":"SUMIF('00 Alimenta'!$B:$B,'00 PDC SP'!$F655,'00 Alimenta'!E:E)","v":0},{"$f":"SUMIF('00 Alimenta'!$B:$B,'00 PDC SP'!$F655,'00 Alimenta'!F:F)","v":0},{"$f":"SUMIF('00 Alimenta'!$B:$B,'00 PDC SP'!$F655,'00 Alimenta'!G:G)","v":0},{"$f":"SUMIF('00 Alimenta'!$B:$B,'00 PDC SP'!$F655,'00 Alimenta'!H:H)","v":0},{"$f":"SUMIF('00 Alimenta'!$B:$B,'00 PDC SP'!$F655,'00 Alimenta'!I:I)","v":0},0]
["ABA590FE","AB","ABA590",27,"FE","0205110527","Note credito da emettere v/ASL Teramo per acconto quota FSR da distribuire",{"$f":"SUMIF('00 Alimenta'!$B:$B,'00 PDC SP'!$F656,'00 Alimenta'!D:D)","v":0},{"$f":"SUMIF('00 Alimenta'!$B:$B,'00 PDC SP'!$F656,'00 Alimenta'!E:E)","v":0},{"$f":"SUMIF('00 Alimenta'!$B:$B,'00 PDC SP'!$F656,'00 Alimenta'!F:F)","v":0},{"$f":"SUMIF('00 Alimenta'!$B:$B,'00 PDC SP'!$F656,'00 Alimenta'!G:G)","v":0},{"$f":"SUMIF('00 Alimenta'!$B:$B,'00 PDC SP'!$F656,'00 Alimenta'!H:H)","v":0},{"$f":"SUMIF('00 Alimenta'!$B:$B,'00 PDC SP'!$F656,'00 Alimenta'!I:I)","v":0},0]
["ABA600FE","AB","ABA600",27,"FE","0205110528","Note credito da emettere verso ASL fuori regione per mobilità attiva non soggetta a compensazione",{"$f":"SUMIF('00 Alimenta'!$B:$B,'00 PDC SP'!$F657,'00 Alimenta'!D:D)","v":0},{"$f":"SUMIF('00 Alimenta'!$B:$B,'00 PDC SP'!$F657,'00 Alimenta'!E:E)","v":0},{"$f":"SUMIF('00 Alimenta'!$B:$B,'00 PDC SP'!$F657,'00 Alimenta'!F:F)","v":0},{"$f":"SUMIF('00 Alimenta'!$B:$B,'00 PDC SP'!$F657,'00 Alimenta'!G:G)","v":0},{"$f":"SUMIF('00 Alimenta'!$B:$B,'00 PDC SP'!$F657,'00 Alimenta'!H:H)","v":0},{"$f":"SUMIF('00 Alimenta'!$B:$B,'00 PDC SP'!$F657,'00 Alimenta'!I:I)","v":0},0]
["ABA620FE","AB","ABA620",28,"FE","0205110529","Note credito da emettere v/ARTA",{"$f":"SUMIF('00 Alimenta'!$B:$B,'00 PDC SP'!$F658,'00 Alimenta'!D:D)","v":0},{"$f":"SUMIF('00 Alimenta'!$B:$B,'00 PDC SP'!$F658,'00 Alimenta'!E:E)","v":0},{"$f":"SUMIF('00 Alimenta'!$B:$B,'00 PDC SP'!$F658,'00 Alimenta'!F:F)","v":0},{"$f":"SUMIF('00 Alimenta'!$B:$B,'00 PDC SP'!$F658,'00 Alimenta'!G:G)","v":0},{"$f":"SUMIF('00 Alimenta'!$B:$B,'00 PDC SP'!$F658,'00 Alimenta'!H:H)","v":0},{"$f":"SUMIF('00 Alimenta'!$B:$B,'00 PDC SP'!$F658,'00 Alimenta'!I:I)","v":0},0]
["ABA620FE","AB","ABA620",28,"FE","0205110530","Note credito da emetterev/Società controllate e collegate",{"$f":"SUMIF('00 Alimenta'!$B:$B,'00 PDC SP'!$F659,'00 Alimenta'!D:D)","v":0},{"$f":"SUMIF('00 Alimenta'!$B:$B,'00 PDC SP'!$F659,'00 Alimenta'!E:E)","v":0},{"$f":"SUMIF('00 Alimenta'!$B:$B,'00 PDC SP'!$F659,'00 Alimenta'!F:F)","v":0},{"$f":"SUMIF('00 Alimenta'!$B:$B,'00 PDC SP'!$F659,'00 Alimenta'!G:G)","v":0},{"$f":"SUMIF('00 Alimenta'!$B:$B,'00 PDC SP'!$F659,'00 Alimenta'!H:H)","v":0},{"$f":"SUMIF('00 Alimenta'!$B:$B,'00 PDC SP'!$F659,'00 Alimenta'!I:I)","v":0},0]
["ABA620FE","AB","ABA620",28,"FE","0205110531","Note credito da emettere v/enti regionali",{"$f":"SUMIF('00 Alimenta'!$B:$B,'00 PDC SP'!$F660,'00 Alimenta'!D:D)","v":0},{"$f":"SUMIF('00 Alimenta'!$B:$B,'00 PDC SP'!$F660,'00 Alimenta'!E:E)","v":0},{"$f":"SUMIF('00 Alimenta'!$B:$B,'00 PDC SP'!$F660,'00 Alimenta'!F:F)","v":0},{"$f":"SUMIF('00 Alimenta'!$B:$B,'00 PDC SP'!$F660,'00 Alimenta'!G:G)","v":0},{"$f":"SUMIF('00 Alimenta'!$B:$B,'00 PDC SP'!$F660,'00 Alimenta'!H:H)","v":0},{"$f":"SUMIF('00 Alimenta'!$B:$B,'00 PDC SP'!$F660,'00 Alimenta'!I:I)","v":0},0]
["ABA630FE","AB","ABA630",28,"FE","0205110532","Note credito da emettere v/sperimentazioni gestionali",{"$f":"SUMIF('00 Alimenta'!$B:$B,'00 PDC SP'!$F661,'00 Alimenta'!D:D)","v":0},{"$f":"SUMIF('00 Alimenta'!$B:$B,'00 PDC SP'!$F661,'00 Alimenta'!E:E)","v":0},{"$f":"SUMIF('00 Alimenta'!$B:$B,'00 PDC SP'!$F661,'00 Alimenta'!F:F)","v":0},{"$f":"SUMIF('00 Alimenta'!$B:$B,'00 PDC SP'!$F661,'00 Alimenta'!G:G)","v":0},{"$f":"SUMIF('00 Alimenta'!$B:$B,'00 PDC SP'!$F661,'00 Alimenta'!H:H)","v":0},{"$f":"SUMIF('00 Alimenta'!$B:$B,'00 PDC SP'!$F661,'00 Alimenta'!I:I)","v":0},0]
["ABA640FE","AB","ABA640",28,"FE","0205110533","Note credito da emettere v/altre partecipate",{"$f":"SUMIF('00 Alimenta'!$B:$B,'00 PDC SP'!$F662,'00 Alimenta'!D:D)","v":0},{"$f":"SUMIF('00 Alimenta'!$B:$B,'00 PDC SP'!$F662,'00 Alimenta'!E:E)","v":0},{"$f":"SUMIF('00 Alimenta'!$B:$B,'00 PDC SP'!$F662,'00 Alimenta'!F:F)","v":0},{"$f":"SUMIF('00 Alimenta'!$B:$B,'00 PDC SP'!$F662,'00 Alimenta'!G:G)","v":0},{"$f":"SUMIF('00 Alimenta'!$B:$B,'00 PDC SP'!$F662,'00 Alimenta'!H:H)","v":0},{"$f":"SUMIF('00 Alimenta'!$B:$B,'00 PDC SP'!$F662,'00 Alimenta'!I:I)","v":0},0]
["ABA670FE","AB","ABA670",30,"FE","0205110534","Note credito da emettere v/clienti privati",{"$f":"SUMIF('00 Alimenta'!$B:$B,'00 PDC SP'!$F663,'00 Alimenta'!D:D)","v":-800},{"$f":"SUMIF('00 Alimenta'!$B:$B,'00 PDC SP'!$F663,'00 Alimenta'!E:E)","v":-1513.05},{"$f":"SUMIF('00 Alimenta'!$B:$B,'00 PDC SP'!$F663,'00 Alimenta'!F:F)","v":-800},{"$f":"SUMIF('00 Alimenta'!$B:$B,'00 PDC SP'!$F663,'00 Alimenta'!G:G)","v":-1513.05},{"$f":"SUMIF('00 Alimenta'!$B:$B,'00 PDC SP'!$F663,'00 Alimenta'!H:H)","v":-1319.52},{"$f":"SUMIF('00 Alimenta'!$B:$B,'00 PDC SP'!$F663,'00 Alimenta'!I:I)","v":-1513.05},-1319.5199999999998]
["ABA670FE","AB","ABA670",30,"FE","0205110535","Note credito da emettere v/utenza per proventi da ticket",{"$f":"SUMIF('00 Alimenta'!$B:$B,'00 PDC SP'!$F664,'00 Alimenta'!D:D)","v":0},{"$f":"SUMIF('00 Alimenta'!$B:$B,'00 PDC SP'!$F664,'00 Alimenta'!E:E)","v":0},{"$f":"SUMIF('00 Alimenta'!$B:$B,'00 PDC SP'!$F664,'00 Alimenta'!F:F)","v":0},{"$f":"SUMIF('00 Alimenta'!$B:$B,'00 PDC SP'!$F664,'00 Alimenta'!G:G)","v":0},{"$f":"SUMIF('00 Alimenta'!$B:$B,'00 PDC SP'!$F664,'00 Alimenta'!H:H)","v":0},{"$f":"SUMIF('00 Alimenta'!$B:$B,'00 PDC SP'!$F664,'00 Alimenta'!I:I)","v":0},0]
["ABA670FE","AB","ABA670",30,"FE","0205110536","Note credito da emettere v/clienti privati per anticipi mobilità attiva",{"$f":"SUMIF('00 Alimenta'!$B:$B,'00 PDC SP'!$F665,'00 Alimenta'!D:D)","v":0},{"$f":"SUMIF('00 Alimenta'!$B:$B,'00 PDC SP'!$F665,'00 Alimenta'!E:E)","v":0},{"$f":"SUMIF('00 Alimenta'!$B:$B,'00 PDC SP'!$F665,'00 Alimenta'!F:F)","v":0},{"$f":"SUMIF('00 Alimenta'!$B:$B,'00 PDC SP'!$F665,'00 Alimenta'!G:G)","v":0},{"$f":"SUMIF('00 Alimenta'!$B:$B,'00 PDC SP'!$F665,'00 Alimenta'!H:H)","v":0},{"$f":"SUMIF('00 Alimenta'!$B:$B,'00 PDC SP'!$F665,'00 Alimenta'!I:I)","v":0},0]
["ABA670FE","AB","ABA670",30,"FE","0205110537","Note credito da emettere v/clienti privati per anticipi mobilità attiva",{"$f":"SUMIF('00 Alimenta'!$B:$B,'00 PDC SP'!$F666,'00 Alimenta'!D:D)","v":0},{"$f":"SUMIF('00 Alimenta'!$B:$B,'00 PDC SP'!$F666,'00 Alimenta'!E:E)","v":0},{"$f":"SUMIF('00 Alimenta'!$B:$B,'00 PDC SP'!$F666,'00 Alimenta'!F:F)","v":0},{"$f":"SUMIF('00 Alimenta'!$B:$B,'00 PDC SP'!$F666,'00 Alimenta'!G:G)","v":0},{"$f":"SUMIF('00 Alimenta'!$B:$B,'00 PDC SP'!$F666,'00 Alimenta'!H:H)","v":0},{"$f":"SUMIF('00 Alimenta'!$B:$B,'00 PDC SP'!$F666,'00 Alimenta'!I:I)","v":0},0]
["ABA680FE","AB","ABA680",30,"FE","0205110538","Note credito da emettere v/gestioni liquidatorie",{"$f":"SUMIF('00 Alimenta'!$B:$B,'00 PDC SP'!$F667,'00 Alimenta'!D:D)","v":0},{"$f":"SUMIF('00 Alimenta'!$B:$B,'00 PDC SP'!$F667,'00 Alimenta'!E:E)","v":0},{"$f":"SUMIF('00 Alimenta'!$B:$B,'00 PDC SP'!$F667,'00 Alimenta'!F:F)","v":0},{"$f":"SUMIF('00 Alimenta'!$B:$B,'00 PDC SP'!$F667,'00 Alimenta'!G:G)","v":0},{"$f":"SUMIF('00 Alimenta'!$B:$B,'00 PDC SP'!$F667,'00 Alimenta'!H:H)","v":0},{"$f":"SUMIF('00 Alimenta'!$B:$B,'00 PDC SP'!$F667,'00 Alimenta'!I:I)","v":0},0]
["ABA690FE","AB","ABA690",30,"FE","0205110539","Note credito da emettere v/altri soggetti pubblici",{"$f":"SUMIF('00 Alimenta'!$B:$B,'00 PDC SP'!$F668,'00 Alimenta'!D:D)","v":0},{"$f":"SUMIF('00 Alimenta'!$B:$B,'00 PDC SP'!$F668,'00 Alimenta'!E:E)","v":0},{"$f":"SUMIF('00 Alimenta'!$B:$B,'00 PDC SP'!$F668,'00 Alimenta'!F:F)","v":0},{"$f":"SUMIF('00 Alimenta'!$B:$B,'00 PDC SP'!$F668,'00 Alimenta'!G:G)","v":0},{"$f":"SUMIF('00 Alimenta'!$B:$B,'00 PDC SP'!$F668,'00 Alimenta'!H:H)","v":0},{"$f":"SUMIF('00 Alimenta'!$B:$B,'00 PDC SP'!$F668,'00 Alimenta'!I:I)","v":0},0]
["ABA710FE","AB","ABA710",30,"FE","0205110540","Note credito da emettere v/Altri Crediti diversi",{"$f":"SUMIF('00 Alimenta'!$B:$B,'00 PDC SP'!$F669,'00 Alimenta'!D:D)","v":0},{"$f":"SUMIF('00 Alimenta'!$B:$B,'00 PDC SP'!$F669,'00 Alimenta'!E:E)","v":0},{"$f":"SUMIF('00 Alimenta'!$B:$B,'00 PDC SP'!$F669,'00 Alimenta'!F:F)","v":0},{"$f":"SUMIF('00 Alimenta'!$B:$B,'00 PDC SP'!$F669,'00 Alimenta'!G:G)","v":0},{"$f":"SUMIF('00 Alimenta'!$B:$B,'00 PDC SP'!$F669,'00 Alimenta'!H:H)","v":0},{"$f":"SUMIF('00 Alimenta'!$B:$B,'00 PDC SP'!$F669,'00 Alimenta'!I:I)","v":0},0]
["ABA700FE","AB","ABA700",30,"FE","0205110541","Note credito da emettere v/altri soggetti pubblici per ricerca",{"$f":"SUMIF('00 Alimenta'!$B:$B,'00 PDC SP'!$F670,'00 Alimenta'!D:D)","v":0},{"$f":"SUMIF('00 Alimenta'!$B:$B,'00 PDC SP'!$F670,'00 Alimenta'!E:E)","v":0},{"$f":"SUMIF('00 Alimenta'!$B:$B,'00 PDC SP'!$F670,'00 Alimenta'!F:F)","v":0},{"$f":"SUMIF('00 Alimenta'!$B:$B,'00 PDC SP'!$F670,'00 Alimenta'!G:G)","v":0},{"$f":"SUMIF('00 Alimenta'!$B:$B,'00 PDC SP'!$F670,'00 Alimenta'!H:H)","v":0},{"$f":"SUMIF('00 Alimenta'!$B:$B,'00 PDC SP'!$F670,'00 Alimenta'!I:I)","v":0},0]
["PEA010","PE","PEA010",20,null,"0206010101","Ratei passivi",{"$f":"SUMIF('00 Alimenta'!$B:$B,'00 PDC SP'!$F671,'00 Alimenta'!D:D)","v":0},{"$f":"SUMIF('00 Alimenta'!$B:$B,'00 PDC SP'!$F671,'00 Alimenta'!E:E)","v":0},{"$f":"SUMIF('00 Alimenta'!$B:$B,'00 PDC SP'!$F671,'00 Alimenta'!F:F)","v":0},{"$f":"SUMIF('00 Alimenta'!$B:$B,'00 PDC SP'!$F671,'00 Alimenta'!G:G)","v":0},{"$f":"SUMIF('00 Alimenta'!$B:$B,'00 PDC SP'!$F671,'00 Alimenta'!H:H)","v":0},{"$f":"SUMIF('00 Alimenta'!$B:$B,'00 PDC SP'!$F671,'00 Alimenta'!I:I)","v":0},0]
["PEA020","PE","PEA020",20,null,"0206010201","Ratei passivi v/Aziende sanitarie pubbliche della Regione",{"$f":"SUMIF('00 Alimenta'!$B:$B,'00 PDC SP'!$F672,'00 Alimenta'!D:D)","v":0},{"$f":"SUMIF('00 Alimenta'!$B:$B,'00 PDC SP'!$F672,'00 Alimenta'!E:E)","v":0},{"$f":"SUMIF('00 Alimenta'!$B:$B,'00 PDC SP'!$F672,'00 Alimenta'!F:F)","v":0},{"$f":"SUMIF('00 Alimenta'!$B:$B,'00 PDC SP'!$F672,'00 Alimenta'!G:G)","v":0},{"$f":"SUMIF('00 Alimenta'!$B:$B,'00 PDC SP'!$F672,'00 Alimenta'!H:H)","v":0},{"$f":"SUMIF('00 Alimenta'!$B:$B,'00 PDC SP'!$F672,'00 Alimenta'!I:I)","v":0},0]
["PEA040","PE","PEA040",20,null,"0206020101","Risconti passivi",{"$f":"SUMIF('00 Alimenta'!$B:$B,'00 PDC SP'!$F673,'00 Alimenta'!D:D)","v":0},{"$f":"SUMIF('00 Alimenta'!$B:$B,'00 PDC SP'!$F673,'00 Alimenta'!E:E)","v":0},{"$f":"SUMIF('00 Alimenta'!$B:$B,'00 PDC SP'!$F673,'00 Alimenta'!F:F)","v":0},{"$f":"SUMIF('00 Alimenta'!$B:$B,'00 PDC SP'!$F673,'00 Alimenta'!G:G)","v":0},{"$f":"SUMIF('00 Alimenta'!$B:$B,'00 PDC SP'!$F673,'00 Alimenta'!H:H)","v":0},{"$f":"SUMIF('00 Alimenta'!$B:$B,'00 PDC SP'!$F673,'00 Alimenta'!I:I)","v":0},0]
["PEA040","PE","PEA040",20,null,"0206020102","Risconti passivi per contributi fondo sanitario vincolati e progetti obiettivi di piano",{"$f":"SUMIF('00 Alimenta'!$B:$B,'00 PDC SP'!$F674,'00 Alimenta'!D:D)","v":0},{"$f":"SUMIF('00 Alimenta'!$B:$B,'00 PDC SP'!$F674,'00 Alimenta'!E:E)","v":0},{"$f":"SUMIF('00 Alimenta'!$B:$B,'00 PDC SP'!$F674,'00 Alimenta'!F:F)","v":0},{"$f":"SUMIF('00 Alimenta'!$B:$B,'00 PDC SP'!$F674,'00 Alimenta'!G:G)","v":0},{"$f":"SUMIF('00 Alimenta'!$B:$B,'00 PDC SP'!$F674,'00 Alimenta'!H:H)","v":0},{"$f":"SUMIF('00 Alimenta'!$B:$B,'00 PDC SP'!$F674,'00 Alimenta'!I:I)","v":0},0]
["PEA050","PE","PEA050",20,null,"0206020201","Risconti passivi v/Aziende sanitarie pubbliche della Regione",{"$f":"SUMIF('00 Alimenta'!$B:$B,'00 PDC SP'!$F675,'00 Alimenta'!D:D)","v":0},{"$f":"SUMIF('00 Alimenta'!$B:$B,'00 PDC SP'!$F675,'00 Alimenta'!E:E)","v":0},{"$f":"SUMIF('00 Alimenta'!$B:$B,'00 PDC SP'!$F675,'00 Alimenta'!F:F)","v":0},{"$f":"SUMIF('00 Alimenta'!$B:$B,'00 PDC SP'!$F675,'00 Alimenta'!G:G)","v":0},{"$f":"SUMIF('00 Alimenta'!$B:$B,'00 PDC SP'!$F675,'00 Alimenta'!H:H)","v":0},{"$f":"SUMIF('00 Alimenta'!$B:$B,'00 PDC SP'!$F675,'00 Alimenta'!I:I)","v":0},0]
["PFA000","PF","PFA000",0,null,"0207010101","Canoni di leasing ancora da pagare",{"$f":"SUMIF('00 Alimenta'!$B:$B,'00 PDC SP'!$F676,'00 Alimenta'!D:D)","v":-986370},{"$f":"SUMIF('00 Alimenta'!$B:$B,'00 PDC SP'!$F676,'00 Alimenta'!E:E)","v":0},{"$f":"SUMIF('00 Alimenta'!$B:$B,'00 PDC SP'!$F676,'00 Alimenta'!F:F)","v":-986370},{"$f":"SUMIF('00 Alimenta'!$B:$B,'00 PDC SP'!$F676,'00 Alimenta'!G:G)","v":0},{"$f":"SUMIF('00 Alimenta'!$B:$B,'00 PDC SP'!$F676,'00 Alimenta'!H:H)","v":0},{"$f":"SUMIF('00 Alimenta'!$B:$B,'00 PDC SP'!$F676,'00 Alimenta'!I:I)","v":0},0]
["PFA010","PF","PFA010",0,null,"0207020101","Depositi cauzionali",{"$f":"SUMIF('00 Alimenta'!$B:$B,'00 PDC SP'!$F677,'00 Alimenta'!D:D)","v":0},{"$f":"SUMIF('00 Alimenta'!$B:$B,'00 PDC SP'!$F677,'00 Alimenta'!E:E)","v":0},{"$f":"SUMIF('00 Alimenta'!$B:$B,'00 PDC SP'!$F677,'00 Alimenta'!F:F)","v":0},{"$f":"SUMIF('00 Alimenta'!$B:$B,'00 PDC SP'!$F677,'00 Alimenta'!G:G)","v":0},{"$f":"SUMIF('00 Alimenta'!$B:$B,'00 PDC SP'!$F677,'00 Alimenta'!H:H)","v":0},{"$f":"SUMIF('00 Alimenta'!$B:$B,'00 PDC SP'!$F677,'00 Alimenta'!I:I)","v":0},0]
["PFA020","PF","PFA020",0,null,"0207030101","Beni in comodato",{"$f":"SUMIF('00 Alimenta'!$B:$B,'00 PDC SP'!$F678,'00 Alimenta'!D:D)","v":0},{"$f":"SUMIF('00 Alimenta'!$B:$B,'00 PDC SP'!$F678,'00 Alimenta'!E:E)","v":0},{"$f":"SUMIF('00 Alimenta'!$B:$B,'00 PDC SP'!$F678,'00 Alimenta'!F:F)","v":0},{"$f":"SUMIF('00 Alimenta'!$B:$B,'00 PDC SP'!$F678,'00 Alimenta'!G:G)","v":0},{"$f":"SUMIF('00 Alimenta'!$B:$B,'00 PDC SP'!$F678,'00 Alimenta'!H:H)","v":0},{"$f":"SUMIF('00 Alimenta'!$B:$B,'00 PDC SP'!$F678,'00 Alimenta'!I:I)","v":0},0]
["PFA030","PF","PFA030",0,null,"0207040101","Garanzie prestate",{"$f":"SUMIF('00 Alimenta'!$B:$B,'00 PDC SP'!$F679,'00 Alimenta'!D:D)","v":0},{"$f":"SUMIF('00 Alimenta'!$B:$B,'00 PDC SP'!$F679,'00 Alimenta'!E:E)","v":0},{"$f":"SUMIF('00 Alimenta'!$B:$B,'00 PDC SP'!$F679,'00 Alimenta'!F:F)","v":0},{"$f":"SUMIF('00 Alimenta'!$B:$B,'00 PDC SP'!$F679,'00 Alimenta'!G:G)","v":0},{"$f":"SUMIF('00 Alimenta'!$B:$B,'00 PDC SP'!$F679,'00 Alimenta'!H:H)","v":0},{"$f":"SUMIF('00 Alimenta'!$B:$B,'00 PDC SP'!$F679,'00 Alimenta'!I:I)","v":0},0]
["PFA030","PF","PFA030",0,null,"0207040102","Garanzie ricevute",{"$f":"SUMIF('00 Alimenta'!$B:$B,'00 PDC SP'!$F680,'00 Alimenta'!D:D)","v":0},{"$f":"SUMIF('00 Alimenta'!$B:$B,'00 PDC SP'!$F680,'00 Alimenta'!E:E)","v":0},{"$f":"SUMIF('00 Alimenta'!$B:$B,'00 PDC SP'!$F680,'00 Alimenta'!F:F)","v":0},{"$f":"SUMIF('00 Alimenta'!$B:$B,'00 PDC SP'!$F680,'00 Alimenta'!G:G)","v":0},{"$f":"SUMIF('00 Alimenta'!$B:$B,'00 PDC SP'!$F680,'00 Alimenta'!H:H)","v":0},{"$f":"SUMIF('00 Alimenta'!$B:$B,'00 PDC SP'!$F680,'00 Alimenta'!I:I)","v":0},0]
["PFA030","PF","PFA030",0,null,"0207040103","Beni presso terzi",{"$f":"SUMIF('00 Alimenta'!$B:$B,'00 PDC SP'!$F681,'00 Alimenta'!D:D)","v":0},{"$f":"SUMIF('00 Alimenta'!$B:$B,'00 PDC SP'!$F681,'00 Alimenta'!E:E)","v":0},{"$f":"SUMIF('00 Alimenta'!$B:$B,'00 PDC SP'!$F681,'00 Alimenta'!F:F)","v":0},{"$f":"SUMIF('00 Alimenta'!$B:$B,'00 PDC SP'!$F681,'00 Alimenta'!G:G)","v":0},{"$f":"SUMIF('00 Alimenta'!$B:$B,'00 PDC SP'!$F681,'00 Alimenta'!H:H)","v":0},{"$f":"SUMIF('00 Alimenta'!$B:$B,'00 PDC SP'!$F681,'00 Alimenta'!I:I)","v":0},0]
["PFA030","PF","PFA030",0,null,"0207040104","Beni in contenzioso",{"$f":"SUMIF('00 Alimenta'!$B:$B,'00 PDC SP'!$F682,'00 Alimenta'!D:D)","v":0},{"$f":"SUMIF('00 Alimenta'!$B:$B,'00 PDC SP'!$F682,'00 Alimenta'!E:E)","v":0},{"$f":"SUMIF('00 Alimenta'!$B:$B,'00 PDC SP'!$F682,'00 Alimenta'!F:F)","v":0},{"$f":"SUMIF('00 Alimenta'!$B:$B,'00 PDC SP'!$F682,'00 Alimenta'!G:G)","v":0},{"$f":"SUMIF('00 Alimenta'!$B:$B,'00 PDC SP'!$F682,'00 Alimenta'!H:H)","v":0},{"$f":"SUMIF('00 Alimenta'!$B:$B,'00 PDC SP'!$F682,'00 Alimenta'!I:I)","v":0},0]
["PFA030","PF","PFA030",0,null,"0207040105","Altri impegni assunti",{"$f":"SUMIF('00 Alimenta'!$B:$B,'00 PDC SP'!$F683,'00 Alimenta'!D:D)","v":0},{"$f":"SUMIF('00 Alimenta'!$B:$B,'00 PDC SP'!$F683,'00 Alimenta'!E:E)","v":0},{"$f":"SUMIF('00 Alimenta'!$B:$B,'00 PDC SP'!$F683,'00 Alimenta'!F:F)","v":0},{"$f":"SUMIF('00 Alimenta'!$B:$B,'00 PDC SP'!$F683,'00 Alimenta'!G:G)","v":0},{"$f":"SUMIF('00 Alimenta'!$B:$B,'00 PDC SP'!$F683,'00 Alimenta'!H:H)","v":0},{"$f":"SUMIF('00 Alimenta'!$B:$B,'00 PDC SP'!$F683,'00 Alimenta'!I:I)","v":0},0]
["PFA030","PF","PFA030",0,null,"0207040106","Altri contri d'ordine",{"$f":"SUMIF('00 Alimenta'!$B:$B,'00 PDC SP'!$F684,'00 Alimenta'!D:D)","v":0},{"$f":"SUMIF('00 Alimenta'!$B:$B,'00 PDC SP'!$F684,'00 Alimenta'!E:E)","v":0},{"$f":"SUMIF('00 Alimenta'!$B:$B,'00 PDC SP'!$F684,'00 Alimenta'!F:F)","v":0},{"$f":"SUMIF('00 Alimenta'!$B:$B,'00 PDC SP'!$F684,'00 Alimenta'!G:G)","v":0},{"$f":"SUMIF('00 Alimenta'!$B:$B,'00 PDC SP'!$F684,'00 Alimenta'!H:H)","v":0},{"$f":"SUMIF('00 Alimenta'!$B:$B,'00 PDC SP'!$F684,'00 Alimenta'!I:I)","v":0},0]
[]
[null,null,null,null,null,"AA","IMMOBILIZZAZIONI",{"$f":"SUMIF($B:$B,$F686,H:H)","v":109716131.56999996},null,null,{"$f":"SUMIF($B:$B,$F686,K:K)","v":109631979.31999995},null,null,{"$f":"SUMIF($B:$B,$F686,N:N)","v":108309459.74999993}]
[null,null,null,null,null,"AB","ATTIVO CIRCOLANTE",268442746.0999999,null,null,260562718.86999992,null,null,266253631.08000004]
[null,null,null,null,null,"AC","RATEI E RISCONTI ATTIVI",1890279.2,null,null,1502862.22,null,null,8698.5100000000093]
[null,null,null,null,null,"AD","ATTIVO - CONTI D'ORDINE",986370,null,null,0,null,null,0]
[null,null,null,null,null,"PA","PATRIMONIO NETTO",139595248.81999999,null,null,125211900.59,null,null,122093965.73999998]
[null,null,null,null,null,"UT","UTILE/PEDITA DI ESERCIZIO",-30778127.57,null,null,-14264709.560000001,null,null,-13609624.26]
[null,null,null,null,null,"PB","FONDI PER RISCI ED ONERI",-75376839.630000025,null,null,-70986748.230000019,null,null,-85752573.330000013]
[null,null,null,null,null,"PC","TRATTAMENTO FINE RAPPORTO",-2082932.89,null,null,-2195943.02,null,null,-2201092.41]
[null,null,null,null,null,"PD","DEBITI",-193772263.09999993,null,null,-187567678.13000008,null,null,-178133782.11999986]
[null,null,null,null,null,"PE","RATEI E RISCONTI PASSIVI",0,null,null,0,null,null,0]
[null,null,null,null,null,"PF","PASSIVO - CONTI D'ORDINE",-986370,null,null,0,null,null,0]
[]
[null,null,null,1,null,null,"SOMMA ALGEBRICA ATTIVO + (PATRIMONIO NETTO + PASSIVO)",{"$f":"(H686+H687+H688+H689-H690)+(H692+H693+H694+H695+H696)","v":-30778127.570000112},null,null,{"$f":"(K686+K687+K688+K689-K690)+(K692+K693+K694+K695+K696)","v":-14264709.560000211},null,null,{"$f":"(N686+N687+N688+N689-N690)+(N692+N693+N694+N695+N696)","v":-13609624.259999871}]
[null,null,null,null,null,"0201070101","UTILE D'ESERCIZIO",null,null,null,null,{"$f":"IF($N$698>=0,$N$698,0)","v":0},null,{"$f":"IF($N$698>=0,$N$698,0)","v":0}]
[null,null,null,null,null,"0201070102","PERDITA D'ESERCIZIO",null,null,null,null,{"$f":"IF($N$698<0,$N$698,0)","v":-13609624.259999871},null,{"$f":"IF($N$698<0,$N$698,0)","v":-13609624.259999871}]
[]
[]
[]
[]
[]
[]
[]
[]
[]
[]
[]
[]
[]
[]
[]
[]
[]
[]
[]
[]
[]
[]
[]
[]
[]
[]
[]
[]
[]
[]
[]
[]
[]
[]
[]
[]
[]
[]
[]
[]
[]
[]
[]
[]
[]
[]
[]
[]
[]
[]
[]
[]
[]
[]
[]
[]
[]
[]
[]
[]
[]
[]
[]
[]
[]
[]
[]
[]
[]
[]
[]
[]
[]
[]
[null,null,null,null,null,null,null,null,null,null,null,{"$f":"L44+L48-M44-M48","v":2233056.9899999998}]
[]
[]
[]
[null,null,null,null,null,null,null,null,null,null,null,{"$f":"L44-M44","v":848081.87},{"$f":"L48-M48","v":1384975.12}]
[null,null,null,null,null,null,null,null,null,null,null,null,1271120]
[null,null,null,null,null,null,null,null,null,null,null,null,{"$f":"M779-M780","v":113855.12000000011}]

{"sheet":"00 SP","index":2,"n_rows":286,"n_cols":12,"rows_kept":286,"cut":false,"hidden":false,"merged":[]}
[]
["CODICE","DESCRIZIONE",null,"CODICE","RF",{"$f":"'00 PDC SP'!H4","v":"Esercizio 2015"},{"$f":"'00 PDC SP'!I4","v":"Incrementi 2016"},{"$f":"'00 PDC SP'!J4","v":"Decrementi 2016"},{"$f":"'00 PDC SP'!K4","v":"Esercizio 2016"},{"$f":"'00 PDC SP'!L4","v":"Incrementi 2017"},{"$f":"'00 PDC SP'!M4","v":"Decrementi 2017"},{"$f":"'00 PDC SP'!N4","v":"Esercizio 2017"}]
["AAZ999","A) IMMOBILIZZAZIONI","S","AAZ999",null,{"$f":"F4+F31+F68","v":109716131.56999998},270885.68999999994,355037.94000000012,109631979.31999998,-911643.54999999958,410876.02,108309459.75]
["AAA000","A.I) IMMOBILIZZAZIONI IMMATERIALI","S","AAA000",null,{"$f":"F5+F8+F11+F16+F17+F26","v":351077.70999999996},75729.509999999995,0,426807.2200000002,73289.199999999983,7129.38,492967.04000000004]
["AAA010","A.I.1) Costi di impianto e di ampliamento","S","AAA010",null,{"$f":"SUM(F6:F7)","v":0},0,0,0,0,0,0]
["AAA020","A.I.1.a) Costi di impianto e di ampliamento",null,"AAA020",34,{"$f":"SUMIF('00 PDC SP'!$C:$C,'00 SP'!$D6,'00 PDC SP'!H:H)","v":0},{"$f":"SUMIF('00 PDC SP'!$C:$C,'00 SP'!$D6,'00 PDC SP'!I:I)","v":0},{"$f":"SUMIF('00 PDC SP'!$C:$C,'00 SP'!$D6,'00 PDC SP'!J:J)","v":0},{"$f":"SUMIF('00 PDC SP'!$C:$C,'00 SP'!$D6,'00 PDC SP'!K:K)","v":0},{"$f":"SUMIF('00 PDC SP'!$C:$C,'00 SP'!$D6,'00 PDC SP'!L:L)","v":0},{"$f":"SUMIF('00 PDC SP'!$C:$C,'00 SP'!$D6,'00 PDC SP'!M:M)","v":0},{"$f":"SUMIF('00 PDC SP'!$C:$C,'00 SP'!$D6,'00 PDC SP'!N:N)","v":0}]
["AAA030","A.I.1.b) F.do Amm.to costi di impianto e di ampliamento",null,"AAA030",4,{"$f":"SUMIF('00 PDC SP'!$C:$C,'00 SP'!$D7,'00 PDC SP'!H:H)","v":0},{"$f":"SUMIF('00 PDC SP'!$C:$C,'00 SP'!$D7,'00 PDC SP'!I:I)","v":0},{"$f":"SUMIF('00 PDC SP'!$C:$C,'00 SP'!$D7,'00 PDC SP'!J:J)","v":0},{"$f":"SUMIF('00 PDC SP'!$C:$C,'00 SP'!$D7,'00 PDC SP'!K:K)","v":0},{"$f":"SUMIF('00 PDC SP'!$C:$C,'00 SP'!$D7,'00 PDC SP'!L:L)","v":0},{"$f":"SUMIF('00 PDC SP'!$C:$C,'00 SP'!$D7,'00 PDC SP'!M:M)","v":0},{"$f":"SUMIF('00 PDC SP'!$C:$C,'00 SP'!$D7,'00 PDC SP'!N:N)","v":0}]
["AAA040","A.I.2) Costi di ricerca e sviluppo","S","AAA040",null,{"$f":"SUM(F9:F10)","v":0},0,0,0,0,0,0]
["AAA050","A.I.2.a) Costi di ricerca e sviluppo",null,"AAA050",35,{"$f":"SUMIF('00 PDC SP'!$C:$C,'00 SP'!$D9,'00 PDC SP'!H:H)","v":0},{"$f":"SUMIF('00 PDC SP'!$C:$C,'00 SP'!$D9,'00 PDC SP'!I:I)","v":0},{"$f":"SUMIF('00 PDC SP'!$C:$C,'00 SP'!$D9,'00 PDC SP'!J:J)","v":0},{"$f":"SUMIF('00 PDC SP'!$C:$C,'00 SP'!$D9,'00 PDC SP'!K:K)","v":0},{"$f":"SUMIF('00 PDC SP'!$C:$C,'00 SP'!$D9,'00 PDC SP'!L:L)","v":0},{"$f":"SUMIF('00 PDC SP'!$C:$C,'00 SP'!$D9,'00 PDC SP'!M:M)","v":0},{"$f":"SUMIF('00 PDC SP'!$C:$C,'00 SP'!$D9,'00 PDC SP'!N:N)","v":0}]
["AAA060","A.I.2.b) F.do Amm.to costi di ricerca e sviluppo",null,"AAA060",4,{"$f":"SUMIF('00 PDC SP'!$C:$C,'00 SP'!$D10,'00 PDC SP'!H:H)","v":0},{"$f":"SUMIF('00 PDC SP'!$C:$C,'00 SP'!$D10,'00 PDC SP'!I:I)","v":0},{"$f":"SUMIF('00 PDC SP'!$C:$C,'00 SP'!$D10,'00 PDC SP'!J:J)","v":0},{"$f":"SUMIF('00 PDC SP'!$C:$C,'00 SP'!$D10,'00 PDC SP'!K:K)","v":0},{"$f":"SUMIF('00 PDC SP'!$C:$C,'00 SP'!$D10,'00 PDC SP'!L:L)","v":0},{"$f":"SUMIF('00 PDC SP'!$C:$C,'00 SP'!$D10,'00 PDC SP'!M:M)","v":0},{"$f":"SUMIF('00 PDC SP'!$C:$C,'00 SP'!$D10,'00 PDC SP'!N:N)","v":0}]
["AAA070","A.I.3) Diritti di brevetto e diritti di utilizzazione delle opere d'ingegno","S","AAA070",null,{"$f":"SUM(F12:F15)","v":0},0,0,0,0,0,0]
["AAA080","A.I.3.a) Diritti di brevetto e diritti di utilizzazione delle opere d'ingegno - derivanti dall'attività di ricerca",null,"AAA080",36,{"$f":"SUMIF('00 PDC SP'!$C:$C,'00 SP'!$D12,'00 PDC SP'!H:H)","v":0},{"$f":"SUMIF('00 PDC SP'!$C:$C,'00 SP'!$D12,'00 PDC SP'!I:I)","v":0},{"$f":"SUMIF('00 PDC SP'!$C:$C,'00 SP'!$D12,'00 PDC SP'!J:J)","v":0},{"$f":"SUMIF('00 PDC SP'!$C:$C,'00 SP'!$D12,'00 PDC SP'!K:K)","v":0},{"$f":"SUMIF('00 PDC SP'!$C:$C,'00 SP'!$D12,'00 PDC SP'!L:L)","v":0},{"$f":"SUMIF('00 PDC SP'!$C:$C,'00 SP'!$D12,'00 PDC SP'!M:M)","v":0},{"$f":"SUMIF('00 PDC SP'!$C:$C,'00 SP'!$D12,'00 PDC SP'!N:N)","v":0}]
["AAA090","A.I.3.b) F.do Amm.to diritti di brevetto e diritti di utilizzazione delle opere d'ingegno - derivanti dall'attività di ricerca",null,"AAA090",4,{"$f":"SUMIF('00 PDC SP'!$C:$C,'00 SP'!$D13,'00 PDC SP'!H:H)","v":0},{"$f":"SUMIF('00 PDC SP'!$C:$C,'00 SP'!$D13,'00 PDC SP'!I:I)","v":0},{"$f":"SUMIF('00 PDC SP'!$C:$C,'00 SP'!$D13,'00 PDC SP'!J:J)","v":0},{"$f":"SUMIF('00 PDC SP'!$C:$C,'00 SP'!$D13,'00 PDC SP'!K:K)","v":0},{"$f":"SUMIF('00 PDC SP'!$C:$C,'00 SP'!$D13,'00 PDC SP'!L:L)","v":0},{"$f":"SUMIF('00 PDC SP'!$C:$C,'00 SP'!$D13,'00 PDC SP'!M:M)","v":0},{"$f":"SUMIF('00 PDC SP'!$C:$C,'00 SP'!$D13,'00 PDC SP'!N:N)","v":0}]
["AAA100","A.I.3.c) Diritti di brevetto e diritti di utilizzazione delle opere d'ingegno - altri",null,"AAA100",36,{"$f":"SUMIF('00 PDC SP'!$C:$C,'00 SP'!$D14,'00 PDC SP'!H:H)","v":0},{"$f":"SUMIF('00 PDC SP'!$C:$C,'00 SP'!$D14,'00 PDC SP'!I:I)","v":0},{"$f":"SUMIF('00 PDC SP'!$C:$C,'00 SP'!$D14,'00 PDC SP'!J:J)","v":0},{"$f":"SUMIF('00 PDC SP'!$C:$C,'00 SP'!$D14,'00 PDC SP'!K:K)","v":0},{"$f":"SUMIF('00 PDC SP'!$C:$C,'00 SP'!$D14,'00 PDC SP'!L:L)","v":0},{"$f":"SUMIF('00 PDC SP'!$C:$C,'00 SP'!$D14,'00 PDC SP'!M:M)","v":0},{"$f":"SUMIF('00 PDC SP'!$C:$C,'00 SP'!$D14,'00 PDC SP'!N:N)","v":0}]
["AAA110","A.I.3.d) F.do Amm.to diritti di brevetto e diritti di utilizzazione delle opere d'ingegno -  altri",null,"AAA110",4,{"$f":"SUMIF('00 PDC SP'!$C:$C,'00 SP'!$D15,'00 PDC SP'!H:H)","v":0},{"$f":"SUMIF('00 PDC SP'!$C:$C,'00 SP'!$D15,'00 PDC SP'!I:I)","v":0},{"$f":"SUMIF('00 PDC SP'!$C:$C,'00 SP'!$D15,'00 PDC SP'!J:J)","v":0},{"$f":"SUMIF('00 PDC SP'!$C:$C,'00 SP'!$D15,'00 PDC SP'!K:K)","v":0},{"$f":"SUMIF('00 PDC SP'!$C:$C,'00 SP'!$D15,'00 PDC SP'!L:L)","v":0},{"$f":"SUMIF('00 PDC SP'!$C:$C,'00 SP'!$D15,'00 PDC SP'!M:M)","v":0},{"$f":"SUMIF('00 PDC SP'!$C:$C,'00 SP'!$D15,'00 PDC SP'!N:N)","v":0}]
["AAA120","A.I.4) Immobilizzazioni immateriali in corso e acconti",null,"AAA120",37,{"$f":"SUMIF('00 PDC SP'!$C:$C,'00 SP'!$D16,'00 PDC SP'!H:H)","v":0},{"$f":"SUMIF('00 PDC SP'!$C:$C,'00 SP'!$D16,'00 PDC SP'!I:I)","v":0},{"$f":"SUMIF('00 PDC SP'!$C:$C,'00 SP'!$D16,'00 PDC SP'!J:J)","v":0},{"$f":"SUMIF('00 PDC SP'!$C:$C,'00 SP'!$D16,'00 PDC SP'!K:K)","v":0},{"$f":"SUMIF('00 PDC SP'!$C:$C,'00 SP'!$D16,'00 PDC SP'!L:L)","v":0},{"$f":"SUMIF('00 PDC SP'!$C:$C,'00 SP'!$D16,'00 PDC SP'!M:M)","v":0},{"$f":"SUMIF('00 PDC SP'!$C:$C,'00 SP'!$D16,'00 PDC SP'!N:N)","v":0}]
["AAA130","A.I.5) Altre immobilizzazioni immateriali","S","AAA130",null,{"$f":"SUM(F18:F25)","v":351077.70999999996},75729.509999999995,0,426807.2200000002,73289.199999999983,7129.38,492967.04000000004]
["AAA140","A.I.5.a) Concessioni, licenze, marchi e diritti simili",null,"AAA140",38,{"$f":"SUMIF('00 PDC SP'!$C:$C,'00 SP'!$D18,'00 PDC SP'!H:H)","v":1810825.53},{"$f":"SUMIF('00 PDC SP'!$C:$C,'00 SP'!$D18,'00 PDC SP'!I:I)","v":181030.9},{"$f":"SUMIF('00 PDC SP'!$C:$C,'00 SP'!$D18,'00 PDC SP'!J:J)","v":6424.06},{"$f":"SUMIF('00 PDC SP'!$C:$C,'00 SP'!$D18,'00 PDC SP'!K:K)","v":1985432.37},{"$f":"SUMIF('00 PDC SP'!$C:$C,'00 SP'!$D18,'00 PDC SP'!L:L)","v":209841.59},{"$f":"SUMIF('00 PDC SP'!$C:$C,'00 SP'!$D18,'00 PDC SP'!M:M)","v":7129.38},{"$f":"SUMIF('00 PDC SP'!$C:$C,'00 SP'!$D18,'00 PDC SP'!N:N)","v":2188144.58}]
["AAA150","A.I.5.b) F.do Amm.to concessioni, licenze, marchi e diritti simili",null,"AAA150",4,{"$f":"SUMIF('00 PDC SP'!$C:$C,'00 SP'!$D19,'00 PDC SP'!H:H)","v":-1459747.82},{"$f":"SUMIF('00 PDC SP'!$C:$C,'00 SP'!$D19,'00 PDC SP'!I:I)","v":-105301.39},{"$f":"SUMIF('00 PDC SP'!$C:$C,'00 SP'!$D19,'00 PDC SP'!J:J)","v":-6424.06},{"$f":"SUMIF('00 PDC SP'!$C:$C,'00 SP'!$D19,'00 PDC SP'!K:K)","v":-1558625.15},{"$f":"SUMIF('00 PDC SP'!$C:$C,'00 SP'!$D19,'00 PDC SP'!L:L)","v":-136552.39000000001},{"$f":"SUMIF('00 PDC SP'!$C:$C,'00 SP'!$D19,'00 PDC SP'!M:M)","v":0},{"$f":"SUMIF('00 PDC SP'!$C:$C,'00 SP'!$D19,'00 PDC SP'!N:N)","v":-1695177.54}]
["AAA160","A.I.5.c) Migliorie su beni di terzi",null,"AAA160",38,{"$f":"SUMIF('00 PDC SP'!$C:$C,'00 SP'!$D20,'00 PDC SP'!H:H)","v":0},{"$f":"SUMIF('00 PDC SP'!$C:$C,'00 SP'!$D20,'00 PDC SP'!I:I)","v":0},{"$f":"SUMIF('00 PDC SP'!$C:$C,'00 SP'!$D20,'00 PDC SP'!J:J)","v":0},{"$f":"SUMIF('00 PDC SP'!$C:$C,'00 SP'!$D20,'00 PDC SP'!K:K)","v":0},{"$f":"SUMIF('00 PDC SP'!$C:$C,'00 SP'!$D20,'00 PDC SP'!L:L)","v":0},{"$f":"SUMIF('00 PDC SP'!$C:$C,'00 SP'!$D20,'00 PDC SP'!M:M)","v":0},{"$f":"SUMIF('00 PDC SP'!$C:$C,'00 SP'!$D20,'00 PDC SP'!N:N)","v":0}]
["AAA170","A.I.5.d) F.do Amm.to migliorie su beni di terzi",null,"AAA170",4,{"$f":"SUMIF('00 PDC SP'!$C:$C,'00 SP'!$D21,'00 PDC SP'!H:H)","v":0},{"$f":"SUMIF('00 PDC SP'!$C:$C,'00 SP'!$D21,'00 PDC SP'!I:I)","v":0},{"$f":"SUMIF('00 PDC SP'!$C:$C,'00 SP'!$D21,'00 PDC SP'!J:J)","v":0},{"$f":"SUMIF('00 PDC SP'!$C:$C,'00 SP'!$D21,'00 PDC SP'!K:K)","v":0},{"$f":"SUMIF('00 PDC SP'!$C:$C,'00 SP'!$D21,'00 PDC SP'!L:L)","v":0},{"$f":"SUMIF('00 PDC SP'!$C:$C,'00 SP'!$D21,'00 PDC SP'!M:M)","v":0},{"$f":"SUMIF('00 PDC SP'!$C:$C,'00 SP'!$D21,'00 PDC SP'!N:N)","v":0}]
["AAA180","A.I.5.e) Pubblicità",null,"AAA180",38,{"$f":"SUMIF('00 PDC SP'!$C:$C,'00 SP'!$D22,'00 PDC SP'!H:H)","v":0},{"$f":"SUMIF('00 PDC SP'!$C:$C,'00 SP'!$D22,'00 PDC SP'!I:I)","v":0},{"$f":"SUMIF('00 PDC SP'!$C:$C,'00 SP'!$D22,'00 PDC SP'!J:J)","v":0},{"$f":"SUMIF('00 PDC SP'!$C:$C,'00 SP'!$D22,'00 PDC SP'!K:K)","v":0},{"$f":"SUMIF('00 PDC SP'!$C:$C,'00 SP'!$D22,'00 PDC SP'!L:L)","v":0},{"$f":"SUMIF('00 PDC SP'!$C:$C,'00 SP'!$D22,'00 PDC SP'!M:M)","v":0},{"$f":"SUMIF('00 PDC SP'!$C:$C,'00 SP'!$D22,'00 PDC SP'!N:N)","v":0}]
["AAA190","A.I.5.f) F.do Amm.to pubblicità",null,"AAA190",4,{"$f":"SUMIF('00 PDC SP'!$C:$C,'00 SP'!$D23,'00 PDC SP'!H:H)","v":0},{"$f":"SUMIF('00 PDC SP'!$C:$C,'00 SP'!$D23,'00 PDC SP'!I:I)","v":0},{"$f":"SUMIF('00 PDC SP'!$C:$C,'00 SP'!$D23,'00 PDC SP'!J:J)","v":0},{"$f":"SUMIF('00 PDC SP'!$C:$C,'00 SP'!$D23,'00 PDC SP'!K:K)","v":0},{"$f":"SUMIF('00 PDC SP'!$C:$C,'00 SP'!$D23,'00 PDC SP'!L:L)","v":0},{"$f":"SUMIF('00 PDC SP'!$C:$C,'00 SP'!$D23,'00 PDC SP'!M:M)","v":0},{"$f":"SUMIF('00 PDC SP'!$C:$C,'00 SP'!$D23,'00 PDC SP'!N:N)","v":0}]
["AAA200","A.I.5.g) Altre immobilizzazioni immateriali",null,"AAA200",38,{"$f":"SUMIF('00 PDC SP'!$C:$C,'00 SP'!$D24,'00 PDC SP'!H:H)","v":0},{"$f":"SUMIF('00 PDC SP'!$C:$C,'00 SP'!$D24,'00 PDC SP'!I:I)","v":0},{"$f":"SUMIF('00 PDC SP'!$C:$C,'00 SP'!$D24,'00 PDC SP'!J:J)","v":0},{"$f":"SUMIF('00 PDC SP'!$C:$C,'00 SP'!$D24,'00 PDC SP'!K:K)","v":0},{"$f":"SUMIF('00 PDC SP'!$C:$C,'00 SP'!$D24,'00 PDC SP'!L:L)","v":0},{"$f":"SUMIF('00 PDC SP'!$C:$C,'00 SP'!$D24,'00 PDC SP'!M:M)","v":0},{"$f":"SUMIF('00 PDC SP'!$C:$C,'00 SP'!$D24,'00 PDC SP'!N:N)","v":0}]
["AAA210","A.I.5.h) F.do Amm.to altre immobilizzazioni immateriali",null,"AAA210",4,{"$f":"SUMIF('00 PDC SP'!$C:$C,'00 SP'!$D25,'00 PDC SP'!H:H)","v":0},{"$f":"SUMIF('00 PDC SP'!$C:$C,'00 SP'!$D25,'00 PDC SP'!I:I)","v":0},{"$f":"SUMIF('00 PDC SP'!$C:$C,'00 SP'!$D25,'00 PDC SP'!J:J)","v":0},{"$f":"SUMIF('00 PDC SP'!$C:$C,'00 SP'!$D25,'00 PDC SP'!K:K)","v":0},{"$f":"SUMIF('00 PDC SP'!$C:$C,'00 SP'!$D25,'00 PDC SP'!L:L)","v":0},{"$f":"SUMIF('00 PDC SP'!$C:$C,'00 SP'!$D25,'00 PDC SP'!M:M)","v":0},{"$f":"SUMIF('00 PDC SP'!$C:$C,'00 SP'!$D25,'00 PDC SP'!N:N)","v":0}]
["AAA220","A.I.6) Fondo Svalutazione immobilizzazioni immateriali","S","AAA220",null,{"$f":"SUM(F27:F30)","v":0},0,0,0,0,0,0]
["AAA230","A.I.6.a) F.do Svalut. Costi di impianto e di ampliamento",null,"AAA230",34,{"$f":"SUMIF('00 PDC SP'!$C:$C,'00 SP'!$D27,'00 PDC SP'!H:H)","v":0},{"$f":"SUMIF('00 PDC SP'!$C:$C,'00 SP'!$D27,'00 PDC SP'!I:I)","v":0},{"$f":"SUMIF('00 PDC SP'!$C:$C,'00 SP'!$D27,'00 PDC SP'!J:J)","v":0},{"$f":"SUMIF('00 PDC SP'!$C:$C,'00 SP'!$D27,'00 PDC SP'!K:K)","v":0},{"$f":"SUMIF('00 PDC SP'!$C:$C,'00 SP'!$D27,'00 PDC SP'!L:L)","v":0},{"$f":"SUMIF('00 PDC SP'!$C:$C,'00 SP'!$D27,'00 PDC SP'!M:M)","v":0},{"$f":"SUMIF('00 PDC SP'!$C:$C,'00 SP'!$D27,'00 PDC SP'!N:N)","v":0}]
["AAA240","A.I.6.b) F.do Svalut. Costi di ricerca e sviluppo",null,"AAA240",35,{"$f":"SUMIF('00 PDC SP'!$C:$C,'00 SP'!$D28,'00 PDC SP'!H:H)","v":0},{"$f":"SUMIF('00 PDC SP'!$C:$C,'00 SP'!$D28,'00 PDC SP'!I:I)","v":0},{"$f":"SUMIF('00 PDC SP'!$C:$C,'00 SP'!$D28,'00 PDC SP'!J:J)","v":0},{"$f":"SUMIF('00 PDC SP'!$C:$C,'00 SP'!$D28,'00 PDC SP'!K:K)","v":0},{"$f":"SUMIF('00 PDC SP'!$C:$C,'00 SP'!$D28,'00 PDC SP'!L:L)","v":0},{"$f":"SUMIF('00 PDC SP'!$C:$C,'00 SP'!$D28,'00 PDC SP'!M:M)","v":0},{"$f":"SUMIF('00 PDC SP'!$C:$C,'00 SP'!$D28,'00 PDC SP'!N:N)","v":0}]
["AAA250","A.I.6.c) F.do Svalut. Diritti di brevetto e diritti di utilizzazione delle opere d'ingegno",null,"AAA250",36,{"$f":"SUMIF('00 PDC SP'!$C:$C,'00 SP'!$D29,'00 PDC SP'!H:H)","v":0},{"$f":"SUMIF('00 PDC SP'!$C:$C,'00 SP'!$D29,'00 PDC SP'!I:I)","v":0},{"$f":"SUMIF('00 PDC SP'!$C:$C,'00 SP'!$D29,'00 PDC SP'!J:J)","v":0},{"$f":"SUMIF('00 PDC SP'!$C:$C,'00 SP'!$D29,'00 PDC SP'!K:K)","v":0},{"$f":"SUMIF('00 PDC SP'!$C:$C,'00 SP'!$D29,'00 PDC SP'!L:L)","v":0},{"$f":"SUMIF('00 PDC SP'!$C:$C,'00 SP'!$D29,'00 PDC SP'!M:M)","v":0},{"$f":"SUMIF('00 PDC SP'!$C:$C,'00 SP'!$D29,'00 PDC SP'!N:N)","v":0}]
["AAA260","A.I.6.d) F.do Svalut. Altre immobilizzazioni immateriali",null,"AAA260",38,{"$f":"SUMIF('00 PDC SP'!$C:$C,'00 SP'!$D30,'00 PDC SP'!H:H)","v":0},{"$f":"SUMIF('00 PDC SP'!$C:$C,'00 SP'!$D30,'00 PDC SP'!I:I)","v":0},{"$f":"SUMIF('00 PDC SP'!$C:$C,'00 SP'!$D30,'00 PDC SP'!J:J)","v":0},{"$f":"SUMIF('00 PDC SP'!$C:$C,'00 SP'!$D30,'00 PDC SP'!K:K)","v":0},{"$f":"SUMIF('00 PDC SP'!$C:$C,'00 SP'!$D30,'00 PDC SP'!L:L)","v":0},{"$f":"SUMIF('00 PDC SP'!$C:$C,'00 SP'!$D30,'00 PDC SP'!M:M)","v":0},{"$f":"SUMIF('00 PDC SP'!$C:$C,'00 SP'!$D30,'00 PDC SP'!N:N)","v":0}]
["AAA270","A.II) IMMOBILIZZAZIONI MATERIALI","S","AAA270",null,{"$f":"F32+F35+F42+F45+F48+F51+F54+F55+F58+F59","v":109352674.15999998},193499.42999999993,355037.94000000012,109191135.64999998,-984932.74999999953,403746.64,107802456.25999999]
["AAA280","A.II.1) Terreni","S","AAA280",null,{"$f":"SUM(F33:F34)","v":942655.12},0,0,942655.12,0,0,942655.12]
["AAA290","A.II.1.a) Terreni disponibili",null,"AAA290",39,{"$f":"SUMIF('00 PDC SP'!$C:$C,'00 SP'!$D33,'00 PDC SP'!H:H)","v":0},{"$f":"SUMIF('00 PDC SP'!$C:$C,'00 SP'!$D33,'00 PDC SP'!I:I)","v":0},{"$f":"SUMIF('00 PDC SP'!$C:$C,'00 SP'!$D33,'00 PDC SP'!J:J)","v":0},{"$f":"SUMIF('00 PDC SP'!$C:$C,'00 SP'!$D33,'00 PDC SP'!K:K)","v":0},{"$f":"SUMIF('00 PDC SP'!$C:$C,'00 SP'!$D33,'00 PDC SP'!L:L)","v":0},{"$f":"SUMIF('00 PDC SP'!$C:$C,'00 SP'!$D33,'00 PDC SP'!M:M)","v":0},{"$f":"SUMIF('00 PDC SP'!$C:$C,'00 SP'!$D33,'00 PDC SP'!N:N)","v":0}]
["AAA300","A.II.1.b) Terreni indisponibili",null,"AAA300",39,{"$f":"SUMIF('00 PDC SP'!$C:$C,'00 SP'!$D34,'00 PDC SP'!H:H)","v":942655.12},{"$f":"SUMIF('00 PDC SP'!$C:$C,'00 SP'!$D34,'00 PDC SP'!I:I)","v":0},{"$f":"SUMIF('00 PDC SP'!$C:$C,'00 SP'!$D34,'00 PDC SP'!J:J)","v":0},{"$f":"SUMIF('00 PDC SP'!$C:$C,'00 SP'!$D34,'00 PDC SP'!K:K)","v":942655.12},{"$f":"SUMIF('00 PDC SP'!$C:$C,'00 SP'!$D34,'00 PDC SP'!L:L)","v":0},{"$f":"SUMIF('00 PDC SP'!$C:$C,'00 SP'!$D34,'00 PDC SP'!M:M)","v":0},{"$f":"SUMIF('00 PDC SP'!$C:$C,'00 SP'!$D34,'00 PDC SP'!N:N)","v":942655.12}]
["AAA310","A.II.2) Fabbricati","S","AAA310",null,{"$f":"F36+F39","v":88155358.989999995},-4970287.05,0,83185071.939999983,-4970287.05,0,78214784.889999986]
["AAA320","A.II.2.a) Fabbricati non strumentali (disponibili)","S","AAA320",null,{"$f":"SUM(F37:F38)","v":0},0,0,0,0,0,0]
["AAA330","A.II.2.a.1) Fabbricati non strumentali (disponibili)",null,"AAA330",40,{"$f":"SUMIF('00 PDC SP'!$C:$C,'00 SP'!$D37,'00 PDC SP'!H:H)","v":0},{"$f":"SUMIF('00 PDC SP'!$C:$C,'00 SP'!$D37,'00 PDC SP'!I:I)","v":0},{"$f":"SUMIF('00 PDC SP'!$C:$C,'00 SP'!$D37,'00 PDC SP'!J:J)","v":0},{"$f":"SUMIF('00 PDC SP'!$C:$C,'00 SP'!$D37,'00 PDC SP'!K:K)","v":0},{"$f":"SUMIF('00 PDC SP'!$C:$C,'00 SP'!$D37,'00 PDC SP'!L:L)","v":0},{"$f":"SUMIF('00 PDC SP'!$C:$C,'00 SP'!$D37,'00 PDC SP'!M:M)","v":0},{"$f":"SUMIF('00 PDC SP'!$C:$C,'00 SP'!$D37,'00 PDC SP'!N:N)","v":0}]
["AAA340","A.II.2.a.2) F.do Amm.to Fabbricati non strumentali (disponibili)",null,"AAA340",2,{"$f":"SUMIF('00 PDC SP'!$C:$C,'00 SP'!$D38,'00 PDC SP'!H:H)","v":0},{"$f":"SUMIF('00 PDC SP'!$C:$C,'00 SP'!$D38,'00 PDC SP'!I:I)","v":0},{"$f":"SUMIF('00 PDC SP'!$C:$C,'00 SP'!$D38,'00 PDC SP'!J:J)","v":0},{"$f":"SUMIF('00 PDC SP'!$C:$C,'00 SP'!$D38,'00 PDC SP'!K:K)","v":0},{"$f":"SUMIF('00 PDC SP'!$C:$C,'00 SP'!$D38,'00 PDC SP'!L:L)","v":0},{"$f":"SUMIF('00 PDC SP'!$C:$C,'00 SP'!$D38,'00 PDC SP'!M:M)","v":0},{"$f":"SUMIF('00 PDC SP'!$C:$C,'00 SP'!$D38,'00 PDC SP'!N:N)","v":0}]
["AAA350","A.II.2.b) Fabbricati strumentali (indisponibili)","S","AAA350",null,{"$f":"SUM(F40:F41)","v":88155358.989999995},-4970287.05,0,83185071.939999983,-4970287.05,0,78214784.889999986]
["AAA360","A.II.2.b.1) Fabbricati strumentali (indisponibili)",null,"AAA360",40,{"$f":"SUMIF('00 PDC SP'!$C:$C,'00 SP'!$D40,'00 PDC SP'!H:H)","v":169096559.22999999},{"$f":"SUMIF('00 PDC SP'!$C:$C,'00 SP'!$D40,'00 PDC SP'!I:I)","v":0},{"$f":"SUMIF('00 PDC SP'!$C:$C,'00 SP'!$D40,'00 PDC SP'!J:J)","v":0},{"$f":"SUMIF('00 PDC SP'!$C:$C,'00 SP'!$D40,'00 PDC SP'!K:K)","v":169096559.22999999},{"$f":"SUMIF('00 PDC SP'!$C:$C,'00 SP'!$D40,'00 PDC SP'!L:L)","v":0},{"$f":"SUMIF('00 PDC SP'!$C:$C,'00 SP'!$D40,'00 PDC SP'!M:M)","v":0},{"$f":"SUMIF('00 PDC SP'!$C:$C,'00 SP'!$D40,'00 PDC SP'!N:N)","v":169096559.22999999}]
["AAA370","A.II.2.b.2) F.do Amm.to Fabbricati strumentali (indisponibili)",null,"AAA370",2,{"$f":"SUMIF('00 PDC SP'!$C:$C,'00 SP'!$D41,'00 PDC SP'!H:H)","v":-80941200.239999995},{"$f":"SUMIF('00 PDC SP'!$C:$C,'00 SP'!$D41,'00 PDC SP'!I:I)","v":-4970287.05},{"$f":"SUMIF('00 PDC SP'!$C:$C,'00 SP'!$D41,'00 PDC SP'!J:J)","v":0},{"$f":"SUMIF('00 PDC SP'!$C:$C,'00 SP'!$D41,'00 PDC SP'!K:K)","v":-85911487.290000007},{"$f":"SUMIF('00 PDC SP'!$C:$C,'00 SP'!$D41,'00 PDC SP'!L:L)","v":-4970287.05},{"$f":"SUMIF('00 PDC SP'!$C:$C,'00 SP'!$D41,'00 PDC SP'!M:M)","v":0},{"$f":"SUMIF('00 PDC SP'!$C:$C,'00 SP'!$D41,'00 PDC SP'!N:N)","v":-90881774.340000004}]
["AAA380","A.II.3) Impianti e macchinari","S","AAA380",null,{"$f":"SUM(F43:F44)","v":1140880.7999999998},-73584.510000000009,8360,1058936.29,-43083.69,171.65,1015680.9500000002]
["AAA390","A.II.3.a) Impianti e macchinari",null,"AAA390",41,{"$f":"SUMIF('00 PDC SP'!$C:$C,'00 SP'!$D43,'00 PDC SP'!H:H)","v":5772528.8399999999},{"$f":"SUMIF('00 PDC SP'!$C:$C,'00 SP'!$D43,'00 PDC SP'!I:I)","v":183106.44},{"$f":"SUMIF('00 PDC SP'!$C:$C,'00 SP'!$D43,'00 PDC SP'!J:J)","v":8604.7999999999993},{"$f":"SUMIF('00 PDC SP'!$C:$C,'00 SP'!$D43,'00 PDC SP'!K:K)","v":5947030.4800000004},{"$f":"SUMIF('00 PDC SP'!$C:$C,'00 SP'!$D43,'00 PDC SP'!L:L)","v":219918.7},{"$f":"SUMIF('00 PDC SP'!$C:$C,'00 SP'!$D43,'00 PDC SP'!M:M)","v":171.65},{"$f":"SUMIF('00 PDC SP'!$C:$C,'00 SP'!$D43,'00 PDC SP'!N:N)","v":6166777.5300000003}]
["AAA400","A.II.3.b) F.do Amm.to Impianti e macchinari",null,"AAA400",3,{"$f":"SUMIF('00 PDC SP'!$C:$C,'00 SP'!$D44,'00 PDC SP'!H:H)","v":-4631648.04},{"$f":"SUMIF('00 PDC SP'!$C:$C,'00 SP'!$D44,'00 PDC SP'!I:I)","v":-256690.95},{"$f":"SUMIF('00 PDC SP'!$C:$C,'00 SP'!$D44,'00 PDC SP'!J:J)","v":-244.8},{"$f":"SUMIF('00 PDC SP'!$C:$C,'00 SP'!$D44,'00 PDC SP'!K:K)","v":-4888094.1900000004},{"$f":"SUMIF('00 PDC SP'!$C:$C,'00 SP'!$D44,'00 PDC SP'!L:L)","v":-263002.39},{"$f":"SUMIF('00 PDC SP'!$C:$C,'00 SP'!$D44,'00 PDC SP'!M:M)","v":0},{"$f":"SUMIF('00 PDC SP'!$C:$C,'00 SP'!$D44,'00 PDC SP'!N:N)","v":-5151096.58}]
["AAA410","A.II.4) Attrezzature sanitarie e scientifiche","S","AAA410",null,{"$f":"SUM(F46:F47)","v":8905691.9699999988},3817933.6799999997,5672.3900000001304,12717953.259999998,1649118.9400000004,146622.01999999999,14220450.180000007]
["AAA420","A.II.4.a) Attrezzature sanitarie e scientifiche",null,"AAA420",42,{"$f":"SUMIF('00 PDC SP'!$C:$C,'00 SP'!$D46,'00 PDC SP'!H:H)","v":75106075.780000001},{"$f":"SUMIF('00 PDC SP'!$C:$C,'00 SP'!$D46,'00 PDC SP'!I:I)","v":6743296.6699999999},{"$f":"SUMIF('00 PDC SP'!$C:$C,'00 SP'!$D46,'00 PDC SP'!J:J)","v":2797670.18},{"$f":"SUMIF('00 PDC SP'!$C:$C,'00 SP'!$D46,'00 PDC SP'!K:K)","v":79051702.269999996},{"$f":"SUMIF('00 PDC SP'!$C:$C,'00 SP'!$D46,'00 PDC SP'!L:L)","v":5812839.0700000003},{"$f":"SUMIF('00 PDC SP'!$C:$C,'00 SP'!$D46,'00 PDC SP'!M:M)","v":146692.79999999999},{"$f":"SUMIF('00 PDC SP'!$C:$C,'00 SP'!$D46,'00 PDC SP'!N:N)","v":84717848.540000007}]
["AAA430","A.II.4.b) F.do Amm.to Attrezzature sanitarie e scientifiche",null,"AAA430",3,{"$f":"SUMIF('00 PDC SP'!$C:$C,'00 SP'!$D47,'00 PDC SP'!H:H)","v":-66200383.810000002},{"$f":"SUMIF('00 PDC SP'!$C:$C,'00 SP'!$D47,'00 PDC SP'!I:I)","v":-2925362.99},{"$f":"SUMIF('00 PDC SP'!$C:$C,'00 SP'!$D47,'00 PDC SP'!J:J)","v":-2791997.79},{"$f":"SUMIF('00 PDC SP'!$C:$C,'00 SP'!$D47,'00 PDC SP'!K:K)","v":-66333749.009999998},{"$f":"SUMIF('00 PDC SP'!$C:$C,'00 SP'!$D47,'00 PDC SP'!L:L)","v":-4163720.13},{"$f":"SUMIF('00 PDC SP'!$C:$C,'00 SP'!$D47,'00 PDC SP'!M:M)","v":-70.78},{"$f":"SUMIF('00 PDC SP'!$C:$C,'00 SP'!$D47,'00 PDC SP'!N:N)","v":-70497398.359999999}]
["AAA440","A.II.5) Mobili e arredi","S","AAA440",null,{"$f":"SUM(F49:F50)","v":1665305.5700000003},11189.650000000023,30293.47,1646201.75,-119794.21999999997,12215.84,1514191.6900000013]
["AAA450","A.II.5.a) Mobili e arredi",null,"AAA450",43,{"$f":"SUMIF('00 PDC SP'!$C:$C,'00 SP'!$D49,'00 PDC SP'!H:H)","v":10177663.42},{"$f":"SUMIF('00 PDC SP'!$C:$C,'00 SP'!$D49,'00 PDC SP'!I:I)","v":374325.51},{"$f":"SUMIF('00 PDC SP'!$C:$C,'00 SP'!$D49,'00 PDC SP'!J:J)","v":183191.51},{"$f":"SUMIF('00 PDC SP'!$C:$C,'00 SP'!$D49,'00 PDC SP'!K:K)","v":10368797.42},{"$f":"SUMIF('00 PDC SP'!$C:$C,'00 SP'!$D49,'00 PDC SP'!L:L)","v":241394.07},{"$f":"SUMIF('00 PDC SP'!$C:$C,'00 SP'!$D49,'00 PDC SP'!M:M)","v":12215.84},{"$f":"SUMIF('00 PDC SP'!$C:$C,'00 SP'!$D49,'00 PDC SP'!N:N)","v":10597975.65}]
["AAA460","A.II.5.b) F.do Amm.to Mobili e arredi",null,"AAA460",3,{"$f":"SUMIF('00 PDC SP'!$C:$C,'00 SP'!$D50,'00 PDC SP'!H:H)","v":-8512357.8499999996},{"$f":"SUMIF('00 PDC SP'!$C:$C,'00 SP'!$D50,'00 PDC SP'!I:I)","v":-363135.86},{"$f":"SUMIF('00 PDC SP'!$C:$C,'00 SP'!$D50,'00 PDC SP'!J:J)","v":-152898.04},{"$f":"SUMIF('00 PDC SP'!$C:$C,'00 SP'!$D50,'00 PDC SP'!K:K)","v":-8722595.6699999999},{"$f":"SUMIF('00 PDC SP'!$C:$C,'00 SP'!$D50,'00 PDC SP'!L:L)","v":-361188.29},{"$f":"SUMIF('00 PDC SP'!$C:$C,'00 SP'!$D50,'00 PDC SP'!M:M)","v":0},{"$f":"SUMIF('00 PDC SP'!$C:$C,'00 SP'!$D50,'00 PDC SP'!N:N)","v":-9083783.959999999}]
["AAA470","A.II.6) Automezzi","S","AAA470",null,{"$f":"SUM(F52:F53)","v":192421.75},41728.25,0,234150,288.80000000000291,0,234438.79999999981]
["AAA480","A.II.6.a) Automezzi",null,"AAA480",44,{"$f":"SUMIF('00 PDC SP'!$C:$C,'00 SP'!$D52,'00 PDC SP'!H:H)","v":1758814.75},{"$f":"SUMIF('00 PDC SP'!$C:$C,'00 SP'!$D52,'00 PDC SP'!I:I)","v":144301.6},{"$f":"SUMIF('00 PDC SP'!$C:$C,'00 SP'!$D52,'00 PDC SP'!J:J)","v":63157.24},{"$f":"SUMIF('00 PDC SP'!$C:$C,'00 SP'!$D52,'00 PDC SP'!K:K)","v":1839959.11},{"$f":"SUMIF('00 PDC SP'!$C:$C,'00 SP'!$D52,'00 PDC SP'!L:L)","v":123029.66},{"$f":"SUMIF('00 PDC SP'!$C:$C,'00 SP'!$D52,'00 PDC SP'!M:M)","v":0},{"$f":"SUMIF('00 PDC SP'!$C:$C,'00 SP'!$D52,'00 PDC SP'!N:N)","v":1962988.77}]
["AAA490","A.II.6.b) F.do Amm.to Automezzi",null,"AAA490",3,{"$f":"SUMIF('00 PDC SP'!$C:$C,'00 SP'!$D53,'00 PDC SP'!H:H)","v":-1566393},{"$f":"SUMIF('00 PDC SP'!$C:$C,'00 SP'!$D53,'00 PDC SP'!I:I)","v":-102573.35},{"$f":"SUMIF('00 PDC SP'!$C:$C,'00 SP'!$D53,'00 PDC SP'!J:J)","v":-63157.24},{"$f":"SUMIF('00 PDC SP'!$C:$C,'00 SP'!$D53,'00 PDC SP'!K:K)","v":-1605809.11},{"$f":"SUMIF('00 PDC SP'!$C:$C,'00 SP'!$D53,'00 PDC SP'!L:L)","v":-122740.86},{"$f":"SUMIF('00 PDC SP'!$C:$C,'00 SP'!$D53,'00 PDC SP'!M:M)","v":0},{"$f":"SUMIF('00 PDC SP'!$C:$C,'00 SP'!$D53,'00 PDC SP'!N:N)","v":-1728549.9700000002}]
["AAA500","A.II.7) Oggetti d'arte",null,"AAA500",45,{"$f":"SUMIF('00 PDC SP'!$C:$C,'00 SP'!$D54,'00 PDC SP'!H:H)","v":0},{"$f":"SUMIF('00 PDC SP'!$C:$C,'00 SP'!$D54,'00 PDC SP'!I:I)","v":0},{"$f":"SUMIF('00 PDC SP'!$C:$C,'00 SP'!$D54,'00 PDC SP'!J:J)","v":0},{"$f":"SUMIF('00 PDC SP'!$C:$C,'00 SP'!$D54,'00 PDC SP'!K:K)","v":0},{"$f":"SUMIF('00 PDC SP'!$C:$C,'00 SP'!$D54,'00 PDC SP'!L:L)","v":0},{"$f":"SUMIF('00 PDC SP'!$C:$C,'00 SP'!$D54,'00 PDC SP'!M:M)","v":0},{"$f":"SUMIF('00 PDC SP'!$C:$C,'00 SP'!$D54,'00 PDC SP'!N:N)","v":0}]
["AAA510","A.II.8) Altre immobilizzazioni materiali","S","AAA510",null,{"$f":"SUM(F56:F57)","v":784062.6099999994},-142631.56,159.33999999999651,641271.71,21030.350000000006,0,662302.05999999959]
["AAA520","A.II.8.a) Altre immobilizzazioni materiali",null,"AAA520",45,{"$f":"SUMIF('00 PDC SP'!$C:$C,'00 SP'!$D56,'00 PDC SP'!H:H)","v":5700637.7699999996},{"$f":"SUMIF('00 PDC SP'!$C:$C,'00 SP'!$D56,'00 PDC SP'!I:I)","v":111430.76000000001},{"$f":"SUMIF('00 PDC SP'!$C:$C,'00 SP'!$D56,'00 PDC SP'!J:J)","v":157977.75},{"$f":"SUMIF('00 PDC SP'!$C:$C,'00 SP'!$D56,'00 PDC SP'!K:K)","v":5654090.7800000003},{"$f":"SUMIF('00 PDC SP'!$C:$C,'00 SP'!$D56,'00 PDC SP'!L:L)","v":265917},{"$f":"SUMIF('00 PDC SP'!$C:$C,'00 SP'!$D56,'00 PDC SP'!M:M)","v":2012.8},{"$f":"SUMIF('00 PDC SP'!$C:$C,'00 SP'!$D56,'00 PDC SP'!N:N)","v":5917994.9800000004}]
["AAA530","A.II.8.b) F.do Amm.to Altre immobilizzazioni materiali",null,"AAA530",3,{"$f":"SUMIF('00 PDC SP'!$C:$C,'00 SP'!$D57,'00 PDC SP'!H:H)","v":-4916575.16},{"$f":"SUMIF('00 PDC SP'!$C:$C,'00 SP'!$D57,'00 PDC SP'!I:I)","v":-254062.32},{"$f":"SUMIF('00 PDC SP'!$C:$C,'00 SP'!$D57,'00 PDC SP'!J:J)","v":-157818.41},{"$f":"SUMIF('00 PDC SP'!$C:$C,'00 SP'!$D57,'00 PDC SP'!K:K)","v":-5012819.07},{"$f":"SUMIF('00 PDC SP'!$C:$C,'00 SP'!$D57,'00 PDC SP'!L:L)","v":-244886.65},{"$f":"SUMIF('00 PDC SP'!$C:$C,'00 SP'!$D57,'00 PDC SP'!M:M)","v":-2012.8},{"$f":"SUMIF('00 PDC SP'!$C:$C,'00 SP'!$D57,'00 PDC SP'!N:N)","v":-5255692.9200000009}]
["AAA540","A.II.9) Immobilizzazioni materiali in corso e acconti",null,"AAA540",45,{"$f":"SUMIF('00 PDC SP'!$C:$C,'00 SP'!$D58,'00 PDC SP'!H:H)","v":7566297.3499999996},{"$f":"SUMIF('00 PDC SP'!$C:$C,'00 SP'!$D58,'00 PDC SP'!I:I)","v":1509150.97},{"$f":"SUMIF('00 PDC SP'!$C:$C,'00 SP'!$D58,'00 PDC SP'!J:J)","v":310552.74},{"$f":"SUMIF('00 PDC SP'!$C:$C,'00 SP'!$D58,'00 PDC SP'!K:K)","v":8764895.5800000001},{"$f":"SUMIF('00 PDC SP'!$C:$C,'00 SP'!$D58,'00 PDC SP'!L:L)","v":2477794.12},{"$f":"SUMIF('00 PDC SP'!$C:$C,'00 SP'!$D58,'00 PDC SP'!M:M)","v":244737.13},{"$f":"SUMIF('00 PDC SP'!$C:$C,'00 SP'!$D58,'00 PDC SP'!N:N)","v":10997952.569999998}]
["AAA550","A.II.10) Fondo Svalutazione immobilizzazioni materiali","S","AAA550",null,{"$f":"SUM(F60:F67)","v":0},0,0,0,0,0,0]
["AAA560","A.II.10.a) F.do Svalut. Terreni",null,"AAA560",39,{"$f":"SUMIF('00 PDC SP'!$C:$C,'00 SP'!$D60,'00 PDC SP'!H:H)","v":0},{"$f":"SUMIF('00 PDC SP'!$C:$C,'00 SP'!$D60,'00 PDC SP'!I:I)","v":0},{"$f":"SUMIF('00 PDC SP'!$C:$C,'00 SP'!$D60,'00 PDC SP'!J:J)","v":0},{"$f":"SUMIF('00 PDC SP'!$C:$C,'00 SP'!$D60,'00 PDC SP'!K:K)","v":0},{"$f":"SUMIF('00 PDC SP'!$C:$C,'00 SP'!$D60,'00 PDC SP'!L:L)","v":0},{"$f":"SUMIF('00 PDC SP'!$C:$C,'00 SP'!$D60,'00 PDC SP'!M:M)","v":0},{"$f":"SUMIF('00 PDC SP'!$C:$C,'00 SP'!$D60,'00 PDC SP'!N:N)","v":0}]
["AAA570","A.II.10.b) F.do Svalut. Fabbricati",null,"AAA570",40,{"$f":"SUMIF('00 PDC SP'!$C:$C,'00 SP'!$D61,'00 PDC SP'!H:H)","v":0},{"$f":"SUMIF('00 PDC SP'!$C:$C,'00 SP'!$D61,'00 PDC SP'!I:I)","v":0},{"$f":"SUMIF('00 PDC SP'!$C:$C,'00 SP'!$D61,'00 PDC SP'!J:J)","v":0},{"$f":"SUMIF('00 PDC SP'!$C:$C,'00 SP'!$D61,'00 PDC SP'!K:K)","v":0},{"$f":"SUMIF('00 PDC SP'!$C:$C,'00 SP'!$D61,'00 PDC SP'!L:L)","v":0},{"$f":"SUMIF('00 PDC SP'!$C:$C,'00 SP'!$D61,'00 PDC SP'!M:M)","v":0},{"$f":"SUMIF('00 PDC SP'!$C:$C,'00 SP'!$D61,'00 PDC SP'!N:N)","v":0}]
["AAA580","A.II.10.c) F.do Svalut. Impianti e macchinari",null,"AAA580",41,{"$f":"SUMIF('00 PDC SP'!$C:$C,'00 SP'!$D62,'00 PDC SP'!H:H)","v":0},{"$f":"SUMIF('00 PDC SP'!$C:$C,'00 SP'!$D62,'00 PDC SP'!I:I)","v":0},{"$f":"SUMIF('00 PDC SP'!$C:$C,'00 SP'!$D62,'00 PDC SP'!J:J)","v":0},{"$f":"SUMIF('00 PDC SP'!$C:$C,'00 SP'!$D62,'00 PDC SP'!K:K)","v":0},{"$f":"SUMIF('00 PDC SP'!$C:$C,'00 SP'!$D62,'00 PDC SP'!L:L)","v":0},{"$f":"SUMIF('00 PDC SP'!$C:$C,'00 SP'!$D62,'00 PDC SP'!M:M)","v":0},{"$f":"SUMIF('00 PDC SP'!$C:$C,'00 SP'!$D62,'00 PDC SP'!N:N)","v":0}]
["AAA590","A.II.10.d) F.do Svalut. Attrezzature sanitarie e scientifiche",null,"AAA590",42,{"$f":"SUMIF('00 PDC SP'!$C:$C,'00 SP'!$D63,'00 PDC SP'!H:H)","v":0},{"$f":"SUMIF('00 PDC SP'!$C:$C,'00 SP'!$D63,'00 PDC SP'!I:I)","v":0},{"$f":"SUMIF('00 PDC SP'!$C:$C,'00 SP'!$D63,'00 PDC SP'!J:J)","v":0},{"$f":"SUMIF('00 PDC SP'!$C:$C,'00 SP'!$D63,'00 PDC SP'!K:K)","v":0},{"$f":"SUMIF('00 PDC SP'!$C:$C,'00 SP'!$D63,'00 PDC SP'!L:L)","v":0},{"$f":"SUMIF('00 PDC SP'!$C:$C,'00 SP'!$D63,'00 PDC SP'!M:M)","v":0},{"$f":"SUMIF('00 PDC SP'!$C:$C,'00 SP'!$D63,'00 PDC SP'!N:N)","v":0}]
["AAA600","A.II.10.e) F.do Svalut. Mobili e arredi",null,"AAA600",43,{"$f":"SUMIF('00 PDC SP'!$C:$C,'00 SP'!$D64,'00 PDC SP'!H:H)","v":0},{"$f":"SUMIF('00 PDC SP'!$C:$C,'00 SP'!$D64,'00 PDC SP'!I:I)","v":0},{"$f":"SUMIF('00 PDC SP'!$C:$C,'00 SP'!$D64,'00 PDC SP'!J:J)","v":0},{"$f":"SUMIF('00 PDC SP'!$C:$C,'00 SP'!$D64,'00 PDC SP'!K:K)","v":0},{"$f":"SUMIF('00 PDC SP'!$C:$C,'00 SP'!$D64,'00 PDC SP'!L:L)","v":0},{"$f":"SUMIF('00 PDC SP'!$C:$C,'00 SP'!$D64,'00 PDC SP'!M:M)","v":0},{"$f":"SUMIF('00 PDC SP'!$C:$C,'00 SP'!$D64,'00 PDC SP'!N:N)","v":0}]
["AAA610","A.II.10.f) F.do Svalut. Automezzi",null,"AAA610",44,{"$f":"SUMIF('00 PDC SP'!$C:$C,'00 SP'!$D65,'00 PDC SP'!H:H)","v":0},{"$f":"SUMIF('00 PDC SP'!$C:$C,'00 SP'!$D65,'00 PDC SP'!I:I)","v":0},{"$f":"SUMIF('00 PDC SP'!$C:$C,'00 SP'!$D65,'00 PDC SP'!J:J)","v":0},{"$f":"SUMIF('00 PDC SP'!$C:$C,'00 SP'!$D65,'00 PDC SP'!K:K)","v":0},{"$f":"SUMIF('00 PDC SP'!$C:$C,'00 SP'!$D65,'00 PDC SP'!L:L)","v":0},{"$f":"SUMIF('00 PDC SP'!$C:$C,'00 SP'!$D65,'00 PDC SP'!M:M)","v":0},{"$f":"SUMIF('00 PDC SP'!$C:$C,'00 SP'!$D65,'00 PDC SP'!N:N)","v":0}]
["AAA620","A.II.10.g) F.do Svalut. Oggetti d'arte",null,"AAA620",45,{"$f":"SUMIF('00 PDC SP'!$C:$C,'00 SP'!$D66,'00 PDC SP'!H:H)","v":0},{"$f":"SUMIF('00 PDC SP'!$C:$C,'00 SP'!$D66,'00 PDC SP'!I:I)","v":0},{"$f":"SUMIF('00 PDC SP'!$C:$C,'00 SP'!$D66,'00 PDC SP'!J:J)","v":0},{"$f":"SUMIF('00 PDC SP'!$C:$C,'00 SP'!$D66,'00 PDC SP'!K:K)","v":0},{"$f":"SUMIF('00 PDC SP'!$C:$C,'00 SP'!$D66,'00 PDC SP'!L:L)","v":0},{"$f":"SUMIF('00 PDC SP'!$C:$C,'00 SP'!$D66,'00 PDC SP'!M:M)","v":0},{"$f":"SUMIF('00 PDC SP'!$C:$C,'00 SP'!$D66,'00 PDC SP'!N:N)","v":0}]
["AAA630","A.II.10.h) F.do Svalut. Altre immobilizzazioni materiali",null,"AAA630",45,{"$f":"SUMIF('00 PDC SP'!$C:$C,'00 SP'!$D67,'00 PDC SP'!H:H)","v":0},{"$f":"SUMIF('00 PDC SP'!$C:$C,'00 SP'!$D67,'00 PDC SP'!I:I)","v":0},{"$f":"SUMIF('00 PDC SP'!$C:$C,'00 SP'!$D67,'00 PDC SP'!J:J)","v":0},{"$f":"SUMIF('00 PDC SP'!$C:$C,'00 SP'!$D67,'00 PDC SP'!K:K)","v":0},{"$f":"SUMIF('00 PDC SP'!$C:$C,'00 SP'!$D67,'00 PDC SP'!L:L)","v":0},{"$f":"SUMIF('00 PDC SP'!$C:$C,'00 SP'!$D67,'00 PDC SP'!M:M)","v":0},{"$f":"SUMIF('00 PDC SP'!$C:$C,'00 SP'!$D67,'00 PDC SP'!N:N)","v":0}]
["AAA640","A.III) IMMOBILIZZAZIONI FINANZIARIE","S","AAA640",null,{"$f":"F69+F74","v":12379.7},1656.75,0,14036.45,0,0,14036.45]
["AAA650","A.III.1) Crediti finanziari","S","AAA650",null,{"$f":"SUM(F70:F73)","v":12379.7},1656.75,0,14036.45,0,0,14036.45]
["AAA660","A.III.1.a) Crediti finanziari v/Stato",null,"AAA660",46,{"$f":"SUMIF('00 PDC SP'!$C:$C,'00 SP'!$D70,'00 PDC SP'!H:H)","v":0},{"$f":"SUMIF('00 PDC SP'!$C:$C,'00 SP'!$D70,'00 PDC SP'!I:I)","v":0},{"$f":"SUMIF('00 PDC SP'!$C:$C,'00 SP'!$D70,'00 PDC SP'!J:J)","v":0},{"$f":"SUMIF('00 PDC SP'!$C:$C,'00 SP'!$D70,'00 PDC SP'!K:K)","v":0},{"$f":"SUMIF('00 PDC SP'!$C:$C,'00 SP'!$D70,'00 PDC SP'!L:L)","v":0},{"$f":"SUMIF('00 PDC SP'!$C:$C,'00 SP'!$D70,'00 PDC SP'!M:M)","v":0},{"$f":"SUMIF('00 PDC SP'!$C:$C,'00 SP'!$D70,'00 PDC SP'!N:N)","v":0}]
["AAA670","A.III.1.b) Crediti finanziari v/Regione",null,"AAA670",46,{"$f":"SUMIF('00 PDC SP'!$C:$C,'00 SP'!$D71,'00 PDC SP'!H:H)","v":0},{"$f":"SUMIF('00 PDC SP'!$C:$C,'00 SP'!$D71,'00 PDC SP'!I:I)","v":0},{"$f":"SUMIF('00 PDC SP'!$C:$C,'00 SP'!$D71,'00 PDC SP'!J:J)","v":0},{"$f":"SUMIF('00 PDC SP'!$C:$C,'00 SP'!$D71,'00 PDC SP'!K:K)","v":0},{"$f":"SUMIF('00 PDC SP'!$C:$C,'00 SP'!$D71,'00 PDC SP'!L:L)","v":0},{"$f":"SUMIF('00 PDC SP'!$C:$C,'00 SP'!$D71,'00 PDC SP'!M:M)","v":0},{"$f":"SUMIF('00 PDC SP'!$C:$C,'00 SP'!$D71,'00 PDC SP'!N:N)","v":0}]
["AAA680","A.III.1.c) Crediti finanziari v/partecipate",null,"AAA680",46,{"$f":"SUMIF('00 PDC SP'!$C:$C,'00 SP'!$D72,'00 PDC SP'!H:H)","v":0},{"$f":"SUMIF('00 PDC SP'!$C:$C,'00 SP'!$D72,'00 PDC SP'!I:I)","v":0},{"$f":"SUMIF('00 PDC SP'!$C:$C,'00 SP'!$D72,'00 PDC SP'!J:J)","v":0},{"$f":"SUMIF('00 PDC SP'!$C:$C,'00 SP'!$D72,'00 PDC SP'!K:K)","v":0},{"$f":"SUMIF('00 PDC SP'!$C:$C,'00 SP'!$D72,'00 PDC SP'!L:L)","v":0},{"$f":"SUMIF('00 PDC SP'!$C:$C,'00 SP'!$D72,'00 PDC SP'!M:M)","v":0},{"$f":"SUMIF('00 PDC SP'!$C:$C,'00 SP'!$D72,'00 PDC SP'!N:N)","v":0}]
["AAA690","A.III.1.d) Crediti finanziari v/altri",null,"AAA690",46,{"$f":"SUMIF('00 PDC SP'!$C:$C,'00 SP'!$D73,'00 PDC SP'!H:H)","v":12379.7},{"$f":"SUMIF('00 PDC SP'!$C:$C,'00 SP'!$D73,'00 PDC SP'!I:I)","v":1656.75},{"$f":"SUMIF('00 PDC SP'!$C:$C,'00 SP'!$D73,'00 PDC SP'!J:J)","v":0},{"$f":"SUMIF('00 PDC SP'!$C:$C,'00 SP'!$D73,'00 PDC SP'!K:K)","v":14036.45},{"$f":"SUMIF('00 PDC SP'!$C:$C,'00 SP'!$D73,'00 PDC SP'!L:L)","v":0},{"$f":"SUMIF('00 PDC SP'!$C:$C,'00 SP'!$D73,'00 PDC SP'!M:M)","v":0},{"$f":"SUMIF('00 PDC SP'!$C:$C,'00 SP'!$D73,'00 PDC SP'!N:N)","v":14036.45}]
["AAA700","A.III.2) Titoli","S","AAA700",null,{"$f":"F75+F76","v":0},0,0,0,0,0,0]
["AAA710","A.III.2.a) Partecipazioni",null,"AAA710",47,{"$f":"SUMIF('00 PDC SP'!$C:$C,'00 SP'!$D75,'00 PDC SP'!H:H)","v":0},{"$f":"SUMIF('00 PDC SP'!$C:$C,'00 SP'!$D75,'00 PDC SP'!I:I)","v":0},{"$f":"SUMIF('00 PDC SP'!$C:$C,'00 SP'!$D75,'00 PDC SP'!J:J)","v":0},{"$f":"SUMIF('00 PDC SP'!$C:$C,'00 SP'!$D75,'00 PDC SP'!K:K)","v":0},{"$f":"SUMIF('00 PDC SP'!$C:$C,'00 SP'!$D75,'00 PDC SP'!L:L)","v":0},{"$f":"SUMIF('00 PDC SP'!$C:$C,'00 SP'!$D75,'00 PDC SP'!M:M)","v":0},{"$f":"SUMIF('00 PDC SP'!$C:$C,'00 SP'!$D75,'00 PDC SP'!N:N)","v":0}]
["AAA720","A.III.2.b) Altri titoli","S","AAA720",null,{"$f":"SUM(F77:F80)","v":0},0,0,0,0,0,0]
["AAA730","A.III.2.b.1) Titoli di Stato",null,"AAA730",47,{"$f":"SUMIF('00 PDC SP'!$C:$C,'00 SP'!$D77,'00 PDC SP'!H:H)","v":0},{"$f":"SUMIF('00 PDC SP'!$C:$C,'00 SP'!$D77,'00 PDC SP'!I:I)","v":0},{"$f":"SUMIF('00 PDC SP'!$C:$C,'00 SP'!$D77,'00 PDC SP'!J:J)","v":0},{"$f":"SUMIF('00 PDC SP'!$C:$C,'00 SP'!$D77,'00 PDC SP'!K:K)","v":0},{"$f":"SUMIF('00 PDC SP'!$C:$C,'00 SP'!$D77,'00 PDC SP'!L:L)","v":0},{"$f":"SUMIF('00 PDC SP'!$C:$C,'00 SP'!$D77,'00 PDC SP'!M:M)","v":0},{"$f":"SUMIF('00 PDC SP'!$C:$C,'00 SP'!$D77,'00 PDC SP'!N:N)","v":0}]
["AAA740","A.III.2.b.2) Altre Obbligazioni",null,"AAA740",47,{"$f":"SUMIF('00 PDC SP'!$C:$C,'00 SP'!$D78,'00 PDC SP'!H:H)","v":0},{"$f":"SUMIF('00 PDC SP'!$C:$C,'00 SP'!$D78,'00 PDC SP'!I:I)","v":0},{"$f":"SUMIF('00 PDC SP'!$C:$C,'00 SP'!$D78,'00 PDC SP'!J:J)","v":0},{"$f":"SUMIF('00 PDC SP'!$C:$C,'00 SP'!$D78,'00 PDC SP'!K:K)","v":0},{"$f":"SUMIF('00 PDC SP'!$C:$C,'00 SP'!$D78,'00 PDC SP'!L:L)","v":0},{"$f":"SUMIF('00 PDC SP'!$C:$C,'00 SP'!$D78,'00 PDC SP'!M:M)","v":0},{"$f":"SUMIF('00 PDC SP'!$C:$C,'00 SP'!$D78,'00 PDC SP'!N:N)","v":0}]
["AAA750","A.III.2.b.3) Titoli azionari quotati in Borsa",null,"AAA750",47,{"$f":"SUMIF('00 PDC SP'!$C:$C,'00 SP'!$D79,'00 PDC SP'!H:H)","v":0},{"$f":"SUMIF('00 PDC SP'!$C:$C,'00 SP'!$D79,'00 PDC SP'!I:I)","v":0},{"$f":"SUMIF('00 PDC SP'!$C:$C,'00 SP'!$D79,'00 PDC SP'!J:J)","v":0},{"$f":"SUMIF('00 PDC SP'!$C:$C,'00 SP'!$D79,'00 PDC SP'!K:K)","v":0},{"$f":"SUMIF('00 PDC SP'!$C:$C,'00 SP'!$D79,'00 PDC SP'!L:L)","v":0},{"$f":"SUMIF('00 PDC SP'!$C:$C,'00 SP'!$D79,'00 PDC SP'!M:M)","v":0},{"$f":"SUMIF('00 PDC SP'!$C:$C,'00 SP'!$D79,'00 PDC SP'!N:N)","v":0}]
["AAA760","A.III.2.b.4) Titoli diversi",null,"AAA760",47,{"$f":"SUMIF('00 PDC SP'!$C:$C,'00 SP'!$D80,'00 PDC SP'!H:H)","v":0},{"$f":"SUMIF('00 PDC SP'!$C:$C,'00 SP'!$D80,'00 PDC SP'!I:I)","v":0},{"$f":"SUMIF('00 PDC SP'!$C:$C,'00 SP'!$D80,'00 PDC SP'!J:J)","v":0},{"$f":"SUMIF('00 PDC SP'!$C:$C,'00 SP'!$D80,'00 PDC SP'!K:K)","v":0},{"$f":"SUMIF('00 PDC SP'!$C:$C,'00 SP'!$D80,'00 PDC SP'!L:L)","v":0},{"$f":"SUMIF('00 PDC SP'!$C:$C,'00 SP'!$D80,'00 PDC SP'!M:M)","v":0},{"$f":"SUMIF('00 PDC SP'!$C:$C,'00 SP'!$D80,'00 PDC SP'!N:N)","v":0}]
["ABZ999","B) ATTIVO CIRCOLANTE","S","ABZ999",null,{"$f":"F82+F101+F154+F157","v":268442746.10000002},1881832618.8199997,1889712646.0500004,260562718.86999997,2005032560.6500001,1999341648.4399998,266253631.07999998]
["ABA000","B.I) RIMANENZE","S","ABA000",null,{"$f":"F83+F93","v":11433517.439999999},10622628.800000003,11433517.439999999,10622628.800000003,11844723.249999998,10622628.800000003,11844723.25]
["ABA010","B.I.1) Rimanenze beni sanitari","S","ABA010",null,{"$f":"SUM(F84:F92)","v":10876803.99},10166401.240000002,10876803.99,10166401.240000002,11334105.079999998,10166401.240000002,11334105.08]
["ABA020","B.I.1.a) Prodotti farmaceutici ed emoderivati",null,"ABA020",31,{"$f":"SUMIF('00 PDC SP'!$C:$C,'00 SP'!$D84,'00 PDC SP'!H:H)","v":5956314.79},{"$f":"SUMIF('00 PDC SP'!$C:$C,'00 SP'!$D84,'00 PDC SP'!I:I)","v":5481808.8900000006},{"$f":"SUMIF('00 PDC SP'!$C:$C,'00 SP'!$D84,'00 PDC SP'!J:J)","v":5956314.79},{"$f":"SUMIF('00 PDC SP'!$C:$C,'00 SP'!$D84,'00 PDC SP'!K:K)","v":5481808.8900000006},{"$f":"SUMIF('00 PDC SP'!$C:$C,'00 SP'!$D84,'00 PDC SP'!L:L)","v":5834132.1200000001},{"$f":"SUMIF('00 PDC SP'!$C:$C,'00 SP'!$D84,'00 PDC SP'!M:M)","v":5481808.8900000006},{"$f":"SUMIF('00 PDC SP'!$C:$C,'00 SP'!$D84,'00 PDC SP'!N:N)","v":5834132.120000001}]
["ABA030","B.I.1.b) Sangue ed emocomponenti",null,"ABA030",31,{"$f":"SUMIF('00 PDC SP'!$C:$C,'00 SP'!$D85,'00 PDC SP'!H:H)","v":0},{"$f":"SUMIF('00 PDC SP'!$C:$C,'00 SP'!$D85,'00 PDC SP'!I:I)","v":0},{"$f":"SUMIF('00 PDC SP'!$C:$C,'00 SP'!$D85,'00 PDC SP'!J:J)","v":0},{"$f":"SUMIF('00 PDC SP'!$C:$C,'00 SP'!$D85,'00 PDC SP'!K:K)","v":0},{"$f":"SUMIF('00 PDC SP'!$C:$C,'00 SP'!$D85,'00 PDC SP'!L:L)","v":0},{"$f":"SUMIF('00 PDC SP'!$C:$C,'00 SP'!$D85,'00 PDC SP'!M:M)","v":0},{"$f":"SUMIF('00 PDC SP'!$C:$C,'00 SP'!$D85,'00 PDC SP'!N:N)","v":0}]
["ABA040","B.I.1.c) Dispositivi medici",null,"ABA040",31,{"$f":"SUMIF('00 PDC SP'!$C:$C,'00 SP'!$D86,'00 PDC SP'!H:H)","v":4637120.13},{"$f":"SUMIF('00 PDC SP'!$C:$C,'00 SP'!$D86,'00 PDC SP'!I:I)","v":4404910.21},{"$f":"SUMIF('00 PDC SP'!$C:$C,'00 SP'!$D86,'00 PDC SP'!J:J)","v":4637120.13},{"$f":"SUMIF('00 PDC SP'!$C:$C,'00 SP'!$D86,'00 PDC SP'!K:K)","v":4404910.21},{"$f":"SUMIF('00 PDC SP'!$C:$C,'00 SP'!$D86,'00 PDC SP'!L:L)","v":5139047.9299999988},{"$f":"SUMIF('00 PDC SP'!$C:$C,'00 SP'!$D86,'00 PDC SP'!M:M)","v":4404910.21},{"$f":"SUMIF('00 PDC SP'!$C:$C,'00 SP'!$D86,'00 PDC SP'!N:N)","v":5139047.9299999988}]
["ABA050","B.I.1.d) Prodotti dietetici",null,"ABA050",31,{"$f":"SUMIF('00 PDC SP'!$C:$C,'00 SP'!$D87,'00 PDC SP'!H:H)","v":76695.150000000009},{"$f":"SUMIF('00 PDC SP'!$C:$C,'00 SP'!$D87,'00 PDC SP'!I:I)","v":68269.16},{"$f":"SUMIF('00 PDC SP'!$C:$C,'00 SP'!$D87,'00 PDC SP'!J:J)","v":76695.150000000009},{"$f":"SUMIF('00 PDC SP'!$C:$C,'00 SP'!$D87,'00 PDC SP'!K:K)","v":68269.16},{"$f":"SUMIF('00 PDC SP'!$C:$C,'00 SP'!$D87,'00 PDC SP'!L:L)","v":63620.12},{"$f":"SUMIF('00 PDC SP'!$C:$C,'00 SP'!$D87,'00 PDC SP'!M:M)","v":68269.16},{"$f":"SUMIF('00 PDC SP'!$C:$C,'00 SP'!$D87,'00 PDC SP'!N:N)","v":63620.12}]
["ABA060","B.I.1.e) Materiali per la profilassi (vaccini)",null,"ABA060",31,{"$f":"SUMIF('00 PDC SP'!$C:$C,'00 SP'!$D88,'00 PDC SP'!H:H)","v":0},{"$f":"SUMIF('00 PDC SP'!$C:$C,'00 SP'!$D88,'00 PDC SP'!I:I)","v":0},{"$f":"SUMIF('00 PDC SP'!$C:$C,'00 SP'!$D88,'00 PDC SP'!J:J)","v":0},{"$f":"SUMIF('00 PDC SP'!$C:$C,'00 SP'!$D88,'00 PDC SP'!K:K)","v":0},{"$f":"SUMIF('00 PDC SP'!$C:$C,'00 SP'!$D88,'00 PDC SP'!L:L)","v":1112.76},{"$f":"SUMIF('00 PDC SP'!$C:$C,'00 SP'!$D88,'00 PDC SP'!M:M)","v":0},{"$f":"SUMIF('00 PDC SP'!$C:$C,'00 SP'!$D88,'00 PDC SP'!N:N)","v":1112.76}]
["ABA070","B.I.1.f) Prodotti chimici",null,"ABA070",31,{"$f":"SUMIF('00 PDC SP'!$C:$C,'00 SP'!$D89,'00 PDC SP'!H:H)","v":0},{"$f":"SUMIF('00 PDC SP'!$C:$C,'00 SP'!$D89,'00 PDC SP'!I:I)","v":0},{"$f":"SUMIF('00 PDC SP'!$C:$C,'00 SP'!$D89,'00 PDC SP'!J:J)","v":0},{"$f":"SUMIF('00 PDC SP'!$C:$C,'00 SP'!$D89,'00 PDC SP'!K:K)","v":0},{"$f":"SUMIF('00 PDC SP'!$C:$C,'00 SP'!$D89,'00 PDC SP'!L:L)","v":0},{"$f":"SUMIF('00 PDC SP'!$C:$C,'00 SP'!$D89,'00 PDC SP'!M:M)","v":0},{"$f":"SUMIF('00 PDC SP'!$C:$C,'00 SP'!$D89,'00 PDC SP'!N:N)","v":0}]
["ABA080","B.I.1.g) Materiali e prodotti per uso veterinario",null,"ABA080",31,{"$f":"SUMIF('00 PDC SP'!$C:$C,'00 SP'!$D90,'00 PDC SP'!H:H)","v":192},{"$f":"SUMIF('00 PDC SP'!$C:$C,'00 SP'!$D90,'00 PDC SP'!I:I)","v":0},{"$f":"SUMIF('00 PDC SP'!$C:$C,'00 SP'!$D90,'00 PDC SP'!J:J)","v":192},{"$f":"SUMIF('00 PDC SP'!$C:$C,'00 SP'!$D90,'00 PDC SP'!K:K)","v":0},{"$f":"SUMIF('00 PDC SP'!$C:$C,'00 SP'!$D90,'00 PDC SP'!L:L)","v":0},{"$f":"SUMIF('00 PDC SP'!$C:$C,'00 SP'!$D90,'00 PDC SP'!M:M)","v":0},{"$f":"SUMIF('00 PDC SP'!$C:$C,'00 SP'!$D90,'00 PDC SP'!N:N)","v":0}]
["ABA090","B.I.1.h) Altri beni e prodotti sanitari",null,"ABA090",31,{"$f":"SUMIF('00 PDC SP'!$C:$C,'00 SP'!$D91,'00 PDC SP'!H:H)","v":206481.91999999998},{"$f":"SUMIF('00 PDC SP'!$C:$C,'00 SP'!$D91,'00 PDC SP'!I:I)","v":211412.98},{"$f":"SUMIF('00 PDC SP'!$C:$C,'00 SP'!$D91,'00 PDC SP'!J:J)","v":206481.91999999998},{"$f":"SUMIF('00 PDC SP'!$C:$C,'00 SP'!$D91,'00 PDC SP'!K:K)","v":211412.98},{"$f":"SUMIF('00 PDC SP'!$C:$C,'00 SP'!$D91,'00 PDC SP'!L:L)","v":296192.15000000002},{"$f":"SUMIF('00 PDC SP'!$C:$C,'00 SP'!$D91,'00 PDC SP'!M:M)","v":211412.98},{"$f":"SUMIF('00 PDC SP'!$C:$C,'00 SP'!$D91,'00 PDC SP'!N:N)","v":296192.15000000002}]
["ABA100","B.I.1.i) Acconti per acquisto di beni e prodotti sanitari",null,"ABA100",32,{"$f":"SUMIF('00 PDC SP'!$C:$C,'00 SP'!$D92,'00 PDC SP'!H:H)","v":0},{"$f":"SUMIF('00 PDC SP'!$C:$C,'00 SP'!$D92,'00 PDC SP'!I:I)","v":0},{"$f":"SUMIF('00 PDC SP'!$C:$C,'00 SP'!$D92,'00 PDC SP'!J:J)","v":0},{"$f":"SUMIF('00 PDC SP'!$C:$C,'00 SP'!$D92,'00 PDC SP'!K:K)","v":0},{"$f":"SUMIF('00 PDC SP'!$C:$C,'00 SP'!$D92,'00 PDC SP'!L:L)","v":0},{"$f":"SUMIF('00 PDC SP'!$C:$C,'00 SP'!$D92,'00 PDC SP'!M:M)","v":0},{"$f":"SUMIF('00 PDC SP'!$C:$C,'00 SP'!$D92,'00 PDC SP'!N:N)","v":0}]
["ABA110","B.I.2) Rimanenze beni non sanitari","S","ABA110",null,{"$f":"SUM(F94:F100)","v":556713.44999999995},456227.56000000006,556713.44999999995,456227.56000000006,510618.16999999993,456227.56000000006,510618.17]
["ABA120","B.I.2.a) Prodotti alimentari",null,"ABA120",31,{"$f":"SUMIF('00 PDC SP'!$C:$C,'00 SP'!$D94,'00 PDC SP'!H:H)","v":0},{"$f":"SUMIF('00 PDC SP'!$C:$C,'00 SP'!$D94,'00 PDC SP'!I:I)","v":0},{"$f":"SUMIF('00 PDC SP'!$C:$C,'00 SP'!$D94,'00 PDC SP'!J:J)","v":0},{"$f":"SUMIF('00 PDC SP'!$C:$C,'00 SP'!$D94,'00 PDC SP'!K:K)","v":0},{"$f":"SUMIF('00 PDC SP'!$C:$C,'00 SP'!$D94,'00 PDC SP'!L:L)","v":0},{"$f":"SUMIF('00 PDC SP'!$C:$C,'00 SP'!$D94,'00 PDC SP'!M:M)","v":0},{"$f":"SUMIF('00 PDC SP'!$C:$C,'00 SP'!$D94,'00 PDC SP'!N:N)","v":0}]
["ABA130","B.I.2.b) Materiali di guardaroba, di pulizia, e di convivenza in genere",null,"ABA130",31,{"$f":"SUMIF('00 PDC SP'!$C:$C,'00 SP'!$D95,'00 PDC SP'!H:H)","v":44097.34},{"$f":"SUMIF('00 PDC SP'!$C:$C,'00 SP'!$D95,'00 PDC SP'!I:I)","v":35073.03},{"$f":"SUMIF('00 PDC SP'!$C:$C,'00 SP'!$D95,'00 PDC SP'!J:J)","v":44097.34},{"$f":"SUMIF('00 PDC SP'!$C:$C,'00 SP'!$D95,'00 PDC SP'!K:K)","v":35073.03},{"$f":"SUMIF('00 PDC SP'!$C:$C,'00 SP'!$D95,'00 PDC SP'!L:L)","v":29727.94},{"$f":"SUMIF('00 PDC SP'!$C:$C,'00 SP'!$D95,'00 PDC SP'!M:M)","v":35073.03},{"$f":"SUMIF('00 PDC SP'!$C:$C,'00 SP'!$D95,'00 PDC SP'!N:N)","v":29727.940000000002}]
["ABA140","B.I.2.c) Combustibili, carburanti e lubrificanti",null,"ABA140",31,{"$f":"SUMIF('00 PDC SP'!$C:$C,'00 SP'!$D96,'00 PDC SP'!H:H)","v":364.21},{"$f":"SUMIF('00 PDC SP'!$C:$C,'00 SP'!$D96,'00 PDC SP'!I:I)","v":0},{"$f":"SUMIF('00 PDC SP'!$C:$C,'00 SP'!$D96,'00 PDC SP'!J:J)","v":364.21},{"$f":"SUMIF('00 PDC SP'!$C:$C,'00 SP'!$D96,'00 PDC SP'!K:K)","v":0},{"$f":"SUMIF('00 PDC SP'!$C:$C,'00 SP'!$D96,'00 PDC SP'!L:L)","v":0},{"$f":"SUMIF('00 PDC SP'!$C:$C,'00 SP'!$D96,'00 PDC SP'!M:M)","v":0},{"$f":"SUMIF('00 PDC SP'!$C:$C,'00 SP'!$D96,'00 PDC SP'!N:N)","v":0}]
["ABA150","B.I.2.d) Supporti informatici e cancelleria",null,"ABA150",31,{"$f":"SUMIF('00 PDC SP'!$C:$C,'00 SP'!$D97,'00 PDC SP'!H:H)","v":365742.64},{"$f":"SUMIF('00 PDC SP'!$C:$C,'00 SP'!$D97,'00 PDC SP'!I:I)","v":333136.13},{"$f":"SUMIF('00 PDC SP'!$C:$C,'00 SP'!$D97,'00 PDC SP'!J:J)","v":365742.64},{"$f":"SUMIF('00 PDC SP'!$C:$C,'00 SP'!$D97,'00 PDC SP'!K:K)","v":333136.13},{"$f":"SUMIF('00 PDC SP'!$C:$C,'00 SP'!$D97,'00 PDC SP'!L:L)","v":362290.35},{"$f":"SUMIF('00 PDC SP'!$C:$C,'00 SP'!$D97,'00 PDC SP'!M:M)","v":333136.13},{"$f":"SUMIF('00 PDC SP'!$C:$C,'00 SP'!$D97,'00 PDC SP'!N:N)","v":362290.35}]
["ABA160","B.I.2.e) Materiale per la manutenzione",null,"ABA160",31,{"$f":"SUMIF('00 PDC SP'!$C:$C,'00 SP'!$D98,'00 PDC SP'!H:H)","v":143063.65},{"$f":"SUMIF('00 PDC SP'!$C:$C,'00 SP'!$D98,'00 PDC SP'!I:I)","v":85148.94},{"$f":"SUMIF('00 PDC SP'!$C:$C,'00 SP'!$D98,'00 PDC SP'!J:J)","v":143063.65},{"$f":"SUMIF('00 PDC SP'!$C:$C,'00 SP'!$D98,'00 PDC SP'!K:K)","v":85148.94},{"$f":"SUMIF('00 PDC SP'!$C:$C,'00 SP'!$D98,'00 PDC SP'!L:L)","v":117370.13999999998},{"$f":"SUMIF('00 PDC SP'!$C:$C,'00 SP'!$D98,'00 PDC SP'!M:M)","v":85148.94},{"$f":"SUMIF('00 PDC SP'!$C:$C,'00 SP'!$D98,'00 PDC SP'!N:N)","v":117370.14}]
["ABA170","B.I.2.f) Altri beni e prodotti non sanitari",null,"ABA170",31,{"$f":"SUMIF('00 PDC SP'!$C:$C,'00 SP'!$D99,'00 PDC SP'!H:H)","v":3445.61},{"$f":"SUMIF('00 PDC SP'!$C:$C,'00 SP'!$D99,'00 PDC SP'!I:I)","v":2869.46},{"$f":"SUMIF('00 PDC SP'!$C:$C,'00 SP'!$D99,'00 PDC SP'!J:J)","v":3445.61},{"$f":"SUMIF('00 PDC SP'!$C:$C,'00 SP'!$D99,'00 PDC SP'!K:K)","v":2869.46},{"$f":"SUMIF('00 PDC SP'!$C:$C,'00 SP'!$D99,'00 PDC SP'!L:L)","v":1229.74},{"$f":"SUMIF('00 PDC SP'!$C:$C,'00 SP'!$D99,'00 PDC SP'!M:M)","v":2869.46},{"$f":"SUMIF('00 PDC SP'!$C:$C,'00 SP'!$D99,'00 PDC SP'!N:N)","v":1229.7399999999998}]
["ABA180","B.I.2.g) Acconti per acquisto di beni e prodotti non sanitari",null,"ABA180",32,{"$f":"SUMIF('00 PDC SP'!$C:$C,'00 SP'!$D100,'00 PDC SP'!H:H)","v":0},{"$f":"SUMIF('00 PDC SP'!$C:$C,'00 SP'!$D100,'00 PDC SP'!I:I)","v":0},{"$f":"SUMIF('00 PDC SP'!$C:$C,'00 SP'!$D100,'00 PDC SP'!J:J)","v":0},{"$f":"SUMIF('00 PDC SP'!$C:$C,'00 SP'!$D100,'00 PDC SP'!K:K)","v":0},{"$f":"SUMIF('00 PDC SP'!$C:$C,'00 SP'!$D100,'00 PDC SP'!L:L)","v":0},{"$f":"SUMIF('00 PDC SP'!$C:$C,'00 SP'!$D100,'00 PDC SP'!M:M)","v":0},{"$f":"SUMIF('00 PDC SP'!$C:$C,'00 SP'!$D100,'00 PDC SP'!N:N)","v":0}]
["ABA190","B.II) CREDITI","S","ABA190",null,{"$f":"F102+F117+F135+F136+F143+F147+F148","v":162311955.84},1308466258.6799998,1249318015.5900004,221460198.92999998,1317339059.71,1357196933.3299999,181602325.30999994]
["ABA200","B.II.1) Crediti v/Stato","S","ABA200",null,{"$f":"SUM(F103:F111)+F116","v":10866.88},123337.75,30151.629999999997,104053,12202.45,18172.71,98082.74]
["ABA210","B.II.1.a) Crediti v/Stato per spesa corrente - Integrazione a norma del D.L.vo 56/2000",null,"ABA210",21,{"$f":"SUMIF('00 PDC SP'!$C:$C,'00 SP'!$D103,'00 PDC SP'!H:H)","v":0},{"$f":"SUMIF('00 PDC SP'!$C:$C,'00 SP'!$D103,'00 PDC SP'!I:I)","v":19655.009999999998},{"$f":"SUMIF('00 PDC SP'!$C:$C,'00 SP'!$D103,'00 PDC SP'!J:J)","v":13684.75},{"$f":"SUMIF('00 PDC SP'!$C:$C,'00 SP'!$D103,'00 PDC SP'!K:K)","v":5970.26},{"$f":"SUMIF('00 PDC SP'!$C:$C,'00 SP'!$D103,'00 PDC SP'!L:L)","v":12202.45},{"$f":"SUMIF('00 PDC SP'!$C:$C,'00 SP'!$D103,'00 PDC SP'!M:M)","v":18172.71},{"$f":"SUMIF('00 PDC SP'!$C:$C,'00 SP'!$D103,'00 PDC SP'!N:N)","v":0}]
["ABA220","B.II.1.b) Crediti v/Stato per spesa corrente - FSN",null,"ABA220",21,{"$f":"SUMIF('00 PDC SP'!$C:$C,'00 SP'!$D104,'00 PDC SP'!H:H)","v":0},{"$f":"SUMIF('00 PDC SP'!$C:$C,'00 SP'!$D104,'00 PDC SP'!I:I)","v":0},{"$f":"SUMIF('00 PDC SP'!$C:$C,'00 SP'!$D104,'00 PDC SP'!J:J)","v":0},{"$f":"SUMIF('00 PDC SP'!$C:$C,'00 SP'!$D104,'00 PDC SP'!K:K)","v":0},{"$f":"SUMIF('00 PDC SP'!$C:$C,'00 SP'!$D104,'00 PDC SP'!L:L)","v":0},{"$f":"SUMIF('00 PDC SP'!$C:$C,'00 SP'!$D104,'00 PDC SP'!M:M)","v":0},{"$f":"SUMIF('00 PDC SP'!$C:$C,'00 SP'!$D104,'00 PDC SP'!N:N)","v":0}]
["ABA230","B.II.1.c) Crediti v/Stato per mobilità attiva extraregionale",null,"ABA230",21,{"$f":"SUMIF('00 PDC SP'!$C:$C,'00 SP'!$D105,'00 PDC SP'!H:H)","v":0},{"$f":"SUMIF('00 PDC SP'!$C:$C,'00 SP'!$D105,'00 PDC SP'!I:I)","v":0},{"$f":"SUMIF('00 PDC SP'!$C:$C,'00 SP'!$D105,'00 PDC SP'!J:J)","v":0},{"$f":"SUMIF('00 PDC SP'!$C:$C,'00 SP'!$D105,'00 PDC SP'!K:K)","v":0},{"$f":"SUMIF('00 PDC SP'!$C:$C,'00 SP'!$D105,'00 PDC SP'!L:L)","v":0},{"$f":"SUMIF('00 PDC SP'!$C:$C,'00 SP'!$D105,'00 PDC SP'!M:M)","v":0},{"$f":"SUMIF('00 PDC SP'!$C:$C,'00 SP'!$D105,'00 PDC SP'!N:N)","v":0}]
["ABA240","B.II.1.d) Crediti v/Stato per mobilità attiva internazionale",null,"ABA240",21,{"$f":"SUMIF('00 PDC SP'!$C:$C,'00 SP'!$D106,'00 PDC SP'!H:H)","v":0},{"$f":"SUMIF('00 PDC SP'!$C:$C,'00 SP'!$D106,'00 PDC SP'!I:I)","v":0},{"$f":"SUMIF('00 PDC SP'!$C:$C,'00 SP'!$D106,'00 PDC SP'!J:J)","v":0},{"$f":"SUMIF('00 PDC SP'!$C:$C,'00 SP'!$D106,'00 PDC SP'!K:K)","v":0},{"$f":"SUMIF('00 PDC SP'!$C:$C,'00 SP'!$D106,'00 PDC SP'!L:L)","v":0},{"$f":"SUMIF('00 PDC SP'!$C:$C,'00 SP'!$D106,'00 PDC SP'!M:M)","v":0},{"$f":"SUMIF('00 PDC SP'!$C:$C,'00 SP'!$D106,'00 PDC SP'!N:N)","v":0}]
["ABA250","B.II.1.e) Crediti v/Stato per acconto quota fabbisogno sanitario regionale standard",null,"ABA250",21,{"$f":"SUMIF('00 PDC SP'!$C:$C,'00 SP'!$D107,'00 PDC SP'!H:H)","v":0},{"$f":"SUMIF('00 PDC SP'!$C:$C,'00 SP'!$D107,'00 PDC SP'!I:I)","v":0},{"$f":"SUMIF('00 PDC SP'!$C:$C,'00 SP'!$D107,'00 PDC SP'!J:J)","v":0},{"$f":"SUMIF('00 PDC SP'!$C:$C,'00 SP'!$D107,'00 PDC SP'!K:K)","v":0},{"$f":"SUMIF('00 PDC SP'!$C:$C,'00 SP'!$D107,'00 PDC SP'!L:L)","v":0},{"$f":"SUMIF('00 PDC SP'!$C:$C,'00 SP'!$D107,'00 PDC SP'!M:M)","v":0},{"$f":"SUMIF('00 PDC SP'!$C:$C,'00 SP'!$D107,'00 PDC SP'!N:N)","v":0}]
["ABA260","B.II.1.f) Crediti v/Stato per finanziamento sanitario aggiuntivo corrente",null,"ABA260",21,{"$f":"SUMIF('00 PDC SP'!$C:$C,'00 SP'!$D108,'00 PDC SP'!H:H)","v":0},{"$f":"SUMIF('00 PDC SP'!$C:$C,'00 SP'!$D108,'00 PDC SP'!I:I)","v":0},{"$f":"SUMIF('00 PDC SP'!$C:$C,'00 SP'!$D108,'00 PDC SP'!J:J)","v":0},{"$f":"SUMIF('00 PDC SP'!$C:$C,'00 SP'!$D108,'00 PDC SP'!K:K)","v":0},{"$f":"SUMIF('00 PDC SP'!$C:$C,'00 SP'!$D108,'00 PDC SP'!L:L)","v":0},{"$f":"SUMIF('00 PDC SP'!$C:$C,'00 SP'!$D108,'00 PDC SP'!M:M)","v":0},{"$f":"SUMIF('00 PDC SP'!$C:$C,'00 SP'!$D108,'00 PDC SP'!N:N)","v":0}]
["ABA270","B.II.1.g) Crediti v/Stato per spesa corrente - altro",null,"ABA270",21,{"$f":"SUMIF('00 PDC SP'!$C:$C,'00 SP'!$D109,'00 PDC SP'!H:H)","v":566.88},{"$f":"SUMIF('00 PDC SP'!$C:$C,'00 SP'!$D109,'00 PDC SP'!I:I)","v":0},{"$f":"SUMIF('00 PDC SP'!$C:$C,'00 SP'!$D109,'00 PDC SP'!J:J)","v":566.88},{"$f":"SUMIF('00 PDC SP'!$C:$C,'00 SP'!$D109,'00 PDC SP'!K:K)","v":0},{"$f":"SUMIF('00 PDC SP'!$C:$C,'00 SP'!$D109,'00 PDC SP'!L:L)","v":0},{"$f":"SUMIF('00 PDC SP'!$C:$C,'00 SP'!$D109,'00 PDC SP'!M:M)","v":0},{"$f":"SUMIF('00 PDC SP'!$C:$C,'00 SP'!$D109,'00 PDC SP'!N:N)","v":0}]
["ABA280","B.II.1.h) Crediti v/Stato per finanziamenti per investimenti",null,"ABA280",48,{"$f":"SUMIF('00 PDC SP'!$C:$C,'00 SP'!$D110,'00 PDC SP'!H:H)","v":0},{"$f":"SUMIF('00 PDC SP'!$C:$C,'00 SP'!$D110,'00 PDC SP'!I:I)","v":0},{"$f":"SUMIF('00 PDC SP'!$C:$C,'00 SP'!$D110,'00 PDC SP'!J:J)","v":0},{"$f":"SUMIF('00 PDC SP'!$C:$C,'00 SP'!$D110,'00 PDC SP'!K:K)","v":0},{"$f":"SUMIF('00 PDC SP'!$C:$C,'00 SP'!$D110,'00 PDC SP'!L:L)","v":0},{"$f":"SUMIF('00 PDC SP'!$C:$C,'00 SP'!$D110,'00 PDC SP'!M:M)","v":0},{"$f":"SUMIF('00 PDC SP'!$C:$C,'00 SP'!$D110,'00 PDC SP'!N:N)","v":0}]
["ABA290","B.II.1.i) Crediti v/Stato per ricerca","S","ABA290",null,{"$f":"SUM(F112:F115)","v":10300},10220,15900,4620,0,0,4620]
["ABA300","B.II.1.i.1) Crediti v/Stato per ricerca corrente - Ministero della Salute",null,"ABA300",21,{"$f":"SUMIF('00 PDC SP'!$C:$C,'00 SP'!$D112,'00 PDC SP'!H:H)","v":0},{"$f":"SUMIF('00 PDC SP'!$C:$C,'00 SP'!$D112,'00 PDC SP'!I:I)","v":0},{"$f":"SUMIF('00 PDC SP'!$C:$C,'00 SP'!$D112,'00 PDC SP'!J:J)","v":0},{"$f":"SUMIF('00 PDC SP'!$C:$C,'00 SP'!$D112,'00 PDC SP'!K:K)","v":0},{"$f":"SUMIF('00 PDC SP'!$C:$C,'00 SP'!$D112,'00 PDC SP'!L:L)","v":0},{"$f":"SUMIF('00 PDC SP'!$C:$C,'00 SP'!$D112,'00 PDC SP'!M:M)","v":0},{"$f":"SUMIF('00 PDC SP'!$C:$C,'00 SP'!$D112,'00 PDC SP'!N:N)","v":0}]
["ABA310","B.II.1.i.2) Crediti v/Stato per ricerca finalizzata - Ministero della Salute",null,"ABA310",21,{"$f":"SUMIF('00 PDC SP'!$C:$C,'00 SP'!$D113,'00 PDC SP'!H:H)","v":10300},{"$f":"SUMIF('00 PDC SP'!$C:$C,'00 SP'!$D113,'00 PDC SP'!I:I)","v":10220},{"$f":"SUMIF('00 PDC SP'!$C:$C,'00 SP'!$D113,'00 PDC SP'!J:J)","v":15900},{"$f":"SUMIF('00 PDC SP'!$C:$C,'00 SP'!$D113,'00 PDC SP'!K:K)","v":4620},{"$f":"SUMIF('00 PDC SP'!$C:$C,'00 SP'!$D113,'00 PDC SP'!L:L)","v":0},{"$f":"SUMIF('00 PDC SP'!$C:$C,'00 SP'!$D113,'00 PDC SP'!M:M)","v":0},{"$f":"SUMIF('00 PDC SP'!$C:$C,'00 SP'!$D113,'00 PDC SP'!N:N)","v":4620}]
["ABA320","B.II.1.i.3) Crediti v/Stato per ricerca - altre Amministrazioni centrali",null,"ABA320",21,{"$f":"SUMIF('00 PDC SP'!$C:$C,'00 SP'!$D114,'00 PDC SP'!H:H)","v":0},{"$f":"SUMIF('00 PDC SP'!$C:$C,'00 SP'!$D114,'00 PDC SP'!I:I)","v":0},{"$f":"SUMIF('00 PDC SP'!$C:$C,'00 SP'!$D114,'00 PDC SP'!J:J)","v":0},{"$f":"SUMIF('00 PDC SP'!$C:$C,'00 SP'!$D114,'00 PDC SP'!K:K)","v":0},{"$f":"SUMIF('00 PDC SP'!$C:$C,'00 SP'!$D114,'00 PDC SP'!L:L)","v":0},{"$f":"SUMIF('00 PDC SP'!$C:$C,'00 SP'!$D114,'00 PDC SP'!M:M)","v":0},{"$f":"SUMIF('00 PDC SP'!$C:$C,'00 SP'!$D114,'00 PDC SP'!N:N)","v":0}]
["ABA330","B.II.1.i.4) Crediti v/Stato per ricerca - finanziamenti per investimenti",null,"ABA330",21,{"$f":"SUMIF('00 PDC SP'!$C:$C,'00 SP'!$D115,'00 PDC SP'!H:H)","v":0},{"$f":"SUMIF('00 PDC SP'!$C:$C,'00 SP'!$D115,'00 PDC SP'!I:I)","v":0},{"$f":"SUMIF('00 PDC SP'!$C:$C,'00 SP'!$D115,'00 PDC SP'!J:J)","v":0},{"$f":"SUMIF('00 PDC SP'!$C:$C,'00 SP'!$D115,'00 PDC SP'!K:K)","v":0},{"$f":"SUMIF('00 PDC SP'!$C:$C,'00 SP'!$D115,'00 PDC SP'!L:L)","v":0},{"$f":"SUMIF('00 PDC SP'!$C:$C,'00 SP'!$D115,'00 PDC SP'!M:M)","v":0},{"$f":"SUMIF('00 PDC SP'!$C:$C,'00 SP'!$D115,'00 PDC SP'!N:N)","v":0}]
["ABA340","B.II.1.l) Crediti v/prefetture",null,"ABA340",21,{"$f":"SUMIF('00 PDC SP'!$C:$C,'00 SP'!$D116,'00 PDC SP'!H:H)","v":0},{"$f":"SUMIF('00 PDC SP'!$C:$C,'00 SP'!$D116,'00 PDC SP'!I:I)","v":93462.74},{"$f":"SUMIF('00 PDC SP'!$C:$C,'00 SP'!$D116,'00 PDC SP'!J:J)","v":0},{"$f":"SUMIF('00 PDC SP'!$C:$C,'00 SP'!$D116,'00 PDC SP'!K:K)","v":93462.74},{"$f":"SUMIF('00 PDC SP'!$C:$C,'00 SP'!$D116,'00 PDC SP'!L:L)","v":0},{"$f":"SUMIF('00 PDC SP'!$C:$C,'00 SP'!$D116,'00 PDC SP'!M:M)","v":0},{"$f":"SUMIF('00 PDC SP'!$C:$C,'00 SP'!$D116,'00 PDC SP'!N:N)","v":93462.74}]
["ABA350","B.II.2) Crediti v/Regione o Provincia Autonoma","S","ABA350",null,{"$f":"F118+F129","v":157978850.61000001},1284040974.4799998,1226145807.7800002,215874017.31,1293654186.2599998,1333105858.78,176422344.78999993]
["ABA360","B.II.2.a) Crediti v/Regione o Provincia Autonoma per spesa corrente","S","ABA360",null,{"$f":"SUM(F119:F128)","v":157940595.61000001},1253262846.9099998,1216969739.7800002,194233702.74000001,1279389476.2599998,1311503799.21,162119379.78999993]
["ABA370","B.II.2.a.1) Crediti v/Regione o Provincia Autonoma per spesa corrente - IRAP",null,"ABA370",25,{"$f":"SUMIF('00 PDC SP'!$C:$C,'00 SP'!$D119,'00 PDC SP'!H:H)","v":0},{"$f":"SUMIF('00 PDC SP'!$C:$C,'00 SP'!$D119,'00 PDC SP'!I:I)","v":0},{"$f":"SUMIF('00 PDC SP'!$C:$C,'00 SP'!$D119,'00 PDC SP'!J:J)","v":0},{"$f":"SUMIF('00 PDC SP'!$C:$C,'00 SP'!$D119,'00 PDC SP'!K:K)","v":0},{"$f":"SUMIF('00 PDC SP'!$C:$C,'00 SP'!$D119,'00 PDC SP'!L:L)","v":0},{"$f":"SUMIF('00 PDC SP'!$C:$C,'00 SP'!$D119,'00 PDC SP'!M:M)","v":0},{"$f":"SUMIF('00 PDC SP'!$C:$C,'00 SP'!$D119,'00 PDC SP'!N:N)","v":0}]
["ABA380","B.II.2.a.2) Crediti v/Regione o Provincia Autonoma per spesa corrente -  Addizionale IRPEF",null,"ABA380",25,{"$f":"SUMIF('00 PDC SP'!$C:$C,'00 SP'!$D120,'00 PDC SP'!H:H)","v":0},{"$f":"SUMIF('00 PDC SP'!$C:$C,'00 SP'!$D120,'00 PDC SP'!I:I)","v":0},{"$f":"SUMIF('00 PDC SP'!$C:$C,'00 SP'!$D120,'00 PDC SP'!J:J)","v":0},{"$f":"SUMIF('00 PDC SP'!$C:$C,'00 SP'!$D120,'00 PDC SP'!K:K)","v":0},{"$f":"SUMIF('00 PDC SP'!$C:$C,'00 SP'!$D120,'00 PDC SP'!L:L)","v":0},{"$f":"SUMIF('00 PDC SP'!$C:$C,'00 SP'!$D120,'00 PDC SP'!M:M)","v":0},{"$f":"SUMIF('00 PDC SP'!$C:$C,'00 SP'!$D120,'00 PDC SP'!N:N)","v":0}]
["ABA390","B.II.2.a.3) Crediti v/Regione o Provincia Autonoma per quota FSR",null,"ABA390",25,{"$f":"SUMIF('00 PDC SP'!$C:$C,'00 SP'!$D121,'00 PDC SP'!H:H)","v":112678943.34999999},{"$f":"SUMIF('00 PDC SP'!$C:$C,'00 SP'!$D121,'00 PDC SP'!I:I)","v":620609320.57000005},{"$f":"SUMIF('00 PDC SP'!$C:$C,'00 SP'!$D121,'00 PDC SP'!J:J)","v":586865386.74000001},{"$f":"SUMIF('00 PDC SP'!$C:$C,'00 SP'!$D121,'00 PDC SP'!K:K)","v":146422877.18000001},{"$f":"SUMIF('00 PDC SP'!$C:$C,'00 SP'!$D121,'00 PDC SP'!L:L)","v":611234256.89999998},{"$f":"SUMIF('00 PDC SP'!$C:$C,'00 SP'!$D121,'00 PDC SP'!M:M)","v":641777088.98000002},{"$f":"SUMIF('00 PDC SP'!$C:$C,'00 SP'!$D121,'00 PDC SP'!N:N)","v":115880045.09999993}]
["ABA400","B.II.2.a.4) Crediti v/Regione o Provincia Autonoma per mobilità attiva intraregionale",null,"ABA400",25,{"$f":"SUMIF('00 PDC SP'!$C:$C,'00 SP'!$D122,'00 PDC SP'!H:H)","v":17307120.760000002},{"$f":"SUMIF('00 PDC SP'!$C:$C,'00 SP'!$D122,'00 PDC SP'!I:I)","v":94245672.530000001},{"$f":"SUMIF('00 PDC SP'!$C:$C,'00 SP'!$D122,'00 PDC SP'!J:J)","v":94615942.909999996},{"$f":"SUMIF('00 PDC SP'!$C:$C,'00 SP'!$D122,'00 PDC SP'!K:K)","v":16936850.379999999},{"$f":"SUMIF('00 PDC SP'!$C:$C,'00 SP'!$D122,'00 PDC SP'!L:L)","v":98488215.590000004},{"$f":"SUMIF('00 PDC SP'!$C:$C,'00 SP'!$D122,'00 PDC SP'!M:M)","v":98575322.590000004},{"$f":"SUMIF('00 PDC SP'!$C:$C,'00 SP'!$D122,'00 PDC SP'!N:N)","v":16849743.380000003}]
["ABA410","B.II.2.a.5) Crediti v/Regione o Provincia Autonoma per mobilità attiva extraregionale",null,"ABA410",25,{"$f":"SUMIF('00 PDC SP'!$C:$C,'00 SP'!$D123,'00 PDC SP'!H:H)","v":19005500.289999999},{"$f":"SUMIF('00 PDC SP'!$C:$C,'00 SP'!$D123,'00 PDC SP'!I:I)","v":0},{"$f":"SUMIF('00 PDC SP'!$C:$C,'00 SP'!$D123,'00 PDC SP'!J:J)","v":0},{"$f":"SUMIF('00 PDC SP'!$C:$C,'00 SP'!$D123,'00 PDC SP'!K:K)","v":19005500.289999999},{"$f":"SUMIF('00 PDC SP'!$C:$C,'00 SP'!$D123,'00 PDC SP'!L:L)","v":17628432.399999999},{"$f":"SUMIF('00 PDC SP'!$C:$C,'00 SP'!$D123,'00 PDC SP'!M:M)","v":17628432.399999999},{"$f":"SUMIF('00 PDC SP'!$C:$C,'00 SP'!$D123,'00 PDC SP'!N:N)","v":19005500.289999999}]
["ABA420","B.II.2.a.6) Crediti v/Regione o Provincia Autonoma per acconto quota FSR",null,"ABA420",25,{"$f":"SUMIF('00 PDC SP'!$C:$C,'00 SP'!$D124,'00 PDC SP'!H:H)","v":0},{"$f":"SUMIF('00 PDC SP'!$C:$C,'00 SP'!$D124,'00 PDC SP'!I:I)","v":533673541},{"$f":"SUMIF('00 PDC SP'!$C:$C,'00 SP'!$D124,'00 PDC SP'!J:J)","v":533673541},{"$f":"SUMIF('00 PDC SP'!$C:$C,'00 SP'!$D124,'00 PDC SP'!K:K)","v":0},{"$f":"SUMIF('00 PDC SP'!$C:$C,'00 SP'!$D124,'00 PDC SP'!L:L)","v":546891755},{"$f":"SUMIF('00 PDC SP'!$C:$C,'00 SP'!$D124,'00 PDC SP'!M:M)","v":546891755},{"$f":"SUMIF('00 PDC SP'!$C:$C,'00 SP'!$D124,'00 PDC SP'!N:N)","v":0}]
["ABA430","B.II.2.a.7) Crediti v/Regione o Provincia Autonoma per finanziamento sanitario aggiuntivo corrente LEA",null,"ABA430",25,{"$f":"SUMIF('00 PDC SP'!$C:$C,'00 SP'!$D125,'00 PDC SP'!H:H)","v":8949031.2100000009},{"$f":"SUMIF('00 PDC SP'!$C:$C,'00 SP'!$D125,'00 PDC SP'!I:I)","v":4734312.8099999996},{"$f":"SUMIF('00 PDC SP'!$C:$C,'00 SP'!$D125,'00 PDC SP'!J:J)","v":1814869.13},{"$f":"SUMIF('00 PDC SP'!$C:$C,'00 SP'!$D125,'00 PDC SP'!K:K)","v":11868474.890000001},{"$f":"SUMIF('00 PDC SP'!$C:$C,'00 SP'!$D125,'00 PDC SP'!L:L)","v":5146816.37},{"$f":"SUMIF('00 PDC SP'!$C:$C,'00 SP'!$D125,'00 PDC SP'!M:M)","v":6631200.2400000002},{"$f":"SUMIF('00 PDC SP'!$C:$C,'00 SP'!$D125,'00 PDC SP'!N:N)","v":10384091.020000001}]
["ABA440","B.II.2.a.8) Crediti v/Regione o Provincia Autonoma per finanziamento sanitario aggiuntivo corrente extra LEA",null,"ABA440",25,{"$f":"SUMIF('00 PDC SP'!$C:$C,'00 SP'!$D126,'00 PDC SP'!H:H)","v":0},{"$f":"SUMIF('00 PDC SP'!$C:$C,'00 SP'!$D126,'00 PDC SP'!I:I)","v":0},{"$f":"SUMIF('00 PDC SP'!$C:$C,'00 SP'!$D126,'00 PDC SP'!J:J)","v":0},{"$f":"SUMIF('00 PDC SP'!$C:$C,'00 SP'!$D126,'00 PDC SP'!K:K)","v":0},{"$f":"SUMIF('00 PDC SP'!$C:$C,'00 SP'!$D126,'00 PDC SP'!L:L)","v":0},{"$f":"SUMIF('00 PDC SP'!$C:$C,'00 SP'!$D126,'00 PDC SP'!M:M)","v":0},{"$f":"SUMIF('00 PDC SP'!$C:$C,'00 SP'!$D126,'00 PDC SP'!N:N)","v":0}]
["ABA450","B.II.2.a.9) Crediti v/Regione o Provincia Autonoma per spesa corrente - altro",null,"ABA450",25,{"$f":"SUMIF('00 PDC SP'!$C:$C,'00 SP'!$D127,'00 PDC SP'!H:H)","v":0},{"$f":"SUMIF('00 PDC SP'!$C:$C,'00 SP'!$D127,'00 PDC SP'!I:I)","v":0},{"$f":"SUMIF('00 PDC SP'!$C:$C,'00 SP'!$D127,'00 PDC SP'!J:J)","v":0},{"$f":"SUMIF('00 PDC SP'!$C:$C,'00 SP'!$D127,'00 PDC SP'!K:K)","v":0},{"$f":"SUMIF('00 PDC SP'!$C:$C,'00 SP'!$D127,'00 PDC SP'!L:L)","v":0},{"$f":"SUMIF('00 PDC SP'!$C:$C,'00 SP'!$D127,'00 PDC SP'!M:M)","v":0},{"$f":"SUMIF('00 PDC SP'!$C:$C,'00 SP'!$D127,'00 PDC SP'!N:N)","v":0}]
["ABA460","B.II.2.a.10) Crediti v/Regione o Provincia Autonoma per ricerca",null,"ABA460",25,{"$f":"SUMIF('00 PDC SP'!$C:$C,'00 SP'!$D128,'00 PDC SP'!H:H)","v":0},{"$f":"SUMIF('00 PDC SP'!$C:$C,'00 SP'!$D128,'00 PDC SP'!I:I)","v":0},{"$f":"SUMIF('00 PDC SP'!$C:$C,'00 SP'!$D128,'00 PDC SP'!J:J)","v":0},{"$f":"SUMIF('00 PDC SP'!$C:$C,'00 SP'!$D128,'00 PDC SP'!K:K)","v":0},{"$f":"SUMIF('00 PDC SP'!$C:$C,'00 SP'!$D128,'00 PDC SP'!L:L)","v":0},{"$f":"SUMIF('00 PDC SP'!$C:$C,'00 SP'!$D128,'00 PDC SP'!M:M)","v":0},{"$f":"SUMIF('00 PDC SP'!$C:$C,'00 SP'!$D128,'00 PDC SP'!N:N)","v":0}]
["ABA470","B.II.2.b) Crediti v/Regione o Provincia Autonoma per versamenti a patrimonio netto","S","ABA470",null,{"$f":"SUM(F130:F134)","v":38255},30778127.57,9176068,21640314.57,14264710,21602059.57,14302965]
["ABA480","B.II.2.b.1) Crediti v/Regione o Provincia Autonoma per finanziamenti per investimenti",null,"ABA480",49,{"$f":"SUMIF('00 PDC SP'!$C:$C,'00 SP'!$D130,'00 PDC SP'!H:H)","v":38255},{"$f":"SUMIF('00 PDC SP'!$C:$C,'00 SP'!$D130,'00 PDC SP'!I:I)","v":0},{"$f":"SUMIF('00 PDC SP'!$C:$C,'00 SP'!$D130,'00 PDC SP'!J:J)","v":0},{"$f":"SUMIF('00 PDC SP'!$C:$C,'00 SP'!$D130,'00 PDC SP'!K:K)","v":38255},{"$f":"SUMIF('00 PDC SP'!$C:$C,'00 SP'!$D130,'00 PDC SP'!L:L)","v":0},{"$f":"SUMIF('00 PDC SP'!$C:$C,'00 SP'!$D130,'00 PDC SP'!M:M)","v":0},{"$f":"SUMIF('00 PDC SP'!$C:$C,'00 SP'!$D130,'00 PDC SP'!N:N)","v":38255}]
["ABA490","B.II.2.b.2) Crediti v/Regione o Provincia Autonoma per incremento fondo dotazione",null,"ABA490",50,{"$f":"SUMIF('00 PDC SP'!$C:$C,'00 SP'!$D131,'00 PDC SP'!H:H)","v":0},{"$f":"SUMIF('00 PDC SP'!$C:$C,'00 SP'!$D131,'00 PDC SP'!I:I)","v":0},{"$f":"SUMIF('00 PDC SP'!$C:$C,'00 SP'!$D131,'00 PDC SP'!J:J)","v":0},{"$f":"SUMIF('00 PDC SP'!$C:$C,'00 SP'!$D131,'00 PDC SP'!K:K)","v":0},{"$f":"SUMIF('00 PDC SP'!$C:$C,'00 SP'!$D131,'00 PDC SP'!L:L)","v":0},{"$f":"SUMIF('00 PDC SP'!$C:$C,'00 SP'!$D131,'00 PDC SP'!M:M)","v":0},{"$f":"SUMIF('00 PDC SP'!$C:$C,'00 SP'!$D131,'00 PDC SP'!N:N)","v":0}]
["ABA500","B.II.2.b.3) Crediti v/Regione o Provincia Autonoma per ripiano perdite",null,"ABA500",51,{"$f":"SUMIF('00 PDC SP'!$C:$C,'00 SP'!$D132,'00 PDC SP'!H:H)","v":0},{"$f":"SUMIF('00 PDC SP'!$C:$C,'00 SP'!$D132,'00 PDC SP'!I:I)","v":30778127.57},{"$f":"SUMIF('00 PDC SP'!$C:$C,'00 SP'!$D132,'00 PDC SP'!J:J)","v":9176068},{"$f":"SUMIF('00 PDC SP'!$C:$C,'00 SP'!$D132,'00 PDC SP'!K:K)","v":21602059.57},{"$f":"SUMIF('00 PDC SP'!$C:$C,'00 SP'!$D132,'00 PDC SP'!L:L)","v":14264710},{"$f":"SUMIF('00 PDC SP'!$C:$C,'00 SP'!$D132,'00 PDC SP'!M:M)","v":21602059.57},{"$f":"SUMIF('00 PDC SP'!$C:$C,'00 SP'!$D132,'00 PDC SP'!N:N)","v":14264710}]
["ABA510","B.II.2.b.4) Crediti v/Regione per copertura debiti al 31/12/2005",null,"ABA510",52,{"$f":"SUMIF('00 PDC SP'!$C:$C,'00 SP'!$D133,'00 PDC SP'!H:H)","v":0},{"$f":"SUMIF('00 PDC SP'!$C:$C,'00 SP'!$D133,'00 PDC SP'!I:I)","v":0},{"$f":"SUMIF('00 PDC SP'!$C:$C,'00 SP'!$D133,'00 PDC SP'!J:J)","v":0},{"$f":"SUMIF('00 PDC SP'!$C:$C,'00 SP'!$D133,'00 PDC SP'!K:K)","v":0},{"$f":"SUMIF('00 PDC SP'!$C:$C,'00 SP'!$D133,'00 PDC SP'!L:L)","v":0},{"$f":"SUMIF('00 PDC SP'!$C:$C,'00 SP'!$D133,'00 PDC SP'!M:M)","v":0},{"$f":"SUMIF('00 PDC SP'!$C:$C,'00 SP'!$D133,'00 PDC SP'!N:N)","v":0}]
["ABA520","B.II.2.b.5) Crediti v/Regione o Provincia Autonoma per ricostituzione risorse da investimenti esercizi precedenti",null,"ABA520",49,{"$f":"SUMIF('00 PDC SP'!$C:$C,'00 SP'!$D134,'00 PDC SP'!H:H)","v":0},{"$f":"SUMIF('00 PDC SP'!$C:$C,'00 SP'!$D134,'00 PDC SP'!I:I)","v":0},{"$f":"SUMIF('00 PDC SP'!$C:$C,'00 SP'!$D134,'00 PDC SP'!J:J)","v":0},{"$f":"SUMIF('00 PDC SP'!$C:$C,'00 SP'!$D134,'00 PDC SP'!K:K)","v":0},{"$f":"SUMIF('00 PDC SP'!$C:$C,'00 SP'!$D134,'00 PDC SP'!L:L)","v":0},{"$f":"SUMIF('00 PDC SP'!$C:$C,'00 SP'!$D134,'00 PDC SP'!M:M)","v":0},{"$f":"SUMIF('00 PDC SP'!$C:$C,'00 SP'!$D134,'00 PDC SP'!N:N)","v":0}]
["ABA530","B.II.3) Crediti v/Comuni",null,"ABA530",26,{"$f":"SUMIF('00 PDC SP'!$C:$C,'00 SP'!$D135,'00 PDC SP'!H:H)","v":106598.90000000001},{"$f":"SUMIF('00 PDC SP'!$C:$C,'00 SP'!$D135,'00 PDC SP'!I:I)","v":36197.229999999996},{"$f":"SUMIF('00 PDC SP'!$C:$C,'00 SP'!$D135,'00 PDC SP'!J:J)","v":54489.15},{"$f":"SUMIF('00 PDC SP'!$C:$C,'00 SP'!$D135,'00 PDC SP'!K:K)","v":88306.98000000001},{"$f":"SUMIF('00 PDC SP'!$C:$C,'00 SP'!$D135,'00 PDC SP'!L:L)","v":172187.78},{"$f":"SUMIF('00 PDC SP'!$C:$C,'00 SP'!$D135,'00 PDC SP'!M:M)","v":40166.410000000003},{"$f":"SUMIF('00 PDC SP'!$C:$C,'00 SP'!$D135,'00 PDC SP'!N:N)","v":220328.35}]
["ABA540","B.II.4) Crediti v/Aziende sanitarie pubbliche","S","ABA540",null,{"$f":"F137+F141+F142","v":1589512.9699999993},733586.14999999991,392099.08,1931000.0399999998,5107921.6399999997,5494293.8099999996,1544627.8699999992]
["ABA550","B.II.4.a) Crediti v/Aziende sanitarie pubbliche della Regione","S","ABA550",null,{"$f":"SUM(F138:F140)","v":1413208.5299999993},492991.52999999997,176331.84000000003,1729868.2199999997,4860674.1399999997,5260150.0299999993,1330392.3299999991]
["ABA560","B.II.4.a.1) Crediti v/Aziende sanitarie pubbliche della Regione - per mobilità in compensazione",null,"ABA560",27,{"$f":"SUMIF('00 PDC SP'!$C:$C,'00 SP'!$D138,'00 PDC SP'!H:H)","v":0},{"$f":"SUMIF('00 PDC SP'!$C:$C,'00 SP'!$D138,'00 PDC SP'!I:I)","v":0},{"$f":"SUMIF('00 PDC SP'!$C:$C,'00 SP'!$D138,'00 PDC SP'!J:J)","v":0},{"$f":"SUMIF('00 PDC SP'!$C:$C,'00 SP'!$D138,'00 PDC SP'!K:K)","v":0},{"$f":"SUMIF('00 PDC SP'!$C:$C,'00 SP'!$D138,'00 PDC SP'!L:L)","v":0},{"$f":"SUMIF('00 PDC SP'!$C:$C,'00 SP'!$D138,'00 PDC SP'!M:M)","v":0},{"$f":"SUMIF('00 PDC SP'!$C:$C,'00 SP'!$D138,'00 PDC SP'!N:N)","v":0}]
["ABA570","B.II.4.a.2) Crediti v/Aziende sanitarie pubbliche della Regione - per mobilità non in compensazione",null,"ABA570",27,{"$f":"SUMIF('00 PDC SP'!$C:$C,'00 SP'!$D139,'00 PDC SP'!H:H)","v":0},{"$f":"SUMIF('00 PDC SP'!$C:$C,'00 SP'!$D139,'00 PDC SP'!I:I)","v":0},{"$f":"SUMIF('00 PDC SP'!$C:$C,'00 SP'!$D139,'00 PDC SP'!J:J)","v":0},{"$f":"SUMIF('00 PDC SP'!$C:$C,'00 SP'!$D139,'00 PDC SP'!K:K)","v":0},{"$f":"SUMIF('00 PDC SP'!$C:$C,'00 SP'!$D139,'00 PDC SP'!L:L)","v":0},{"$f":"SUMIF('00 PDC SP'!$C:$C,'00 SP'!$D139,'00 PDC SP'!M:M)","v":0},{"$f":"SUMIF('00 PDC SP'!$C:$C,'00 SP'!$D139,'00 PDC SP'!N:N)","v":0}]
["ABA580","B.II.4.a.3) Crediti v/Aziende sanitarie pubbliche della Regione - per altre prestazioni",null,"ABA580",27,{"$f":"SUMIF('00 PDC SP'!$C:$C,'00 SP'!$D140,'00 PDC SP'!H:H)","v":1413208.5299999993},{"$f":"SUMIF('00 PDC SP'!$C:$C,'00 SP'!$D140,'00 PDC SP'!I:I)","v":492991.52999999997},{"$f":"SUMIF('00 PDC SP'!$C:$C,'00 SP'!$D140,'00 PDC SP'!J:J)","v":176331.84000000003},{"$f":"SUMIF('00 PDC SP'!$C:$C,'00 SP'!$D140,'00 PDC SP'!K:K)","v":1729868.2199999997},{"$f":"SUMIF('00 PDC SP'!$C:$C,'00 SP'!$D140,'00 PDC SP'!L:L)","v":4860674.1399999997},{"$f":"SUMIF('00 PDC SP'!$C:$C,'00 SP'!$D140,'00 PDC SP'!M:M)","v":5260150.0299999993},{"$f":"SUMIF('00 PDC SP'!$C:$C,'00 SP'!$D140,'00 PDC SP'!N:N)","v":1330392.3299999991}]
["ABA590","B.II.4.b) Acconto quota FSR da distribuire",null,"ABA590",27,{"$f":"SUMIF('00 PDC SP'!$C:$C,'00 SP'!$D141,'00 PDC SP'!H:H)","v":0},{"$f":"SUMIF('00 PDC SP'!$C:$C,'00 SP'!$D141,'00 PDC SP'!I:I)","v":0},{"$f":"SUMIF('00 PDC SP'!$C:$C,'00 SP'!$D141,'00 PDC SP'!J:J)","v":0},{"$f":"SUMIF('00 PDC SP'!$C:$C,'00 SP'!$D141,'00 PDC SP'!K:K)","v":0},{"$f":"SUMIF('00 PDC SP'!$C:$C,'00 SP'!$D141,'00 PDC SP'!L:L)","v":0},{"$f":"SUMIF('00 PDC SP'!$C:$C,'00 SP'!$D141,'00 PDC SP'!M:M)","v":0},{"$f":"SUMIF('00 PDC SP'!$C:$C,'00 SP'!$D141,'00 PDC SP'!N:N)","v":0}]
["ABA600","B.II.4.c) Crediti v/Aziende sanitarie pubbliche Extraregione",null,"ABA600",27,{"$f":"SUMIF('00 PDC SP'!$C:$C,'00 SP'!$D142,'00 PDC SP'!H:H)","v":176304.44},{"$f":"SUMIF('00 PDC SP'!$C:$C,'00 SP'!$D142,'00 PDC SP'!I:I)","v":240594.62},{"$f":"SUMIF('00 PDC SP'!$C:$C,'00 SP'!$D142,'00 PDC SP'!J:J)","v":215767.24},{"$f":"SUMIF('00 PDC SP'!$C:$C,'00 SP'!$D142,'00 PDC SP'!K:K)","v":201131.82},{"$f":"SUMIF('00 PDC SP'!$C:$C,'00 SP'!$D142,'00 PDC SP'!L:L)","v":247247.5},{"$f":"SUMIF('00 PDC SP'!$C:$C,'00 SP'!$D142,'00 PDC SP'!M:M)","v":234143.78},{"$f":"SUMIF('00 PDC SP'!$C:$C,'00 SP'!$D142,'00 PDC SP'!N:N)","v":214235.54}]
["ABA610","B.II.5) Crediti v/società partecipate e/o enti dipendenti della Regione","S","ABA610",null,{"$f":"SUM(F144:F146)","v":5931.31},0,0,5931.31,0,0,5931.31]
["ABA620","B.II.5.a) Crediti v/enti regionali",null,"ABA620",28,{"$f":"SUMIF('00 PDC SP'!$C:$C,'00 SP'!$D144,'00 PDC SP'!H:H)","v":5931.31},{"$f":"SUMIF('00 PDC SP'!$C:$C,'00 SP'!$D144,'00 PDC SP'!I:I)","v":0},{"$f":"SUMIF('00 PDC SP'!$C:$C,'00 SP'!$D144,'00 PDC SP'!J:J)","v":0},{"$f":"SUMIF('00 PDC SP'!$C:$C,'00 SP'!$D144,'00 PDC SP'!K:K)","v":5931.31},{"$f":"SUMIF('00 PDC SP'!$C:$C,'00 SP'!$D144,'00 PDC SP'!L:L)","v":0},{"$f":"SUMIF('00 PDC SP'!$C:$C,'00 SP'!$D144,'00 PDC SP'!M:M)","v":0},{"$f":"SUMIF('00 PDC SP'!$C:$C,'00 SP'!$D144,'00 PDC SP'!N:N)","v":5931.31}]
["ABA630","B.II.5.b) Crediti v/sperimentazioni gestionali",null,"ABA630",28,{"$f":"SUMIF('00 PDC SP'!$C:$C,'00 SP'!$D145,'00 PDC SP'!H:H)","v":0},{"$f":"SUMIF('00 PDC SP'!$C:$C,'00 SP'!$D145,'00 PDC SP'!I:I)","v":0},{"$f":"SUMIF('00 PDC SP'!$C:$C,'00 SP'!$D145,'00 PDC SP'!J:J)","v":0},{"$f":"SUMIF('00 PDC SP'!$C:$C,'00 SP'!$D145,'00 PDC SP'!K:K)","v":0},{"$f":"SUMIF('00 PDC SP'!$C:$C,'00 SP'!$D145,'00 PDC SP'!L:L)","v":0},{"$f":"SUMIF('00 PDC SP'!$C:$C,'00 SP'!$D145,'00 PDC SP'!M:M)","v":0},{"$f":"SUMIF('00 PDC SP'!$C:$C,'00 SP'!$D145,'00 PDC SP'!N:N)","v":0}]
["ABA640","B.II.5.c) Crediti v/altre partecipate",null,"ABA640",28,{"$f":"SUMIF('00 PDC SP'!$C:$C,'00 SP'!$D146,'00 PDC SP'!H:H)","v":0},{"$f":"SUMIF('00 PDC SP'!$C:$C,'00 SP'!$D146,'00 PDC SP'!I:I)","v":0},{"$f":"SUMIF('00 PDC SP'!$C:$C,'00 SP'!$D146,'00 PDC SP'!J:J)","v":0},{"$f":"SUMIF('00 PDC SP'!$C:$C,'00 SP'!$D146,'00 PDC SP'!K:K)","v":0},{"$f":"SUMIF('00 PDC SP'!$C:$C,'00 SP'!$D146,'00 PDC SP'!L:L)","v":0},{"$f":"SUMIF('00 PDC SP'!$C:$C,'00 SP'!$D146,'00 PDC SP'!M:M)","v":0},{"$f":"SUMIF('00 PDC SP'!$C:$C,'00 SP'!$D146,'00 PDC SP'!N:N)","v":0}]
["ABA650","B.II.6) Crediti v/Erario",null,"ABA650",29,{"$f":"SUMIF('00 PDC SP'!$C:$C,'00 SP'!$D147,'00 PDC SP'!H:H)","v":42960.659999999996},{"$f":"SUMIF('00 PDC SP'!$C:$C,'00 SP'!$D147,'00 PDC SP'!I:I)","v":437198.5},{"$f":"SUMIF('00 PDC SP'!$C:$C,'00 SP'!$D147,'00 PDC SP'!J:J)","v":468152},{"$f":"SUMIF('00 PDC SP'!$C:$C,'00 SP'!$D147,'00 PDC SP'!K:K)","v":12007.160000000002},{"$f":"SUMIF('00 PDC SP'!$C:$C,'00 SP'!$D147,'00 PDC SP'!L:L)","v":496878.45},{"$f":"SUMIF('00 PDC SP'!$C:$C,'00 SP'!$D147,'00 PDC SP'!M:M)","v":500676.57},{"$f":"SUMIF('00 PDC SP'!$C:$C,'00 SP'!$D147,'00 PDC SP'!N:N)","v":8209.0400000000009}]
["ABA660","B.II.7) Crediti v/altri","S","ABA660",null,{"$f":"SUM(F149:F153)","v":2577234.5099999998},23094964.57,22227315.949999996,3444883.1300000008,17895683.129999999,18037765.050000001,3302801.21]
["ABA670","B.II.7.a) Crediti v/clienti privati",null,"ABA670",30,{"$f":"SUMIF('00 PDC SP'!$C:$C,'00 SP'!$D149,'00 PDC SP'!H:H)","v":1338523.3799999999},{"$f":"SUMIF('00 PDC SP'!$C:$C,'00 SP'!$D149,'00 PDC SP'!I:I)","v":18824821.879999999},{"$f":"SUMIF('00 PDC SP'!$C:$C,'00 SP'!$D149,'00 PDC SP'!J:J)","v":17976805.859999999},{"$f":"SUMIF('00 PDC SP'!$C:$C,'00 SP'!$D149,'00 PDC SP'!K:K)","v":2186539.4000000004},{"$f":"SUMIF('00 PDC SP'!$C:$C,'00 SP'!$D149,'00 PDC SP'!L:L)","v":15852276.68},{"$f":"SUMIF('00 PDC SP'!$C:$C,'00 SP'!$D149,'00 PDC SP'!M:M)","v":16016405.82},{"$f":"SUMIF('00 PDC SP'!$C:$C,'00 SP'!$D149,'00 PDC SP'!N:N)","v":2022410.2600000002}]
["ABA680","B.II.7.b) Crediti v/gestioni liquidatorie",null,"ABA680",30,{"$f":"SUMIF('00 PDC SP'!$C:$C,'00 SP'!$D150,'00 PDC SP'!H:H)","v":0},{"$f":"SUMIF('00 PDC SP'!$C:$C,'00 SP'!$D150,'00 PDC SP'!I:I)","v":0},{"$f":"SUMIF('00 PDC SP'!$C:$C,'00 SP'!$D150,'00 PDC SP'!J:J)","v":0},{"$f":"SUMIF('00 PDC SP'!$C:$C,'00 SP'!$D150,'00 PDC SP'!K:K)","v":0},{"$f":"SUMIF('00 PDC SP'!$C:$C,'00 SP'!$D150,'00 PDC SP'!L:L)","v":0},{"$f":"SUMIF('00 PDC SP'!$C:$C,'00 SP'!$D150,'00 PDC SP'!M:M)","v":0},{"$f":"SUMIF('00 PDC SP'!$C:$C,'00 SP'!$D150,'00 PDC SP'!N:N)","v":0}]
["ABA690","B.II.7.c) Crediti v/altri soggetti pubblici",null,"ABA690",30,{"$f":"SUMIF('00 PDC SP'!$C:$C,'00 SP'!$D151,'00 PDC SP'!H:H)","v":326902.56},{"$f":"SUMIF('00 PDC SP'!$C:$C,'00 SP'!$D151,'00 PDC SP'!I:I)","v":336002.45},{"$f":"SUMIF('00 PDC SP'!$C:$C,'00 SP'!$D151,'00 PDC SP'!J:J)","v":285698.33},{"$f":"SUMIF('00 PDC SP'!$C:$C,'00 SP'!$D151,'00 PDC SP'!K:K)","v":377206.68000000005},{"$f":"SUMIF('00 PDC SP'!$C:$C,'00 SP'!$D151,'00 PDC SP'!L:L)","v":422007.95},{"$f":"SUMIF('00 PDC SP'!$C:$C,'00 SP'!$D151,'00 PDC SP'!M:M)","v":404678.64},{"$f":"SUMIF('00 PDC SP'!$C:$C,'00 SP'!$D151,'00 PDC SP'!N:N)","v":394535.99000000005}]
["ABA700","B.II.7.d) Crediti v/altri soggetti pubblici per ricerca",null,"ABA700",30,{"$f":"SUMIF('00 PDC SP'!$C:$C,'00 SP'!$D152,'00 PDC SP'!H:H)","v":0},{"$f":"SUMIF('00 PDC SP'!$C:$C,'00 SP'!$D152,'00 PDC SP'!I:I)","v":0},{"$f":"SUMIF('00 PDC SP'!$C:$C,'00 SP'!$D152,'00 PDC SP'!J:J)","v":0},{"$f":"SUMIF('00 PDC SP'!$C:$C,'00 SP'!$D152,'00 PDC SP'!K:K)","v":0},{"$f":"SUMIF('00 PDC SP'!$C:$C,'00 SP'!$D152,'00 PDC SP'!L:L)","v":0},{"$f":"SUMIF('00 PDC SP'!$C:$C,'00 SP'!$D152,'00 PDC SP'!M:M)","v":0},{"$f":"SUMIF('00 PDC SP'!$C:$C,'00 SP'!$D152,'00 PDC SP'!N:N)","v":0}]
["ABA710","B.II.7.e) Altri crediti diversi",null,"ABA710",30,{"$f":"SUMIF('00 PDC SP'!$C:$C,'00 SP'!$D153,'00 PDC SP'!H:H)","v":911808.57},{"$f":"SUMIF('00 PDC SP'!$C:$C,'00 SP'!$D153,'00 PDC SP'!I:I)","v":3934140.24},{"$f":"SUMIF('00 PDC SP'!$C:$C,'00 SP'!$D153,'00 PDC SP'!J:J)","v":3964811.76},{"$f":"SUMIF('00 PDC SP'!$C:$C,'00 SP'!$D153,'00 PDC SP'!K:K)","v":881137.05},{"$f":"SUMIF('00 PDC SP'!$C:$C,'00 SP'!$D153,'00 PDC SP'!L:L)","v":1621398.5},{"$f":"SUMIF('00 PDC SP'!$C:$C,'00 SP'!$D153,'00 PDC SP'!M:M)","v":1616680.59},{"$f":"SUMIF('00 PDC SP'!$C:$C,'00 SP'!$D153,'00 PDC SP'!N:N)","v":885854.95999999973}]
["ABA720","B.III) ATTIVITA' FINANZIARIE CHE NON COSTITUISCONO IMMOBILIZZAZIONI","S","ABA720",null,{"$f":"SUM(F155:F156)","v":0},0,0,0,0,0,0]
["ABA730","B.III.1) Partecipazioni che non costituiscono immobilizzazioni",null,"ABA730",9,{"$f":"SUMIF('00 PDC SP'!$C:$C,'00 SP'!$D155,'00 PDC SP'!H:H)","v":0},{"$f":"SUMIF('00 PDC SP'!$C:$C,'00 SP'!$D155,'00 PDC SP'!I:I)","v":0},{"$f":"SUMIF('00 PDC SP'!$C:$C,'00 SP'!$D155,'00 PDC SP'!J:J)","v":0},{"$f":"SUMIF('00 PDC SP'!$C:$C,'00 SP'!$D155,'00 PDC SP'!K:K)","v":0},{"$f":"SUMIF('00 PDC SP'!$C:$C,'00 SP'!$D155,'00 PDC SP'!L:L)","v":0},{"$f":"SUMIF('00 PDC SP'!$C:$C,'00 SP'!$D155,'00 PDC SP'!M:M)","v":0},{"$f":"SUMIF('00 PDC SP'!$C:$C,'00 SP'!$D155,'00 PDC SP'!N:N)","v":0}]
["ABA740","B.III.2) Altri titoli che non costituiscono immobilizzazioni",null,"ABA740",9,{"$f":"SUMIF('00 PDC SP'!$C:$C,'00 SP'!$D156,'00 PDC SP'!H:H)","v":0},{"$f":"SUMIF('00 PDC SP'!$C:$C,'00 SP'!$D156,'00 PDC SP'!I:I)","v":0},{"$f":"SUMIF('00 PDC SP'!$C:$C,'00 SP'!$D156,'00 PDC SP'!J:J)","v":0},{"$f":"SUMIF('00 PDC SP'!$C:$C,'00 SP'!$D156,'00 PDC SP'!K:K)","v":0},{"$f":"SUMIF('00 PDC SP'!$C:$C,'00 SP'!$D156,'00 PDC SP'!L:L)","v":0},{"$f":"SUMIF('00 PDC SP'!$C:$C,'00 SP'!$D156,'00 PDC SP'!M:M)","v":0},{"$f":"SUMIF('00 PDC SP'!$C:$C,'00 SP'!$D156,'00 PDC SP'!N:N)","v":0}]
["ABA750","B.IV) DISPONIBILITA' LIQUIDE","S","ABA750",null,{"$f":"SUM(F158:F161)","v":94697272.819999993},562743731.34000003,628961113.01999998,28479891.139999997,675848777.68999994,631522086.30999994,72806582.520000026]
["ABA760","B.IV.1) Cassa",null,"ABA760",57,{"$f":"SUMIF('00 PDC SP'!$C:$C,'00 SP'!$D158,'00 PDC SP'!H:H)","v":15000},{"$f":"SUMIF('00 PDC SP'!$C:$C,'00 SP'!$D158,'00 PDC SP'!I:I)","v":51151.06},{"$f":"SUMIF('00 PDC SP'!$C:$C,'00 SP'!$D158,'00 PDC SP'!J:J)","v":46151.06},{"$f":"SUMIF('00 PDC SP'!$C:$C,'00 SP'!$D158,'00 PDC SP'!K:K)","v":20000},{"$f":"SUMIF('00 PDC SP'!$C:$C,'00 SP'!$D158,'00 PDC SP'!L:L)","v":90884.92},{"$f":"SUMIF('00 PDC SP'!$C:$C,'00 SP'!$D158,'00 PDC SP'!M:M)","v":90884.92},{"$f":"SUMIF('00 PDC SP'!$C:$C,'00 SP'!$D158,'00 PDC SP'!N:N)","v":20000}]
["ABA770","B.IV.2) Istituto Tesoriere",null,"ABA770",57,{"$f":"SUMIF('00 PDC SP'!$C:$C,'00 SP'!$D159,'00 PDC SP'!H:H)","v":94407697.019999996},{"$f":"SUMIF('00 PDC SP'!$C:$C,'00 SP'!$D159,'00 PDC SP'!I:I)","v":560795482.84000003},{"$f":"SUMIF('00 PDC SP'!$C:$C,'00 SP'!$D159,'00 PDC SP'!J:J)","v":628313295.46000004},{"$f":"SUMIF('00 PDC SP'!$C:$C,'00 SP'!$D159,'00 PDC SP'!K:K)","v":26889884.399999999},{"$f":"SUMIF('00 PDC SP'!$C:$C,'00 SP'!$D159,'00 PDC SP'!L:L)","v":674025083},{"$f":"SUMIF('00 PDC SP'!$C:$C,'00 SP'!$D159,'00 PDC SP'!M:M)","v":631356001.04999995},{"$f":"SUMIF('00 PDC SP'!$C:$C,'00 SP'!$D159,'00 PDC SP'!N:N)","v":69558966.350000024}]
["ABA780","B.IV.3) Tesoreria Unica",null,"ABA780",57,{"$f":"SUMIF('00 PDC SP'!$C:$C,'00 SP'!$D160,'00 PDC SP'!H:H)","v":0},{"$f":"SUMIF('00 PDC SP'!$C:$C,'00 SP'!$D160,'00 PDC SP'!I:I)","v":0},{"$f":"SUMIF('00 PDC SP'!$C:$C,'00 SP'!$D160,'00 PDC SP'!J:J)","v":0},{"$f":"SUMIF('00 PDC SP'!$C:$C,'00 SP'!$D160,'00 PDC SP'!K:K)","v":0},{"$f":"SUMIF('00 PDC SP'!$C:$C,'00 SP'!$D160,'00 PDC SP'!L:L)","v":0},{"$f":"SUMIF('00 PDC SP'!$C:$C,'00 SP'!$D160,'00 PDC SP'!M:M)","v":0},{"$f":"SUMIF('00 PDC SP'!$C:$C,'00 SP'!$D160,'00 PDC SP'!N:N)","v":0}]
["ABA790","B.IV.4) Conto corrente postale",null,"ABA790",57,{"$f":"SUMIF('00 PDC SP'!$C:$C,'00 SP'!$D161,'00 PDC SP'!H:H)","v":274575.8},{"$f":"SUMIF('00 PDC SP'!$C:$C,'00 SP'!$D161,'00 PDC SP'!I:I)","v":1897097.44},{"$f":"SUMIF('00 PDC SP'!$C:$C,'00 SP'!$D161,'00 PDC SP'!J:J)","v":601666.5},{"$f":"SUMIF('00 PDC SP'!$C:$C,'00 SP'!$D161,'00 PDC SP'!K:K)","v":1570006.74},{"$f":"SUMIF('00 PDC SP'!$C:$C,'00 SP'!$D161,'00 PDC SP'!L:L)","v":1732809.77},{"$f":"SUMIF('00 PDC SP'!$C:$C,'00 SP'!$D161,'00 PDC SP'!M:M)","v":75200.34},{"$f":"SUMIF('00 PDC SP'!$C:$C,'00 SP'!$D161,'00 PDC SP'!N:N)","v":3227616.17}]
["ACZ999","C) RATEI E RISCONTI ATTIVI","S","ACZ999",null,{"$f":"F163+F166","v":1890279.2},1502862.22,1890279.2,1502862.22,8698.51,1502862.22,8698.5100000000093]
["ACA000","C.I) RATEI ATTIVI","S","ACA000",null,{"$f":"SUM(F164:F165)","v":0},0,0,0,0,0,0]
["ACA010","C.I.1) Ratei attivi",null,"ACA010",33,{"$f":"SUMIF('00 PDC SP'!$C:$C,'00 SP'!$D164,'00 PDC SP'!H:H)","v":0},{"$f":"SUMIF('00 PDC SP'!$C:$C,'00 SP'!$D164,'00 PDC SP'!I:I)","v":0},{"$f":"SUMIF('00 PDC SP'!$C:$C,'00 SP'!$D164,'00 PDC SP'!J:J)","v":0},{"$f":"SUMIF('00 PDC SP'!$C:$C,'00 SP'!$D164,'00 PDC SP'!K:K)","v":0},{"$f":"SUMIF('00 PDC SP'!$C:$C,'00 SP'!$D164,'00 PDC SP'!L:L)","v":0},{"$f":"SUMIF('00 PDC SP'!$C:$C,'00 SP'!$D164,'00 PDC SP'!M:M)","v":0},{"$f":"SUMIF('00 PDC SP'!$C:$C,'00 SP'!$D164,'00 PDC SP'!N:N)","v":0}]
["ACA020","C.I.2) Ratei attivi v/Aziende sanitarie pubbliche della Regione",null,"ACA020",33,{"$f":"SUMIF('00 PDC SP'!$C:$C,'00 SP'!$D165,'00 PDC SP'!H:H)","v":0},{"$f":"SUMIF('00 PDC SP'!$C:$C,'00 SP'!$D165,'00 PDC SP'!I:I)","v":0},{"$f":"SUMIF('00 PDC SP'!$C:$C,'00 SP'!$D165,'00 PDC SP'!J:J)","v":0},{"$f":"SUMIF('00 PDC SP'!$C:$C,'00 SP'!$D165,'00 PDC SP'!K:K)","v":0},{"$f":"SUMIF('00 PDC SP'!$C:$C,'00 SP'!$D165,'00 PDC SP'!L:L)","v":0},{"$f":"SUMIF('00 PDC SP'!$C:$C,'00 SP'!$D165,'00 PDC SP'!M:M)","v":0},{"$f":"SUMIF('00 PDC SP'!$C:$C,'00 SP'!$D165,'00 PDC SP'!N:N)","v":0}]
["ACA030","C.II) RISCONTI ATTIVI","S","ACA030",null,{"$f":"SUM(F167:F168)","v":1890279.2},1502862.22,1890279.2,1502862.22,8698.51,1502862.22,8698.5100000000093]
["ACA040","C.II.1) Risconti attivi",null,"ACA040",33,{"$f":"SUMIF('00 PDC SP'!$C:$C,'00 SP'!$D167,'00 PDC SP'!H:H)","v":1890279.2},{"$f":"SUMIF('00 PDC SP'!$C:$C,'00 SP'!$D167,'00 PDC SP'!I:I)","v":1502862.22},{"$f":"SUMIF('00 PDC SP'!$C:$C,'00 SP'!$D167,'00 PDC SP'!J:J)","v":1890279.2},{"$f":"SUMIF('00 PDC SP'!$C:$C,'00 SP'!$D167,'00 PDC SP'!K:K)","v":1502862.22},{"$f":"SUMIF('00 PDC SP'!$C:$C,'00 SP'!$D167,'00 PDC SP'!L:L)","v":8698.51},{"$f":"SUMIF('00 PDC SP'!$C:$C,'00 SP'!$D167,'00 PDC SP'!M:M)","v":1502862.22},{"$f":"SUMIF('00 PDC SP'!$C:$C,'00 SP'!$D167,'00 PDC SP'!N:N)","v":8698.5100000000093}]
["ACA050","C.II.2) Risconti attivi v/Aziende sanitarie pubbliche della Regione",null,"ACA050",33,{"$f":"SUMIF('00 PDC SP'!$C:$C,'00 SP'!$D168,'00 PDC SP'!H:H)","v":0},{"$f":"SUMIF('00 PDC SP'!$C:$C,'00 SP'!$D168,'00 PDC SP'!I:I)","v":0},{"$f":"SUMIF('00 PDC SP'!$C:$C,'00 SP'!$D168,'00 PDC SP'!J:J)","v":0},{"$f":"SUMIF('00 PDC SP'!$C:$C,'00 SP'!$D168,'00 PDC SP'!K:K)","v":0},{"$f":"SUMIF('00 PDC SP'!$C:$C,'00 SP'!$D168,'00 PDC SP'!L:L)","v":0},{"$f":"SUMIF('00 PDC SP'!$C:$C,'00 SP'!$D168,'00 PDC SP'!M:M)","v":0},{"$f":"SUMIF('00 PDC SP'!$C:$C,'00 SP'!$D168,'00 PDC SP'!N:N)","v":0}]
["ADZ999","D) CONTI D'ORDINE","S","ADZ999",null,{"$f":"SUM(F170:F173)","v":986370},0,986370,0,0,0,0]
["ADA000","D.I) CANONI DI LEASING ANCORA DA PAGARE",null,"ADA000",null,{"$f":"SUMIF('00 PDC SP'!$C:$C,'00 SP'!$D170,'00 PDC SP'!H:H)","v":986370},{"$f":"SUMIF('00 PDC SP'!$C:$C,'00 SP'!$D170,'00 PDC SP'!I:I)","v":0},{"$f":"SUMIF('00 PDC SP'!$C:$C,'00 SP'!$D170,'00 PDC SP'!J:J)","v":986370},{"$f":"SUMIF('00 PDC SP'!$C:$C,'00 SP'!$D170,'00 PDC SP'!K:K)","v":0},{"$f":"SUMIF('00 PDC SP'!$C:$C,'00 SP'!$D170,'00 PDC SP'!L:L)","v":0},{"$f":"SUMIF('00 PDC SP'!$C:$C,'00 SP'!$D170,'00 PDC SP'!M:M)","v":0},{"$f":"SUMIF('00 PDC SP'!$C:$C,'00 SP'!$D170,'00 PDC SP'!N:N)","v":0}]
["ADA010","D.II) DEPOSITI CAUZIONALI",null,"ADA010",null,{"$f":"SUMIF('00 PDC SP'!$C:$C,'00 SP'!$D171,'00 PDC SP'!H:H)","v":0},{"$f":"SUMIF('00 PDC SP'!$C:$C,'00 SP'!$D171,'00 PDC SP'!I:I)","v":0},{"$f":"SUMIF('00 PDC SP'!$C:$C,'00 SP'!$D171,'00 PDC SP'!J:J)","v":0},{"$f":"SUMIF('00 PDC SP'!$C:$C,'00 SP'!$D171,'00 PDC SP'!K:K)","v":0},{"$f":"SUMIF('00 PDC SP'!$C:$C,'00 SP'!$D171,'00 PDC SP'!L:L)","v":0},{"$f":"SUMIF('00 PDC SP'!$C:$C,'00 SP'!$D171,'00 PDC SP'!M:M)","v":0},{"$f":"SUMIF('00 PDC SP'!$C:$C,'00 SP'!$D171,'00 PDC SP'!N:N)","v":0}]
["ADA020","D.III) BENI IN COMODATO",null,"ADA020",null,{"$f":"SUMIF('00 PDC SP'!$C:$C,'00 SP'!$D172,'00 PDC SP'!H:H)","v":0},{"$f":"SUMIF('00 PDC SP'!$C:$C,'00 SP'!$D172,'00 PDC SP'!I:I)","v":0},{"$f":"SUMIF('00 PDC SP'!$C:$C,'00 SP'!$D172,'00 PDC SP'!J:J)","v":0},{"$f":"SUMIF('00 PDC SP'!$C:$C,'00 SP'!$D172,'00 PDC SP'!K:K)","v":0},{"$f":"SUMIF('00 PDC SP'!$C:$C,'00 SP'!$D172,'00 PDC SP'!L:L)","v":0},{"$f":"SUMIF('00 PDC SP'!$C:$C,'00 SP'!$D172,'00 PDC SP'!M:M)","v":0},{"$f":"SUMIF('00 PDC SP'!$C:$C,'00 SP'!$D172,'00 PDC SP'!N:N)","v":0}]
["ADA030","D.IV) ALTRI CONTI D'ORDINE",null,"ADA030",null,{"$f":"SUMIF('00 PDC SP'!$C:$C,'00 SP'!$D173,'00 PDC SP'!H:H)","v":0},{"$f":"SUMIF('00 PDC SP'!$C:$C,'00 SP'!$D173,'00 PDC SP'!I:I)","v":0},{"$f":"SUMIF('00 PDC SP'!$C:$C,'00 SP'!$D173,'00 PDC SP'!J:J)","v":0},{"$f":"SUMIF('00 PDC SP'!$C:$C,'00 SP'!$D173,'00 PDC SP'!K:K)","v":0},{"$f":"SUMIF('00 PDC SP'!$C:$C,'00 SP'!$D173,'00 PDC SP'!L:L)","v":0},{"$f":"SUMIF('00 PDC SP'!$C:$C,'00 SP'!$D173,'00 PDC SP'!M:M)","v":0},{"$f":"SUMIF('00 PDC SP'!$C:$C,'00 SP'!$D173,'00 PDC SP'!N:N)","v":0}]
["PAZ999","A) PATRIMONIO NETTO","S","PAZ999",null,{"$f":"F175+F176+F185+F186+F192+F196+F197","v":108817121.25},73216573.400000006,71086503.620000005,110947191.03,66014604.990000002,68477454.540000007,108484341.47999997]
["PAA000","A.I) FONDO DI DOTAZIONE",null,"PAA000",53,{"$f":"SUMIF('00 PDC SP'!$C:$C,'00 SP'!$D175,'00 PDC SP'!H:H)","v":0},{"$f":"SUMIF('00 PDC SP'!$C:$C,'00 SP'!$D175,'00 PDC SP'!I:I)","v":0},{"$f":"SUMIF('00 PDC SP'!$C:$C,'00 SP'!$D175,'00 PDC SP'!J:J)","v":0},{"$f":"SUMIF('00 PDC SP'!$C:$C,'00 SP'!$D175,'00 PDC SP'!K:K)","v":0},{"$f":"SUMIF('00 PDC SP'!$C:$C,'00 SP'!$D175,'00 PDC SP'!L:L)","v":0},{"$f":"SUMIF('00 PDC SP'!$C:$C,'00 SP'!$D175,'00 PDC SP'!M:M)","v":0},{"$f":"SUMIF('00 PDC SP'!$C:$C,'00 SP'!$D175,'00 PDC SP'!N:N)","v":0}]
["PAA010","A.II) FINANZIAMENTI PER INVESTIMENTI","S","PAA010",null,{"$f":"F177+F178+F182+F183+F184","v":121852216.05},8909799.1099999994,8451109.4199999999,122310905.73999999,6628571.3899999997,9776707.0800000001,119162770.04999998]
["PAA020","A.II.1) Finanziamenti per beni di prima dotazione",null,"PAA020",5,{"$f":"SUMIF('00 PDC SP'!$C:$C,'00 SP'!$D177,'00 PDC SP'!H:H)","v":70863817.599999994},{"$f":"SUMIF('00 PDC SP'!$C:$C,'00 SP'!$D177,'00 PDC SP'!I:I)","v":0},{"$f":"SUMIF('00 PDC SP'!$C:$C,'00 SP'!$D177,'00 PDC SP'!J:J)","v":3577467.93},{"$f":"SUMIF('00 PDC SP'!$C:$C,'00 SP'!$D177,'00 PDC SP'!K:K)","v":67286349.670000002},{"$f":"SUMIF('00 PDC SP'!$C:$C,'00 SP'!$D177,'00 PDC SP'!L:L)","v":0},{"$f":"SUMIF('00 PDC SP'!$C:$C,'00 SP'!$D177,'00 PDC SP'!M:M)","v":3577467.93},{"$f":"SUMIF('00 PDC SP'!$C:$C,'00 SP'!$D177,'00 PDC SP'!N:N)","v":63708881.740000002}]
["PAA030","A.II.2) Finanziamenti da Stato per investimenti","S","PAA030",null,{"$f":"SUM(F179:F181)","v":0},0,0,0,0,0,0]
["PAA040","A.II.2.a) Finanziamenti da Stato per investimenti - ex art. 20 legge 67/88",null,"PAA040",5,{"$f":"SUMIF('00 PDC SP'!$C:$C,'00 SP'!$D179,'00 PDC SP'!H:H)","v":0},{"$f":"SUMIF('00 PDC SP'!$C:$C,'00 SP'!$D179,'00 PDC SP'!I:I)","v":0},{"$f":"SUMIF('00 PDC SP'!$C:$C,'00 SP'!$D179,'00 PDC SP'!J:J)","v":0},{"$f":"SUMIF('00 PDC SP'!$C:$C,'00 SP'!$D179,'00 PDC SP'!K:K)","v":0},{"$f":"SUMIF('00 PDC SP'!$C:$C,'00 SP'!$D179,'00 PDC SP'!L:L)","v":0},{"$f":"SUMIF('00 PDC SP'!$C:$C,'00 SP'!$D179,'00 PDC SP'!M:M)","v":0},{"$f":"SUMIF('00 PDC SP'!$C:$C,'00 SP'!$D179,'00 PDC SP'!N:N)","v":0}]
["PAA050","A.II.2.b) Finanziamenti da Stato per investimenti - ricerca",null,"PAA050",5,{"$f":"SUMIF('00 PDC SP'!$C:$C,'00 SP'!$D180,'00 PDC SP'!H:H)","v":0},{"$f":"SUMIF('00 PDC SP'!$C:$C,'00 SP'!$D180,'00 PDC SP'!I:I)","v":0},{"$f":"SUMIF('00 PDC SP'!$C:$C,'00 SP'!$D180,'00 PDC SP'!J:J)","v":0},{"$f":"SUMIF('00 PDC SP'!$C:$C,'00 SP'!$D180,'00 PDC SP'!K:K)","v":0},{"$f":"SUMIF('00 PDC SP'!$C:$C,'00 SP'!$D180,'00 PDC SP'!L:L)","v":0},{"$f":"SUMIF('00 PDC SP'!$C:$C,'00 SP'!$D180,'00 PDC SP'!M:M)","v":0},{"$f":"SUMIF('00 PDC SP'!$C:$C,'00 SP'!$D180,'00 PDC SP'!N:N)","v":0}]
["PAA060","A.II.2.c) Finanziamenti da Stato per investimenti - altro",null,"PAA060",5,{"$f":"SUMIF('00 PDC SP'!$C:$C,'00 SP'!$D181,'00 PDC SP'!H:H)","v":0},{"$f":"SUMIF('00 PDC SP'!$C:$C,'00 SP'!$D181,'00 PDC SP'!I:I)","v":0},{"$f":"SUMIF('00 PDC SP'!$C:$C,'00 SP'!$D181,'00 PDC SP'!J:J)","v":0},{"$f":"SUMIF('00 PDC SP'!$C:$C,'00 SP'!$D181,'00 PDC SP'!K:K)","v":0},{"$f":"SUMIF('00 PDC SP'!$C:$C,'00 SP'!$D181,'00 PDC SP'!L:L)","v":0},{"$f":"SUMIF('00 PDC SP'!$C:$C,'00 SP'!$D181,'00 PDC SP'!M:M)","v":0},{"$f":"SUMIF('00 PDC SP'!$C:$C,'00 SP'!$D181,'00 PDC SP'!N:N)","v":0}]
["PAA070","A.II.3) Finanziamenti da Regione per investimenti",null,"PAA070",5,{"$f":"SUMIF('00 PDC SP'!$C:$C,'00 SP'!$D182,'00 PDC SP'!H:H)","v":40355049.810000002},{"$f":"SUMIF('00 PDC SP'!$C:$C,'00 SP'!$D182,'00 PDC SP'!I:I)","v":122240},{"$f":"SUMIF('00 PDC SP'!$C:$C,'00 SP'!$D182,'00 PDC SP'!J:J)","v":1574332.01},{"$f":"SUMIF('00 PDC SP'!$C:$C,'00 SP'!$D182,'00 PDC SP'!K:K)","v":38902957.799999997},{"$f":"SUMIF('00 PDC SP'!$C:$C,'00 SP'!$D182,'00 PDC SP'!L:L)","v":122252.5},{"$f":"SUMIF('00 PDC SP'!$C:$C,'00 SP'!$D182,'00 PDC SP'!M:M)","v":1468544.84},{"$f":"SUMIF('00 PDC SP'!$C:$C,'00 SP'!$D182,'00 PDC SP'!N:N)","v":37556665.459999993}]
["PAA080","A.II.4) Finanziamenti da altri soggetti pubblici per investimenti",null,"PAA080",5,{"$f":"SUMIF('00 PDC SP'!$C:$C,'00 SP'!$D183,'00 PDC SP'!H:H)","v":0},{"$f":"SUMIF('00 PDC SP'!$C:$C,'00 SP'!$D183,'00 PDC SP'!I:I)","v":0},{"$f":"SUMIF('00 PDC SP'!$C:$C,'00 SP'!$D183,'00 PDC SP'!J:J)","v":0},{"$f":"SUMIF('00 PDC SP'!$C:$C,'00 SP'!$D183,'00 PDC SP'!K:K)","v":0},{"$f":"SUMIF('00 PDC SP'!$C:$C,'00 SP'!$D183,'00 PDC SP'!L:L)","v":0},{"$f":"SUMIF('00 PDC SP'!$C:$C,'00 SP'!$D183,'00 PDC SP'!M:M)","v":0},{"$f":"SUMIF('00 PDC SP'!$C:$C,'00 SP'!$D183,'00 PDC SP'!N:N)","v":0}]
["PAA090","A.II.5) Finanziamenti per investimenti da rettifica contributi in conto esercizio",null,"PAA090",5,{"$f":"SUMIF('00 PDC SP'!$C:$C,'00 SP'!$D184,'00 PDC SP'!H:H)","v":10633348.640000001},{"$f":"SUMIF('00 PDC SP'!$C:$C,'00 SP'!$D184,'00 PDC SP'!I:I)","v":8787559.1099999994},{"$f":"SUMIF('00 PDC SP'!$C:$C,'00 SP'!$D184,'00 PDC SP'!J:J)","v":3299309.48},{"$f":"SUMIF('00 PDC SP'!$C:$C,'00 SP'!$D184,'00 PDC SP'!K:K)","v":16121598.27},{"$f":"SUMIF('00 PDC SP'!$C:$C,'00 SP'!$D184,'00 PDC SP'!L:L)","v":6506318.8899999997},{"$f":"SUMIF('00 PDC SP'!$C:$C,'00 SP'!$D184,'00 PDC SP'!M:M)","v":4730694.3099999996},{"$f":"SUMIF('00 PDC SP'!$C:$C,'00 SP'!$D184,'00 PDC SP'!N:N)","v":17897222.850000001}]
["PAA100","A.III) RISERVE DA DONAZIONI E LASCITI VINCOLATI AD INVESTIMENTI",null,"PAA100",53,{"$f":"SUMIF('00 PDC SP'!$C:$C,'00 SP'!$D185,'00 PDC SP'!H:H)","v":205856.51},{"$f":"SUMIF('00 PDC SP'!$C:$C,'00 SP'!$D185,'00 PDC SP'!I:I)","v":20519.150000000001},{"$f":"SUMIF('00 PDC SP'!$C:$C,'00 SP'!$D185,'00 PDC SP'!J:J)","v":55380.81},{"$f":"SUMIF('00 PDC SP'!$C:$C,'00 SP'!$D185,'00 PDC SP'!K:K)","v":170994.85},{"$f":"SUMIF('00 PDC SP'!$C:$C,'00 SP'!$D185,'00 PDC SP'!L:L)","v":78486.47},{"$f":"SUMIF('00 PDC SP'!$C:$C,'00 SP'!$D185,'00 PDC SP'!M:M)","v":48286.07},{"$f":"SUMIF('00 PDC SP'!$C:$C,'00 SP'!$D185,'00 PDC SP'!N:N)","v":201195.25}]
["PAA110","A.IV) ALTRE RISERVE","S","PAA110",null,{"$f":"SUM(F187:F191)","v":0},2730000,0,2730000,0,0,2730000]
["PAA120","A.IV.1) Riserve da rivalutazioni",null,"PAA120",6,{"$f":"SUMIF('00 PDC SP'!$C:$C,'00 SP'!$D187,'00 PDC SP'!H:H)","v":0},{"$f":"SUMIF('00 PDC SP'!$C:$C,'00 SP'!$D187,'00 PDC SP'!I:I)","v":0},{"$f":"SUMIF('00 PDC SP'!$C:$C,'00 SP'!$D187,'00 PDC SP'!J:J)","v":0},{"$f":"SUMIF('00 PDC SP'!$C:$C,'00 SP'!$D187,'00 PDC SP'!K:K)","v":0},{"$f":"SUMIF('00 PDC SP'!$C:$C,'00 SP'!$D187,'00 PDC SP'!L:L)","v":0},{"$f":"SUMIF('00 PDC SP'!$C:$C,'00 SP'!$D187,'00 PDC SP'!M:M)","v":0},{"$f":"SUMIF('00 PDC SP'!$C:$C,'00 SP'!$D187,'00 PDC SP'!N:N)","v":0}]
["PAA130","A.IV.2) Riserve da plusvalenze da reinvestire",null,"PAA130",6,{"$f":"SUMIF('00 PDC SP'!$C:$C,'00 SP'!$D188,'00 PDC SP'!H:H)","v":0},{"$f":"SUMIF('00 PDC SP'!$C:$C,'00 SP'!$D188,'00 PDC SP'!I:I)","v":0},{"$f":"SUMIF('00 PDC SP'!$C:$C,'00 SP'!$D188,'00 PDC SP'!J:J)","v":0},{"$f":"SUMIF('00 PDC SP'!$C:$C,'00 SP'!$D188,'00 PDC SP'!K:K)","v":0},{"$f":"SUMIF('00 PDC SP'!$C:$C,'00 SP'!$D188,'00 PDC SP'!L:L)","v":0},{"$f":"SUMIF('00 PDC SP'!$C:$C,'00 SP'!$D188,'00 PDC SP'!M:M)","v":0},{"$f":"SUMIF('00 PDC SP'!$C:$C,'00 SP'!$D188,'00 PDC SP'!N:N)","v":0}]
["PAA140","A.IV.3) Contributi da reinvestire",null,"PAA140",6,{"$f":"SUMIF('00 PDC SP'!$C:$C,'00 SP'!$D189,'00 PDC SP'!H:H)","v":0},{"$f":"SUMIF('00 PDC SP'!$C:$C,'00 SP'!$D189,'00 PDC SP'!I:I)","v":0},{"$f":"SUMIF('00 PDC SP'!$C:$C,'00 SP'!$D189,'00 PDC SP'!J:J)","v":0},{"$f":"SUMIF('00 PDC SP'!$C:$C,'00 SP'!$D189,'00 PDC SP'!K:K)","v":0},{"$f":"SUMIF('00 PDC SP'!$C:$C,'00 SP'!$D189,'00 PDC SP'!L:L)","v":0},{"$f":"SUMIF('00 PDC SP'!$C:$C,'00 SP'!$D189,'00 PDC SP'!M:M)","v":0},{"$f":"SUMIF('00 PDC SP'!$C:$C,'00 SP'!$D189,'00 PDC SP'!N:N)","v":0}]
["PAA150","A.IV.4) Riserve da utili di esercizio destinati ad investimenti",null,"PAA150",6,{"$f":"SUMIF('00 PDC SP'!$C:$C,'00 SP'!$D190,'00 PDC SP'!H:H)","v":0},{"$f":"SUMIF('00 PDC SP'!$C:$C,'00 SP'!$D190,'00 PDC SP'!I:I)","v":0},{"$f":"SUMIF('00 PDC SP'!$C:$C,'00 SP'!$D190,'00 PDC SP'!J:J)","v":0},{"$f":"SUMIF('00 PDC SP'!$C:$C,'00 SP'!$D190,'00 PDC SP'!K:K)","v":0},{"$f":"SUMIF('00 PDC SP'!$C:$C,'00 SP'!$D190,'00 PDC SP'!L:L)","v":0},{"$f":"SUMIF('00 PDC SP'!$C:$C,'00 SP'!$D190,'00 PDC SP'!M:M)","v":0},{"$f":"SUMIF('00 PDC SP'!$C:$C,'00 SP'!$D190,'00 PDC SP'!N:N)","v":0}]
["PAA160","A.IV.5) Riserve diverse",null,"PAA160",6,{"$f":"SUMIF('00 PDC SP'!$C:$C,'00 SP'!$D191,'00 PDC SP'!H:H)","v":0},{"$f":"SUMIF('00 PDC SP'!$C:$C,'00 SP'!$D191,'00 PDC SP'!I:I)","v":2730000},{"$f":"SUMIF('00 PDC SP'!$C:$C,'00 SP'!$D191,'00 PDC SP'!J:J)","v":0},{"$f":"SUMIF('00 PDC SP'!$C:$C,'00 SP'!$D191,'00 PDC SP'!K:K)","v":2730000},{"$f":"SUMIF('00 PDC SP'!$C:$C,'00 SP'!$D191,'00 PDC SP'!L:L)","v":0},{"$f":"SUMIF('00 PDC SP'!$C:$C,'00 SP'!$D191,'00 PDC SP'!M:M)","v":0},{"$f":"SUMIF('00 PDC SP'!$C:$C,'00 SP'!$D191,'00 PDC SP'!N:N)","v":2730000}]
["PAA170","A.V) CONTRIBUTI PER RIPIANO PERDITE","S","PAA170",null,{"$f":"SUM(F193:F195)","v":0},30778127.57,0,30778127.57,14264710,30778127.57,14264710]
["PAA180","A.V.1) Contributi per copertura debiti al 31/12/2005",null,"PAA180",53,{"$f":"SUMIF('00 PDC SP'!$C:$C,'00 SP'!$D193,'00 PDC SP'!H:H)","v":0},{"$f":"SUMIF('00 PDC SP'!$C:$C,'00 SP'!$D193,'00 PDC SP'!I:I)","v":0},{"$f":"SUMIF('00 PDC SP'!$C:$C,'00 SP'!$D193,'00 PDC SP'!J:J)","v":0},{"$f":"SUMIF('00 PDC SP'!$C:$C,'00 SP'!$D193,'00 PDC SP'!K:K)","v":0},{"$f":"SUMIF('00 PDC SP'!$C:$C,'00 SP'!$D193,'00 PDC SP'!L:L)","v":0},{"$f":"SUMIF('00 PDC SP'!$C:$C,'00 SP'!$D193,'00 PDC SP'!M:M)","v":0},{"$f":"SUMIF('00 PDC SP'!$C:$C,'00 SP'!$D193,'00 PDC SP'!N:N)","v":0}]
["PAA190","A.V.2) Contributi per ricostituzione risorse da investimenti esercizi precedenti",null,"PAA190",53,{"$f":"SUMIF('00 PDC SP'!$C:$C,'00 SP'!$D194,'00 PDC SP'!H:H)","v":0},{"$f":"SUMIF('00 PDC SP'!$C:$C,'00 SP'!$D194,'00 PDC SP'!I:I)","v":0},{"$f":"SUMIF('00 PDC SP'!$C:$C,'00 SP'!$D194,'00 PDC SP'!J:J)","v":0},{"$f":"SUMIF('00 PDC SP'!$C:$C,'00 SP'!$D194,'00 PDC SP'!K:K)","v":0},{"$f":"SUMIF('00 PDC SP'!$C:$C,'00 SP'!$D194,'00 PDC SP'!L:L)","v":0},{"$f":"SUMIF('00 PDC SP'!$C:$C,'00 SP'!$D194,'00 PDC SP'!M:M)","v":0},{"$f":"SUMIF('00 PDC SP'!$C:$C,'00 SP'!$D194,'00 PDC SP'!N:N)","v":0}]
["PAA200","A.V.3) Altro",null,"PAA200",53,{"$f":"SUMIF('00 PDC SP'!$C:$C,'00 SP'!$D195,'00 PDC SP'!H:H)","v":0},{"$f":"SUMIF('00 PDC SP'!$C:$C,'00 SP'!$D195,'00 PDC SP'!I:I)","v":30778127.57},{"$f":"SUMIF('00 PDC SP'!$C:$C,'00 SP'!$D195,'00 PDC SP'!J:J)","v":0},{"$f":"SUMIF('00 PDC SP'!$C:$C,'00 SP'!$D195,'00 PDC SP'!K:K)","v":30778127.57},{"$f":"SUMIF('00 PDC SP'!$C:$C,'00 SP'!$D195,'00 PDC SP'!L:L)","v":14264710},{"$f":"SUMIF('00 PDC SP'!$C:$C,'00 SP'!$D195,'00 PDC SP'!M:M)","v":30778127.57},{"$f":"SUMIF('00 PDC SP'!$C:$C,'00 SP'!$D195,'00 PDC SP'!N:N)","v":14264710}]
["PAA210","A.VI) UTILI (PERDITE) PORTATI A NUOVO",null,"PAA210",53,{"$f":"SUMIF('00 PDC SP'!$C:$C,'00 SP'!$D196,'00 PDC SP'!H:H)","v":17537176.260000002},{"$f":"SUMIF('00 PDC SP'!$C:$C,'00 SP'!$D196,'00 PDC SP'!I:I)","v":0},{"$f":"SUMIF('00 PDC SP'!$C:$C,'00 SP'!$D196,'00 PDC SP'!J:J)","v":48315303.829999998},{"$f":"SUMIF('00 PDC SP'!$C:$C,'00 SP'!$D196,'00 PDC SP'!K:K)","v":-30778127.57},{"$f":"SUMIF('00 PDC SP'!$C:$C,'00 SP'!$D196,'00 PDC SP'!L:L)","v":30778127.57},{"$f":"SUMIF('00 PDC SP'!$C:$C,'00 SP'!$D196,'00 PDC SP'!M:M)","v":14264709.560000001},{"$f":"SUMIF('00 PDC SP'!$C:$C,'00 SP'!$D196,'00 PDC SP'!N:N)","v":-14264709.560000001}]
["PAA220","A.VII) UTILE (PERDITA) D'ESERCIZIO",null,"PAA220",53,{"$f":"SUMIF('00 PDC SP'!$C:$C,'00 SP'!$D197,'00 PDC SP'!H:H)","v":-30778127.57},{"$f":"SUMIF('00 PDC SP'!$C:$C,'00 SP'!$D197,'00 PDC SP'!I:I)","v":30778127.57},{"$f":"SUMIF('00 PDC SP'!$C:$C,'00 SP'!$D197,'00 PDC SP'!J:J)","v":14264709.560000001},{"$f":"SUMIF('00 PDC SP'!$C:$C,'00 SP'!$D197,'00 PDC SP'!K:K)","v":-14264709.560000001},{"$f":"SUMIF('00 PDC SP'!$C:$C,'00 SP'!$D197,'00 PDC SP'!L:L)","v":14264709.560000001},{"$f":"SUMIF('00 PDC SP'!$C:$C,'00 SP'!$D197,'00 PDC SP'!M:M)","v":13609624.26},{"$f":"SUMIF('00 PDC SP'!$C:$C,'00 SP'!$D197,'00 PDC SP'!N:N)","v":-13609624.26}]
["PBZ999","B) FONDI PER RISCHI E ONERI","S","PBZ999",null,{"$f":"F199+F200+F206+F214+F219","v":75376839.629999995},11690370.41,16080461.809999999,70986748.230000004,27369043.699999999,12603218.6,85752573.329999998]
["PBA000","B.I) FONDI PER IMPOSTE, ANCHE DIFFERITE",null,"PBA000",11,{"$f":"SUMIF('00 PDC SP'!$C:$C,'00 SP'!$D199,'00 PDC SP'!H:H)*-1","v":205513.69},{"$f":"SUMIF('00 PDC SP'!$C:$C,'00 SP'!$D199,'00 PDC SP'!I:I)*-1","v":0},{"$f":"SUMIF('00 PDC SP'!$C:$C,'00 SP'!$D199,'00 PDC SP'!J:J)*-1","v":205513.69},{"$f":"SUMIF('00 PDC SP'!$C:$C,'00 SP'!$D199,'00 PDC SP'!K:K)*-1","v":0},{"$f":"SUMIF('00 PDC SP'!$C:$C,'00 SP'!$D199,'00 PDC SP'!L:L)*-1","v":0},{"$f":"SUMIF('00 PDC SP'!$C:$C,'00 SP'!$D199,'00 PDC SP'!M:M)*-1","v":0},{"$f":"SUMIF('00 PDC SP'!$C:$C,'00 SP'!$D199,'00 PDC SP'!N:N)*-1","v":0}]
["PBA010","B.II) FONDI PER RISCHI","S","PBA010",null,{"$f":"SUM(F201:F205)","v":42169594.189999998},{"$f":"SUM(G201:G205)","v":6356376.7999999998},11995588.65,36530382.340000004,17313713.75,7504037.5800000001,46340058.509999998]
["PBA020","B.II.1) Fondo rischi per cause civili ed oneri processuali",null,"PBA020",11,{"$f":"SUMIF('00 PDC SP'!$C:$C,'00 SP'!$D201,'00 PDC SP'!H:H)*-1","v":7400000},{"$f":"SUMIF('00 PDC SP'!$C:$C,'00 SP'!$D201,'00 PDC SP'!I:I)*-1","v":2008370.76},{"$f":"SUMIF('00 PDC SP'!$C:$C,'00 SP'!$D201,'00 PDC SP'!J:J)*-1","v":2258370.7599999998},{"$f":"SUMIF('00 PDC SP'!$C:$C,'00 SP'!$D201,'00 PDC SP'!K:K)*-1","v":7150000},{"$f":"SUMIF('00 PDC SP'!$C:$C,'00 SP'!$D201,'00 PDC SP'!L:L)*-1","v":9280260.1600000001},{"$f":"SUMIF('00 PDC SP'!$C:$C,'00 SP'!$D201,'00 PDC SP'!M:M)*-1","v":165038.16},{"$f":"SUMIF('00 PDC SP'!$C:$C,'00 SP'!$D201,'00 PDC SP'!N:N)*-1","v":16265222}]
["PBA030","B.II.2) Fondo rischi per contenzioso personale dipendente",null,"PBA030",11,{"$f":"SUMIF('00 PDC SP'!$C:$C,'00 SP'!$D202,'00 PDC SP'!H:H)*-1","v":1000000},{"$f":"SUMIF('00 PDC SP'!$C:$C,'00 SP'!$D202,'00 PDC SP'!I:I)*-1","v":666865.78},{"$f":"SUMIF('00 PDC SP'!$C:$C,'00 SP'!$D202,'00 PDC SP'!J:J)*-1","v":416865.78},{"$f":"SUMIF('00 PDC SP'!$C:$C,'00 SP'!$D202,'00 PDC SP'!K:K)*-1","v":1250000},{"$f":"SUMIF('00 PDC SP'!$C:$C,'00 SP'!$D202,'00 PDC SP'!L:L)*-1","v":563110.28},{"$f":"SUMIF('00 PDC SP'!$C:$C,'00 SP'!$D202,'00 PDC SP'!M:M)*-1","v":563110.28},{"$f":"SUMIF('00 PDC SP'!$C:$C,'00 SP'!$D202,'00 PDC SP'!N:N)*-1","v":1250000}]
["PBA040","B.II.3) Fondo rischi connessi all'acquisto di prestazioni sanitarie da privato",null,"PBA040",11,{"$f":"SUMIF('00 PDC SP'!$C:$C,'00 SP'!$D203,'00 PDC SP'!H:H)*-1","v":29269594.190000001},{"$f":"SUMIF('00 PDC SP'!$C:$C,'00 SP'!$D203,'00 PDC SP'!I:I)*-1","v":0},{"$f":"SUMIF('00 PDC SP'!$C:$C,'00 SP'!$D203,'00 PDC SP'!J:J)*-1","v":6639211.8499999996},{"$f":"SUMIF('00 PDC SP'!$C:$C,'00 SP'!$D203,'00 PDC SP'!K:K)*-1","v":22630382.34},{"$f":"SUMIF('00 PDC SP'!$C:$C,'00 SP'!$D203,'00 PDC SP'!L:L)*-1","v":4358962},{"$f":"SUMIF('00 PDC SP'!$C:$C,'00 SP'!$D203,'00 PDC SP'!M:M)*-1","v":3664507.83},{"$f":"SUMIF('00 PDC SP'!$C:$C,'00 SP'!$D203,'00 PDC SP'!N:N)*-1","v":23324836.509999998}]
["PBA050","B.II.4) Fondo rischi per copertura diretta dei rischi (autoassicurazione)",null,"PBA050",11,{"$f":"SUMIF('00 PDC SP'!$C:$C,'00 SP'!$D204,'00 PDC SP'!H:H)*-1","v":4500000},{"$f":"SUMIF('00 PDC SP'!$C:$C,'00 SP'!$D204,'00 PDC SP'!I:I)*-1","v":3681140.26},{"$f":"SUMIF('00 PDC SP'!$C:$C,'00 SP'!$D204,'00 PDC SP'!J:J)*-1","v":2681140.2599999998},{"$f":"SUMIF('00 PDC SP'!$C:$C,'00 SP'!$D204,'00 PDC SP'!K:K)*-1","v":5500000},{"$f":"SUMIF('00 PDC SP'!$C:$C,'00 SP'!$D204,'00 PDC SP'!L:L)*-1","v":3111381.31},{"$f":"SUMIF('00 PDC SP'!$C:$C,'00 SP'!$D204,'00 PDC SP'!M:M)*-1","v":3111381.31},{"$f":"SUMIF('00 PDC SP'!$C:$C,'00 SP'!$D204,'00 PDC SP'!N:N)*-1","v":5500000}]
["PBA060","B.II.5) Altri fondi rischi",null,"PBA060",11,{"$f":"SUMIF('00 PDC SP'!$C:$C,'00 SP'!$D205,'00 PDC SP'!H:H)*-1","v":0},{"$f":"SUMIF('00 PDC SP'!$C:$C,'00 SP'!$D205,'00 PDC SP'!I:I)*-1","v":0},{"$f":"SUMIF('00 PDC SP'!$C:$C,'00 SP'!$D205,'00 PDC SP'!J:J)*-1","v":0},{"$f":"SUMIF('00 PDC SP'!$C:$C,'00 SP'!$D205,'00 PDC SP'!K:K)*-1","v":0},{"$f":"SUMIF('00 PDC SP'!$C:$C,'00 SP'!$D205,'00 PDC SP'!L:L)*-1","v":0},{"$f":"SUMIF('00 PDC SP'!$C:$C,'00 SP'!$D205,'00 PDC SP'!M:M)*-1","v":0},{"$f":"SUMIF('00 PDC SP'!$C:$C,'00 SP'!$D205,'00 PDC SP'!N:N)*-1","v":0}]
["PBA070","B.III) FONDI DA DISTRIBUIRE","S","PBA070",null,{"$f":"SUM(F207:F213)","v":0},0,0,0,0,0,0]
["PBA080","B.III.1) FSR indistinto da distribuire",null,"PBA080",11,{"$f":"SUMIF('00 PDC SP'!$C:$C,'00 SP'!$D207,'00 PDC SP'!H:H)*-1","v":0},{"$f":"SUMIF('00 PDC SP'!$C:$C,'00 SP'!$D207,'00 PDC SP'!I:I)*-1","v":0},{"$f":"SUMIF('00 PDC SP'!$C:$C,'00 SP'!$D207,'00 PDC SP'!J:J)*-1","v":0},{"$f":"SUMIF('00 PDC SP'!$C:$C,'00 SP'!$D207,'00 PDC SP'!K:K)*-1","v":0},{"$f":"SUMIF('00 PDC SP'!$C:$C,'00 SP'!$D207,'00 PDC SP'!L:L)*-1","v":0},{"$f":"SUMIF('00 PDC SP'!$C:$C,'00 SP'!$D207,'00 PDC SP'!M:M)*-1","v":0},{"$f":"SUMIF('00 PDC SP'!$C:$C,'00 SP'!$D207,'00 PDC SP'!N:N)*-1","v":0}]
["PBA090","B.III.2) FSR vincolato da distribuire",null,"PBA090",11,{"$f":"SUMIF('00 PDC SP'!$C:$C,'00 SP'!$D208,'00 PDC SP'!H:H)*-1","v":0},{"$f":"SUMIF('00 PDC SP'!$C:$C,'00 SP'!$D208,'00 PDC SP'!I:I)*-1","v":0},{"$f":"SUMIF('00 PDC SP'!$C:$C,'00 SP'!$D208,'00 PDC SP'!J:J)*-1","v":0},{"$f":"SUMIF('00 PDC SP'!$C:$C,'00 SP'!$D208,'00 PDC SP'!K:K)*-1","v":0},{"$f":"SUMIF('00 PDC SP'!$C:$C,'00 SP'!$D208,'00 PDC SP'!L:L)*-1","v":0},{"$f":"SUMIF('00 PDC SP'!$C:$C,'00 SP'!$D208,'00 PDC SP'!M:M)*-1","v":0},{"$f":"SUMIF('00 PDC SP'!$C:$C,'00 SP'!$D208,'00 PDC SP'!N:N)*-1","v":0}]
["PBA100","B.III.3) Fondo per ripiano disavanzi pregressi",null,"PBA100",11,{"$f":"SUMIF('00 PDC SP'!$C:$C,'00 SP'!$D209,'00 PDC SP'!H:H)*-1","v":0},{"$f":"SUMIF('00 PDC SP'!$C:$C,'00 SP'!$D209,'00 PDC SP'!I:I)*-1","v":0},{"$f":"SUMIF('00 PDC SP'!$C:$C,'00 SP'!$D209,'00 PDC SP'!J:J)*-1","v":0},{"$f":"SUMIF('00 PDC SP'!$C:$C,'00 SP'!$D209,'00 PDC SP'!K:K)*-1","v":0},{"$f":"SUMIF('00 PDC SP'!$C:$C,'00 SP'!$D209,'00 PDC SP'!L:L)*-1","v":0},{"$f":"SUMIF('00 PDC SP'!$C:$C,'00 SP'!$D209,'00 PDC SP'!M:M)*-1","v":0},{"$f":"SUMIF('00 PDC SP'!$C:$C,'00 SP'!$D209,'00 PDC SP'!N:N)*-1","v":0}]
["PBA110","B.III.4) Fondo finanziamento sanitario aggiuntivo corrente LEA",null,"PBA110",11,{"$f":"SUMIF('00 PDC SP'!$C:$C,'00 SP'!$D210,'00 PDC SP'!H:H)*-1","v":0},{"$f":"SUMIF('00 PDC SP'!$C:$C,'00 SP'!$D210,'00 PDC SP'!I:I)*-1","v":0},{"$f":"SUMIF('00 PDC SP'!$C:$C,'00 SP'!$D210,'00 PDC SP'!J:J)*-1","v":0},{"$f":"SUMIF('00 PDC SP'!$C:$C,'00 SP'!$D210,'00 PDC SP'!K:K)*-1","v":0},{"$f":"SUMIF('00 PDC SP'!$C:$C,'00 SP'!$D210,'00 PDC SP'!L:L)*-1","v":0},{"$f":"SUMIF('00 PDC SP'!$C:$C,'00 SP'!$D210,'00 PDC SP'!M:M)*-1","v":0},{"$f":"SUMIF('00 PDC SP'!$C:$C,'00 SP'!$D210,'00 PDC SP'!N:N)*-1","v":0}]
["PBA120","B.III.5) Fondo finanziamento sanitario aggiuntivo corrente extra LEA",null,"PBA120",11,{"$f":"SUMIF('00 PDC SP'!$C:$C,'00 SP'!$D211,'00 PDC SP'!H:H)*-1","v":0},{"$f":"SUMIF('00 PDC SP'!$C:$C,'00 SP'!$D211,'00 PDC SP'!I:I)*-1","v":0},{"$f":"SUMIF('00 PDC SP'!$C:$C,'00 SP'!$D211,'00 PDC SP'!J:J)*-1","v":0},{"$f":"SUMIF('00 PDC SP'!$C:$C,'00 SP'!$D211,'00 PDC SP'!K:K)*-1","v":0},{"$f":"SUMIF('00 PDC SP'!$C:$C,'00 SP'!$D211,'00 PDC SP'!L:L)*-1","v":0},{"$f":"SUMIF('00 PDC SP'!$C:$C,'00 SP'!$D211,'00 PDC SP'!M:M)*-1","v":0},{"$f":"SUMIF('00 PDC SP'!$C:$C,'00 SP'!$D211,'00 PDC SP'!N:N)*-1","v":0}]
["PBA130","B.III.6) Fondo finanziamento per ricerca",null,"PBA130",11,{"$f":"SUMIF('00 PDC SP'!$C:$C,'00 SP'!$D212,'00 PDC SP'!H:H)*-1","v":0},{"$f":"SUMIF('00 PDC SP'!$C:$C,'00 SP'!$D212,'00 PDC SP'!I:I)*-1","v":0},{"$f":"SUMIF('00 PDC SP'!$C:$C,'00 SP'!$D212,'00 PDC SP'!J:J)*-1","v":0},{"$f":"SUMIF('00 PDC SP'!$C:$C,'00 SP'!$D212,'00 PDC SP'!K:K)*-1","v":0},{"$f":"SUMIF('00 PDC SP'!$C:$C,'00 SP'!$D212,'00 PDC SP'!L:L)*-1","v":0},{"$f":"SUMIF('00 PDC SP'!$C:$C,'00 SP'!$D212,'00 PDC SP'!M:M)*-1","v":0},{"$f":"SUMIF('00 PDC SP'!$C:$C,'00 SP'!$D212,'00 PDC SP'!N:N)*-1","v":0}]
["PBA140","B.III.7) Fondo finanziamento per investimenti",null,"PBA140",11,{"$f":"SUMIF('00 PDC SP'!$C:$C,'00 SP'!$D213,'00 PDC SP'!H:H)*-1","v":0},{"$f":"SUMIF('00 PDC SP'!$C:$C,'00 SP'!$D213,'00 PDC SP'!I:I)*-1","v":0},{"$f":"SUMIF('00 PDC SP'!$C:$C,'00 SP'!$D213,'00 PDC SP'!J:J)*-1","v":0},{"$f":"SUMIF('00 PDC SP'!$C:$C,'00 SP'!$D213,'00 PDC SP'!K:K)*-1","v":0},{"$f":"SUMIF('00 PDC SP'!$C:$C,'00 SP'!$D213,'00 PDC SP'!L:L)*-1","v":0},{"$f":"SUMIF('00 PDC SP'!$C:$C,'00 SP'!$D213,'00 PDC SP'!M:M)*-1","v":0},{"$f":"SUMIF('00 PDC SP'!$C:$C,'00 SP'!$D213,'00 PDC SP'!N:N)*-1","v":0}]
["PBA150","B.IV) QUOTE INUTILIZZATE CONTRIBUTI","S","PBA150",null,{"$f":"SUM(F215:F218)","v":30167843.599999998},4202172.6100000003,3879359.4699999997,30490656.740000002,7477589.9500000002,5099181.0199999996,32869065.669999998]
["PBA160","B.IV.1) Quote inutilizzate contributi da Regione o Prov. Aut. per quota F.S. vincolato",null,"PBA160",11,{"$f":"SUMIF('00 PDC SP'!$C:$C,'00 SP'!$D215,'00 PDC SP'!H:H)*-1","v":29868580.949999999},{"$f":"SUMIF('00 PDC SP'!$C:$C,'00 SP'!$D215,'00 PDC SP'!I:I)*-1","v":4021566.65},{"$f":"SUMIF('00 PDC SP'!$C:$C,'00 SP'!$D215,'00 PDC SP'!J:J)*-1","v":3580096.82},{"$f":"SUMIF('00 PDC SP'!$C:$C,'00 SP'!$D215,'00 PDC SP'!K:K)*-1","v":30310050.780000001},{"$f":"SUMIF('00 PDC SP'!$C:$C,'00 SP'!$D215,'00 PDC SP'!L:L)*-1","v":7427287.5499999998},{"$f":"SUMIF('00 PDC SP'!$C:$C,'00 SP'!$D215,'00 PDC SP'!M:M)*-1","v":5006728.5599999996},{"$f":"SUMIF('00 PDC SP'!$C:$C,'00 SP'!$D215,'00 PDC SP'!N:N)*-1","v":32730609.77}]
["PBA170","B.IV.2) Quote inutilizzate contributi vincolati da soggetti pubblici (extra fondo)",null,"PBA170",11,{"$f":"SUMIF('00 PDC SP'!$C:$C,'00 SP'!$D216,'00 PDC SP'!H:H)*-1","v":299262.65000000002},{"$f":"SUMIF('00 PDC SP'!$C:$C,'00 SP'!$D216,'00 PDC SP'!I:I)*-1","v":180605.96},{"$f":"SUMIF('00 PDC SP'!$C:$C,'00 SP'!$D216,'00 PDC SP'!J:J)*-1","v":299262.65000000002},{"$f":"SUMIF('00 PDC SP'!$C:$C,'00 SP'!$D216,'00 PDC SP'!K:K)*-1","v":180605.96},{"$f":"SUMIF('00 PDC SP'!$C:$C,'00 SP'!$D216,'00 PDC SP'!L:L)*-1","v":50302.400000000001},{"$f":"SUMIF('00 PDC SP'!$C:$C,'00 SP'!$D216,'00 PDC SP'!M:M)*-1","v":92452.46},{"$f":"SUMIF('00 PDC SP'!$C:$C,'00 SP'!$D216,'00 PDC SP'!N:N)*-1","v":138455.89999999997}]
["PBA180","B.IV.3) Quote inutilizzate contributi per ricerca",null,"PBA180",11,{"$f":"SUMIF('00 PDC SP'!$C:$C,'00 SP'!$D217,'00 PDC SP'!H:H)*-1","v":0},{"$f":"SUMIF('00 PDC SP'!$C:$C,'00 SP'!$D217,'00 PDC SP'!I:I)*-1","v":0},{"$f":"SUMIF('00 PDC SP'!$C:$C,'00 SP'!$D217,'00 PDC SP'!J:J)*-1","v":0},{"$f":"SUMIF('00 PDC SP'!$C:$C,'00 SP'!$D217,'00 PDC SP'!K:K)*-1","v":0},{"$f":"SUMIF('00 PDC SP'!$C:$C,'00 SP'!$D217,'00 PDC SP'!L:L)*-1","v":0},{"$f":"SUMIF('00 PDC SP'!$C:$C,'00 SP'!$D217,'00 PDC SP'!M:M)*-1","v":0},{"$f":"SUMIF('00 PDC SP'!$C:$C,'00 SP'!$D217,'00 PDC SP'!N:N)*-1","v":0}]
["PBA190","B.IV.4) Quote inutilizzate contributi vincolati da privati",null,"PBA190",11,{"$f":"SUMIF('00 PDC SP'!$C:$C,'00 SP'!$D218,'00 PDC SP'!H:H)*-1","v":0},{"$f":"SUMIF('00 PDC SP'!$C:$C,'00 SP'!$D218,'00 PDC SP'!I:I)*-1","v":0},{"$f":"SUMIF('00 PDC SP'!$C:$C,'00 SP'!$D218,'00 PDC SP'!J:J)*-1","v":0},{"$f":"SUMIF('00 PDC SP'!$C:$C,'00 SP'!$D218,'00 PDC SP'!K:K)*-1","v":0},{"$f":"SUMIF('00 PDC SP'!$C:$C,'00 SP'!$D218,'00 PDC SP'!L:L)*-1","v":0},{"$f":"SUMIF('00 PDC SP'!$C:$C,'00 SP'!$D218,'00 PDC SP'!M:M)*-1","v":0},{"$f":"SUMIF('00 PDC SP'!$C:$C,'00 SP'!$D218,'00 PDC SP'!N:N)*-1","v":0}]
["PBA200","B.V) ALTRI FONDI PER ONERI E SPESE","S","PBA200",null,{"$f":"F220+F221+F225","v":2833888.15},1131821,0,3965709.15,2577740,0,6543449.1500000004]
["PBA210","B.V.1) Fondi integrativi pensione",null,"PBA210",11,{"$f":"SUMIF('00 PDC SP'!$C:$C,'00 SP'!$D220,'00 PDC SP'!H:H)*-1","v":0},{"$f":"SUMIF('00 PDC SP'!$C:$C,'00 SP'!$D220,'00 PDC SP'!I:I)*-1","v":0},{"$f":"SUMIF('00 PDC SP'!$C:$C,'00 SP'!$D220,'00 PDC SP'!J:J)*-1","v":0},{"$f":"SUMIF('00 PDC SP'!$C:$C,'00 SP'!$D220,'00 PDC SP'!K:K)*-1","v":0},{"$f":"SUMIF('00 PDC SP'!$C:$C,'00 SP'!$D220,'00 PDC SP'!L:L)*-1","v":0},{"$f":"SUMIF('00 PDC SP'!$C:$C,'00 SP'!$D220,'00 PDC SP'!M:M)*-1","v":0},{"$f":"SUMIF('00 PDC SP'!$C:$C,'00 SP'!$D220,'00 PDC SP'!N:N)*-1","v":0}]
["PBA220","B.V.2) Fondi rinnovi contrattuali","S","PBA220",null,{"$f":"SUM(F222:F224)","v":2833888.15},1131821,0,3965709.15,2577740,0,6543449.1500000004]
["PBA230","B.V.2.a) Fondo rinnovi contrattuali personale dipendente",null,"PBA230",11,{"$f":"SUMIF('00 PDC SP'!$C:$C,'00 SP'!$D222,'00 PDC SP'!H:H)*-1","v":0},{"$f":"SUMIF('00 PDC SP'!$C:$C,'00 SP'!$D222,'00 PDC SP'!I:I)*-1","v":675624},{"$f":"SUMIF('00 PDC SP'!$C:$C,'00 SP'!$D222,'00 PDC SP'!J:J)*-1","v":0},{"$f":"SUMIF('00 PDC SP'!$C:$C,'00 SP'!$D222,'00 PDC SP'!K:K)*-1","v":675624},{"$f":"SUMIF('00 PDC SP'!$C:$C,'00 SP'!$D222,'00 PDC SP'!L:L)*-1","v":1841073},{"$f":"SUMIF('00 PDC SP'!$C:$C,'00 SP'!$D222,'00 PDC SP'!M:M)*-1","v":0},{"$f":"SUMIF('00 PDC SP'!$C:$C,'00 SP'!$D222,'00 PDC SP'!N:N)*-1","v":2516697}]
["PBA240","B.V.2.b) Fondo rinnovi convenzioni MMG/PLS/MCA",null,"PBA240",11,{"$f":"SUMIF('00 PDC SP'!$C:$C,'00 SP'!$D223,'00 PDC SP'!H:H)*-1","v":2746621.15},{"$f":"SUMIF('00 PDC SP'!$C:$C,'00 SP'!$D223,'00 PDC SP'!I:I)*-1","v":407348},{"$f":"SUMIF('00 PDC SP'!$C:$C,'00 SP'!$D223,'00 PDC SP'!J:J)*-1","v":0},{"$f":"SUMIF('00 PDC SP'!$C:$C,'00 SP'!$D223,'00 PDC SP'!K:K)*-1","v":3153969.15},{"$f":"SUMIF('00 PDC SP'!$C:$C,'00 SP'!$D223,'00 PDC SP'!L:L)*-1","v":653733},{"$f":"SUMIF('00 PDC SP'!$C:$C,'00 SP'!$D223,'00 PDC SP'!M:M)*-1","v":0},{"$f":"SUMIF('00 PDC SP'!$C:$C,'00 SP'!$D223,'00 PDC SP'!N:N)*-1","v":3807702.15}]
["PBA250","B.V.2.c) Fondo rinnovi convenzioni medici Sumai",null,"PBA250",11,{"$f":"SUMIF('00 PDC SP'!$C:$C,'00 SP'!$D224,'00 PDC SP'!H:H)*-1","v":87267},{"$f":"SUMIF('00 PDC SP'!$C:$C,'00 SP'!$D224,'00 PDC SP'!I:I)*-1","v":48849},{"$f":"SUMIF('00 PDC SP'!$C:$C,'00 SP'!$D224,'00 PDC SP'!J:J)*-1","v":0},{"$f":"SUMIF('00 PDC SP'!$C:$C,'00 SP'!$D224,'00 PDC SP'!K:K)*-1","v":136116},{"$f":"SUMIF('00 PDC SP'!$C:$C,'00 SP'!$D224,'00 PDC SP'!L:L)*-1","v":82934},{"$f":"SUMIF('00 PDC SP'!$C:$C,'00 SP'!$D224,'00 PDC SP'!M:M)*-1","v":0},{"$f":"SUMIF('00 PDC SP'!$C:$C,'00 SP'!$D224,'00 PDC SP'!N:N)*-1","v":219050}]
["PBA260","B.V.3) Altri fondi per oneri e spese",null,"PBA260",11,{"$f":"SUMIF('00 PDC SP'!$C:$C,'00 SP'!$D225,'00 PDC SP'!H:H)*-1","v":0},{"$f":"SUMIF('00 PDC SP'!$C:$C,'00 SP'!$D225,'00 PDC SP'!I:I)*-1","v":0},{"$f":"SUMIF('00 PDC SP'!$C:$C,'00 SP'!$D225,'00 PDC SP'!J:J)*-1","v":0},{"$f":"SUMIF('00 PDC SP'!$C:$C,'00 SP'!$D225,'00 PDC SP'!K:K)*-1","v":0},{"$f":"SUMIF('00 PDC SP'!$C:$C,'00 SP'!$D225,'00 PDC SP'!L:L)*-1","v":0},{"$f":"SUMIF('00 PDC SP'!$C:$C,'00 SP'!$D225,'00 PDC SP'!M:M)*-1","v":0},{"$f":"SUMIF('00 PDC SP'!$C:$C,'00 SP'!$D225,'00 PDC SP'!N:N)*-1","v":0}]
["PCZ999","C) TRATTAMENTO FINE RAPPORTO","S","PCZ999",null,{"$f":"SUM(F227:F228)","v":2082932.89},225172.71,112162.58,2195943.02,223015.56,217866.17,2201092.41]
["PCA000","C.I) FONDO PER PREMI OPEROSITA' MEDICI SUMAI",null,"PCA000",7,{"$f":"SUMIF('00 PDC SP'!$C:$C,'00 SP'!$D227,'00 PDC SP'!H:H)*-1","v":2082932.89},{"$f":"SUMIF('00 PDC SP'!$C:$C,'00 SP'!$D227,'00 PDC SP'!I:I)*-1","v":225172.71},{"$f":"SUMIF('00 PDC SP'!$C:$C,'00 SP'!$D227,'00 PDC SP'!J:J)*-1","v":112162.58},{"$f":"SUMIF('00 PDC SP'!$C:$C,'00 SP'!$D227,'00 PDC SP'!K:K)*-1","v":2195943.02},{"$f":"SUMIF('00 PDC SP'!$C:$C,'00 SP'!$D227,'00 PDC SP'!L:L)*-1","v":223015.56},{"$f":"SUMIF('00 PDC SP'!$C:$C,'00 SP'!$D227,'00 PDC SP'!M:M)*-1","v":217866.17},{"$f":"SUMIF('00 PDC SP'!$C:$C,'00 SP'!$D227,'00 PDC SP'!N:N)*-1","v":2201092.41}]
["PCA010","C.II) FONDO PER TRATTAMENTO DI FINE RAPPORTO DIPENDENTI",null,"PCA010",8,{"$f":"SUMIF('00 PDC SP'!$C:$C,'00 SP'!$D228,'00 PDC SP'!H:H)*-1","v":0},{"$f":"SUMIF('00 PDC SP'!$C:$C,'00 SP'!$D228,'00 PDC SP'!I:I)*-1","v":0},{"$f":"SUMIF('00 PDC SP'!$C:$C,'00 SP'!$D228,'00 PDC SP'!J:J)*-1","v":0},{"$f":"SUMIF('00 PDC SP'!$C:$C,'00 SP'!$D228,'00 PDC SP'!K:K)*-1","v":0},{"$f":"SUMIF('00 PDC SP'!$C:$C,'00 SP'!$D228,'00 PDC SP'!L:L)*-1","v":0},{"$f":"SUMIF('00 PDC SP'!$C:$C,'00 SP'!$D228,'00 PDC SP'!M:M)*-1","v":0},{"$f":"SUMIF('00 PDC SP'!$C:$C,'00 SP'!$D228,'00 PDC SP'!N:N)*-1","v":0}]
["PDZ999","D) DEBITI","S","PDZ999",null,{"$f":"F230+F231+F237+F243+F244+F254+F258+F261+F262+F263+F264","v":193772263.10000002},3602328049.4200001,3608532634.3900003,187567678.13000003,2388545179.6799998,2397979075.6900005,178133782.11999989]
["PDA000","D.I) DEBITI PER MUTUI PASSIVI",null,"PDA000",55,{"$f":"SUMIF('00 PDC SP'!$C:$C,'00 SP'!$D230,'00 PDC SP'!H:H)*-1","v":0},{"$f":"SUMIF('00 PDC SP'!$C:$C,'00 SP'!$D230,'00 PDC SP'!I:I)*-1","v":0},{"$f":"SUMIF('00 PDC SP'!$C:$C,'00 SP'!$D230,'00 PDC SP'!J:J)*-1","v":0},{"$f":"SUMIF('00 PDC SP'!$C:$C,'00 SP'!$D230,'00 PDC SP'!K:K)*-1","v":0},{"$f":"SUMIF('00 PDC SP'!$C:$C,'00 SP'!$D230,'00 PDC SP'!L:L)*-1","v":0},{"$f":"SUMIF('00 PDC SP'!$C:$C,'00 SP'!$D230,'00 PDC SP'!M:M)*-1","v":0},{"$f":"SUMIF('00 PDC SP'!$C:$C,'00 SP'!$D230,'00 PDC SP'!N:N)*-1","v":0}]
["PDA010","D.II) DEBITI V/STATO","S","PDA010",null,{"$f":"SUMIF('00 PDC SP'!$C:$C,'00 SP'!$D231,'00 PDC SP'!H:H)*-1","v":0},{"$f":"SUMIF('00 PDC SP'!$C:$C,'00 SP'!$D231,'00 PDC SP'!I:I)*-1","v":0},{"$f":"SUMIF('00 PDC SP'!$C:$C,'00 SP'!$D231,'00 PDC SP'!J:J)*-1","v":0},{"$f":"SUMIF('00 PDC SP'!$C:$C,'00 SP'!$D231,'00 PDC SP'!K:K)*-1","v":0},{"$f":"SUMIF('00 PDC SP'!$C:$C,'00 SP'!$D231,'00 PDC SP'!L:L)*-1","v":0},{"$f":"SUMIF('00 PDC SP'!$C:$C,'00 SP'!$D231,'00 PDC SP'!M:M)*-1","v":0},{"$f":"SUMIF('00 PDC SP'!$C:$C,'00 SP'!$D231,'00 PDC SP'!N:N)*-1","v":0}]
["PDA020","D.II.1) Debiti v/Stato per mobilità passiva extraregionale",null,"PDA020",12,{"$f":"SUMIF('00 PDC SP'!$C:$C,'00 SP'!$D232,'00 PDC SP'!H:H)*-1","v":0},{"$f":"SUMIF('00 PDC SP'!$C:$C,'00 SP'!$D232,'00 PDC SP'!I:I)*-1","v":0},{"$f":"SUMIF('00 PDC SP'!$C:$C,'00 SP'!$D232,'00 PDC SP'!J:J)*-1","v":0},{"$f":"SUMIF('00 PDC SP'!$C:$C,'00 SP'!$D232,'00 PDC SP'!K:K)*-1","v":0},{"$f":"SUMIF('00 PDC SP'!$C:$C,'00 SP'!$D232,'00 PDC SP'!L:L)*-1","v":0},{"$f":"SUMIF('00 PDC SP'!$C:$C,'00 SP'!$D232,'00 PDC SP'!M:M)*-1","v":0},{"$f":"SUMIF('00 PDC SP'!$C:$C,'00 SP'!$D232,'00 PDC SP'!N:N)*-1","v":0}]
["PDA030","D.II.2) Debiti v/Stato per mobilità passiva internazionale",null,"PDA030",12,{"$f":"SUMIF('00 PDC SP'!$C:$C,'00 SP'!$D233,'00 PDC SP'!H:H)*-1","v":0},{"$f":"SUMIF('00 PDC SP'!$C:$C,'00 SP'!$D233,'00 PDC SP'!I:I)*-1","v":0},{"$f":"SUMIF('00 PDC SP'!$C:$C,'00 SP'!$D233,'00 PDC SP'!J:J)*-1","v":0},{"$f":"SUMIF('00 PDC SP'!$C:$C,'00 SP'!$D233,'00 PDC SP'!K:K)*-1","v":0},{"$f":"SUMIF('00 PDC SP'!$C:$C,'00 SP'!$D233,'00 PDC SP'!L:L)*-1","v":0},{"$f":"SUMIF('00 PDC SP'!$C:$C,'00 SP'!$D233,'00 PDC SP'!M:M)*-1","v":0},{"$f":"SUMIF('00 PDC SP'!$C:$C,'00 SP'!$D233,'00 PDC SP'!N:N)*-1","v":0}]
["PDA040","D.II.3) Acconto quota FSR v/Stato",null,"PDA040",12,{"$f":"SUMIF('00 PDC SP'!$C:$C,'00 SP'!$D234,'00 PDC SP'!H:H)*-1","v":0},{"$f":"SUMIF('00 PDC SP'!$C:$C,'00 SP'!$D234,'00 PDC SP'!I:I)*-1","v":0},{"$f":"SUMIF('00 PDC SP'!$C:$C,'00 SP'!$D234,'00 PDC SP'!J:J)*-1","v":0},{"$f":"SUMIF('00 PDC SP'!$C:$C,'00 SP'!$D234,'00 PDC SP'!K:K)*-1","v":0},{"$f":"SUMIF('00 PDC SP'!$C:$C,'00 SP'!$D234,'00 PDC SP'!L:L)*-1","v":0},{"$f":"SUMIF('00 PDC SP'!$C:$C,'00 SP'!$D234,'00 PDC SP'!M:M)*-1","v":0},{"$f":"SUMIF('00 PDC SP'!$C:$C,'00 SP'!$D234,'00 PDC SP'!N:N)*-1","v":0}]
["PDA050","D.II.4) Debiti v/Stato per restituzione finanziamenti - per ricerca",null,"PDA050",12,{"$f":"SUMIF('00 PDC SP'!$C:$C,'00 SP'!$D235,'00 PDC SP'!H:H)*-1","v":0},{"$f":"SUMIF('00 PDC SP'!$C:$C,'00 SP'!$D235,'00 PDC SP'!I:I)*-1","v":0},{"$f":"SUMIF('00 PDC SP'!$C:$C,'00 SP'!$D235,'00 PDC SP'!J:J)*-1","v":0},{"$f":"SUMIF('00 PDC SP'!$C:$C,'00 SP'!$D235,'00 PDC SP'!K:K)*-1","v":0},{"$f":"SUMIF('00 PDC SP'!$C:$C,'00 SP'!$D235,'00 PDC SP'!L:L)*-1","v":0},{"$f":"SUMIF('00 PDC SP'!$C:$C,'00 SP'!$D235,'00 PDC SP'!M:M)*-1","v":0},{"$f":"SUMIF('00 PDC SP'!$C:$C,'00 SP'!$D235,'00 PDC SP'!N:N)*-1","v":0}]
["PDA060","D.II.5) Altri debiti v/Stato",null,"PDA060",12,{"$f":"SUMIF('00 PDC SP'!$C:$C,'00 SP'!$D236,'00 PDC SP'!H:H)*-1","v":0},{"$f":"SUMIF('00 PDC SP'!$C:$C,'00 SP'!$D236,'00 PDC SP'!I:I)*-1","v":0},{"$f":"SUMIF('00 PDC SP'!$C:$C,'00 SP'!$D236,'00 PDC SP'!J:J)*-1","v":0},{"$f":"SUMIF('00 PDC SP'!$C:$C,'00 SP'!$D236,'00 PDC SP'!K:K)*-1","v":0},{"$f":"SUMIF('00 PDC SP'!$C:$C,'00 SP'!$D236,'00 PDC SP'!L:L)*-1","v":0},{"$f":"SUMIF('00 PDC SP'!$C:$C,'00 SP'!$D236,'00 PDC SP'!M:M)*-1","v":0},{"$f":"SUMIF('00 PDC SP'!$C:$C,'00 SP'!$D236,'00 PDC SP'!N:N)*-1","v":0}]
["PDA070","D.III) DEBITI V/REGIONE O PROVINCIA AUTONOMA","S","PDA070",null,{"$f":"SUM(F238:F242)","v":39867678.850000001},602537454.90999997,612108241.09000003,30296892.669999998,1638757741.1100001,1638758430.1100001,30296203.669999987]
["PDA080","D.III.1) Debiti v/Regione o Provincia Autonoma per finanziamenti",null,"PDA080",12,{"$f":"SUMIF('00 PDC SP'!$C:$C,'00 SP'!$D238,'00 PDC SP'!H:H)*-1","v":0},{"$f":"SUMIF('00 PDC SP'!$C:$C,'00 SP'!$D238,'00 PDC SP'!I:I)*-1","v":0},{"$f":"SUMIF('00 PDC SP'!$C:$C,'00 SP'!$D238,'00 PDC SP'!J:J)*-1","v":0},{"$f":"SUMIF('00 PDC SP'!$C:$C,'00 SP'!$D238,'00 PDC SP'!K:K)*-1","v":0},{"$f":"SUMIF('00 PDC SP'!$C:$C,'00 SP'!$D238,'00 PDC SP'!L:L)*-1","v":0},{"$f":"SUMIF('00 PDC SP'!$C:$C,'00 SP'!$D238,'00 PDC SP'!M:M)*-1","v":0},{"$f":"SUMIF('00 PDC SP'!$C:$C,'00 SP'!$D238,'00 PDC SP'!N:N)*-1","v":0}]
["PDA090","D.III.2) Debiti v/Regione o Provincia Autonoma per mobilità passiva intraregionale",null,"PDA090",12,{"$f":"SUMIF('00 PDC SP'!$C:$C,'00 SP'!$D239,'00 PDC SP'!H:H)*-1","v":21161062.010000002},{"$f":"SUMIF('00 PDC SP'!$C:$C,'00 SP'!$D239,'00 PDC SP'!I:I)*-1","v":51326737.909999996},{"$f":"SUMIF('00 PDC SP'!$C:$C,'00 SP'!$D239,'00 PDC SP'!J:J)*-1","v":51721455.340000004},{"$f":"SUMIF('00 PDC SP'!$C:$C,'00 SP'!$D239,'00 PDC SP'!K:K)*-1","v":20766344.579999998},{"$f":"SUMIF('00 PDC SP'!$C:$C,'00 SP'!$D239,'00 PDC SP'!L:L)*-1","v":51271679.93},{"$f":"SUMIF('00 PDC SP'!$C:$C,'00 SP'!$D239,'00 PDC SP'!M:M)*-1","v":51272368.93},{"$f":"SUMIF('00 PDC SP'!$C:$C,'00 SP'!$D239,'00 PDC SP'!N:N)*-1","v":20765655.579999991}]
["PDA100","D.III.3) Debiti v/Regione o Provincia Autonoma per mobilità passiva extraregionale",null,"PDA100",12,{"$f":"SUMIF('00 PDC SP'!$C:$C,'00 SP'!$D240,'00 PDC SP'!H:H)*-1","v":9530548.0899999999},{"$f":"SUMIF('00 PDC SP'!$C:$C,'00 SP'!$D240,'00 PDC SP'!I:I)*-1","v":0},{"$f":"SUMIF('00 PDC SP'!$C:$C,'00 SP'!$D240,'00 PDC SP'!J:J)*-1","v":0},{"$f":"SUMIF('00 PDC SP'!$C:$C,'00 SP'!$D240,'00 PDC SP'!K:K)*-1","v":9530548.0899999999},{"$f":"SUMIF('00 PDC SP'!$C:$C,'00 SP'!$D240,'00 PDC SP'!L:L)*-1","v":57173157.460000001},{"$f":"SUMIF('00 PDC SP'!$C:$C,'00 SP'!$D240,'00 PDC SP'!M:M)*-1","v":57173157.460000001},{"$f":"SUMIF('00 PDC SP'!$C:$C,'00 SP'!$D240,'00 PDC SP'!N:N)*-1","v":9530548.0899999961}]
["PDA110","D.III.4) Acconto quota FSR da Regione o Provincia Autonoma",null,"PDA110",12,{"$f":"SUMIF('00 PDC SP'!$C:$C,'00 SP'!$D241,'00 PDC SP'!H:H)*-1","v":0},{"$f":"SUMIF('00 PDC SP'!$C:$C,'00 SP'!$D241,'00 PDC SP'!I:I)*-1","v":533673541},{"$f":"SUMIF('00 PDC SP'!$C:$C,'00 SP'!$D241,'00 PDC SP'!J:J)*-1","v":533673541},{"$f":"SUMIF('00 PDC SP'!$C:$C,'00 SP'!$D241,'00 PDC SP'!K:K)*-1","v":0},{"$f":"SUMIF('00 PDC SP'!$C:$C,'00 SP'!$D241,'00 PDC SP'!L:L)*-1","v":546891755},{"$f":"SUMIF('00 PDC SP'!$C:$C,'00 SP'!$D241,'00 PDC SP'!M:M)*-1","v":546891755},{"$f":"SUMIF('00 PDC SP'!$C:$C,'00 SP'!$D241,'00 PDC SP'!N:N)*-1","v":0}]
["PDA120","D.III.5) Altri debiti v/Regione o Provincia Autonoma",null,"PDA120",12,{"$f":"SUMIF('00 PDC SP'!$C:$C,'00 SP'!$D242,'00 PDC SP'!H:H)*-1","v":9176068.75},{"$f":"SUMIF('00 PDC SP'!$C:$C,'00 SP'!$D242,'00 PDC SP'!I:I)*-1","v":17537176},{"$f":"SUMIF('00 PDC SP'!$C:$C,'00 SP'!$D242,'00 PDC SP'!J:J)*-1","v":26713244.75},{"$f":"SUMIF('00 PDC SP'!$C:$C,'00 SP'!$D242,'00 PDC SP'!K:K)*-1","v":0},{"$f":"SUMIF('00 PDC SP'!$C:$C,'00 SP'!$D242,'00 PDC SP'!L:L)*-1","v":983421148.72000003},{"$f":"SUMIF('00 PDC SP'!$C:$C,'00 SP'!$D242,'00 PDC SP'!M:M)*-1","v":983421148.72000003},{"$f":"SUMIF('00 PDC SP'!$C:$C,'00 SP'!$D242,'00 PDC SP'!N:N)*-1","v":0}]
["PDA130","D.IV) DEBITI V/COMUNI",null,"PDA130",13,{"$f":"SUMIF('00 PDC SP'!$C:$C,'00 SP'!$D243,'00 PDC SP'!H:H)*-1","v":150000},{"$f":"SUMIF('00 PDC SP'!$C:$C,'00 SP'!$D243,'00 PDC SP'!I:I)","v":0},{"$f":"SUMIF('00 PDC SP'!$C:$C,'00 SP'!$D243,'00 PDC SP'!J:J)","v":0},{"$f":"SUMIF('00 PDC SP'!$C:$C,'00 SP'!$D243,'00 PDC SP'!K:K)*-1","v":150000},{"$f":"SUMIF('00 PDC SP'!$C:$C,'00 SP'!$D243,'00 PDC SP'!L:L)*-1","v":0},{"$f":"SUMIF('00 PDC SP'!$C:$C,'00 SP'!$D243,'00 PDC SP'!M:M)*-1","v":0},{"$f":"SUMIF('00 PDC SP'!$C:$C,'00 SP'!$D243,'00 PDC SP'!N:N)*-1","v":150000}]
["PDA140","D.V) DEBITI V/AZIENDE SANITARIE PUBBLICHE","S","PDA140",null,{"$f":"F245+F252+F253","v":2312688.69},1289821.79,1210958.03,2391552.4500000002,1086526.68,887291.14999999991,2590787.98]
["PDA150","D.V.1) Debiti v/Aziende sanitarie pubbliche della Regione","S","PDA150",null,{"$f":"SUM(F246:F251)","v":2074732.88},749977.06000000017,688170.83000000007,2136539.1100000003,748956.39,495733.42,2389762.08]
["PDA160","D.V.1.a) Debiti v/Aziende sanitarie pubbliche della Regione - per quota FSR",null,"PDA160",14,{"$f":"SUMIF('00 PDC SP'!$C:$C,'00 SP'!$D246,'00 PDC SP'!H:H)*-1","v":0},{"$f":"SUMIF('00 PDC SP'!$C:$C,'00 SP'!$D246,'00 PDC SP'!I:I)*-1","v":0},{"$f":"SUMIF('00 PDC SP'!$C:$C,'00 SP'!$D246,'00 PDC SP'!J:J)*-1","v":0},{"$f":"SUMIF('00 PDC SP'!$C:$C,'00 SP'!$D246,'00 PDC SP'!K:K)*-1","v":0},{"$f":"SUMIF('00 PDC SP'!$C:$C,'00 SP'!$D246,'00 PDC SP'!L:L)*-1","v":0},{"$f":"SUMIF('00 PDC SP'!$C:$C,'00 SP'!$D246,'00 PDC SP'!M:M)*-1","v":0},{"$f":"SUMIF('00 PDC SP'!$C:$C,'00 SP'!$D246,'00 PDC SP'!N:N)*-1","v":0}]
["PDA170","D.V.1.b) Debiti v/Aziende sanitarie pubbliche della Regione - per finanziamento sanitario aggiuntivo corrente LEA",null,"PDA170",14,{"$f":"SUMIF('00 PDC SP'!$C:$C,'00 SP'!$D247,'00 PDC SP'!H:H)*-1","v":0},{"$f":"SUMIF('00 PDC SP'!$C:$C,'00 SP'!$D247,'00 PDC SP'!I:I)*-1","v":0},{"$f":"SUMIF('00 PDC SP'!$C:$C,'00 SP'!$D247,'00 PDC SP'!J:J)*-1","v":0},{"$f":"SUMIF('00 PDC SP'!$C:$C,'00 SP'!$D247,'00 PDC SP'!K:K)*-1","v":0},{"$f":"SUMIF('00 PDC SP'!$C:$C,'00 SP'!$D247,'00 PDC SP'!L:L)*-1","v":0},{"$f":"SUMIF('00 PDC SP'!$C:$C,'00 SP'!$D247,'00 PDC SP'!M:M)*-1","v":0},{"$f":"SUMIF('00 PDC SP'!$C:$C,'00 SP'!$D247,'00 PDC SP'!N:N)*-1","v":0}]
["PDA180","D.V.1.c) Debiti v/Aziende sanitarie pubbliche della Regione - per finanziamento sanitario aggiuntivo corrente extra LEA",null,"PDA180",14,{"$f":"SUMIF('00 PDC SP'!$C:$C,'00 SP'!$D248,'00 PDC SP'!H:H)*-1","v":0},{"$f":"SUMIF('00 PDC SP'!$C:$C,'00 SP'!$D248,'00 PDC SP'!I:I)*-1","v":0},{"$f":"SUMIF('00 PDC SP'!$C:$C,'00 SP'!$D248,'00 PDC SP'!J:J)*-1","v":0},{"$f":"SUMIF('00 PDC SP'!$C:$C,'00 SP'!$D248,'00 PDC SP'!K:K)*-1","v":0},{"$f":"SUMIF('00 PDC SP'!$C:$C,'00 SP'!$D248,'00 PDC SP'!L:L)*-1","v":0},{"$f":"SUMIF('00 PDC SP'!$C:$C,'00 SP'!$D248,'00 PDC SP'!M:M)*-1","v":0},{"$f":"SUMIF('00 PDC SP'!$C:$C,'00 SP'!$D248,'00 PDC SP'!N:N)*-1","v":0}]
["PDA190","D.V.1.d) Debiti v/Aziende sanitarie pubbliche della Regione - per mobilità in compensazione",null,"PDA190",14,{"$f":"SUMIF('00 PDC SP'!$C:$C,'00 SP'!$D249,'00 PDC SP'!H:H)*-1","v":0},{"$f":"SUMIF('00 PDC SP'!$C:$C,'00 SP'!$D249,'00 PDC SP'!I:I)*-1","v":0},{"$f":"SUMIF('00 PDC SP'!$C:$C,'00 SP'!$D249,'00 PDC SP'!J:J)*-1","v":0},{"$f":"SUMIF('00 PDC SP'!$C:$C,'00 SP'!$D249,'00 PDC SP'!K:K)*-1","v":0},{"$f":"SUMIF('00 PDC SP'!$C:$C,'00 SP'!$D249,'00 PDC SP'!L:L)*-1","v":0},{"$f":"SUMIF('00 PDC SP'!$C:$C,'00 SP'!$D249,'00 PDC SP'!M:M)*-1","v":0},{"$f":"SUMIF('00 PDC SP'!$C:$C,'00 SP'!$D249,'00 PDC SP'!N:N)*-1","v":0}]
["PDA200","D.V.1.e) Debiti v/Aziende sanitarie pubbliche della Regione - per mobilità non in compensazione",null,"PDA200",14,{"$f":"SUMIF('00 PDC SP'!$C:$C,'00 SP'!$D250,'00 PDC SP'!H:H)*-1","v":0},{"$f":"SUMIF('00 PDC SP'!$C:$C,'00 SP'!$D250,'00 PDC SP'!I:I)*-1","v":0},{"$f":"SUMIF('00 PDC SP'!$C:$C,'00 SP'!$D250,'00 PDC SP'!J:J)*-1","v":0},{"$f":"SUMIF('00 PDC SP'!$C:$C,'00 SP'!$D250,'00 PDC SP'!K:K)*-1","v":0},{"$f":"SUMIF('00 PDC SP'!$C:$C,'00 SP'!$D250,'00 PDC SP'!L:L)*-1","v":0},{"$f":"SUMIF('00 PDC SP'!$C:$C,'00 SP'!$D250,'00 PDC SP'!M:M)*-1","v":0},{"$f":"SUMIF('00 PDC SP'!$C:$C,'00 SP'!$D250,'00 PDC SP'!N:N)*-1","v":0}]
["PDA210","D.V.1.f) Debiti v/Aziende sanitarie pubbliche della Regione - per altre prestazioni",null,"PDA210",14,{"$f":"SUMIF('00 PDC SP'!$C:$C,'00 SP'!$D251,'00 PDC SP'!H:H)*-1","v":2074732.88},{"$f":"SUMIF('00 PDC SP'!$C:$C,'00 SP'!$D251,'00 PDC SP'!I:I)*-1","v":749977.06000000017},{"$f":"SUMIF('00 PDC SP'!$C:$C,'00 SP'!$D251,'00 PDC SP'!J:J)*-1","v":688170.83000000007},{"$f":"SUMIF('00 PDC SP'!$C:$C,'00 SP'!$D251,'00 PDC SP'!K:K)*-1","v":2136539.1100000003},{"$f":"SUMIF('00 PDC SP'!$C:$C,'00 SP'!$D251,'00 PDC SP'!L:L)*-1","v":748956.39},{"$f":"SUMIF('00 PDC SP'!$C:$C,'00 SP'!$D251,'00 PDC SP'!M:M)*-1","v":495733.42},{"$f":"SUMIF('00 PDC SP'!$C:$C,'00 SP'!$D251,'00 PDC SP'!N:N)*-1","v":2389762.08}]
["PDA220","D.V.2) Debiti v/Aziende sanitarie pubbliche Extraregione",null,"PDA220",14,{"$f":"SUMIF('00 PDC SP'!$C:$C,'00 SP'!$D252,'00 PDC SP'!H:H)*-1","v":237955.81},{"$f":"SUMIF('00 PDC SP'!$C:$C,'00 SP'!$D252,'00 PDC SP'!I:I)*-1","v":539844.73},{"$f":"SUMIF('00 PDC SP'!$C:$C,'00 SP'!$D252,'00 PDC SP'!J:J)*-1","v":522787.2},{"$f":"SUMIF('00 PDC SP'!$C:$C,'00 SP'!$D252,'00 PDC SP'!K:K)*-1","v":255013.34},{"$f":"SUMIF('00 PDC SP'!$C:$C,'00 SP'!$D252,'00 PDC SP'!L:L)*-1","v":337570.29},{"$f":"SUMIF('00 PDC SP'!$C:$C,'00 SP'!$D252,'00 PDC SP'!M:M)*-1","v":391557.73},{"$f":"SUMIF('00 PDC SP'!$C:$C,'00 SP'!$D252,'00 PDC SP'!N:N)*-1","v":201025.90000000002}]
["PDA230","D.V.3) Debiti v/Aziende sanitarie pubbliche della Regione per versamenti c/patrimonio netto",null,"PDA230",14,{"$f":"SUMIF('00 PDC SP'!$C:$C,'00 SP'!$D253,'00 PDC SP'!H:H)*-1","v":0},{"$f":"SUMIF('00 PDC SP'!$C:$C,'00 SP'!$D253,'00 PDC SP'!I:I)*-1","v":0},{"$f":"SUMIF('00 PDC SP'!$C:$C,'00 SP'!$D253,'00 PDC SP'!J:J)*-1","v":0},{"$f":"SUMIF('00 PDC SP'!$C:$C,'00 SP'!$D253,'00 PDC SP'!K:K)*-1","v":0},{"$f":"SUMIF('00 PDC SP'!$C:$C,'00 SP'!$D253,'00 PDC SP'!L:L)*-1","v":0},{"$f":"SUMIF('00 PDC SP'!$C:$C,'00 SP'!$D253,'00 PDC SP'!M:M)*-1","v":0},{"$f":"SUMIF('00 PDC SP'!$C:$C,'00 SP'!$D253,'00 PDC SP'!N:N)*-1","v":0}]
["PDA240","D.VI) DEBITI V/ SOCIETA' PARTECIPATE E/O ENTI DIPENDENTI DELLA REGIONE","S","PDA240",null,{"$f":"SUM(F255:F257)","v":7311.52},13241.9,20553.419999999998,0,0,0,0]
["PDA250","D.VI.1) Debiti v/enti regionali",null,"PDA250",15,{"$f":"SUMIF('00 PDC SP'!$C:$C,'00 SP'!$D255,'00 PDC SP'!H:H)*-1","v":7311.52},{"$f":"SUMIF('00 PDC SP'!$C:$C,'00 SP'!$D255,'00 PDC SP'!I:I)*-1","v":13241.9},{"$f":"SUMIF('00 PDC SP'!$C:$C,'00 SP'!$D255,'00 PDC SP'!J:J)*-1","v":20553.419999999998},{"$f":"SUMIF('00 PDC SP'!$C:$C,'00 SP'!$D255,'00 PDC SP'!K:K)*-1","v":0},{"$f":"SUMIF('00 PDC SP'!$C:$C,'00 SP'!$D255,'00 PDC SP'!L:L)*-1","v":0},{"$f":"SUMIF('00 PDC SP'!$C:$C,'00 SP'!$D255,'00 PDC SP'!M:M)*-1","v":0},{"$f":"SUMIF('00 PDC SP'!$C:$C,'00 SP'!$D255,'00 PDC SP'!N:N)*-1","v":0}]
["PDA260","D.VI.2) Debiti v/sperimentazioni gestionali",null,"PDA260",15,{"$f":"SUMIF('00 PDC SP'!$C:$C,'00 SP'!$D256,'00 PDC SP'!H:H)*-1","v":0},{"$f":"SUMIF('00 PDC SP'!$C:$C,'00 SP'!$D256,'00 PDC SP'!I:I)*-1","v":0},{"$f":"SUMIF('00 PDC SP'!$C:$C,'00 SP'!$D256,'00 PDC SP'!J:J)*-1","v":0},{"$f":"SUMIF('00 PDC SP'!$C:$C,'00 SP'!$D256,'00 PDC SP'!K:K)*-1","v":0},{"$f":"SUMIF('00 PDC SP'!$C:$C,'00 SP'!$D256,'00 PDC SP'!L:L)*-1","v":0},{"$f":"SUMIF('00 PDC SP'!$C:$C,'00 SP'!$D256,'00 PDC SP'!M:M)*-1","v":0},{"$f":"SUMIF('00 PDC SP'!$C:$C,'00 SP'!$D256,'00 PDC SP'!N:N)*-1","v":0}]
["PDA270","D.VI.3) Debiti v/altre partecipate",null,"PDA270",15,{"$f":"SUMIF('00 PDC SP'!$C:$C,'00 SP'!$D257,'00 PDC SP'!H:H)*-1","v":0},{"$f":"SUMIF('00 PDC SP'!$C:$C,'00 SP'!$D257,'00 PDC SP'!I:I)*-1","v":0},{"$f":"SUMIF('00 PDC SP'!$C:$C,'00 SP'!$D257,'00 PDC SP'!J:J)*-1","v":0},{"$f":"SUMIF('00 PDC SP'!$C:$C,'00 SP'!$D257,'00 PDC SP'!K:K)*-1","v":0},{"$f":"SUMIF('00 PDC SP'!$C:$C,'00 SP'!$D257,'00 PDC SP'!L:L)*-1","v":0},{"$f":"SUMIF('00 PDC SP'!$C:$C,'00 SP'!$D257,'00 PDC SP'!M:M)*-1","v":0},{"$f":"SUMIF('00 PDC SP'!$C:$C,'00 SP'!$D257,'00 PDC SP'!N:N)*-1","v":0}]
["PDA280","D.VII) DEBITI V/FORNITORI","S","PDA280",null,{"$f":"SUM(F259:F260)","v":129341139.04000001},500000993.92000002,496631053.96000004,132711079,507456245.35999995,514422300.49000001,125745023.8699999]
["PDA290","D.VII.1) Debiti verso erogatori (privati accreditati e convenzionati) di prestazioni sanitarie",null,"PDA290",16,{"$f":"SUMIF('00 PDC SP'!$C:$C,'00 SP'!$D259,'00 PDC SP'!H:H)*-1","v":89194745.600000009},{"$f":"SUMIF('00 PDC SP'!$C:$C,'00 SP'!$D259,'00 PDC SP'!I:I)*-1","v":212685925.01999998},{"$f":"SUMIF('00 PDC SP'!$C:$C,'00 SP'!$D259,'00 PDC SP'!J:J)*-1","v":211005068.35999998},{"$f":"SUMIF('00 PDC SP'!$C:$C,'00 SP'!$D259,'00 PDC SP'!K:K)*-1","v":90875602.260000005},{"$f":"SUMIF('00 PDC SP'!$C:$C,'00 SP'!$D259,'00 PDC SP'!L:L)*-1","v":204921158.75},{"$f":"SUMIF('00 PDC SP'!$C:$C,'00 SP'!$D259,'00 PDC SP'!M:M)*-1","v":221886119.70999998},{"$f":"SUMIF('00 PDC SP'!$C:$C,'00 SP'!$D259,'00 PDC SP'!N:N)*-1","v":73910641.299999952}]
["PDA300","D.VII.2) Debiti verso altri fornitori",null,"PDA300",16,{"$f":"SUMIF('00 PDC SP'!$C:$C,'00 SP'!$D260,'00 PDC SP'!H:H)*-1","v":40146393.439999998},{"$f":"SUMIF('00 PDC SP'!$C:$C,'00 SP'!$D260,'00 PDC SP'!I:I)*-1","v":287315068.90000004},{"$f":"SUMIF('00 PDC SP'!$C:$C,'00 SP'!$D260,'00 PDC SP'!J:J)*-1","v":285625985.60000002},{"$f":"SUMIF('00 PDC SP'!$C:$C,'00 SP'!$D260,'00 PDC SP'!K:K)*-1","v":41835476.740000002},{"$f":"SUMIF('00 PDC SP'!$C:$C,'00 SP'!$D260,'00 PDC SP'!L:L)*-1","v":302535086.60999995},{"$f":"SUMIF('00 PDC SP'!$C:$C,'00 SP'!$D260,'00 PDC SP'!M:M)*-1","v":292536180.78000003},{"$f":"SUMIF('00 PDC SP'!$C:$C,'00 SP'!$D260,'00 PDC SP'!N:N)*-1","v":51834382.569999948}]
["PDA310","D.VIII) DEBITI V/ISTITUTO TESORIERE",null,"PDA310",54,{"$f":"SUMIF('00 PDC SP'!$C:$C,'00 SP'!$D261,'00 PDC SP'!H:H)*-1","v":0},{"$f":"SUMIF('00 PDC SP'!$C:$C,'00 SP'!$D261,'00 PDC SP'!I:I)*-1","v":0},{"$f":"SUMIF('00 PDC SP'!$C:$C,'00 SP'!$D261,'00 PDC SP'!J:J)*-1","v":0},{"$f":"SUMIF('00 PDC SP'!$C:$C,'00 SP'!$D261,'00 PDC SP'!K:K)*-1","v":0},{"$f":"SUMIF('00 PDC SP'!$C:$C,'00 SP'!$D261,'00 PDC SP'!L:L)*-1","v":0},{"$f":"SUMIF('00 PDC SP'!$C:$C,'00 SP'!$D261,'00 PDC SP'!M:M)*-1","v":0},{"$f":"SUMIF('00 PDC SP'!$C:$C,'00 SP'!$D261,'00 PDC SP'!N:N)*-1","v":0}]
["PDA320","D.IX) DEBITI TRIBUTARI",null,"PDA320",17,{"$f":"SUMIF('00 PDC SP'!$C:$C,'00 SP'!$D262,'00 PDC SP'!H:H)*-1","v":4355306.57},{"$f":"SUMIF('00 PDC SP'!$C:$C,'00 SP'!$D262,'00 PDC SP'!I:I)*-1","v":78421368.270000011},{"$f":"SUMIF('00 PDC SP'!$C:$C,'00 SP'!$D262,'00 PDC SP'!J:J)*-1","v":78402867.980000004},{"$f":"SUMIF('00 PDC SP'!$C:$C,'00 SP'!$D262,'00 PDC SP'!K:K)*-1","v":4373806.8599999994},{"$f":"SUMIF('00 PDC SP'!$C:$C,'00 SP'!$D262,'00 PDC SP'!L:L)*-1","v":77110739.460000008},{"$f":"SUMIF('00 PDC SP'!$C:$C,'00 SP'!$D262,'00 PDC SP'!M:M)*-1","v":78409524.050000012},{"$f":"SUMIF('00 PDC SP'!$C:$C,'00 SP'!$D262,'00 PDC SP'!N:N)*-1","v":3075022.2700000014}]
["PDA330","D.X) DEBITI V/ISTITUTI PREVIDENZIALI, ASSISTENZIALI E SICUREZZA SOCIALE",null,"PDA330",18,{"$f":"SUMIF('00 PDC SP'!$C:$C,'00 SP'!$D263,'00 PDC SP'!H:H)*-1","v":1257841.32},{"$f":"SUMIF('00 PDC SP'!$C:$C,'00 SP'!$D263,'00 PDC SP'!I:I)*-1","v":60206977.510000005},{"$f":"SUMIF('00 PDC SP'!$C:$C,'00 SP'!$D263,'00 PDC SP'!J:J)*-1","v":60072271.120000005},{"$f":"SUMIF('00 PDC SP'!$C:$C,'00 SP'!$D263,'00 PDC SP'!K:K)*-1","v":1392547.71},{"$f":"SUMIF('00 PDC SP'!$C:$C,'00 SP'!$D263,'00 PDC SP'!L:L)*-1","v":59538714.160000004},{"$f":"SUMIF('00 PDC SP'!$C:$C,'00 SP'!$D263,'00 PDC SP'!M:M)*-1","v":59412731.259999998},{"$f":"SUMIF('00 PDC SP'!$C:$C,'00 SP'!$D263,'00 PDC SP'!N:N)*-1","v":1518530.6099999971}]
["PDA340","D.XI) DEBITI V/ALTRI","S","PDA340",null,{"$f":"SUM(F265:F268)","v":16480297.110000001},2359858191.1200004,2360086688.7900004,16251799.439999999,104595212.91,106088798.63,14758213.719999988]
["PDA350","D.XI.1) Debiti v/altri finanziatori",null,"PDA350",19,{"$f":"SUMIF('00 PDC SP'!$C:$C,'00 SP'!$D265,'00 PDC SP'!H:H)*-1","v":0},{"$f":"SUMIF('00 PDC SP'!$C:$C,'00 SP'!$D265,'00 PDC SP'!I:I)*-1","v":0},{"$f":"SUMIF('00 PDC SP'!$C:$C,'00 SP'!$D265,'00 PDC SP'!J:J)*-1","v":0},{"$f":"SUMIF('00 PDC SP'!$C:$C,'00 SP'!$D265,'00 PDC SP'!K:K)*-1","v":0},{"$f":"SUMIF('00 PDC SP'!$C:$C,'00 SP'!$D265,'00 PDC SP'!L:L)*-1","v":0},{"$f":"SUMIF('00 PDC SP'!$C:$C,'00 SP'!$D265,'00 PDC SP'!M:M)*-1","v":0},{"$f":"SUMIF('00 PDC SP'!$C:$C,'00 SP'!$D265,'00 PDC SP'!N:N)*-1","v":0}]
["PDA360","D.XI.2) Debiti v/dipendenti",null,"PDA360",19,{"$f":"SUMIF('00 PDC SP'!$C:$C,'00 SP'!$D266,'00 PDC SP'!H:H)*-1","v":15150459.170000002},{"$f":"SUMIF('00 PDC SP'!$C:$C,'00 SP'!$D266,'00 PDC SP'!I:I)*-1","v":2345730162.5100002},{"$f":"SUMIF('00 PDC SP'!$C:$C,'00 SP'!$D266,'00 PDC SP'!J:J)*-1","v":2345862190.4100003},{"$f":"SUMIF('00 PDC SP'!$C:$C,'00 SP'!$D266,'00 PDC SP'!K:K)*-1","v":15018431.27},{"$f":"SUMIF('00 PDC SP'!$C:$C,'00 SP'!$D266,'00 PDC SP'!L:L)*-1","v":96085417.479999989},{"$f":"SUMIF('00 PDC SP'!$C:$C,'00 SP'!$D266,'00 PDC SP'!M:M)*-1","v":97248603.310000002},{"$f":"SUMIF('00 PDC SP'!$C:$C,'00 SP'!$D266,'00 PDC SP'!N:N)*-1","v":13855245.439999988}]
["PDA370","D.XI.3) Debiti v/gestioni liquidatorie",null,"PDA370",19,{"$f":"SUMIF('00 PDC SP'!$C:$C,'00 SP'!$D267,'00 PDC SP'!H:H)*-1","v":19594.54},{"$f":"SUMIF('00 PDC SP'!$C:$C,'00 SP'!$D267,'00 PDC SP'!I:I)*-1","v":0},{"$f":"SUMIF('00 PDC SP'!$C:$C,'00 SP'!$D267,'00 PDC SP'!J:J)*-1","v":19594.54},{"$f":"SUMIF('00 PDC SP'!$C:$C,'00 SP'!$D267,'00 PDC SP'!K:K)*-1","v":0},{"$f":"SUMIF('00 PDC SP'!$C:$C,'00 SP'!$D267,'00 PDC SP'!L:L)*-1","v":0},{"$f":"SUMIF('00 PDC SP'!$C:$C,'00 SP'!$D267,'00 PDC SP'!M:M)*-1","v":0},{"$f":"SUMIF('00 PDC SP'!$C:$C,'00 SP'!$D267,'00 PDC SP'!N:N)*-1","v":0}]
["PDA380","D.XI.4) Altri debiti diversi",null,"PDA380",19,{"$f":"SUMIF('00 PDC SP'!$C:$C,'00 SP'!$D268,'00 PDC SP'!H:H)*-1","v":1310243.3999999999},{"$f":"SUMIF('00 PDC SP'!$C:$C,'00 SP'!$D268,'00 PDC SP'!I:I)*-1","v":14128028.609999999},{"$f":"SUMIF('00 PDC SP'!$C:$C,'00 SP'!$D268,'00 PDC SP'!J:J)*-1","v":14204903.84},{"$f":"SUMIF('00 PDC SP'!$C:$C,'00 SP'!$D268,'00 PDC SP'!K:K)*-1","v":1233368.17},{"$f":"SUMIF('00 PDC SP'!$C:$C,'00 SP'!$D268,'00 PDC SP'!L:L)*-1","v":8509795.4299999997},{"$f":"SUMIF('00 PDC SP'!$C:$C,'00 SP'!$D268,'00 PDC SP'!M:M)*-1","v":8840195.3200000003},{"$f":"SUMIF('00 PDC SP'!$C:$C,'00 SP'!$D268,'00 PDC SP'!N:N)*-1","v":902968.2799999998}]
["PEZ999","E) RATEI E RISCONTI PASSIVI","S","PEZ999",null,{"$f":"F270+F273","v":0},0,0,0,0,0,0]
["PEA000","E.I) RATEI PASSIVI","S","PEA000",null,{"$f":"SUM(F271:F272)","v":0},0,0,0,0,0,0]
["PEA010","E.I.1) Ratei passivi",null,"PEA010",20,{"$f":"SUMIF('00 PDC SP'!$C:$C,'00 SP'!$D271,'00 PDC SP'!H:H)*-1","v":0},{"$f":"SUMIF('00 PDC SP'!$C:$C,'00 SP'!$D271,'00 PDC SP'!I:I)*-1","v":0},{"$f":"SUMIF('00 PDC SP'!$C:$C,'00 SP'!$D271,'00 PDC SP'!J:J)*-1","v":0},{"$f":"SUMIF('00 PDC SP'!$C:$C,'00 SP'!$D271,'00 PDC SP'!K:K)*-1","v":0},{"$f":"SUMIF('00 PDC SP'!$C:$C,'00 SP'!$D271,'00 PDC SP'!L:L)*-1","v":0},{"$f":"SUMIF('00 PDC SP'!$C:$C,'00 SP'!$D271,'00 PDC SP'!M:M)*-1","v":0},{"$f":"SUMIF('00 PDC SP'!$C:$C,'00 SP'!$D271,'00 PDC SP'!N:N)*-1","v":0}]
["PEA020","E.I.2) Ratei passivi v/Aziende sanitarie pubbliche della Regione",null,"PEA020",20,{"$f":"SUMIF('00 PDC SP'!$C:$C,'00 SP'!$D272,'00 PDC SP'!H:H)*-1","v":0},{"$f":"SUMIF('00 PDC SP'!$C:$C,'00 SP'!$D272,'00 PDC SP'!I:I)*-1","v":0},{"$f":"SUMIF('00 PDC SP'!$C:$C,'00 SP'!$D272,'00 PDC SP'!J:J)*-1","v":0},{"$f":"SUMIF('00 PDC SP'!$C:$C,'00 SP'!$D272,'00 PDC SP'!K:K)*-1","v":0},{"$f":"SUMIF('00 PDC SP'!$C:$C,'00 SP'!$D272,'00 PDC SP'!L:L)*-1","v":0},{"$f":"SUMIF('00 PDC SP'!$C:$C,'00 SP'!$D272,'00 PDC SP'!M:M)*-1","v":0},{"$f":"SUMIF('00 PDC SP'!$C:$C,'00 SP'!$D272,'00 PDC SP'!N:N)*-1","v":0}]
["PEA030","E.II) RISCONTI PASSIVI","S","PEA030",null,{"$f":"SUM(F274:F275)","v":0},0,0,0,0,0,0]
["PEA040","E.II.1) Risconti passivi",null,"PEA040",20,{"$f":"SUMIF('00 PDC SP'!$C:$C,'00 SP'!$D274,'00 PDC SP'!H:H)*-1","v":0},{"$f":"SUMIF('00 PDC SP'!$C:$C,'00 SP'!$D274,'00 PDC SP'!I:I)*-1","v":0},{"$f":"SUMIF('00 PDC SP'!$C:$C,'00 SP'!$D274,'00 PDC SP'!J:J)*-1","v":0},{"$f":"SUMIF('00 PDC SP'!$C:$C,'00 SP'!$D274,'00 PDC SP'!K:K)*-1","v":0},{"$f":"SUMIF('00 PDC SP'!$C:$C,'00 SP'!$D274,'00 PDC SP'!L:L)*-1","v":0},{"$f":"SUMIF('00 PDC SP'!$C:$C,'00 SP'!$D274,'00 PDC SP'!M:M)*-1","v":0},{"$f":"SUMIF('00 PDC SP'!$C:$C,'00 SP'!$D274,'00 PDC SP'!N:N)*-1","v":0}]
["PEA050","E.II.2) Risconti passivi v/Aziende sanitarie pubbliche della Regione",null,"PEA050",20,{"$f":"SUMIF('00 PDC SP'!$C:$C,'00 SP'!$D275,'00 PDC SP'!H:H)*-1","v":0},{"$f":"SUMIF('00 PDC SP'!$C:$C,'00 SP'!$D275,'00 PDC SP'!I:I)*-1","v":0},{"$f":"SUMIF('00 PDC SP'!$C:$C,'00 SP'!$D275,'00 PDC SP'!J:J)*-1","v":0},{"$f":"SUMIF('00 PDC SP'!$C:$C,'00 SP'!$D275,'00 PDC SP'!K:K)*-1","v":0},{"$f":"SUMIF('00 PDC SP'!$C:$C,'00 SP'!$D275,'00 PDC SP'!L:L)*-1","v":0},{"$f":"SUMIF('00 PDC SP'!$C:$C,'00 SP'!$D275,'00 PDC SP'!M:M)*-1","v":0},{"$f":"SUMIF('00 PDC SP'!$C:$C,'00 SP'!$D275,'00 PDC SP'!N:N)*-1","v":0}]
["PFZ999","F) CONTI D'ORDINE","S","PFZ999",null,{"$f":"SUM(F277:F280)","v":986370},0,986370,0,0,0,0]
["PFA000","F.I) CANONI DI LEASING ANCORA DA PAGARE",null,"PFA000",null,{"$f":"SUMIF('00 PDC SP'!$C:$C,'00 SP'!$D277,'00 PDC SP'!H:H)*-1","v":986370},{"$f":"SUMIF('00 PDC SP'!$C:$C,'00 SP'!$D277,'00 PDC SP'!I:I)*-1","v":0},{"$f":"SUMIF('00 PDC SP'!$C:$C,'00 SP'!$D277,'00 PDC SP'!J:J)*-1","v":986370},{"$f":"SUMIF('00 PDC SP'!$C:$C,'00 SP'!$D277,'00 PDC SP'!K:K)*-1","v":0},{"$f":"SUMIF('00 PDC SP'!$C:$C,'00 SP'!$D277,'00 PDC SP'!L:L)*-1","v":0},{"$f":"SUMIF('00 PDC SP'!$C:$C,'00 SP'!$D277,'00 PDC SP'!M:M)*-1","v":0},{"$f":"SUMIF('00 PDC SP'!$C:$C,'00 SP'!$D277,'00 PDC SP'!N:N)*-1","v":0}]
["PFA010","F.II) DEPOSITI CAUZIONALI",null,"PFA010",null,{"$f":"SUMIF('00 PDC SP'!$C:$C,'00 SP'!$D278,'00 PDC SP'!H:H)*-1","v":0},{"$f":"SUMIF('00 PDC SP'!$C:$C,'00 SP'!$D278,'00 PDC SP'!I:I)*-1","v":0},{"$f":"SUMIF('00 PDC SP'!$C:$C,'00 SP'!$D278,'00 PDC SP'!J:J)*-1","v":0},{"$f":"SUMIF('00 PDC SP'!$C:$C,'00 SP'!$D278,'00 PDC SP'!K:K)*-1","v":0},{"$f":"SUMIF('00 PDC SP'!$C:$C,'00 SP'!$D278,'00 PDC SP'!L:L)*-1","v":0},{"$f":"SUMIF('00 PDC SP'!$C:$C,'00 SP'!$D278,'00 PDC SP'!M:M)*-1","v":0},{"$f":"SUMIF('00 PDC SP'!$C:$C,'00 SP'!$D278,'00 PDC SP'!N:N)*-1","v":0}]
["PFA020","F.III) BENI IN COMODATO",null,"PFA020",null,{"$f":"SUMIF('00 PDC SP'!$C:$C,'00 SP'!$D279,'00 PDC SP'!H:H)*-1","v":0},{"$f":"SUMIF('00 PDC SP'!$C:$C,'00 SP'!$D279,'00 PDC SP'!I:I)*-1","v":0},{"$f":"SUMIF('00 PDC SP'!$C:$C,'00 SP'!$D279,'00 PDC SP'!J:J)*-1","v":0},{"$f":"SUMIF('00 PDC SP'!$C:$C,'00 SP'!$D279,'00 PDC SP'!K:K)*-1","v":0},{"$f":"SUMIF('00 PDC SP'!$C:$C,'00 SP'!$D279,'00 PDC SP'!L:L)*-1","v":0},{"$f":"SUMIF('00 PDC SP'!$C:$C,'00 SP'!$D279,'00 PDC SP'!M:M)*-1","v":0},{"$f":"SUMIF('00 PDC SP'!$C:$C,'00 SP'!$D279,'00 PDC SP'!N:N)*-1","v":0}]
["PFA030","F.IV) ALTRI CONTI D'ORDINE",null,"PFA030",null,{"$f":"SUMIF('00 PDC SP'!$C:$C,'00 SP'!$D280,'00 PDC SP'!H:H)*-1","v":0},{"$f":"SUMIF('00 PDC SP'!$C:$C,'00 SP'!$D280,'00 PDC SP'!I:I)*-1","v":0},{"$f":"SUMIF('00 PDC SP'!$C:$C,'00 SP'!$D280,'00 PDC SP'!J:J)*-1","v":0},{"$f":"SUMIF('00 PDC SP'!$C:$C,'00 SP'!$D280,'00 PDC SP'!K:K)*-1","v":0},{"$f":"SUMIF('00 PDC SP'!$C:$C,'00 SP'!$D280,'00 PDC SP'!L:L)*-1","v":0},{"$f":"SUMIF('00 PDC SP'!$C:$C,'00 SP'!$D280,'00 PDC SP'!M:M)*-1","v":0},{"$f":"SUMIF('00 PDC SP'!$C:$C,'00 SP'!$D280,'00 PDC SP'!N:N)*-1","v":0}]
[]
[null,"TOTALE ATTIVO",null,null,null,{"$f":"F3+F81+F162+F169","v":381035526.87},null,null,{"$f":"I3+I81+I162+I169","v":371697560.40999997},null,null,{"$f":"L3+L81+L162+L169","v":374571789.33999997}]
[null,"PATRIMONIO NETTO",null,null,null,{"$f":"F174","v":108817121.25},null,null,{"$f":"I174","v":110947191.03},null,null,{"$f":"L174","v":108484341.47999997}]
[null,"TOTALE PASSIVO",null,null,null,{"$f":"F198+F226+F229+F269+F276","v":272218405.62},null,null,{"$f":"I198+I226+I229+I269+I276","v":260750369.38000003},null,null,{"$f":"L198+L226+L229+L269+L276","v":266087447.8599999}]
[null,null,null,null,null,{"$f":"F282-(F283+F284)","v":0},null,null,{"$f":"I282-(I283+I284)","v":0},null,null,{"$f":"L282-(L283+L284)","v":0}]
[null,"UTILE/PERDITA DI ESERCIZIO",null,null,null,{"$f":"F197","v":-30778127.57},null,null,{"$f":"I197","v":-14264709.560000001},null,null,{"$f":"L197","v":-13609624.26}]

{"sheet":"01 Rendiconto Finanziario","index":3,"n_rows":119,"n_cols":12,"rows_kept":119,"cut":false,"hidden":false,"merged":[[91,3,91,4],[1,3,1,4],[3,3,3,4],[5,3,5,4],[9,3,9,4],[12,3,12,4],[17,3,17,4],[21,3,21,4],[24,3,24,4],[25,3,25,4],[54,3,54,4],[55,3,55,4],[92,3,92,4],[106,3,106,4],[107,3,107,4],[108,3,108,4],[109,3,109,4]]}
[]
[null,null,null,"Rendiconto Finanziario",null,{"$f":"'00 SP'!L2","v":"Esercizio 2017"},{"$f":"'00 SP'!I2","v":"Esercizio 2016"},null,"NOTE"]
[]
[null,null,null,"OPERAZIONI DI GESTIONE REDDITUALE"]
[1,"SP",1,"(+)","risultato di esercizio",{"$f":"SUMIF('00 PDC SP'!$D:$D,'01 Rendiconto Finanziario'!$A5,'00 PDC SP'!N:N)*'01 Rendiconto Finanziario'!$C5","v":-13609624.259999871},{"$f":"SUMIF('00 PDC SP'!$D:$D,'01 Rendiconto Finanziario'!$A5,'00 PDC SP'!K:K)*'01 Rendiconto Finanziario'!$C5","v":-14264709.560000211}]
[null,null,null,"Voci che non hanno effetto sulla liquidità: costi e ricavi non monetari"]
[2,"VP",-1,"(+)","ammortamenti fabbricati",{"$f":"(SUMIF('00 PDC SP'!$D:$D,'01 Rendiconto Finanziario'!$A7,'00 PDC SP'!L:L)-SUMIF('00 PDC SP'!$D:$D,'01 Rendiconto Finanziario'!$A7,'00 PDC SP'!M:M))*'01 Rendiconto Finanziario'!$C7","v":4970287.05},{"$f":"(SUMIF('00 PDC SP'!$D:$D,'01 Rendiconto Finanziario'!$A7,'00 PDC SP'!I:I)-SUMIF('00 PDC SP'!$D:$D,'01 Rendiconto Finanziario'!$A7,'00 PDC SP'!J:J))*'01 Rendiconto Finanziario'!$C7","v":4970287.05}]
[3,"VP",-1,"(+)","ammortamenti altre immobilizzazioni materiali",{"$f":"(SUMIF('00 PDC SP'!$D:$D,'01 Rendiconto Finanziario'!$A8,'00 PDC SP'!L:L)-SUMIF('00 PDC SP'!$D:$D,'01 Rendiconto Finanziario'!$A8,'00 PDC SP'!M:M))*'01 Rendiconto Finanziario'!$C8","v":5153454.74},{"$f":"(SUMIF('00 PDC SP'!$D:$D,'01 Rendiconto Finanziario'!$A8,'00 PDC SP'!I:I)-SUMIF('00 PDC SP'!$D:$D,'01 Rendiconto Finanziario'!$A8,'00 PDC SP'!J:J))*'01 Rendiconto Finanziario'!C8","v":735709.19}]
[4,"VP",-1,"(+)","ammortamenti immobilizzazioni immateriali",{"$f":"(SUMIF('00 PDC SP'!$D:$D,'01 Rendiconto Finanziario'!$A9,'00 PDC SP'!L:L)-SUMIF('00 PDC SP'!$D:$D,'01 Rendiconto Finanziario'!$A9,'00 PDC SP'!M:M))*'01 Rendiconto Finanziario'!$C9","v":136552.39000000001},{"$f":"(SUMIF('00 PDC SP'!$D:$D,'01 Rendiconto Finanziario'!$A9,'00 PDC SP'!I:I)-SUMIF('00 PDC SP'!$D:$D,'01 Rendiconto Finanziario'!$A9,'00 PDC SP'!J:J))*'01 Rendiconto Finanziario'!C9","v":98877.33}]
[null,null,null,"Ammortamenti",null,{"$f":"SUM(F7:F9)","v":10260294.18},{"$f":"SUM(G7:G9)","v":5804873.5700000003}]
[5,"DP",-1,"(-)","Utilizzo finanziamenti per investimenti",{"$f":"(SUMIF('00 PDC SP'!$D:$D,'01 Rendiconto Finanziario'!$A11,'00 PDC SP'!M:M))*'01 Rendiconto Finanziario'!$C11","v":-9776707.0800000001},{"$f":"(SUMIF('00 PDC SP'!$D:$D,'01 Rendiconto Finanziario'!$A11,'00 PDC SP'!J:J))*'01 Rendiconto Finanziario'!C11","v":-8451109.4199999999}]
[6,"DP",-1,"(-)","Utilizzo fondi riserva: investimenti, incentivi al personale, successioni e donaz., plusvalenze da reinvestire",0,{"$f":"(SUMIF('00 PDC SP'!$D:$D,'01 Rendiconto Finanziario'!$A12,'00 PDC SP'!J:J))*'01 Rendiconto Finanziario'!C12","v":0}]
[null,null,null,"Utilizzo contributi in c/capitale e fondi riserva",null,{"$f":"SUM(F11:F12)","v":-9776707.0800000001},{"$f":"SUM(G11:G12)","v":-8451109.4199999999}]
[7,"IP",-1,"(+)","accantonamenti SUMAI",{"$f":"(SUMIF('00 PDC SP'!$D:$D,'01 Rendiconto Finanziario'!$A14,'00 PDC SP'!L:L))*'01 Rendiconto Finanziario'!$C14","v":223015.56},{"$f":"(SUMIF('00 PDC SP'!$D:$D,'01 Rendiconto Finanziario'!$A14,'00 PDC SP'!I:I))*'01 Rendiconto Finanziario'!C14","v":225172.71}]
[7,"DP",1,"(-)","pagamenti SUMAI",{"$f":"(SUMIF('00 PDC SP'!$D:$D,'01 Rendiconto Finanziario'!$A15,'00 PDC SP'!M:M))*'01 Rendiconto Finanziario'!$C15","v":-217866.17},{"$f":"(SUMIF('00 PDC SP'!$D:$D,'01 Rendiconto Finanziario'!$A15,'00 PDC SP'!J:J))*'01 Rendiconto Finanziario'!C15","v":-112162.58}]
[8,"IP",-1,"(+)","accantonamenti TFR",{"$f":"(SUMIF('00 PDC SP'!$D:$D,'01 Rendiconto Finanziario'!$A16,'00 PDC SP'!L:L))*'01 Rendiconto Finanziario'!$C16","v":0},{"$f":"(SUMIF('00 PDC SP'!$D:$D,'01 Rendiconto Finanziario'!$A16,'00 PDC SP'!J:J))*'01 Rendiconto Finanziario'!C16","v":0}]
[8,"DP",1,"(-)","pagamenti TFR",{"$f":"(SUMIF('00 PDC SP'!$D:$D,'01 Rendiconto Finanziario'!$A17,'00 PDC SP'!M:M))*'01 Rendiconto Finanziario'!$C17","v":0},{"$f":"(SUMIF('00 PDC SP'!$D:$D,'01 Rendiconto Finanziario'!$A17,'00 PDC SP'!J:J))*'01 Rendiconto Finanziario'!C17","v":0}]
[null,null,null,"- Premio operosità medici SUMAI + TFR",null,{"$f":"SUM(F14:F17)","v":5149.3899999999849},{"$f":"SUM(G14:G17)","v":113010.12999999999}]
[9,"VA",1,"(+/-)","Rivalutazioni/svalutazioni di attività finanziarie",{"$f":"(SUMIF('00 PDC SP'!$D:$D,'01 Rendiconto Finanziario'!$A19,'00 PDC SP'!L:L)-SUMIF('00 PDC SP'!$D:$D,'01 Rendiconto Finanziario'!$A19,'00 PDC SP'!M:M))*'01 Rendiconto Finanziario'!$C19","v":0},{"$f":"(SUMIF('00 PDC SP'!$D:$D,'01 Rendiconto Finanziario'!$A19,'00 PDC SP'!I:I)-SUMIF('00 PDC SP'!$D:$D,'01 Rendiconto Finanziario'!$A19,'00 PDC SP'!J:J))*'01 Rendiconto Finanziario'!C19","v":0}]
[10,"IP",-1,"(+)","accantonamenti a fondi svalutazioni",{"$f":"(SUMIF('00 PDC SP'!$D:$D,'01 Rendiconto Finanziario'!$A20,'00 PDC SP'!L:L))*'01 Rendiconto Finanziario'!$C20","v":300000},{"$f":"(SUMIF('00 PDC SP'!$D:$D,'01 Rendiconto Finanziario'!$A20,'00 PDC SP'!I:I))*'01 Rendiconto Finanziario'!C20","v":0}]
[10,"DP",1,"(-)","utilizzo fondi svalutazioni (*)",{"$f":"(SUMIF('00 PDC SP'!$D:$D,'01 Rendiconto Finanziario'!$A21,'00 PDC SP'!M:M))*'01 Rendiconto Finanziario'!$C21","v":0},{"$f":"(SUMIF('00 PDC SP'!$D:$D,'01 Rendiconto Finanziario'!$A21,'00 PDC SP'!J:J))*'01 Rendiconto Finanziario'!C21","v":0}]
[null,null,null,"- Fondi svalutazione di attività",null,{"$f":"SUM(F19:F21)","v":300000},{"$f":"SUM(G19:G21)","v":0}]
[11,"IP",-1,"(+)","accantonamenti a fondi per rischi e oneri",{"$f":"(SUMIF('00 PDC SP'!$D:$D,'01 Rendiconto Finanziario'!$A23,'00 PDC SP'!L:L))*'01 Rendiconto Finanziario'!$C23","v":27369043.699999999},{"$f":"(SUMIF('00 PDC SP'!$D:$D,'01 Rendiconto Finanziario'!$A23,'00 PDC SP'!I:I))*'01 Rendiconto Finanziario'!C23","v":11690370.41}]
[11,"DP",1,"(-)","utilizzo fondi per rischi e oneri",{"$f":"(SUMIF('00 PDC SP'!$D:$D,'01 Rendiconto Finanziario'!$A24,'00 PDC SP'!M:M))*'01 Rendiconto Finanziario'!$C24","v":-12603218.600000001},{"$f":"(SUMIF('00 PDC SP'!$D:$D,'01 Rendiconto Finanziario'!$A24,'00 PDC SP'!J:J))*'01 Rendiconto Finanziario'!C24","v":-16080461.809999999}]
[null,null,null,"- Fondo per rischi ed oneri futuri",null,{"$f":"SUM(F23:F24)","v":14765825.099999998},{"$f":"SUM(G23:G24)","v":-4390091.3999999985}]
[null,null,null,"TOTALE Flusso di CCN della gestione corrente",null,{"$f":"F5+F10+F13+F18+F22+F25","v":1944937.3300001267},{"$f":"G5+G10+G13+G18+G22+G25","v":-21188026.680000212}]
[12,"VP",-1,"(+)/(-)","aumento/diminuzione debiti verso regione e provincia autonoma, esclusa la variazione relativa a debiti per acquisto di beni strumentali",{"$f":"((SUMIF('00 PDC SP'!$D:$D,'01 Rendiconto Finanziario'!$A27,'00 PDC SP'!L:L)-SUMIF('00 PDC SP'!$D:$D,'01 Rendiconto Finanziario'!$A27,'00 PDC SP'!M:M))*'01 Rendiconto Finanziario'!C27)","v":-689},{"$f":"((SUMIF('00 PDC SP'!$D:$D,'01 Rendiconto Finanziario'!$A27,'00 PDC SP'!I:I)-SUMIF('00 PDC SP'!$D:$D,'01 Rendiconto Finanziario'!$A27,'00 PDC SP'!J:J))*'01 Rendiconto Finanziario'!C27)","v":-9570786.1800000668}]
[13,"VP",-1,"(+)/(-)","aumento/diminuzione debiti verso comune",{"$f":"((SUMIF('00 PDC SP'!$D:$D,'01 Rendiconto Finanziario'!$A28,'00 PDC SP'!L:L)-SUMIF('00 PDC SP'!$D:$D,'01 Rendiconto Finanziario'!$A28,'00 PDC SP'!M:M))*'01 Rendiconto Finanziario'!C28)","v":0},{"$f":"(SUMIF('00 PDC SP'!$D:$D,'01 Rendiconto Finanziario'!$A28,'00 PDC SP'!I:I)-SUMIF('00 PDC SP'!$D:$D,'01 Rendiconto Finanziario'!$A28,'00 PDC SP'!J:J))*'01 Rendiconto Finanziario'!C28","v":0}]
[14,"VP",-1,"(+)/(-)","aumento/diminuzione debiti verso aziende sanitarie pubbliche",{"$f":"((SUMIF('00 PDC SP'!$D:$D,'01 Rendiconto Finanziario'!$A29,'00 PDC SP'!L:L)-SUMIF('00 PDC SP'!$D:$D,'01 Rendiconto Finanziario'!$A29,'00 PDC SP'!M:M))*'01 Rendiconto Finanziario'!C29)","v":199235.52999999991},{"$f":"(SUMIF('00 PDC SP'!$D:$D,'01 Rendiconto Finanziario'!$A29,'00 PDC SP'!I:I)-SUMIF('00 PDC SP'!$D:$D,'01 Rendiconto Finanziario'!$A29,'00 PDC SP'!J:J))*'01 Rendiconto Finanziario'!C29","v":78863.760000000242}]
[15,"VP",-1,"(+)/(-)","aumento/diminuzione debiti verso arpa",{"$f":"((SUMIF('00 PDC SP'!$D:$D,'01 Rendiconto Finanziario'!$A30,'00 PDC SP'!L:L)-SUMIF('00 PDC SP'!$D:$D,'01 Rendiconto Finanziario'!$A30,'00 PDC SP'!M:M))*'01 Rendiconto Finanziario'!C30)","v":0},{"$f":"(SUMIF('00 PDC SP'!$D:$D,'01 Rendiconto Finanziario'!$A30,'00 PDC SP'!I:I)-SUMIF('00 PDC SP'!$D:$D,'01 Rendiconto Finanziario'!$A30,'00 PDC SP'!J:J))*'01 Rendiconto Finanziario'!C30","v":-7311.5199999999986}]
[16,"VP",-1,"(+)/(-)","aumento/diminuzione debiti verso fornitori",{"$f":"((SUMIF('00 PDC SP'!$D:$D,'01 Rendiconto Finanziario'!$A31,'00 PDC SP'!L:L)-SUMIF('00 PDC SP'!$D:$D,'01 Rendiconto Finanziario'!$A31,'00 PDC SP'!M:M))*'01 Rendiconto Finanziario'!C31)-F91","v":-8017760.1300000548},{"$f":"((SUMIF('00 PDC SP'!$D:$D,'01 Rendiconto Finanziario'!$A31,'00 PDC SP'!I:I)-SUMIF('00 PDC SP'!$D:$D,'01 Rendiconto Finanziario'!$A31,'00 PDC SP'!J:J))*'01 Rendiconto Finanziario'!C31)-G91","v":3369939.9600000381},null,"IMPOSTATA FORMULA DI SOTTRAZIONE VS CODICE DI AGGREGAZIONE 58"]
[17,"VP",-1,"(+)/(-)","aumento/diminuzione debiti tributari",{"$f":"((SUMIF('00 PDC SP'!$D:$D,'01 Rendiconto Finanziario'!$A32,'00 PDC SP'!L:L)-SUMIF('00 PDC SP'!$D:$D,'01 Rendiconto Finanziario'!$A32,'00 PDC SP'!M:M))*'01 Rendiconto Finanziario'!C32)","v":-1298784.5900000036},{"$f":"(SUMIF('00 PDC SP'!$D:$D,'01 Rendiconto Finanziario'!$A32,'00 PDC SP'!I:I)-SUMIF('00 PDC SP'!$D:$D,'01 Rendiconto Finanziario'!$A32,'00 PDC SP'!J:J))*'01 Rendiconto Finanziario'!C32","v":18500.290000006557}]
[18,"VP",-1,"(+)/(-)","aumento/diminuzione debiti verso istituti di previdenza",{"$f":"((SUMIF('00 PDC SP'!$D:$D,'01 Rendiconto Finanziario'!$A33,'00 PDC SP'!L:L)-SUMIF('00 PDC SP'!$D:$D,'01 Rendiconto Finanziario'!$A33,'00 PDC SP'!M:M))*'01 Rendiconto Finanziario'!C33)","v":125982.90000000596},{"$f":"(SUMIF('00 PDC SP'!$D:$D,'01 Rendiconto Finanziario'!$A33,'00 PDC SP'!I:I)-SUMIF('00 PDC SP'!$D:$D,'01 Rendiconto Finanziario'!$A33,'00 PDC SP'!J:J))*'01 Rendiconto Finanziario'!C33","v":134706.3900000006}]
[19,"VP",-1,"(+)/(-)","aumento/diminuzione altri debiti",{"$f":"((SUMIF('00 PDC SP'!$D:$D,'01 Rendiconto Finanziario'!$A34,'00 PDC SP'!L:L)-SUMIF('00 PDC SP'!$D:$D,'01 Rendiconto Finanziario'!$A34,'00 PDC SP'!M:M))*'01 Rendiconto Finanziario'!C34)","v":-1493585.7199999988},{"$f":"(SUMIF('00 PDC SP'!$D:$D,'01 Rendiconto Finanziario'!$A34,'00 PDC SP'!I:I)-SUMIF('00 PDC SP'!$D:$D,'01 Rendiconto Finanziario'!$A34,'00 PDC SP'!J:J))*'01 Rendiconto Finanziario'!C34","v":-228497.67000007629}]
[null,null,null,"(+)/(-)","aumento/diminuzione debiti (escl. forn. di immob. e C/C bancari e istituto tesoriere)",{"$f":"SUM(F27:F34)","v":-10485601.01000005},{"$f":"SUM(G27:G34)","v":-6204584.9700000975}]
[20,"VP",-1,"(+)/(-)","aumento/diminuzione ratei e risconti passivi",{"$f":"((SUMIF('00 PDC SP'!$D:$D,'01 Rendiconto Finanziario'!$A36,'00 PDC SP'!L:L)-SUMIF('00 PDC SP'!$D:$D,'01 Rendiconto Finanziario'!$A36,'00 PDC SP'!M:M))*'01 Rendiconto Finanziario'!C36)","v":0},{"$f":"(SUMIF('00 PDC SP'!$D:$D,'01 Rendiconto Finanziario'!$A36,'00 PDC SP'!I:I)-SUMIF('00 PDC SP'!$D:$D,'01 Rendiconto Finanziario'!$A36,'00 PDC SP'!J:J))*'01 Rendiconto Finanziario'!C36","v":0}]
[21,"VA",-1,"(+)/(-)","diminuzione/aumento crediti parte corrente v/Stato quote indistinte",{"$f":"((SUMIF('00 PDC SP'!$D:$D,'01 Rendiconto Finanziario'!$A37,'00 PDC SP'!L:L)-SUMIF('00 PDC SP'!$D:$D,'01 Rendiconto Finanziario'!$A37,'00 PDC SP'!M:M))*'01 Rendiconto Finanziario'!C37)-F38","v":5970.2599999999984},{"$f":"((SUMIF('00 PDC SP'!$D:$D,'01 Rendiconto Finanziario'!$A37,'00 PDC SP'!I:I)-SUMIF('00 PDC SP'!$D:$D,'01 Rendiconto Finanziario'!$A37,'00 PDC SP'!J:J))*'01 Rendiconto Finanziario'!C37)-G38","v":-93186.12},null,"IMPOSTATA FORMULA DI SOTTRAZIONE VS CODICE DI AGGREGAZIONE 22 "]
[22,"VA",-1,"(+)/(-)","diminuzione/aumento crediti parte corrente v/Stato quote vincolate",{"$f":"((SUMIF('00 PDC SP'!$D:$D,'01 Rendiconto Finanziario'!$A38,'00 PDC SP'!L:L)-SUMIF('00 PDC SP'!$D:$D,'01 Rendiconto Finanziario'!$A38,'00 PDC SP'!M:M))*'01 Rendiconto Finanziario'!C38)","v":0},{"$f":"(SUMIF('00 PDC SP'!$D:$D,'01 Rendiconto Finanziario'!$A38,'00 PDC SP'!I:I)-SUMIF('00 PDC SP'!$D:$D,'01 Rendiconto Finanziario'!$A38,'00 PDC SP'!J:J))*'01 Rendiconto Finanziario'!C38","v":0},null,"CODICE 22  - DA INSERIRE MANUALMENTE"]
[23,"VA",-1,"(+)/(-)","diminuzione/aumento crediti parte corrente v/Regione per gettito addizionali Irpef e Irap",{"$f":"((SUMIF('00 PDC SP'!$D:$D,'01 Rendiconto Finanziario'!$A39,'00 PDC SP'!L:L)-SUMIF('00 PDC SP'!$D:$D,'01 Rendiconto Finanziario'!$A39,'00 PDC SP'!M:M))*'01 Rendiconto Finanziario'!C39)","v":0},{"$f":"(SUMIF('00 PDC SP'!$D:$D,'01 Rendiconto Finanziario'!$A39,'00 PDC SP'!I:I)-SUMIF('00 PDC SP'!$D:$D,'01 Rendiconto Finanziario'!$A39,'00 PDC SP'!J:J))*'01 Rendiconto Finanziario'!C39","v":0},null,"CODICE 23 - DA INSERIRE MANUALMENTE"]
[23,"VA",-1,"(+)/(-)","diminuzione/aumento crediti parte corrente v/Regione per partecipazioni regioni a Statuto speciale",{"$f":"((SUMIF('00 PDC SP'!$D:$D,'01 Rendiconto Finanziario'!$A40,'00 PDC SP'!L:L)-SUMIF('00 PDC SP'!$D:$D,'01 Rendiconto Finanziario'!$A40,'00 PDC SP'!M:M))*'01 Rendiconto Finanziario'!C40)","v":0},{"$f":"(SUMIF('00 PDC SP'!$D:$D,'01 Rendiconto Finanziario'!$A40,'00 PDC SP'!I:I)-SUMIF('00 PDC SP'!$D:$D,'01 Rendiconto Finanziario'!$A40,'00 PDC SP'!J:J))*'01 Rendiconto Finanziario'!C40","v":0},null,"CODICE 23 - DA INSERIRE MANUALMENTE"]
[23,"VA",-1,"(+)/(-)","diminuzione/aumento crediti parte corrente v/Regione - vincolate per partecipazioni regioni a Statuto speciale",{"$f":"((SUMIF('00 PDC SP'!$D:$D,'01 Rendiconto Finanziario'!$A41,'00 PDC SP'!L:L)-SUMIF('00 PDC SP'!$D:$D,'01 Rendiconto Finanziario'!$A41,'00 PDC SP'!M:M))*'01 Rendiconto Finanziario'!C41)","v":0},{"$f":"(SUMIF('00 PDC SP'!$D:$D,'01 Rendiconto Finanziario'!$A41,'00 PDC SP'!I:I)-SUMIF('00 PDC SP'!$D:$D,'01 Rendiconto Finanziario'!$A41,'00 PDC SP'!J:J))*'01 Rendiconto Finanziario'!C41","v":0},null,"CODICE 23 - DA INSERIRE MANUALMENTE"]
[23,"VA",-1,"(+)/(-)","diminuzione/aumento crediti parte corrente v/Regione - gettito fiscalità regionale",{"$f":"((SUMIF('00 PDC SP'!$D:$D,'01 Rendiconto Finanziario'!$A42,'00 PDC SP'!L:L)-SUMIF('00 PDC SP'!$D:$D,'01 Rendiconto Finanziario'!$A42,'00 PDC SP'!M:M))*'01 Rendiconto Finanziario'!C42)","v":0},{"$f":"(SUMIF('00 PDC SP'!$D:$D,'01 Rendiconto Finanziario'!$A42,'00 PDC SP'!I:I)-SUMIF('00 PDC SP'!$D:$D,'01 Rendiconto Finanziario'!$A42,'00 PDC SP'!J:J))*'01 Rendiconto Finanziario'!C42","v":0},null,"CODICE 23 - DA INSERIRE MANUALMENTE"]
[23,"VA",-1,"(+)/(-)","diminuzione/aumento crediti parte corrente v/Regione - altri contributi extrafondo",{"$f":"((SUMIF('00 PDC SP'!$D:$D,'01 Rendiconto Finanziario'!$A43,'00 PDC SP'!L:L)-SUMIF('00 PDC SP'!$D:$D,'01 Rendiconto Finanziario'!$A43,'00 PDC SP'!M:M))*'01 Rendiconto Finanziario'!C43)","v":0},{"$f":"(SUMIF('00 PDC SP'!$D:$D,'01 Rendiconto Finanziario'!$A43,'00 PDC SP'!I:I)-SUMIF('00 PDC SP'!$D:$D,'01 Rendiconto Finanziario'!$A43,'00 PDC SP'!J:J))*'01 Rendiconto Finanziario'!C43","v":0},null,"CODICE 23 - DA INSERIRE MANUALMENTE"]
[25,"VA",-1,"(+)/(-)","diminuzione/aumento crediti parte corrente v/Regione",{"$f":"((SUMIF('00 PDC SP'!$D:$D,'01 Rendiconto Finanziario'!$A44,'00 PDC SP'!L:L)-SUMIF('00 PDC SP'!$D:$D,'01 Rendiconto Finanziario'!$A44,'00 PDC SP'!M:M))*'01 Rendiconto Finanziario'!C44)-(F39+F40+F41+F42+F43)","v":32114322.950000286},{"$f":"((SUMIF('00 PDC SP'!$D:$D,'01 Rendiconto Finanziario'!$A44,'00 PDC SP'!I:I)-SUMIF('00 PDC SP'!$D:$D,'01 Rendiconto Finanziario'!$A44,'00 PDC SP'!J:J))*'01 Rendiconto Finanziario'!C44)-(G39+G40+G41+G42+G43)","v":-36293107.129999638},null,"IMPOSTATA FORMULA DI SOTTRAZIONE VS CODICE DI AGGREGAZIONE 23"]
[26,"VA",-1,"(+)/(-)","diminuzione/aumento crediti parte corrente v/Comune",{"$f":"((SUMIF('00 PDC SP'!$D:$D,'01 Rendiconto Finanziario'!$A45,'00 PDC SP'!L:L)-SUMIF('00 PDC SP'!$D:$D,'01 Rendiconto Finanziario'!$A45,'00 PDC SP'!M:M))*'01 Rendiconto Finanziario'!C45)","v":-132021.37},{"$f":"(SUMIF('00 PDC SP'!$D:$D,'01 Rendiconto Finanziario'!$A45,'00 PDC SP'!I:I)-SUMIF('00 PDC SP'!$D:$D,'01 Rendiconto Finanziario'!$A45,'00 PDC SP'!J:J))*'01 Rendiconto Finanziario'!C45","v":18291.920000000006}]
[27,"VA",-1,"(+)/(-)","diminuzione/aumento crediti parte corrente v/Asl-Ao",{"$f":"((SUMIF('00 PDC SP'!$D:$D,'01 Rendiconto Finanziario'!$A46,'00 PDC SP'!L:L)-SUMIF('00 PDC SP'!$D:$D,'01 Rendiconto Finanziario'!$A46,'00 PDC SP'!M:M))*'01 Rendiconto Finanziario'!C46)","v":386372.16999999993},{"$f":"(SUMIF('00 PDC SP'!$D:$D,'01 Rendiconto Finanziario'!$A46,'00 PDC SP'!I:I)-SUMIF('00 PDC SP'!$D:$D,'01 Rendiconto Finanziario'!$A46,'00 PDC SP'!J:J))*'01 Rendiconto Finanziario'!C46","v":-341487.07}]
[28,"VA",-1,"(+)/(-)","diminuzione/aumento crediti parte corrente v/ARPA",{"$f":"((SUMIF('00 PDC SP'!$D:$D,'01 Rendiconto Finanziario'!$A47,'00 PDC SP'!L:L)-SUMIF('00 PDC SP'!$D:$D,'01 Rendiconto Finanziario'!$A47,'00 PDC SP'!M:M))*'01 Rendiconto Finanziario'!C47)","v":0},{"$f":"(SUMIF('00 PDC SP'!$D:$D,'01 Rendiconto Finanziario'!$A47,'00 PDC SP'!I:I)-SUMIF('00 PDC SP'!$D:$D,'01 Rendiconto Finanziario'!$A47,'00 PDC SP'!J:J))*'01 Rendiconto Finanziario'!C47","v":0}]
[29,"VA",-1,"(+)/(-)","diminuzione/aumento crediti parte corrente v/Erario",{"$f":"((SUMIF('00 PDC SP'!$D:$D,'01 Rendiconto Finanziario'!$A48,'00 PDC SP'!L:L)-SUMIF('00 PDC SP'!$D:$D,'01 Rendiconto Finanziario'!$A48,'00 PDC SP'!M:M))*'01 Rendiconto Finanziario'!C48)","v":3798.1199999999953},{"$f":"(SUMIF('00 PDC SP'!$D:$D,'01 Rendiconto Finanziario'!$A48,'00 PDC SP'!I:I)-SUMIF('00 PDC SP'!$D:$D,'01 Rendiconto Finanziario'!$A48,'00 PDC SP'!J:J))*'01 Rendiconto Finanziario'!C48","v":30953.5}]
[30,"VA",-1,"(+)/(-)","diminuzione/aumento crediti parte corrente v/Altri",{"$f":"((SUMIF('00 PDC SP'!$D:$D,'01 Rendiconto Finanziario'!$A49,'00 PDC SP'!L:L)-SUMIF('00 PDC SP'!$D:$D,'01 Rendiconto Finanziario'!$A49,'00 PDC SP'!M:M))*'01 Rendiconto Finanziario'!C49)","v":-157918.07999999821},{"$f":"(SUMIF('00 PDC SP'!$D:$D,'01 Rendiconto Finanziario'!$A49,'00 PDC SP'!I:I)-SUMIF('00 PDC SP'!$D:$D,'01 Rendiconto Finanziario'!$A49,'00 PDC SP'!J:J))*'01 Rendiconto Finanziario'!C49","v":-867648.62000000849}]
[null,null,null,"(+)/(-)","diminuzione/aumento di crediti",{"$f":"SUM(F37:F49)","v":32220524.050000291},{"$f":"SUM(G37:G49)","v":-37546183.519999638}]
[31,"VA",-1,"(+)/(-)","diminuzione/aumento del magazzino",{"$f":"((SUMIF('00 PDC SP'!$D:$D,'01 Rendiconto Finanziario'!$A51,'00 PDC SP'!L:L)-SUMIF('00 PDC SP'!$D:$D,'01 Rendiconto Finanziario'!$A51,'00 PDC SP'!M:M))*'01 Rendiconto Finanziario'!C51)","v":-1222094.4499999993},{"$f":"(SUMIF('00 PDC SP'!$D:$D,'01 Rendiconto Finanziario'!$A51,'00 PDC SP'!I:I)-SUMIF('00 PDC SP'!$D:$D,'01 Rendiconto Finanziario'!$A51,'00 PDC SP'!J:J))*'01 Rendiconto Finanziario'!C51","v":810888.63999999687}]
[32,"VA",-1,"(+)/(-)","diminuzione/aumento di acconti a fornitori per magazzino",{"$f":"((SUMIF('00 PDC SP'!$D:$D,'01 Rendiconto Finanziario'!$A52,'00 PDC SP'!L:L)-SUMIF('00 PDC SP'!$D:$D,'01 Rendiconto Finanziario'!$A52,'00 PDC SP'!M:M))*'01 Rendiconto Finanziario'!C52)","v":0},{"$f":"(SUMIF('00 PDC SP'!$D:$D,'01 Rendiconto Finanziario'!$A52,'00 PDC SP'!I:I)-SUMIF('00 PDC SP'!$D:$D,'01 Rendiconto Finanziario'!$A52,'00 PDC SP'!J:J))*'01 Rendiconto Finanziario'!C52","v":0}]
[null,null,null,"(+)/(-)","diminuzione/aumento rimanenze",{"$f":"SUM(F51:F52)","v":-1222094.4499999993},{"$f":"SUM(G51:G52)","v":810888.63999999687}]
[33,"VA",-1,"(+)/(-)","diminuzione/aumento ratei e risconti attivi",{"$f":"((SUMIF('00 PDC SP'!$D:$D,'01 Rendiconto Finanziario'!$A54,'00 PDC SP'!L:L)-SUMIF('00 PDC SP'!$D:$D,'01 Rendiconto Finanziario'!$A54,'00 PDC SP'!M:M))*'01 Rendiconto Finanziario'!C54)","v":1494163.71},{"$f":"(SUMIF('00 PDC SP'!$D:$D,'01 Rendiconto Finanziario'!$A54,'00 PDC SP'!I:I)-SUMIF('00 PDC SP'!$D:$D,'01 Rendiconto Finanziario'!$A54,'00 PDC SP'!J:J))*'01 Rendiconto Finanziario'!C54","v":387416.98}]
[null,null,null,"A - Totale operazioni di gestione reddituale",null,{"$f":"F26+F35+F36+F50+F53+F54","v":23951929.630000371},{"$f":"G26+G35+G36+G50+G53+G54","v":-63740489.54999996}]
[null,null,null,"ATTIVITA' DI INVESTIMENTO"]
[34,"IA",-1,"(-)","Acquisto costi di impianto e di ampliamento",{"$f":"((SUMIF('00 PDC SP'!$D:$D,'01 Rendiconto Finanziario'!$A57,'00 PDC SP'!L:L)))*'01 Rendiconto Finanziario'!C57","v":0},{"$f":"(SUMIF('00 PDC SP'!$D:$D,'01 Rendiconto Finanziario'!$A57,'00 PDC SP'!I:I))*'01 Rendiconto Finanziario'!C57","v":0}]
[35,"IA",-1,"(-)","Acquisto costi di ricerca e sviluppo",{"$f":"((SUMIF('00 PDC SP'!$D:$D,'01 Rendiconto Finanziario'!$A58,'00 PDC SP'!L:L)))*'01 Rendiconto Finanziario'!C58","v":0},{"$f":"(SUMIF('00 PDC SP'!$D:$D,'01 Rendiconto Finanziario'!$A58,'00 PDC SP'!I:I))*'01 Rendiconto Finanziario'!C58","v":0}]
[36,"IA",-1,"(-)","Acquisto Diritti di brevetto e diritti di utilizzazione delle opere d'ingegno",{"$f":"((SUMIF('00 PDC SP'!$D:$D,'01 Rendiconto Finanziario'!$A59,'00 PDC SP'!L:L)))*'01 Rendiconto Finanziario'!C59","v":0},{"$f":"(SUMIF('00 PDC SP'!$D:$D,'01 Rendiconto Finanziario'!$A59,'00 PDC SP'!I:I))*'01 Rendiconto Finanziario'!C59","v":0}]
[37,"IA",-1,"(-)","Acquisto immobilizzazioni immateriali in corso",{"$f":"((SUMIF('00 PDC SP'!$D:$D,'01 Rendiconto Finanziario'!$A60,'00 PDC SP'!L:L)))*'01 Rendiconto Finanziario'!C60","v":0},{"$f":"(SUMIF('00 PDC SP'!$D:$D,'01 Rendiconto Finanziario'!$A60,'00 PDC SP'!I:I))*'01 Rendiconto Finanziario'!C60","v":0}]
[38,"IA",-1,"(-)","Acquisto altre immobilizzazioni immateriali",{"$f":"((SUMIF('00 PDC SP'!$D:$D,'01 Rendiconto Finanziario'!$A61,'00 PDC SP'!L:L)))*'01 Rendiconto Finanziario'!C61","v":-209841.59},{"$f":"(SUMIF('00 PDC SP'!$D:$D,'01 Rendiconto Finanziario'!$A61,'00 PDC SP'!I:I))*'01 Rendiconto Finanziario'!C61","v":-181030.9}]
[null,null,null,"(-)","Acquisto immobilizzazioni immateriali",{"$f":"SUM(F57:F61)","v":-209841.59},{"$f":"SUM(G57:G61)","v":-181030.9}]
[34,"DA",1,"(+)","Valore netto contabile costi di impianto e di ampliamento dismessi",{"$f":"((SUMIF('00 PDC SP'!$D:$D,'01 Rendiconto Finanziario'!$A63,'00 PDC SP'!M:M)))*'01 Rendiconto Finanziario'!C63","v":0},{"$f":"(SUMIF('00 PDC SP'!$D:$D,'01 Rendiconto Finanziario'!$A63,'00 PDC SP'!J:J))*'01 Rendiconto Finanziario'!C63","v":0}]
[35,"DA",1,"(+)","Valore netto contabile costi di ricerca e sviluppo dismessi",{"$f":"((SUMIF('00 PDC SP'!$D:$D,'01 Rendiconto Finanziario'!$A64,'00 PDC SP'!M:M)))*'01 Rendiconto Finanziario'!C64","v":0},{"$f":"(SUMIF('00 PDC SP'!$D:$D,'01 Rendiconto Finanziario'!$A64,'00 PDC SP'!J:J))*'01 Rendiconto Finanziario'!C64","v":0}]
[36,"DA",1,"(+)","Valore netto contabile Diritti di brevetto e diritti di utilizzazione delle opere d'ingegno dismessi",{"$f":"((SUMIF('00 PDC SP'!$D:$D,'01 Rendiconto Finanziario'!$A65,'00 PDC SP'!M:M)))*'01 Rendiconto Finanziario'!C65","v":0},{"$f":"(SUMIF('00 PDC SP'!$D:$D,'01 Rendiconto Finanziario'!$A65,'00 PDC SP'!J:J))*'01 Rendiconto Finanziario'!C65","v":0}]
[37,"DA",1,"(+)","Valore netto contabile immobilizzazioni immateriali in corso dismesse",{"$f":"((SUMIF('00 PDC SP'!$D:$D,'01 Rendiconto Finanziario'!$A66,'00 PDC SP'!M:M)))*'01 Rendiconto Finanziario'!C66","v":0},{"$f":"(SUMIF('00 PDC SP'!$D:$D,'01 Rendiconto Finanziario'!$A66,'00 PDC SP'!J:J))*'01 Rendiconto Finanziario'!C66","v":0}]
[38,"DA",1,"(+)","Valore netto contabile altre immobilizzazioni immateriali dismesse",{"$f":"((SUMIF('00 PDC SP'!$D:$D,'01 Rendiconto Finanziario'!$A67,'00 PDC SP'!M:M)))*'01 Rendiconto Finanziario'!C67","v":7129.38},{"$f":"(SUMIF('00 PDC SP'!$D:$D,'01 Rendiconto Finanziario'!$A67,'00 PDC SP'!J:J))*'01 Rendiconto Finanziario'!C67","v":6424.06}]
[null,null,null,"(+)","Valore netto contabile Immobilizzazioni Immateriali dismesse",{"$f":"SUM(F63:F67)","v":7129.38},{"$f":"SUM(G63:G67)","v":6424.06}]
[39,"IA",-1,"(-)","Acquisto terreni",{"$f":"((SUMIF('00 PDC SP'!$D:$D,'01 Rendiconto Finanziario'!$A69,'00 PDC SP'!L:L)))*'01 Rendiconto Finanziario'!C69","v":0},{"$f":"(SUMIF('00 PDC SP'!$D:$D,'01 Rendiconto Finanziario'!$A69,'00 PDC SP'!I:I))*'01 Rendiconto Finanziario'!C69","v":0}]
[40,"IA",-1,"(-)","Acquisto fabbricati",{"$f":"((SUMIF('00 PDC SP'!$D:$D,'01 Rendiconto Finanziario'!$A70,'00 PDC SP'!L:L)))*'01 Rendiconto Finanziario'!C70","v":0},{"$f":"(SUMIF('00 PDC SP'!$D:$D,'01 Rendiconto Finanziario'!$A70,'00 PDC SP'!I:I))*'01 Rendiconto Finanziario'!C70","v":0}]
[41,"IA",-1,"(-)","Acquisto impianti e macchinari",{"$f":"((SUMIF('00 PDC SP'!$D:$D,'01 Rendiconto Finanziario'!$A71,'00 PDC SP'!L:L)))*'01 Rendiconto Finanziario'!C71","v":-219918.7},{"$f":"(SUMIF('00 PDC SP'!$D:$D,'01 Rendiconto Finanziario'!$A71,'00 PDC SP'!I:I))*'01 Rendiconto Finanziario'!C71","v":-183106.44}]
[42,"IA",-1,"(-)","Acquisto attrezzature sanitarie e scientifiche",{"$f":"((SUMIF('00 PDC SP'!$D:$D,'01 Rendiconto Finanziario'!$A72,'00 PDC SP'!L:L)))*'01 Rendiconto Finanziario'!C72","v":-5812839.0700000003},{"$f":"(SUMIF('00 PDC SP'!$D:$D,'01 Rendiconto Finanziario'!$A72,'00 PDC SP'!I:I))*'01 Rendiconto Finanziario'!C72","v":-6743296.6699999999}]
[43,"IA",-1,"(-)","Acquisto mobili e arredi",{"$f":"((SUMIF('00 PDC SP'!$D:$D,'01 Rendiconto Finanziario'!$A73,'00 PDC SP'!L:L)))*'01 Rendiconto Finanziario'!C73","v":-241394.07},{"$f":"(SUMIF('00 PDC SP'!$D:$D,'01 Rendiconto Finanziario'!$A73,'00 PDC SP'!I:I))*'01 Rendiconto Finanziario'!C73","v":-374325.51}]
[44,"IA",-1,"(-)","Acquisto automezzi",{"$f":"((SUMIF('00 PDC SP'!$D:$D,'01 Rendiconto Finanziario'!$A74,'00 PDC SP'!L:L)))*'01 Rendiconto Finanziario'!C74","v":-123029.66},{"$f":"(SUMIF('00 PDC SP'!$D:$D,'01 Rendiconto Finanziario'!$A74,'00 PDC SP'!I:I))*'01 Rendiconto Finanziario'!C74","v":-144301.6}]
[45,"IA",-1,"(-)","Acquisto altri beni materiali",{"$f":"((SUMIF('00 PDC SP'!$D:$D,'01 Rendiconto Finanziario'!$A75,'00 PDC SP'!L:L)))*'01 Rendiconto Finanziario'!C75","v":-2743711.12},{"$f":"(SUMIF('00 PDC SP'!$D:$D,'01 Rendiconto Finanziario'!$A75,'00 PDC SP'!I:I))*'01 Rendiconto Finanziario'!C75","v":-1620581.73}]
[null,null,null,"(-)","Acquisto Immobilizzazioni Materiali",{"$f":"SUM(F69:F75)","v":-9140892.620000001},{"$f":"SUM(G69:G75)","v":-9065611.9499999993}]
[39,"DA",1,"(+)","Valore netto contabile terreni dismessi",{"$f":"((SUMIF('00 PDC SP'!$D:$D,'01 Rendiconto Finanziario'!$A77,'00 PDC SP'!M:M)))*'01 Rendiconto Finanziario'!C77","v":0},{"$f":"(SUMIF('00 PDC SP'!$D:$D,'01 Rendiconto Finanziario'!$A77,'00 PDC SP'!J:J))*'01 Rendiconto Finanziario'!C77","v":0}]
[40,"DA",1,"(+)","Valore netto contabile fabbricati dismessi",{"$f":"((SUMIF('00 PDC SP'!$D:$D,'01 Rendiconto Finanziario'!$A78,'00 PDC SP'!M:M)))*'01 Rendiconto Finanziario'!C78","v":0},{"$f":"(SUMIF('00 PDC SP'!$D:$D,'01 Rendiconto Finanziario'!$A78,'00 PDC SP'!J:J))*'01 Rendiconto Finanziario'!C78","v":0}]
[41,"DA",1,"(+)","Valore netto contabile impianti e macchinari dismessi",{"$f":"((SUMIF('00 PDC SP'!$D:$D,'01 Rendiconto Finanziario'!$A79,'00 PDC SP'!M:M)))*'01 Rendiconto Finanziario'!C79","v":171.65},{"$f":"(SUMIF('00 PDC SP'!$D:$D,'01 Rendiconto Finanziario'!$A79,'00 PDC SP'!J:J))*'01 Rendiconto Finanziario'!C79","v":8604.7999999999993}]
[42,"DA",1,"(+)","Valore netto contabile attrezzature sanitarie e scientifiche dismesse",{"$f":"((SUMIF('00 PDC SP'!$D:$D,'01 Rendiconto Finanziario'!$A80,'00 PDC SP'!M:M)))*'01 Rendiconto Finanziario'!C80","v":146692.79999999999},{"$f":"(SUMIF('00 PDC SP'!$D:$D,'01 Rendiconto Finanziario'!$A80,'00 PDC SP'!J:J))*'01 Rendiconto Finanziario'!C80","v":2797670.18}]
[43,"DA",1,"(+)","Valore netto contabile mobili e arredi dismessi",{"$f":"((SUMIF('00 PDC SP'!$D:$D,'01 Rendiconto Finanziario'!$A81,'00 PDC SP'!M:M)))*'01 Rendiconto Finanziario'!C81","v":12215.84},{"$f":"(SUMIF('00 PDC SP'!$D:$D,'01 Rendiconto Finanziario'!$A81,'00 PDC SP'!J:J))*'01 Rendiconto Finanziario'!C81","v":183191.51}]
[44,"DA",1,"(+)","Valore netto contabile automezzi dismessi",{"$f":"((SUMIF('00 PDC SP'!$D:$D,'01 Rendiconto Finanziario'!$A82,'00 PDC SP'!M:M)))*'01 Rendiconto Finanziario'!C82","v":0},{"$f":"(SUMIF('00 PDC SP'!$D:$D,'01 Rendiconto Finanziario'!$A82,'00 PDC SP'!J:J))*'01 Rendiconto Finanziario'!C82","v":63157.24}]
[45,"DA",1,"(+)","Valore netto contabile altri beni materiali dismessi",{"$f":"((SUMIF('00 PDC SP'!$D:$D,'01 Rendiconto Finanziario'!$A83,'00 PDC SP'!M:M)))*'01 Rendiconto Finanziario'!C83","v":246749.93},{"$f":"(SUMIF('00 PDC SP'!$D:$D,'01 Rendiconto Finanziario'!$A83,'00 PDC SP'!J:J))*'01 Rendiconto Finanziario'!C83","v":468530.49}]
[null,null,null,"(+)","Valore netto contabile Immobilizzazioni Materiali dismesse",{"$f":"SUM(F77:F83)","v":405830.22},{"$f":"SUM(G77:G83)","v":3521154.2200000007}]
[46,"IA",-1,"(-)","Acquisto crediti finanziari",{"$f":"((SUMIF('00 PDC SP'!$D:$D,'01 Rendiconto Finanziario'!$A85,'00 PDC SP'!L:L)))*'01 Rendiconto Finanziario'!C85","v":0},{"$f":"(SUMIF('00 PDC SP'!$D:$D,'01 Rendiconto Finanziario'!$A85,'00 PDC SP'!I:I))*'01 Rendiconto Finanziario'!C85","v":-1656.75}]
[47,"IA",-1,"(-)","Acquisto titoli",{"$f":"((SUMIF('00 PDC SP'!$D:$D,'01 Rendiconto Finanziario'!$A86,'00 PDC SP'!L:L)))*'01 Rendiconto Finanziario'!C86","v":0},{"$f":"(SUMIF('00 PDC SP'!$D:$D,'01 Rendiconto Finanziario'!$A86,'00 PDC SP'!I:I))*'01 Rendiconto Finanziario'!C86","v":0},null,null,null,2014,2734481]
[null,null,null,"(-)","Acquisto Immobilizzazioni Finanziarie",{"$f":"SUM(F85:F86)","v":0},{"$f":"SUM(G85:G86)","v":-1656.75},null,null,null,2013,1682776]
[46,"DA",1,"(+)","Valore netto contabile crediti finanziari dismessi",{"$f":"((SUMIF('00 PDC SP'!$D:$D,'01 Rendiconto Finanziario'!$A88,'00 PDC SP'!M:M)))*'01 Rendiconto Finanziario'!C88","v":0},{"$f":"(SUMIF('00 PDC SP'!$D:$D,'01 Rendiconto Finanziario'!$A88,'00 PDC SP'!J:J))*'01 Rendiconto Finanziario'!C88","v":0},null,null,null,null,{"$f":"L86-L87","v":1051705}]
[47,"DA",1,"(+)","Valore netto contabile titoli dismessi",{"$f":"((SUMIF('00 PDC SP'!$D:$D,'01 Rendiconto Finanziario'!$A89,'00 PDC SP'!M:M)))*'01 Rendiconto Finanziario'!C89","v":0},{"$f":"(SUMIF('00 PDC SP'!$D:$D,'01 Rendiconto Finanziario'!$A89,'00 PDC SP'!J:J))*'01 Rendiconto Finanziario'!C89","v":0}]
[null,null,null,"(+)","Valore netto contabile Immobilizzazioni Finanziarie dismesse",{"$f":"SUM(F88:F89)","v":0},{"$f":"SUM(G88:G89)","v":0}]
[58,"VP",-1,"(+/-)","Aumento/Diminuzione debiti v/fornitori di immobilizzazioni",1051705,0,null,"CODICE 58 - DA INSERIRE MANUALMENTE"]
[null,null,null,"B - Totale attività di investimento",null,{"$f":"F62+F68+F76+F84+F87+F90+F91+0.0000001416","v":-7886069.6099998597},{"$f":"G62+G68+G76+G84+G87+G90+G91","v":-5720721.3199999984}]
[null,null,null,"ATTIVITA' DI FINANZIAMENTO"]
[48,"VA",-1,"(+)/(-)","diminuzione/aumento crediti vs Stato (finanziamenti per investimenti)",{"$f":"((SUMIF('00 PDC SP'!$D:$D,'01 Rendiconto Finanziario'!$A94,'00 PDC SP'!L:L)-SUMIF('00 PDC SP'!$D:$D,'01 Rendiconto Finanziario'!$A94,'00 PDC SP'!M:M))*'01 Rendiconto Finanziario'!C94)","v":0},{"$f":"(SUMIF('00 PDC SP'!$D:$D,'01 Rendiconto Finanziario'!$A94,'00 PDC SP'!I:I)-SUMIF('00 PDC SP'!$D:$D,'01 Rendiconto Finanziario'!$A94,'00 PDC SP'!J:J))*'01 Rendiconto Finanziario'!C94","v":0}]
[49,"VA",-1,"(+)/(-)","diminuzione/aumento crediti vs Regione (finanziamenti per investimenti)",{"$f":"((SUMIF('00 PDC SP'!$D:$D,'01 Rendiconto Finanziario'!$A95,'00 PDC SP'!L:L)-SUMIF('00 PDC SP'!$D:$D,'01 Rendiconto Finanziario'!$A95,'00 PDC SP'!M:M))*'01 Rendiconto Finanziario'!C95)","v":0},{"$f":"(SUMIF('00 PDC SP'!$D:$D,'01 Rendiconto Finanziario'!$A95,'00 PDC SP'!I:I)-SUMIF('00 PDC SP'!$D:$D,'01 Rendiconto Finanziario'!$A95,'00 PDC SP'!J:J))*'01 Rendiconto Finanziario'!C95","v":0}]
[50,"VA",-1,"(+)/(-)","diminuzione/aumento crediti vs Regione (aumento fondo di dotazione)",{"$f":"((SUMIF('00 PDC SP'!$D:$D,'01 Rendiconto Finanziario'!$A96,'00 PDC SP'!L:L)-SUMIF('00 PDC SP'!$D:$D,'01 Rendiconto Finanziario'!$A96,'00 PDC SP'!M:M))*'01 Rendiconto Finanziario'!C96)","v":0},{"$f":"(SUMIF('00 PDC SP'!$D:$D,'01 Rendiconto Finanziario'!$A96,'00 PDC SP'!I:I)-SUMIF('00 PDC SP'!$D:$D,'01 Rendiconto Finanziario'!$A96,'00 PDC SP'!J:J))*'01 Rendiconto Finanziario'!C96","v":0}]
[51,"VA",-1,"(+)/(-)","diminuzione/aumento crediti vs Regione (ripiano perdite)",{"$f":"((SUMIF('00 PDC SP'!$D:$D,'01 Rendiconto Finanziario'!$A97,'00 PDC SP'!L:L)-SUMIF('00 PDC SP'!$D:$D,'01 Rendiconto Finanziario'!$A97,'00 PDC SP'!M:M))*'01 Rendiconto Finanziario'!C97)","v":7337349.5700000003},{"$f":"(SUMIF('00 PDC SP'!$D:$D,'01 Rendiconto Finanziario'!$A97,'00 PDC SP'!I:I)-SUMIF('00 PDC SP'!$D:$D,'01 Rendiconto Finanziario'!$A97,'00 PDC SP'!J:J))*'01 Rendiconto Finanziario'!C97","v":-21602059.57}]
[52,"VA",-1,"(+)/(-)","diminuzione/aumento crediti vs Regione (copertura debiti al 31.12.2005)",{"$f":"((SUMIF('00 PDC SP'!$D:$D,'01 Rendiconto Finanziario'!$A98,'00 PDC SP'!L:L)-SUMIF('00 PDC SP'!$D:$D,'01 Rendiconto Finanziario'!$A98,'00 PDC SP'!M:M))*'01 Rendiconto Finanziario'!C98)","v":0},{"$f":"(SUMIF('00 PDC SP'!$D:$D,'01 Rendiconto Finanziario'!$A98,'00 PDC SP'!I:I)-SUMIF('00 PDC SP'!$D:$D,'01 Rendiconto Finanziario'!$A98,'00 PDC SP'!J:J))*'01 Rendiconto Finanziario'!C98","v":0}]
[null,null,null,"(+)","aumento fondo di dotazione",{"$f":"SUM(F94:F98)","v":7337349.5700000003},{"$f":"SUM(G94:G98)","v":-21602059.57}]
[5,"IP",1,"(+)","aumento contributi in c/capitale da regione e da altri",{"$f":"(SUMIF('00 PDC SP'!$D:$D,'01 Rendiconto Finanziario'!$A100,'00 PDC SP'!L:L))*'01 Rendiconto Finanziario'!C100","v":6628571.3899999997},{"$f":"(SUMIF('00 PDC SP'!$D:$D,'01 Rendiconto Finanziario'!$A100,'00 PDC SP'!I:I))*'01 Rendiconto Finanziario'!C100","v":8909799.1099999994}]
[6,"IP",1,"(+)","aumento fondi riserva: investimenti, incentivi al personale, successioni e donaz., plusvalenze da reinvestire",0,{"$f":"(SUMIF('00 PDC SP'!$D:$D,'01 Rendiconto Finanziario'!$A101,'00 PDC SP'!I:I))*'01 Rendiconto Finanziario'!C101","v":2730000}]
[53,"VP",1,"(+)/(-)","altri aumenti/diminuzioni al patrimonio netto (*)",{"$f":"((SUMIF('00 PDC SP'!$D:$D,'01 Rendiconto Finanziario'!$A102,'00 PDC SP'!L:L)-SUMIF('00 PDC SP'!$D:$D,'01 Rendiconto Finanziario'!$A102,'00 PDC SP'!M:M))*'01 Rendiconto Finanziario'!C102)-F5","v":14294910.399999872},{"$f":"((SUMIF('00 PDC SP'!$D:$D,'01 Rendiconto Finanziario'!$A102,'00 PDC SP'!I:I)-SUMIF('00 PDC SP'!$D:$D,'01 Rendiconto Finanziario'!$A102,'00 PDC SP'!J:J))*'01 Rendiconto Finanziario'!C102)-G5","v":13206089.650000207}]
[null,null,null,"(+)/(-)","aumenti/diminuzioni nette contabili al patrimonio netto",{"$f":"SUM(F100:F102)","v":20923481.789999872},{"$f":"SUM(G100:G102)","v":24845888.760000207}]
[54,"VA",-1,"(+)/(-)","aumenti/diminuzione debiti C/C bancari e istituto tesoriere (*)",{"$f":"((SUMIF('00 PDC SP'!$D:$D,'01 Rendiconto Finanziario'!$A104,'00 PDC SP'!L:L)-SUMIF('00 PDC SP'!$D:$D,'01 Rendiconto Finanziario'!$A104,'00 PDC SP'!M:M))*'01 Rendiconto Finanziario'!C104)","v":0},{"$f":"(SUMIF('00 PDC SP'!$D:$D,'01 Rendiconto Finanziario'!$A104,'00 PDC SP'!I:I)-SUMIF('00 PDC SP'!$D:$D,'01 Rendiconto Finanziario'!$A104,'00 PDC SP'!J:J))*'01 Rendiconto Finanziario'!C104","v":0}]
[55,"IP",1,"(+)","assunzione nuovi mutui (*)",{"$f":"((SUMIF('00 PDC SP'!$D:$D,'01 Rendiconto Finanziario'!$A105,'00 PDC SP'!L:L))*'01 Rendiconto Finanziario'!C105)","v":0},{"$f":"(SUMIF('00 PDC SP'!$D:$D,'01 Rendiconto Finanziario'!$A105,'00 PDC SP'!I:I))*'01 Rendiconto Finanziario'!C105","v":0}]
[56,"DP",-1,"(-)","mutui quota capitale rimborsata",{"$f":"((SUMIF('00 PDC SP'!$D:$D,'01 Rendiconto Finanziario'!$A106,'00 PDC SP'!M:M))*'01 Rendiconto Finanziario'!C106)","v":0},{"$f":"(SUMIF('00 PDC SP'!$D:$D,'01 Rendiconto Finanziario'!$A106,'00 PDC SP'!J:J))*'01 Rendiconto Finanziario'!C106","v":0}]
[null,null,null,"C - Totale attività di finanziamento",null,{"$f":"F99+F103+F104+F105+F106","v":28260831.359999873},{"$f":"G99+G103+G104+G105+G106","v":3243829.1900002062}]
[null,null,null,"FLUSSO DI CASSA COMPLESSIVO (A+B+C+)",null,{"$f":"F55+F92+F107","v":44326691.380000383},{"$f":"G55+G92+G107","v":-66217381.679999754}]
[57,"VA",1,"Delta liquidità tra inizio e fine esercizio (al netto dei conti bancari passivi)",null,{"$f":"((SUMIF('00 PDC SP'!$D:$D,'01 Rendiconto Finanziario'!$A109,'00 PDC SP'!L:L)-SUMIF('00 PDC SP'!$D:$D,'01 Rendiconto Finanziario'!$A109,'00 PDC SP'!M:M))*'01 Rendiconto Finanziario'!C109)","v":44326691.379999995},{"$f":"(SUMIF('00 PDC SP'!$D:$D,'01 Rendiconto Finanziario'!$A109,'00 PDC SP'!I:I)-SUMIF('00 PDC SP'!$D:$D,'01 Rendiconto Finanziario'!$A109,'00 PDC SP'!J:J))*'01 Rendiconto Finanziario'!C109","v":-66217381.679999948}]
[null,null,null,"Squadratura tra il valore delle disponibilità liquide nello SP e il valore del flusso di cassa complessivo",null,{"$f":"F108-F109","v":3.8743019104003906E-7},{"$f":"G108-G109","v":1.9371509552001953E-7}]
[]
[null,null,null,null,"LEGENDA"]
[null,null,null,"SP","Saldo Stato Patrimoniale"]
[null,null,null,"IP","Passività - Incrementi"]
[null,null,null,"DP","Passività - Decrementi"]
[null,null,null,"VA","Attività - Variazione Saldo"]
[null,null,null,"VP","Passività - Variazione Saldo"]
[null,null,null,"IA","Attività - Incrementi"]
[null,null,null,"DA","Attività - Decrementi"]

{"sheet":"Personale","index":4,"n_rows":39,"n_cols":5,"rows_kept":39,"cut":false,"hidden":false,"merged":[]}
["Dati sull'occupazione al 31.12 XX"]
[]
["PERSONALE DIPENDENTE (Conto Annuale)"]
[null,"T1A","T1C","T1A","T1C"]
["Tipologia di personale","Personale in comando al 31/12/X-1 \nad altri enti","Personale in comando al 31/12/X-1 \nda altri enti","Personale in comando al 31/12/X ad altri enti","Personale in comando al 31/12/X da altri enti"]
["RUOLO SANITARIO"]
["Dirigenza"]
["- Medico veterinaria",1,1,null,1]
["- Sanitaria"]
["Comparto"]
["- Categoria Ds"]
["- Categoria D",3,7,1,10]
["- Categoria C"]
["- Categoria Bs"]
["RUOLO PROFESSIONALE"]
["Dirigenza"]
["Livello dirigenziale"]
["Comparto"]
["- Categoria D"]
["RUOLO TECNICO"]
["Dirigenza"]
["Livello dirigenziale"]
["Comparto"]
["- Categoria Ds"]
["- Categoria D"]
["- Categoria C"]
["- Categoria Bs",null,null,null,1]
["- Categoria B"]
["- Categoria A"]
["RUOLO AMMINISTRATIVO"]
["Dirigenza"]
["Livello dirigenziale"]
["Comparto"]
["- Categoria Ds",null,1]
["- Categoria D",1]
["- Categoria C"]
["- Categoria Bs"]
["- Categoria B"]
["- Categoria A"]

{"sheet":"Universitario","index":5,"n_rows":15,"n_cols":5,"rows_kept":15,"cut":false,"hidden":true,"merged":[]}
[]
["PERSONALE UNIVERSITARIO (Conto Annuale T1B)"]
["Tipologia di personale","Personale al 31/12/X-1","di cui Personale a tempo parziale al 31/12/X-1","Personale al 31/12/X","di cui Personale a tempo parziale al 31/12/X"]
["RUOLO SANITARIO"]
["Dirigenza"]
["Comparto"]
["RUOLO PROFESSIONALE"]
["Dirigenza"]
["Comparto"]
["RUOLO TECNICO"]
["Dirigenza"]
["Comparto"]
["RUOLO AMMINISTRATIVO"]
["Dirigenza"]
["Comparto"]

{"sheet":"Altro contratto","index":6,"n_rows":59,"n_cols":3,"rows_kept":59,"cut":false,"hidden":true,"merged":[[1,0,1,2],[18,0,18,2],[52,0,52,2],[35,0,35,2]]}
[]
["PERSONALE CON ALTRO CONTRATTO - FORMAZIONE LAVORO (Conto Annuale T2)"]
["Tipologia di personale","Uomini-anno  \nanno X -1","Uomini-anno \nanno X"]
["RUOLO SANITARIO"]
["Dirigenza"]
["- Medico - Veterinari"]
["- Sanitaria non medica"]
["Comparto"]
["RUOLO PROFESSIONALE"]
["Dirigenza"]
["Comparto"]
["RUOLO TECNICO"]
["Dirigenza"]
["Comparto"]
["RUOLO AMMINISTRATIVO"]
["Dirigenza"]
["Comparto"]
[]
["PERSONALE CON ALTRO CONTRATTO - CONTRATTO DI SOMMINISTRAZIONE (Conto Annuale T2)"]
["Tipologia di personale","Uomini-anno \nanno X -1","Uomini-anno \nanno X"]
["RUOLO SANITARIO"]
["Dirigenza"]
["- Medico - Veterinari"]
["- Sanitaria non medica"]
["Comparto"]
["RUOLO PROFESSIONALE"]
["Dirigenza"]
["Comparto"]
["RUOLO TECNICO"]
["Dirigenza"]
["Comparto"]
["RUOLO AMMINISTRATIVO"]
["Dirigenza"]
["Comparto"]
[]
["PERSONALE CON ALTRO CONTRATTO - LSU (Conto Annuale T2)"]
["Tipologia di personale","Uomini-anno \nanno X -1","Uomini-anno \nanno X"]
["RUOLO SANITARIO"]
["Dirigenza"]
["- Medico - Veterinari"]
["- Sanitaria non medica"]
["Comparto"]
["RUOLO PROFESSIONALE"]
["Dirigenza"]
["Comparto"]
["RUOLO TECNICO"]
["Dirigenza"]
["Comparto"]
["RUOLO AMMINISTRATIVO"]
["Dirigenza"]
["Comparto"]
[]
["PERSONALE IN CONVENZIONE  (FLS 12 quadro E per MMG e PLS)"]
["Tipologia di personale","Personale al \n31/12/ X-1","Personale al \n31/12/ X"]
["MEDICINA DI BASE"]
["MMG"]
["PLS"]
["Continuità assistenziale"]
["Altro"]

{"sheet":"Tab 1-2-3-4","index":7,"n_rows":47,"n_cols":24,"rows_kept":47,"cut":false,"hidden":false,"merged":[[30,10,30,11],[0,3,0,19],[3,3,4,3],[3,4,4,4],[3,6,4,6],[3,7,3,10],[3,11,3,18],[3,19,4,19],[28,4,29,4],[28,6,28,8],[28,9,28,11],[29,10,29,11],[2,3,2,13],[27,4,27,11],[42,4,43,4],[42,6,42,8],[42,9,42,11],[43,10,43,11],[31,10,31,11],[32,10,32,11],[35,4,36,4],[35,6,35,8],[35,9,35,11],[36,10,36,11],[34,4,34,11],[44,10,44,11],[45,10,45,11],[46,10,46,11],[37,10,37,11],[38,10,38,11],[39,10,39,11]]}
[null,null,null,"4.4     Immobilizzazioni materiali e immateriali"]
[]
[null,null,null,"Tab. 1 – Dettagli e movimentazioni delle immobilizzazioni immateriali "]
[null,null,null,"CODICE MOD. SP","IMMOBILIZZAZIONI IMMATERIALI",null,"Costo\nstorico","ESERCIZI PRECEDENTI",null,null,null,"MOVIMENTI DELL'ESERCIZIO",null,null,null,null,null,null,null,"Valore Netto Contabile"]
["Costo Storico","F.do Amm.to","F.do Svalutaz",null,null,null,null,"Rivalutaz. (+)","Svalutaz. (-)","Fondo Amm.to (-)","Valore netto iniz.","Giroconti e Riclass. (+/-)","Rivalutaz. (+)","Svalutaz. (-)","Acquisizioni e costruzioni in economia ","Manuten. increment.","Interessi capital.","Dismiss. (valore netto) (-)","Ammort. (-)",null,null,"Valore SP","Diff","Ctrl"]
["AAA020","AAA030","AAA230","AAA010"," Costi d'impianto e di ampliamento",null,{"$f":"SUMIF('00 SP'!$A:$A,'Tab 1-2-3-4'!A6,'00 SP'!I:I)","v":0},{"$f":"SUMIF('00 SP'!A:A,'Tab 1-2-3-4'!C6,'00 SP'!H:H)*-1","v":0},{"$f":"SUMIF('00 SP'!A:A,'Tab 1-2-3-4'!C6,'00 SP'!G:G)","v":0},{"$f":"SUMIF('00 SP'!A:A,'Tab 1-2-3-4'!B6,'00 SP'!I:I)","v":0},{"$f":"G6+H6+I6+J6","v":0},0,{"$f":"SUMIF('00 SP'!A:A,'Tab 1-2-3-4'!C6,'00 SP'!K:K)*-1","v":0},{"$f":"SUMIF('00 SP'!A:A,'Tab 1-2-3-4'!C6,'00 SP'!J:J)","v":0},{"$f":"SUMIF('00 SP'!A:A,A6,'00 SP'!J:J)-SUMIF('00 SP'!A:A,A6,'00 SP'!K:K)-(P6+Q6+L6)","v":0},0,0,0,{"$f":"(SUMIF('00 SP'!A:A,'Tab 1-2-3-4'!B6,'00 SP'!J:J)-SUMIF('00 SP'!A:A,B6,'00 SP'!K:K)-R6)","v":0},{"$f":"K6+L6+M6+N6+O6+P6+Q6+R6+S6","v":0},null,{"$f":"SUMIF('00 SP'!A:A,'Tab 1-2-3-4'!D6,'00 SP'!L:L)","v":0},{"$f":"T6-V6","v":0},{"$f":"IF(W6=0,\"OK\",\"CTRL\")","v":"OK"}]
[null,null,null,null,"di cui soggetti a sterilizzazione",null,null,null,null,null,0,null,null,null,null,null,null,null,null,0]
["AAA050","AAA060","AAA240","AAA040"," Costi di ricerca e sviluppo",null,{"$f":"SUMIF('00 SP'!$A:$A,'Tab 1-2-3-4'!A8,'00 SP'!I:I)","v":0},{"$f":"SUMIF('00 SP'!A:A,'Tab 1-2-3-4'!C8,'00 SP'!H:H)*-1","v":0},{"$f":"SUMIF('00 SP'!A:A,'Tab 1-2-3-4'!C8,'00 SP'!G:G)","v":0},{"$f":"SUMIF('00 SP'!A:A,'Tab 1-2-3-4'!B8,'00 SP'!I:I)","v":0},0,0,{"$f":"SUMIF('00 SP'!A:A,'Tab 1-2-3-4'!C8,'00 SP'!K:K)*-1","v":0},{"$f":"SUMIF('00 SP'!A:A,'Tab 1-2-3-4'!C8,'00 SP'!J:J)","v":0},{"$f":"SUMIF('00 SP'!A:A,A8,'00 SP'!J:J)-SUMIF('00 SP'!A:A,A8,'00 SP'!K:K)-(P8+Q8+L8)","v":0},0,0,0,{"$f":"(SUMIF('00 SP'!A:A,'Tab 1-2-3-4'!B8,'00 SP'!J:J)-SUMIF('00 SP'!A:A,B8,'00 SP'!K:K)-R8)","v":0},0,null,{"$f":"SUMIF('00 SP'!A:A,'Tab 1-2-3-4'!D8,'00 SP'!L:L)","v":0},{"$f":"T8-V8","v":0},{"$f":"IF(W8=0,\"OK\",\"CTRL\")","v":"OK"}]
[null,null,null,null,"di cui soggetti a sterilizzazione",null,null,null,null,null,0,null,null,null,null,null,null,null,null,0]
["AAA080","AAA090","AAA250","AAA070"," Diritti di brevetto e utilizzazione opere d'ingegno",null,{"$f":"SUMIF('00 SP'!$A:$A,'Tab 1-2-3-4'!A10,'00 SP'!I:I)","v":0},{"$f":"SUMIF('00 SP'!A:A,'Tab 1-2-3-4'!C10,'00 SP'!H:H)*-1","v":0},{"$f":"SUMIF('00 SP'!A:A,'Tab 1-2-3-4'!C10,'00 SP'!G:G)","v":0},{"$f":"SUMIF('00 SP'!A:A,'Tab 1-2-3-4'!B10,'00 SP'!I:I)","v":0},0,0,{"$f":"SUMIF('00 SP'!A:A,'Tab 1-2-3-4'!C10,'00 SP'!K:K)*-1","v":0},{"$f":"SUMIF('00 SP'!A:A,'Tab 1-2-3-4'!C10,'00 SP'!J:J)","v":0},{"$f":"SUMIF('00 SP'!A:A,A10,'00 SP'!J:J)-SUMIF('00 SP'!A:A,A10,'00 SP'!K:K)-(P10+Q10+L10)","v":0},0,0,0,{"$f":"(SUMIF('00 SP'!A:A,'Tab 1-2-3-4'!B10,'00 SP'!J:J)-SUMIF('00 SP'!A:A,B10,'00 SP'!K:K)-R10)","v":0},0,null,{"$f":"SUMIF('00 SP'!A:A,'Tab 1-2-3-4'!D10,'00 SP'!L:L)","v":0},{"$f":"T10-V10","v":0},{"$f":"IF(W10=0,\"OK\",\"CTRL\")","v":"OK"}]
[null,null,null,null,"di cui soggetti a sterilizzazione",null,null,null,null,null,0,null,null,null,null,null,null,null,null,0]
["AAA120",null,null,"AAA120"," Immobilizzazioni immateriali in corso e acconti",null,{"$f":"SUMIF('00 SP'!$A:$A,'Tab 1-2-3-4'!A12,'00 SP'!I:I)","v":0},{"$f":"SUMIF('00 SP'!A:A,'Tab 1-2-3-4'!C12,'00 SP'!H:H)*-1","v":0},{"$f":"SUMIF('00 SP'!A:A,'Tab 1-2-3-4'!C12,'00 SP'!G:G)","v":0},{"$f":"SUMIF('00 SP'!A:A,'Tab 1-2-3-4'!B12,'00 SP'!I:I)","v":0},0,0,{"$f":"SUMIF('00 SP'!A:A,'Tab 1-2-3-4'!C12,'00 SP'!K:K)*-1","v":0},{"$f":"SUMIF('00 SP'!A:A,'Tab 1-2-3-4'!C12,'00 SP'!J:J)","v":0},{"$f":"SUMIF('00 SP'!A:A,A12,'00 SP'!J:J)-SUMIF('00 SP'!A:A,A12,'00 SP'!K:K)-(P12+Q12+L12)","v":0},0,0,0,{"$f":"(SUMIF('00 SP'!A:A,'Tab 1-2-3-4'!B12,'00 SP'!J:J)-SUMIF('00 SP'!A:A,B12,'00 SP'!K:K)-R12)","v":0},0,null,{"$f":"SUMIF('00 SP'!A:A,'Tab 1-2-3-4'!D12,'00 SP'!L:L)","v":0},{"$f":"T12-V12","v":0},{"$f":"IF(W12=0,\"OK\",\"CTRL\")","v":"OK"}]
["AAA200","AAA210",null,"AAA130"," Altre immobilizzazioni immateriali",null,{"$f":"G15+G17+G19+G21","v":1985432.37},{"$f":"H15+H17+H19+H21","v":0},0,-1558625.15,{"$f":"K15+K17+K19+K21","v":426807.2200000002},0,0,0,202712.21,0,0,0,-136552.39000000001,{"$f":"T15+T17+T19+T21","v":492967.04000000015},null,{"$f":"SUMIF('00 SP'!A:A,'Tab 1-2-3-4'!D13,'00 SP'!L:L)","v":492967.04000000004},{"$f":"T13-V13","v":0},{"$f":"IF(W13=0,\"OK\",\"CTRL\")","v":"OK"}]
[null,null,null,null,"di cui soggette a sterilizzazione",null,{"$f":"G16+G18+G20+G22","v":1880131},{"$f":"H16+H18+H20+H22","v":0},0,-1558625.15,321505.85000000009,0,0,0,202712,0,0,0,{"$f":"S16+S18+S20+S22","v":-136552},387665.85000000009]
["AAA140","AAA150","AAA260","AAA140"," Concessioni, licenze, marchi e diritti simili",null,{"$f":"SUMIF('00 SP'!$A:$A,'Tab 1-2-3-4'!A15,'00 SP'!I:I)","v":1985432.37},{"$f":"SUMIF('00 SP'!A:A,'Tab 1-2-3-4'!C15,'00 SP'!H:H)*-1","v":0},{"$f":"SUMIF('00 SP'!A:A,'Tab 1-2-3-4'!C15,'00 SP'!G:G)","v":0},{"$f":"SUMIF('00 SP'!A:A,'Tab 1-2-3-4'!B15,'00 SP'!I:I)","v":-1558625.15},{"$f":"G15+H15+I15+J15","v":426807.2200000002},0,{"$f":"SUMIF('00 SP'!A:A,'Tab 1-2-3-4'!C15,'00 SP'!K:K)*-1","v":0},{"$f":"SUMIF('00 SP'!A:A,'Tab 1-2-3-4'!C15,'00 SP'!J:J)","v":0},{"$f":"SUMIF('00 SP'!A:A,A15,'00 SP'!J:J)-SUMIF('00 SP'!A:A,A15,'00 SP'!K:K)-(P15+Q15+L15)","v":202712.21},0,0,0,{"$f":"(SUMIF('00 SP'!A:A,'Tab 1-2-3-4'!B15,'00 SP'!J:J)-SUMIF('00 SP'!A:A,B15,'00 SP'!K:K)-R15)","v":-136552.39000000001},{"$f":"K15+L15+M15+N15+O15+P15+Q15+R15+S15","v":492967.04000000015}]
[null,null,null,null,"di cui soggette a sterilizzazione",null,{"$f":"1985432-105301","v":1880131},null,null,{"$f":"J15","v":-1558625.15},{"$f":"G16+H16+I16+J16","v":321505.85000000009},null,null,null,202712,null,null,null,-136552,{"$f":"K16+L16+M16+N16+O16+P16+Q16+R16+S16","v":387665.85000000009}]
["AAA160","AAA170",null,"AAA160"," Migliorie su beni di terzi",null,{"$f":"SUMIF('00 SP'!$A:$A,'Tab 1-2-3-4'!A17,'00 SP'!I:I)","v":0},{"$f":"SUMIF('00 SP'!A:A,'Tab 1-2-3-4'!C17,'00 SP'!H:H)*-1","v":0},{"$f":"SUMIF('00 SP'!A:A,'Tab 1-2-3-4'!C17,'00 SP'!G:G)","v":0},{"$f":"SUMIF('00 SP'!A:A,'Tab 1-2-3-4'!B17,'00 SP'!I:I)","v":0},0,0,{"$f":"SUMIF('00 SP'!A:A,'Tab 1-2-3-4'!C17,'00 SP'!K:K)*-1","v":0},{"$f":"SUMIF('00 SP'!A:A,'Tab 1-2-3-4'!C17,'00 SP'!J:J)","v":0},{"$f":"SUMIF('00 SP'!A:A,A17,'00 SP'!J:J)-SUMIF('00 SP'!A:A,A17,'00 SP'!K:K)-(P17+Q17+L17)","v":0},0,0,0,{"$f":"(SUMIF('00 SP'!A:A,'Tab 1-2-3-4'!B17,'00 SP'!J:J)-SUMIF('00 SP'!A:A,B17,'00 SP'!K:K)-R17)","v":0},0]
[null,null,null,null,"di cui soggette a sterilizzazione",null,null,null,null,null,0,null,null,null,null,null,null,null,null,0]
["AAA180","AAA190",null,"AAA180","Pubblicità",null,{"$f":"SUMIF('00 SP'!$A:$A,'Tab 1-2-3-4'!A19,'00 SP'!I:I)","v":0},{"$f":"SUMIF('00 SP'!A:A,'Tab 1-2-3-4'!C19,'00 SP'!H:H)*-1","v":0},{"$f":"SUMIF('00 SP'!A:A,'Tab 1-2-3-4'!C19,'00 SP'!G:G)","v":0},{"$f":"SUMIF('00 SP'!A:A,'Tab 1-2-3-4'!B19,'00 SP'!I:I)","v":0},0,0,{"$f":"SUMIF('00 SP'!A:A,'Tab 1-2-3-4'!C19,'00 SP'!K:K)*-1","v":0},{"$f":"SUMIF('00 SP'!A:A,'Tab 1-2-3-4'!C19,'00 SP'!J:J)","v":0},{"$f":"SUMIF('00 SP'!A:A,A19,'00 SP'!J:J)-SUMIF('00 SP'!A:A,A19,'00 SP'!K:K)-(P19+Q19+L19)","v":0},0,0,0,{"$f":"(SUMIF('00 SP'!A:A,'Tab 1-2-3-4'!B19,'00 SP'!J:J)-SUMIF('00 SP'!A:A,B19,'00 SP'!K:K)-R19)","v":0},0]
[null,null,null,null,"di cui soggette a sterilizzazione",null,null,null,null,null,0,null,null,null,null,null,null,null,null,0]
["AAA200","AAA210",null,"AAA200","Altre immobilizzazioni immateriali",null,{"$f":"SUMIF('00 SP'!$A:$A,'Tab 1-2-3-4'!A21,'00 SP'!I:I)","v":0},{"$f":"SUMIF('00 SP'!A:A,'Tab 1-2-3-4'!C21,'00 SP'!H:H)*-1","v":0},{"$f":"SUMIF('00 SP'!A:A,'Tab 1-2-3-4'!C21,'00 SP'!G:G)","v":0},{"$f":"SUMIF('00 SP'!A:A,'Tab 1-2-3-4'!B21,'00 SP'!I:I)","v":0},0,0,{"$f":"SUMIF('00 SP'!A:A,'Tab 1-2-3-4'!C21,'00 SP'!K:K)*-1","v":0},{"$f":"SUMIF('00 SP'!A:A,'Tab 1-2-3-4'!C21,'00 SP'!J:J)","v":0},{"$f":"SUMIF('00 SP'!A:A,A21,'00 SP'!J:J)-SUMIF('00 SP'!A:A,A21,'00 SP'!K:K)-(P21+Q21+L21)","v":0},0,0,0,{"$f":"(SUMIF('00 SP'!A:A,'Tab 1-2-3-4'!B21,'00 SP'!J:J)-SUMIF('00 SP'!A:A,B21,'00 SP'!K:K)-R21)","v":0},0,null,{"$f":"SUMIF('00 SP'!A:A,'Tab 1-2-3-4'!D21,'00 SP'!L:L)","v":0},{"$f":"T21-V21","v":0},{"$f":"IF(W21=0,\"OK\",\"CTRL\")","v":"OK"}]
[null,null,null,null,"di cui soggette a sterilizzazione",null,null,null,null,null,0,null,null,null,null,null,null,null,null,0]
[null,null,null,null,"TOTALE IMMOBILIZZAZIONI IMMATERIALI",null,{"$f":"G6+G8+G10+G12+G13","v":1985432.37},{"$f":"H6+H8+H10+H12+H13","v":0},0,{"$f":"J6+J8+J10+J12+J13","v":-1558625.15},426807.2200000002,0,0,0,202712.21,0,0,0,-136552.39000000001,492967.04000000015]
[]
[null,null,null,null,"di cui soggette a sterilizzazione",null,{"$f":"G7+G9+G11+G14","v":1880131},{"$f":"H7+H9+H11+H14","v":0},0,-1558625.15,321505.85000000009,0,0,0,202712,0,0,0,-136552,387665.85000000009]
[]
[]
[null,null,null,null,"Tab. 2 – Dettaglio costi di impianto e di ampliamento"]
[null,null,null,null,"DETTAGLIO COSTI D'IMPIANTO E DI AMPLIAMENTO",null,"MOVIMENTI DELL'ESERCIZIO",null,null,"ALTRE INFORMAZIONI"]
[null,null,null,null,null,null,"Valore\niniziale","Incrementi","Valore\nfinale","Ragioni iscrizione","Estremi del verbale del Collegio Sindacale",null,null,null,null,null,null,null,null,202712]
[null,null,null,null,"Descrizione composizione",null,null,null,null,null,null,null,null,null,null,null,null,null,null,{"$f":"O25","v":202712}]
[null,null,null,null,"….",null,null,null,null,null,null,null,null,null,null,null,null,null,null,{"$f":"SUM(T30:T31)","v":405424}]
[null,null,null,null,"….",null,null,null,null,null,null,null,null,null,null,null,null,null,null,8826260]
[null,null,null,null,null,null,null,null,null,null,null,null,null,null,null,null,null,null,null,{"$f":"T33-T32","v":8420836}]
[null,null,null,null,"Tab. 3 – Dettaglio costi di ricerca e sviluppo"]
[null,null,null,null,"DETTAGLIO COSTI DI RICERCA E SVILUPPO",null,"MOVIMENTI DELL'ESERCIZIO",null,null,"ALTRE INFORMAZIONI"]
[null,null,null,null,null,null,"Valore\niniziale","Incrementi","Valore\nfinale","Ragioni iscrizione","Estremi del verbale del Collegio Sindacale"]
[null,null,null,null,"Descrizione composizione"]
[null,null,null,null,"…."]
[null,null,null,null,"…"]
[]
[null,null,null,null,"Tab. 4 – Dettaglio costi di pubblicità"]
[null,null,null,null,"DETTAGLIO PUBBLICITA'",null,"MOVIMENTI DELL'ESERCIZIO",null,null,"ALTRE INFORMAZIONI"]
[null,null,null,null,null,null,"Valore\niniziale","Incrementi","Valore\nfinale","Ragioni iscrizione","Estremi del verbale del Collegio Sindacale"]
[null,null,null,null,"Descrizione composizione"]
[null,null,null,null,"…."]
[null,null,null,null,"…"]

{"sheet":"Tab 5-6","index":8,"n_rows":42,"n_cols":24,"rows_kept":42,"cut":false,"hidden":false,"merged":[[1,4,1,9],[35,4,35,8],[2,19,3,19],[2,3,3,3],[2,4,3,4],[2,6,3,6],[2,7,2,10],[2,11,2,18],[32,4,33,17],[28,4,29,17],[36,11,37,11],[36,12,37,12],[36,4,37,4],[36,6,37,6],[36,7,37,7],[36,8,37,8],[36,10,37,10]]}
[]
[null,null,null,null,"Tab. 5 – Dettagli e movimentazioni delle immobilizzazioni materiali "]
[null,null,null,"CODICE MOD. SP","IMMOBILIZZAZIONI MATERIALI",null,"Costo\nstorico","ESERCIZI PRECEDENTI",null,null,null,"MOVIMENTI DELL'ESERCIZIO",null,null,null,null,null,null,null,"Valore Netto Contabile"]
["Costo Storico","F.do Amm.to","F.do Svalutaz",null,null,null,null,"Rivalutaz.","Svalutaz.","Fondo\namm.","Valore netto iniziale","Giroconti e Riclassifiche","Rivalutaz.","Svalutaz.","Acquisizioni e costruzioni in economia ","Manutenz. increm.","Interessi capitalizz.","Dismissioni (valore netto)","Ammort. 2017",null,null,"Valore SP","Diff","Ctrl"]
["AAA290",null,null,"AAA290","Terreni disponibili",null,{"$f":"SUMIF('00 SP'!$A:$A,'Tab 5-6'!A5,'00 SP'!I:I)","v":0},{"$f":"SUMIF('00 SP'!A:A,'Tab 5-6'!C5,'00 SP'!H:H)*-1","v":0},{"$f":"SUMIF('00 SP'!A:A,'Tab 5-6'!C5,'00 SP'!G:G)","v":0},{"$f":"SUMIF('00 SP'!A:A,'Tab 5-6'!B5,'00 SP'!I:I)","v":0},{"$f":"G5+H5+I5+J5","v":0},0,{"$f":"SUMIF('00 SP'!A:A,'Tab 5-6'!C5,'00 SP'!K:K)*-1","v":0},{"$f":"SUMIF('00 SP'!A:A,'Tab 5-6'!C5,'00 SP'!J:J)","v":0},{"$f":"SUMIF('00 SP'!A:A,A5,'00 SP'!J:J)-SUMIF('00 SP'!A:A,A5,'00 SP'!K:K)-(P5+Q5)","v":0},0,0,0,{"$f":"SUMIF('00 SP'!A:A,'Tab 5-6'!B5,'00 SP'!J:J)-SUMIF('00 SP'!A:A,B5,'00 SP'!K:K)-R5","v":0},{"$f":"K5+L5+M5+N5+O5+P5+Q5+R5+S5","v":0},null,{"$f":"SUMIF('00 SP'!A:A,'Tab 5-6'!D5,'00 SP'!L:L)","v":0},{"$f":"T5-V5","v":0},{"$f":"IF(W5=0,\"OK\",\"CTRL\")","v":"OK"}]
[null,null,null,null,"di cui soggetti a sterilizzazione",null,null,null,null,null,0,null,null,null,null,null,null,null,null,0]
["AAA300",null,"AAA560","AAA300","Terreni indisponibili",null,{"$f":"SUMIF('00 SP'!$A:$A,'Tab 5-6'!A7,'00 SP'!I:I)","v":942655.12},{"$f":"SUMIF('00 SP'!A:A,'Tab 5-6'!C7,'00 SP'!H:H)*-1","v":0},{"$f":"SUMIF('00 SP'!A:A,'Tab 5-6'!C7,'00 SP'!G:G)","v":0},{"$f":"SUMIF('00 SP'!A:A,'Tab 5-6'!B7,'00 SP'!I:I)","v":0},{"$f":"G7+H7+I7+J7","v":942655.12},0,{"$f":"SUMIF('00 SP'!A:A,'Tab 5-6'!C7,'00 SP'!K:K)*-1","v":0},{"$f":"SUMIF('00 SP'!A:A,'Tab 5-6'!C7,'00 SP'!J:J)","v":0},{"$f":"SUMIF('00 SP'!A:A,A7,'00 SP'!J:J)-SUMIF('00 SP'!A:A,A7,'00 SP'!K:K)-(P7+Q7)","v":0},0,0,0,{"$f":"SUMIF('00 SP'!A:A,'Tab 5-6'!B7,'00 SP'!J:J)-SUMIF('00 SP'!A:A,B7,'00 SP'!K:K)-R7","v":0},942655.12,null,{"$f":"SUMIF('00 SP'!A:A,'Tab 5-6'!D7,'00 SP'!L:L)","v":942655.12},{"$f":"T7-V7","v":0},{"$f":"IF(W7=0,\"OK\",\"CTRL\")","v":"OK"}]
[null,null,null,null,"di cui soggetti a sterilizzazione",null,null,null,null,null,0,null,null,null,null,null,null,null,null,0]
["AAA330","AAA340",null,"AAA320"," Fabbricati non strumentali (disponibili)",null,{"$f":"SUMIF('00 SP'!$A:$A,'Tab 5-6'!A9,'00 SP'!I:I)","v":0},{"$f":"SUMIF('00 SP'!A:A,'Tab 5-6'!C9,'00 SP'!H:H)*-1","v":0},{"$f":"SUMIF('00 SP'!A:A,'Tab 5-6'!C9,'00 SP'!G:G)","v":0},{"$f":"SUMIF('00 SP'!A:A,'Tab 5-6'!B9,'00 SP'!I:I)","v":0},0,0,{"$f":"SUMIF('00 SP'!A:A,'Tab 5-6'!C9,'00 SP'!K:K)*-1","v":0},{"$f":"SUMIF('00 SP'!A:A,'Tab 5-6'!C9,'00 SP'!J:J)","v":0},{"$f":"SUMIF('00 SP'!A:A,A9,'00 SP'!J:J)-SUMIF('00 SP'!A:A,A9,'00 SP'!K:K)-(P9+Q9)","v":0},0,0,0,{"$f":"SUMIF('00 SP'!A:A,'Tab 5-6'!B9,'00 SP'!J:J)-SUMIF('00 SP'!A:A,B9,'00 SP'!K:K)-R9","v":0},0,null,{"$f":"SUMIF('00 SP'!A:A,'Tab 5-6'!D9,'00 SP'!L:L)","v":0},{"$f":"T9-V9","v":0},{"$f":"IF(W9=0,\"OK\",\"CTRL\")","v":"OK"}]
[null,null,null,null,"di cui soggetti a sterilizzazione",null,null,null,null,null,0,null,null,null,null,null,null,null,null,0]
["AAA360","AAA370","AAA570","AAA350"," Fabbricati strumentali (indisponibili)",null,{"$f":"SUMIF('00 SP'!$A:$A,'Tab 5-6'!A11,'00 SP'!I:I)","v":169096559.22999999},{"$f":"SUMIF('00 SP'!A:A,'Tab 5-6'!C11,'00 SP'!H:H)*-1","v":0},{"$f":"SUMIF('00 SP'!A:A,'Tab 5-6'!C11,'00 SP'!G:G)","v":0},{"$f":"SUMIF('00 SP'!A:A,'Tab 5-6'!B11,'00 SP'!I:I)","v":-85911487.290000007},83185071.939999983,0,{"$f":"SUMIF('00 SP'!A:A,'Tab 5-6'!C11,'00 SP'!K:K)*-1","v":0},{"$f":"SUMIF('00 SP'!A:A,'Tab 5-6'!C11,'00 SP'!J:J)","v":0},{"$f":"SUMIF('00 SP'!A:A,A11,'00 SP'!J:J)-SUMIF('00 SP'!A:A,A11,'00 SP'!K:K)-(P11+Q11)","v":0},0,0,0,{"$f":"SUMIF('00 SP'!A:A,'Tab 5-6'!B11,'00 SP'!J:J)-SUMIF('00 SP'!A:A,B11,'00 SP'!K:K)-R11","v":-4970287.05},78214784.889999986,null,{"$f":"SUMIF('00 SP'!A:A,'Tab 5-6'!D11,'00 SP'!L:L)","v":78214784.889999986},{"$f":"T11-V11","v":0},{"$f":"IF(W11=0,\"OK\",\"CTRL\")","v":"OK"}]
[null,null,null,null,"di cui soggetti a sterilizzazione",null,{"$f":"153972072+138664+1842985+2856420-3500000","v":155310141},null,null,{"$f":"-68974861-4490908","v":-73465769},81844372,null,null,null,0,null,null,null,-4631739,77212633]
["AAA390","AAA400","AAA580","AAA380"," Impianti e macchinari",null,{"$f":"SUMIF('00 SP'!$A:$A,'Tab 5-6'!A13,'00 SP'!I:I)","v":5947030.4800000004},{"$f":"SUMIF('00 SP'!A:A,'Tab 5-6'!C13,'00 SP'!H:H)*-1","v":0},{"$f":"SUMIF('00 SP'!A:A,'Tab 5-6'!C13,'00 SP'!G:G)","v":0},{"$f":"SUMIF('00 SP'!A:A,'Tab 5-6'!B13,'00 SP'!I:I)","v":-4888094.1900000004},1058936.29,0,{"$f":"SUMIF('00 SP'!A:A,'Tab 5-6'!C13,'00 SP'!K:K)*-1","v":0},{"$f":"SUMIF('00 SP'!A:A,'Tab 5-6'!C13,'00 SP'!J:J)","v":0},{"$f":"SUMIF('00 SP'!A:A,A13,'00 SP'!J:J)-SUMIF('00 SP'!A:A,A13,'00 SP'!K:K)-(P13+Q13)","v":219747.05000000002},0,0,0,{"$f":"SUMIF('00 SP'!A:A,'Tab 5-6'!B13,'00 SP'!J:J)-SUMIF('00 SP'!A:A,B13,'00 SP'!K:K)-R13","v":-263002.39},{"$f":"K13+L13+M13+N13+O13+P13+Q13+R13+S13","v":1015680.9500000001},null,{"$f":"SUMIF('00 SP'!A:A,'Tab 5-6'!D13,'00 SP'!L:L)","v":1015680.9500000002},{"$f":"T13-V13","v":0},{"$f":"IF(W13=0,\"OK\",\"CTRL\")","v":"OK"}]
[null,null,null,null,"di cui soggetti a sterilizzazione",null,{"$f":"1906260-127000","v":1779260},null,null,{"$f":"-456618-321266","v":-777884},1001376,null,null,null,{"$f":"O13","v":219747.05000000002},null,null,null,-220466,1000657.05]
["AAA420","AAA430","AAA590","AAA410"," Attrezzature sanitarie e scientifiche",null,{"$f":"SUMIF('00 SP'!$A:$A,'Tab 5-6'!A15,'00 SP'!I:I)","v":79051702.269999996},{"$f":"SUMIF('00 SP'!A:A,'Tab 5-6'!C15,'00 SP'!H:H)*-1","v":0},{"$f":"SUMIF('00 SP'!A:A,'Tab 5-6'!C15,'00 SP'!G:G)","v":0},{"$f":"SUMIF('00 SP'!A:A,'Tab 5-6'!B15,'00 SP'!I:I)","v":-66333749.009999998},12717953.259999998,0,{"$f":"SUMIF('00 SP'!A:A,'Tab 5-6'!C15,'00 SP'!K:K)*-1","v":0},{"$f":"SUMIF('00 SP'!A:A,'Tab 5-6'!C15,'00 SP'!J:J)","v":0},{"$f":"SUMIF('00 SP'!A:A,A15,'00 SP'!J:J)-SUMIF('00 SP'!A:A,A15,'00 SP'!K:K)-(P15+Q15)+328","v":5666474.2700000005},0,0,-257,{"$f":"SUMIF('00 SP'!A:A,'Tab 5-6'!B15,'00 SP'!J:J)-SUMIF('00 SP'!A:A,B15,'00 SP'!K:K)-71","v":-4163720.35},{"$f":"K15+L15+M15+N15+O15+P15+Q15+R15+S15","v":14220450.179999998},null,{"$f":"SUMIF('00 SP'!A:A,'Tab 5-6'!D15,'00 SP'!L:L)","v":14220450.180000007},{"$f":"T15-V15","v":0},{"$f":"IF(W15=0,\"OK\",\"CTRL\")","v":"OK"}]
[null,null,null,null,"di cui soggette a sterilizzazione",null,{"$f":"37347033-1000000","v":36347033},null,null,{"$f":"-22130790-1603295","v":-23734085},12612948,null,null,null,{"$f":"O15","v":5666474.2700000005},null,null,null,-4159094,14120328.27]
["AAA450","AAA460","AAA600","AAA440"," Mobili e arredi",null,{"$f":"SUMIF('00 SP'!$A:$A,'Tab 5-6'!A17,'00 SP'!I:I)","v":10368797.42},{"$f":"SUMIF('00 SP'!A:A,'Tab 5-6'!C17,'00 SP'!H:H)*-1","v":0},{"$f":"SUMIF('00 SP'!A:A,'Tab 5-6'!C17,'00 SP'!G:G)","v":0},{"$f":"SUMIF('00 SP'!A:A,'Tab 5-6'!B17,'00 SP'!I:I)","v":-8722595.6699999999},{"$f":"G17+H17+I17+J17","v":1646201.75},0,{"$f":"SUMIF('00 SP'!A:A,'Tab 5-6'!C17,'00 SP'!K:K)*-1","v":0},{"$f":"SUMIF('00 SP'!A:A,'Tab 5-6'!C17,'00 SP'!J:J)","v":0},{"$f":"SUMIF('00 SP'!A:A,A17,'00 SP'!J:J)-SUMIF('00 SP'!A:A,A17,'00 SP'!K:K)-(P17+Q17)","v":229178.23},0,0,0,{"$f":"SUMIF('00 SP'!A:A,'Tab 5-6'!B17,'00 SP'!J:J)-SUMIF('00 SP'!A:A,B17,'00 SP'!K:K)-R17","v":-361188.29},{"$f":"K17+L17+M17+N17+O17+P17+Q17+R17+S17","v":1514191.69},null,{"$f":"SUMIF('00 SP'!A:A,'Tab 5-6'!D17,'00 SP'!L:L)","v":1514191.6900000013},{"$f":"T17-V17","v":0},{"$f":"IF(W17=0,\"OK\",\"CTRL\")","v":"OK"}]
[null,null,null,null,"di cui soggetti a sterilizzazione",null,{"$f":"4030942-1300000","v":2730942},null,null,{"$f":"-1191157-204660","v":-1395817},1335125,null,null,null,{"$f":"O17","v":229178.23},null,null,null,{"$f":"-309845","v":-309845},1254458.23]
["AAA480","AAA490","AAA610","AAA470"," Automezzi",null,{"$f":"SUMIF('00 SP'!$A:$A,'Tab 5-6'!A19,'00 SP'!I:I)","v":1839959.11},{"$f":"SUMIF('00 SP'!A:A,'Tab 5-6'!C19,'00 SP'!H:H)*-1","v":0},{"$f":"SUMIF('00 SP'!A:A,'Tab 5-6'!C19,'00 SP'!G:G)","v":0},{"$f":"SUMIF('00 SP'!A:A,'Tab 5-6'!B19,'00 SP'!I:I)","v":-1605809.11},234150,0,{"$f":"SUMIF('00 SP'!A:A,'Tab 5-6'!C19,'00 SP'!K:K)*-1","v":0},{"$f":"SUMIF('00 SP'!A:A,'Tab 5-6'!C19,'00 SP'!J:J)","v":0},{"$f":"SUMIF('00 SP'!A:A,A19,'00 SP'!J:J)-SUMIF('00 SP'!A:A,A19,'00 SP'!K:K)-(P19+Q19)","v":123029.66},0,0,0,{"$f":"SUMIF('00 SP'!A:A,'Tab 5-6'!B19,'00 SP'!J:J)-SUMIF('00 SP'!A:A,B19,'00 SP'!K:K)-R19","v":-122740.86},234438.80000000005,null,{"$f":"SUMIF('00 SP'!A:A,'Tab 5-6'!D19,'00 SP'!L:L)","v":234438.79999999981},{"$f":"T19-V19","v":2.3283064365386963E-10},{"$f":"IF(W19=0,\"OK\",\"CTRL\")","v":"CTRL"}]
[null,null,null,null,"di cui soggetti a sterilizzazione",null,{"$f":"693538-100000","v":593538},null,null,{"$f":"-314448-82399","v":-396847},196691,null,null,null,{"$f":"O19","v":123029.66},null,null,null,-122741,196979.66000000003]
["AAA500",null,null,"AAA500","Oggetti d'arte",null,{"$f":"SUMIF('00 SP'!$A:$A,'Tab 5-6'!A21,'00 SP'!I:I)","v":0},{"$f":"SUMIF('00 SP'!A:A,'Tab 5-6'!C21,'00 SP'!H:H)*-1","v":0},{"$f":"SUMIF('00 SP'!A:A,'Tab 5-6'!C21,'00 SP'!G:G)","v":0},{"$f":"SUMIF('00 SP'!A:A,'Tab 5-6'!B21,'00 SP'!I:I)","v":0},0,0,{"$f":"SUMIF('00 SP'!A:A,'Tab 5-6'!C21,'00 SP'!K:K)*-1","v":0},{"$f":"SUMIF('00 SP'!A:A,'Tab 5-6'!C21,'00 SP'!J:J)","v":0},{"$f":"SUMIF('00 SP'!A:A,A21,'00 SP'!J:J)-SUMIF('00 SP'!A:A,A21,'00 SP'!K:K)-(P21+Q21)","v":0},0,0,0,{"$f":"SUMIF('00 SP'!A:A,'Tab 5-6'!B21,'00 SP'!J:J)-SUMIF('00 SP'!A:A,B21,'00 SP'!K:K)-R21","v":0},0,null,{"$f":"SUMIF('00 SP'!A:A,'Tab 5-6'!D21,'00 SP'!L:L)","v":0},{"$f":"T21-V21","v":0},{"$f":"IF(W21=0,\"OK\",\"CTRL\")","v":"OK"}]
["AAA520","AAA530","AAA620","AAA510"," Altre immobilizzazioni materiali",null,{"$f":"SUMIF('00 SP'!$A:$A,'Tab 5-6'!A22,'00 SP'!I:I)","v":5654090.7800000003},{"$f":"SUMIF('00 SP'!A:A,'Tab 5-6'!C22,'00 SP'!H:H)*-1","v":0},{"$f":"SUMIF('00 SP'!A:A,'Tab 5-6'!C22,'00 SP'!G:G)","v":0},{"$f":"SUMIF('00 SP'!A:A,'Tab 5-6'!B22,'00 SP'!I:I)","v":-5012819.07},641271.71,0,{"$f":"SUMIF('00 SP'!A:A,'Tab 5-6'!C22,'00 SP'!K:K)*-1","v":0},{"$f":"SUMIF('00 SP'!A:A,'Tab 5-6'!C22,'00 SP'!J:J)","v":0},{"$f":"SUMIF('00 SP'!A:A,A22,'00 SP'!J:J)-SUMIF('00 SP'!A:A,A22,'00 SP'!K:K)-(P22+Q22)+2013","v":265917.2},0,0,null,{"$f":"SUMIF('00 SP'!A:A,'Tab 5-6'!B22,'00 SP'!J:J)-SUMIF('00 SP'!A:A,B22,'00 SP'!K:K)-R22-2013","v":-244886.85},662302.05999999994,null,{"$f":"SUMIF('00 SP'!A:A,'Tab 5-6'!D22,'00 SP'!L:L)","v":662302.05999999959},{"$f":"T22-V22","v":0},{"$f":"IF(W22=0,\"OK\",\"CTRL\")","v":"OK"}]
[null,null,null,null,"di cui soggetti a sterilizzazione",null,{"$f":"2617557-500000","v":2117557},null,null,{"$f":"-1455927-184665","v":-1640592},476965,null,null,null,{"$f":"O22","v":265917.2},null,null,null,-244556,498326.19999999995]
["AAA540",null,"AAA630","AAA540"," Immobilizzazioni materiali in corso e acconti",null,{"$f":"SUMIF('00 SP'!$A:$A,'Tab 5-6'!A24,'00 SP'!I:I)","v":8764895.5800000001},{"$f":"SUMIF('00 SP'!A:A,'Tab 5-6'!C24,'00 SP'!H:H)*-1","v":0},{"$f":"SUMIF('00 SP'!A:A,'Tab 5-6'!C24,'00 SP'!G:G)","v":0},{"$f":"SUMIF('00 SP'!A:A,'Tab 5-6'!B24,'00 SP'!I:I)","v":0},8764895.5800000001,-142125,{"$f":"SUMIF('00 SP'!A:A,'Tab 5-6'!C24,'00 SP'!K:K)*-1","v":0},{"$f":"SUMIF('00 SP'!A:A,'Tab 5-6'!C24,'00 SP'!J:J)","v":0},{"$f":"SUMIF('00 SP'!A:A,A24,'00 SP'!J:J)-SUMIF('00 SP'!A:A,A24,'00 SP'!K:K)-(P24+Q24)+142125","v":2375181.9900000002},0,0,0,{"$f":"SUMIF('00 SP'!A:A,'Tab 5-6'!B24,'00 SP'!J:J)-SUMIF('00 SP'!A:A,B24,'00 SP'!K:K)-R24","v":0},10997952.57,null,{"$f":"SUMIF('00 SP'!A:A,'Tab 5-6'!D24,'00 SP'!L:L)","v":10997952.569999998},{"$f":"T24-V24","v":0},{"$f":"IF(W24=0,\"OK\",\"CTRL\")","v":"OK"}]
[null,null,null,null,"TOTALE IMMOBILIZZAZIONI MATERIALI",null,{"$f":"G5+G7+G9+G11+G13+G15+G17+G19+G21+G22+G24","v":281665689.98999995},0,0,{"$f":"J5+J7+J9+J11+J13+J15+J17+J19+J21+J22+J24","v":-172474554.34},{"$f":"K5+K7+K9+K11+K13+K15+K17+K19+K21+K22+K24","v":109191135.64999998},-142125,0,0,{"$f":"O5+O7+O9+O11+O13+O15+O17+O19+O21+O22+O24","v":8879528.4000000022},0,0,-257,-10125825.789999997,{"$f":"T5+T7+T9+T11+T13+T15+T17+T19+T21+T22+T24","v":107802456.25999999}]
[]
[null,null,null,null,"di cui soggette a sterilizzazione",null,{"$f":"G6+G8+G10+G12+G14+G16+G18+G20+G23","v":198878471},0,0,-101410994,97467477,0,0,0,6504346.4100000011,0,0,0,-9688441,94283382.409999996]
[]
[null,null,null,null,"Nel 2017 è stata  resa una attrezzatura danneggaita. La ditta ha emesso nota credito  che è stata contabilizzata a storno del valore del bene . Poichè l'attrezzatura era già stata in parte ammortizzata nella voce \" dismissioni    è stata riportato il valore differenziale tra il costo storico rappresentato dalla nota credito e il valore già ammortizzato . "]
[]
[]
[]
[null,null,null,null,"Nel corso dell'esercizio 2017 sono stati acquistati cespiti con contributi in c/esercizio per un valore complessivo di €. 6.506.319  Ai fini della contabilizzazione degli ammortamenti di tali beni, è stata data applicazione alla casistica applicativa del Titolo II del D. Lgs. n. 118/2011, Documento n. 1 \"La sterilizzazione degli ammortamenti\", allegata all'Intesa del 06/09/2013. "]
[]
[]
[null,null,null,null,"Tab. 6 – Dettaglio altre immobilizzazioni materiali "]
[null,null,null,null,"DETTAGLIO ALTRE IMMOBILIZZAZIONI MATERIALI",null,"Valore lordo","Fondo Amm.to","Valore netto"]
[]
[null,null,null,null,"Computer e macchinari elettronici",null,5490054,4859556,{"$f":"G39-H39","v":630498}]
[null,null,null,null,"Altri beni materiali",null,427942,396139,{"$f":"G40-H40","v":31803}]
[null,null,null,null,"…"]
[null,null,null,null,"TOTALE",null,{"$f":"SUM(G39:G41)","v":5917996},{"$f":"SUM(H39:H41)","v":5255695},{"$f":"SUM(I39:I41)","v":662301}]

{"sheet":"Tab 7","index":9,"n_rows":36,"n_cols":7,"rows_kept":36,"cut":false,"hidden":false,"merged":[[1,0,1,5],[2,0,3,0],[2,2,3,2],[2,3,2,6]]}
[]
["Tab. 7 – Dettaglio immobilizzazioni materiali in corso"]
["DETTAGLIO IMMOBILIZZAZIONI MATERIALI IN CORSO",null,"Tipologia finanziamento","MOVIMENTI DELL'ESERCIZIO"]
[null,null,null,"Valore \niniziale","Incrementi","Giroconti e Riclassifiche","Valore \nfinale"]
["Ristrutturazione   DSB Pescara SUD - Stanziati     €.1.291.142",null,"Art.20/88",352457,7374,null,{"$f":"D5+E5-F5","v":359831}]
["Costruzione Canile Pubblico a Loreto Aprutino - stanziati € 309.874",null,"Regione ,Comune e ASL",6257,0,0,{"$f":"D6+E6-F6","v":6257}]
["Ristrutturazione consultotorio Familiare di Bussi- materno infantile-€ 154.937",null,"L.34/96",156569,null,null,156569]
["Ristrutturazione consultorio familiare di Bussi-materno infantile-€ 200.000",null,"C/Capitale",200000,0,0,200000]
["Ristrutturazione consultorio familiare di Bussi-materno infantile-€ 150.000 dati dal comune",null,"Comune di Bussi",86644,0,0,86644]
["Ristrutturazione ex pediatria",null,"Art.20/88",3550729,0,null,3550729]
["Ristrutturazione reparto di neonatologia",null,"Art.20/88",311022,0,0,311022]
["Adeguamento locali nuova allocazione Pronto soccorso P.O. di Pescara",null,"Art.20/88",254331,{"$f":"361929","v":361929},null,616260]
["Riqualificazione P.O. di Penne",null,"Fondi Propri",0,null,0,0]
["Adeguamento e messa a norma  nuovi locali di Scafa",null,"Art.20/88",95532,0,null,95532]
["Ristrutturazione DSB Montesilvano",null,"Art.20/88",125241,0,0,125241]
["Reingegnerizzazione P.O. Pescara",null,"Regione  e ASL",184315,0,null,184315]
["Ristrutturazione DSB Cepagatti",null,"Fondi Propri",442499,0,0,442499]
["lavori edili ex RMN Popoli (674.023)",null,"Fondi Propri",199754,{"$f":"546519-102442","v":444077},null,643831]
["Lavori bòlocco parto Pescara",null,"C/Capitale",818309,0,0,818309]
["Riqualificazione Area Verde",null,"Fondi Propri",124571,0,null,124571]
["Lavori normativa antincendio",null,"C/Capitale",259710,0,0,259710]
["Impianto di climatizzazione Pediatria P.O. di Pescara",null,"Fondi Propri",187365,0,0,187365]
["Parcheggio Dialisi scala in ferro",null,"Fondi Propri",4240,0,0,4240]
["Scala UTIC Monta lettighe",null,"Fondi Propri",148654,0,0,148654]
["Impermealizzazione terrazzo 1° piano P.o.Pescara",null,"Fondi Propri",44136.61,0,0,44136.61]
["Copertura piscina S.Valentino",null,"Fondi Propri",40700,0,0,40700]
["Risanam.igienico-sanitario oncologia P.O. Pescara",null,"Fondi Propri",71190.8,0,0,71190.8]
["Abbattim.barriere arch.sistemaz.a verdeed arredo urbano",null,"Fondi Propri",62198.27,0,0,62198.27]
["Lavori presso Laboratorio di Farmacotossicologia P.O. Pescara",null,"Fondi Propri",121079,0,0,121079]
["Impermeabilizzazione e manto carrabile",null,"Fondi Propri",55897,0,0,55897]
["Manto Impermeabile Tocco Casauria",null,"Fondi Propri",67100,0,0,67100]
["Lavori per servizio CEREBROPATIE POPOLI",null,"Fondi Propri",86882,0,0,86882]
["Lavoro per miglioram. Organi e tessuti/attività prelievo organi",null,"progetto",null,34702,null,34702]
["TOTALE",null,null,{"$f":"SUM(D5:D33)","v":8057382.6799999997},{"$f":"SUM(E5:E33)","v":848082},0,8905464.6799999997]
["Fatture relative a cespiti non ancora collaudati",null,null,142125,{"$f":"1271291-171+255980","v":1527100},142125,1527100]
["TOTALE GENERALE",null,null,{"$f":"SUM(D34:D35)","v":8199507.6799999997},{"$f":"SUM(E34:E35)","v":2375182},{"$f":"SUM(F34:F35)","v":142125},{"$f":"SUM(G34:G35)","v":10432564.68}]

{"sheet":"Tab 7bis","index":10,"n_rows":35,"n_cols":7,"rows_kept":35,"cut":false,"hidden":false,"merged":[[16,0,16,5],[0,0,0,6],[2,0,2,4],[20,0,20,4]]}
["Di seguito si riporta il dettaglio della composizione delle manutenzioni incrementative su \"Immobilizzazioni in corso e acconti\":"]
[]
["Tab. 7 bis – Dettaglio manutenzioni incrementative su \"Immobilizzazioni in corso e acconti\"- fabbricati in costruzione"]
["Descrizione",null,"Codice Fornitore","Fornitore","Numero Fattura","Data Fattura","Importo"]
["lAVORI PER RISONANZA MAGNETICA POPOLI",null,3313,"MARTELLA ING. ACHILLE CLAUDIO","01/FE","2017-02-06",9516]
["lAVORI PER RISONANZA MAGNETICA POPOLI",null,17593,"COGEFI SRL","FATTPA 1_17","2017-10-02",77325.25]
["LAVORI PER PROCESSO DONAZIONI ORGANI E TESSUTI",null,17862,"INGEGNERIA FUTURA ENERGIA SRL","36","19/04/2017",34702.36]
["lAVORI PER RISONANZA MAGNETICA POPOLI",null,17593,"COGEFI SRL","FATTPA 2_17","29/06/2017",221403.57]
["lAVORI PER RISONANZA MAGNETICA POPOLI",null,17975,"ELETTRIMPIANTI CALICCHIA CRL","FATTPA 1_17","2017-10-07",68539.87]
["LAVORI DSB PE SUD",null,18176,"TELEFAST S.R.L.","26","17/11/2017",7374.09]
["lAVORI PER RISONANZA MAGNETICA POPOLI",null,17593,"COGEFI SRL","FATTPA 3_17","27/12/2017",388.56]
["lAVORI PER RISONANZA MAGNETICA POPOLI",null,17593,"COGEFI SRL","FATTPA 4_17","27/12/2017",53968.55]
["lAVORI PER RISONANZA MAGNETICA POPOLI",null,3313,"MARTELLA ING. ACHILLE CLAUDIO","06/FE","2017-12-22",12942]
["LAVORI PRONTO SOCCORSO P.O. PESCARA",null,18227,"AR.CO. LAVORI S.C.C.","1309/2017/D         ","2017-12-31",261701]
["LAVORI PRONTO SOCCORSO P.O. PESCARA",null,18227,"AR.CO. LAVORI S.C.C.","14/2018/D           ","2018-01-24",100221]
[]
["TOTALE",null,null,null,null,null,{"$f":"SUM(G5:G16)","v":848082.25}]
[]
[]
[]
["Tab. 7 ter – Dettaglio manutenzioni incrementative su \"Immobilizzazioni in corso e acconti\" - attrezzature da collaudare"]
["CONDIZIONATORE N.1",null,17437,"ELETTROSERVICE SPA","2017/V4/1700080     ","2017-07-17",9636]
["CONDIZIONATORI N.20",null,18009,"LAITECH SRL    ","34/2017             ","2017-08-01",17153]
["CONDIZIONATORI N.20",null,17467,"NEON TOMA ILLUMINAZIONE SRL",6700120,"2017-07-29",6637]
["PORTATILE RADIOSCOPIA SISTEMA EUROAMPLI ALIEN CARDIO 2020",null,12596,"ERUROCOLUMBUS S.R.L.","2017F00207","2017-09-26",239144]
["TAVOLO  CT70T IN FIBRA DI CARBONIO",null,12596,"ERUROCOLUMBUS S.R.L.","2017F00208","2017-09-26",37793]
["MOBILI ARREDI VARI PER UTIC",null,4755,"FAVERO HEALTH PROJECTS","1483/L","2017-11-14",29448]
["ALTRI BENI DISPOSITIVI UOMO A TERRA ",null,18187,"S.A.V.V. S.R.L.",1103,"2017-11-23",2255]
["ATTREZZ.SAN.METAL DETECTOR",null,929,"TEMA SINERGIE S.P.A.","17VS000648          ","2017-11-28",48190]
["ATTREZZ.SAN.PROIETTORE",null,400,"FIMAS S.R.L.   ","2017-FTCEL-0000732  ","2017-12-29",2379]
["COMPUTER TABLET",null,12375,"HITECO SRL     ",100186,"2017-12-29",55778]
["ATTREZZ.SAN. TAC",null,13662,"PHILIPS S.P.A. ",920889921,"2017-12-29",{"$f":"822707","v":822707}]
["RETE LAN",null,798,"TELECOM ITALIA SPA",null,"17/08/2017-30/12/2017",255980]
[null,null,null,null,null,"TOTALE",{"$f":"SUM(G22:G33)","v":1527100}]
[null,null,null,null,null,null,{"$f":"G17+G34","v":2375182.25}]

{"sheet":"Tab 7ter ","index":11,"n_rows":8,"n_cols":7,"rows_kept":8,"cut":false,"hidden":false,"merged":[[1,0,1,6],[3,0,3,4],[7,0,7,5]]}
[]
["Di seguito si riporta il dettaglio della composizione delle manutenzioni incrementative su \"Fabbricati strumentali (indisponibili)\":"]
[]
["Tab. 7 ter – Dettaglio manutenzioni incrementative su \"Fabbricati strumentali (indisponibili)\""]
["Descrizione",null,"Codice Fornitore","Denominazione Fornitore","Numero Fattura","Data Fattura","Importo"]
[]
[]
["TOTALE",null,null,null,null,null,{"$f":"SUM(G6:G7)","v":0}]

{"sheet":"Tab 7quater","index":12,"n_rows":53,"n_cols":5,"rows_kept":53,"cut":false,"hidden":false,"merged":[[0,0,0,5],[2,0,2,3],[4,0,5,0],[4,1,5,1],[4,2,5,2],[4,3,5,3],[20,0,20,1],[6,0,8,0],[6,1,8,1],[9,0,9,1],[10,0,11,0],[10,1,11,1],[12,0,12,1],[13,0,14,0],[13,1,14,1],[15,0,15,1],[16,0,19,0],[16,1,19,1],[38,0,38,1],[44,0,44,3],[37,0,37,1],[21,0,23,0],[21,1,23,1],[24,0,24,1],[26,0,26,1],[27,0,28,0],[27,1,28,1],[29,0,29,1],[30,0,30,1],[31,0,31,1],[32,0,36,0],[32,1,36,1]]}
["Di seguito si riporta il dettaglio degli acquisti di immobilizzazioni effettuati nel corso dell'esercizio 2016, con indicazione delle relative fonti di finanziamento. "]
[]
["Tab. 7 quater – Dettaglio degli acquisti di immobilizzazioni"]
[]
["CODICE MOD. SP","DESCRIZIONE","IMPORTO","FONTE DI FINANZIAMENTO"]
[]
["AAA130","immobilizzazioni immateria",0,"Donazioni"]
[null,null,11244,"Progetto Obiettivo","po"]
[null,null,191469,"Fondi propri","f"]
["TOTALE ACQUISTI IMMOBILIZZAZIONI IMMATERIALI",null,{"$f":"SUM(C7:C9)","v":202713}]
["AAA350","FABBRICATI",0,"Donazioni"]
[null,null,0,"Fondi propri","f"]
["TOTALE ACQUISTI FABBRICATI STRUMENTALI",null,0]
["AAA380","Impianti e macchinari",1220,"Donazioni","d"]
[null,null,218527,"Fondi propri","f"]
["TOTALE ACQUISTI MACCHINARI GENERICI",null,{"$f":"SUM(C14:C15)","v":219747}]
["AAA410","Attrezzature sanitarie e scientifiche",99183,"Progetti obiettivo","po"]
[null,null,0,"Contributi in c/capitale","c"]
[null,null,73017,"Donazioni","d"]
[null,null,5494273,"Fondi propri","f"]
["TOTALE ACQUISTI ATTREZZATURE",null,{"$f":"SUM(C17:C20)","v":5666473}]
["AAA440","Mobili e arredi",2228,"Donazioni","d"]
[null,null,11826,"Progetti obiettivo","po"]
[null,null,215124,"Fondi propri","f"]
["TOTALE ACQUISTI MOBILI E ARREDI",null,{"$f":"SUM(C22:C24)","v":229178}]
["AAA470","Automezzi",123030,"Fondi propri","f"]
["TOTALE AUTOMEZZI",null,{"$f":"SUM(C26:C26)","v":123030}]
["AAA510","Altre immobilizzazioni materiali",2021,"Donazioni","d"]
[null,null,263896,"Fondi propri","f"]
["TOTALE ALTRE IMMOBILIZZAZIONI",null,{"$f":"SUM(C28:C29)","v":265917}]
["TOTALE IMMOBILIZZAZIONI MATERIALI ",null,{"$f":"C13+C16+C21+C25+C27+C30","v":6504345}]
["TOTALE IMMOBILIZZAZIONI MATERIALI ED IMMATERIALI",null,{"$f":"C31+C10","v":6707058}]
["AAA540","Immobilizzazioni materiali in corso e acconti",0,"Contributi in c/capitale","c"]
[null,null,369303,"Finanziamenti ex art. 20","a20"]
[null,null,34702,"Progetti obiettivo","po"]
[null,null,0,"Donazioni","d"]
[null,null,{"$f":"444077+1271120+255980","v":1971177},"Fondi propri","f"]
["TOTALE IMMOBILIZZAZIONI MATERIALI IN CORSO",null,{"$f":"SUM(C33:C37)","v":2375182}]
["TOTALE GENERALE",null,{"$f":"C13+C16+C21+C25+C27+C30+C38+C10","v":9082240}]
[]
[]
[]
[]
[]
["RIEPILOGO PER FONTE DI FINANZIAMENTO"]
[]
[]
[null,"Contributi in c/capitale",{"$f":"C18+C33","v":0}]
[null,"Finanziamenti ex art. 20",{"$f":"C34","v":369303}]
[null,"Donazioni",{"$f":"C14+C19+C22+C28","v":78486}]
[null,"Progetti obiettivo",{"$f":"C8+C17+C23+C35","v":156955}]
[null,"Fondi propri",{"$f":"C15+C20+C24+C26+C29+C37+C9","v":8477496}]
[null,"TOTALE GENERALE",{"$f":"SUM(C48:C52)","v":9082240}]

{"sheet":"IMM01-IMM14","index":13,"n_rows":51,"n_cols":7,"rows_kept":51,"cut":false,"hidden":false,"merged":[[33,1,33,6],[37,1,37,6],[1,1,1,6],[12,1,12,6],[44,0,44,3],[44,4,44,5],[43,0,43,5],[25,1,25,6],[41,1,41,6],[30,1,30,6],[50,0,50,3],[45,0,45,3],[46,0,46,3],[47,0,47,3],[48,0,48,3],[49,0,49,3]]}
["IMM01 - Aliquote di ammortamento immobilizzazioni immateriali."]
["IMM01 - NO","Per le immobilizzazioni immateriali, non ci si è avvalsi della facoltà di adottare aliquote di ammortamento superiori a quelle indicate nel D. Lgs. 118/2011 e s.m.i., nonché dai successivi decreti ministeriali di attuazione."]
[]
[]
[null,"Immobilizzazioni Immateriali","Aliquota indicata nel D. Lgs. 118/2011","Aliquota utilizzata dall'azienda"]
[null," Costi d'impianto e di ampliamento",0.2,0.2]
[null," Costi di ricerca e sviluppo",0.2,0.2]
[null," Diritti di brevetto e diritti di utilizzazione delle opere d'ingegno",0.2,0.2]
[null," Concessioni, licenze, marchi e diritti simili",0.2,0.2]
[null,"Altre immobilizzazioni immateriali",0.2,0.2]
[]
["IMM02 - Aliquote di ammortamento immobilizzazioni materiali."]
["IMM02 - NO","Per le immobilizzazioni materiali, non ci si è avvalsi della facoltà di adottare aliquote di ammortamento superiori a quelle indicate nel D. Lgs. 118/2011 e s.m.i., nonché dai successivi decreti ministeriali di attuazione."]
[]
[null,"Immobilizzazioni materiali","Aliquota indicata nel D. Lgs. 118/2011","Aliquota utilizzata dall'azienda"]
[null,"Fabbricati",0.03,0.03]
[null,"Impianti e macchinari",0.125,0.125]
[null,"Impianti e macchinari-Audiovisivi",0.2,0.2]
[null,"Impianti inseriti stabilmente nel fabbricato",0.03,0.03]
[null,"Attrezzature Sanitarie e scientifiche",0.2,0.2]
[null,"Mobili e arredi",0.125,0.125]
[null,"Automezzi",0.25,0.25]
[null,"Altri Beni Materiali",0.2,0.2]
[]
["IMM03 - Eventuale ammortamento dimezzato per i cespiti acquistati nell'anno."]
["IMM03 - NO","Per i cespiti acquistati nell'anno, l'aliquota di ammortamento è stata analiticamente commisurata al periodo intercorso tra (i) il momento in cui il bene è divenuto disponibile e pronto per l'uso e (ii)  il 31/12. "]
[]
[]
[]
["IMM04 - Eventuale ammortamento integrale."]
["IMM04 - NO","Per i cespiti di valore inferiore a € 516,46, non ci si è avvalsi della facoltà di ammortizzare integralmente il bene nell'esercizio in cui il bene è diventato disponibile e pronto per l'uso. "]
[]
["IMM05 - Svalutazioni."]
["IMM05 - NO","Nel corso dell'esercizio non sono state effettuate svalutazioni di immobilizzazioni materiali e/o immateriali."]
[]
[]
["IMM06 - Rivalutazioni."]
["IMM06 - NO","Nel corso dell'esercizio non sono state effettuate rivalutazioni di immobilizzazioni materiali e/o immateriali."]
[]
[]
["IMM07 - Incrementi delle immobilizzazioni per lavori interni."]
["IMM07 - NO","Nel corso dell'esercizio non si sono effettuate capitalizzazioni di costi (la voce CE \"Incrementi delle immobilizzazioni per lavori interni\" è pari a zero)."]
[]
["Altre informazioni relative alle immobilizzazioni materiali e immateriali"]
["Informazione",null,null,null,"Caso presente in azienda?",null,"Se sì, illustrare"]
["IMM09 - Gravami. Sulle immobilizzazionidell'azienda vi sono gravami quali ipoteche, privilegi, pegni, pignoramenti, ecc.?",null,null,null,null,"NO"]
["IMM10 - Immobilizzazioni in contenzioso iscritte in bilancio. Sulle immobilizzazioni iscritte in bilancio sono in corso contenziosin con altre aziende sanitarie, con altri enti pubblici o con enti privati?",null,null,null,null,"NO"]
["IMM11 - Immobilizzazioni in contenzioso  non iscritte in bilancio. Esistono immobilizzazioni non iscritte nello stato patrimoniale perché non riconosciute come proprietà dell'azienda in seguito a contenziosi in corso con altre aziende sanitarie, con altri enti pubblici o con soggetti privati?",null,null,null,null,"NO"]
["IMM12 - Eventuali impegni significativi assunti con fornitori per l'acquisizione di immobilizzazioni materiali. Esistono impegni già assunti, ma non ancora tradottisi in debiti? (SE SI, ILLUSTRARE L'AMMONTARE PER SINGOLO IMPEGNO)",null,null,null,null,"NO"]
["IMM13 - Immobilizzazioni destinate alla vendita. Esistono immobilizzazioni destinate alla vendita con apposito atto deliberativo aziendale?",null,null,null,null,"NO"]
["IMM14 - Altro. Esistono altre informazioni che si ritiene necessario fornire per soddisfare la regola generale secondo cui \"Se le informazioni richieste da specifiche disposizioni di legge non sono sufficienti a dare una rappresentazione veritiera e corretta, si devono fornire le informazioni complementari necessarie allo scopo\" (art. 2423 cc)?",null,null,null,"SI",null,"L'azienda è provvista di un libro cespiti aggiornato"]

{"sheet":"Tab 8-9-10-11-12-13-14","index":14,"n_rows":75,"n_cols":19,"rows_kept":75,"cut":false,"hidden":false,"merged":[[39,2,39,14],[0,2,0,3],[2,3,2,8],[13,8,14,8],[22,2,23,2],[22,3,23,3],[22,5,22,9],[3,8,4,8],[3,2,4,2],[3,3,4,3],[3,5,4,5],[3,6,4,6],[3,7,4,7],[31,2,32,2],[31,3,32,3],[31,5,31,7],[13,7,14,7],[13,2,14,2],[13,3,14,3],[13,5,14,5],[13,6,14,6],[67,9,67,14],[44,2,45,2],[44,3,45,3],[44,5,45,5],[44,6,44,8],[44,9,44,14],[57,3,57,8],[67,3,68,3],[67,5,68,5],[67,6,67,8]]}
[null,null,"4.5     Immobilizzazioni finanziarie"]
[]
[null,null,null,"Tab. 8 – Movimentazione dei crediti finanziari"]
[null,null,"CODICE MOD. SP","CREDITI FINANZIARI\n(VALORE NOMINALE)",null,"Valore iniziale","Incrementi","Decrementi","Valore finale"]
[]
[{"$f":"C6&\"CR\"","v":"AAA660CR"},{"$f":"C6&\"CR\"","v":"AAA660CR"},"AAA660"," Crediti finanziari v/Stato",null,{"$f":"SUMIF('00 PDC SP'!$A:$A,'Tab 8-9-10-11-12-13-14'!$A6,'00 PDC SP'!K:K)","v":0},{"$f":"SUMIF('00 PDC SP'!$A:$A,'Tab 8-9-10-11-12-13-14'!$A6,'00 PDC SP'!L:L)+SUMIF('00 PDC SP'!$A:$A,'Tab 8-9-10-11-12-13-14'!$B6,'00 PDC SP'!L:L)","v":0},{"$f":"SUMIF('00 PDC SP'!$A:$A,'Tab 8-9-10-11-12-13-14'!$A6,'00 PDC SP'!M:M)+SUMIF('00 PDC SP'!$A:$A,'Tab 8-9-10-11-12-13-14'!$B6,'00 PDC SP'!M:M)","v":0},{"$f":"F6+G6-H6","v":0}]
[{"$f":"C7&\"CR\"","v":"AAA670CR"},{"$f":"C7&\"CR\"","v":"AAA670CR"},"AAA670"," Crediti finanziari v/Regione",null,{"$f":"SUMIF('00 PDC SP'!$A:$A,'Tab 8-9-10-11-12-13-14'!$A7,'00 PDC SP'!K:K)","v":0},{"$f":"SUMIF('00 PDC SP'!$A:$A,'Tab 8-9-10-11-12-13-14'!$A7,'00 PDC SP'!L:L)+SUMIF('00 PDC SP'!$A:$A,'Tab 8-9-10-11-12-13-14'!$B7,'00 PDC SP'!L:L)","v":0},{"$f":"SUMIF('00 PDC SP'!$A:$A,'Tab 8-9-10-11-12-13-14'!$A7,'00 PDC SP'!M:M)+SUMIF('00 PDC SP'!$A:$A,'Tab 8-9-10-11-12-13-14'!$B7,'00 PDC SP'!M:M)","v":0},{"$f":"F7+G7-H7","v":0}]
["AAA680CR",{"$f":"C8&\"CR\"","v":"AAA680CR"},"AAA680"," Crediti finanziari v/partecipate:",null,{"$f":"SUMIF('00 PDC SP'!$A:$A,'Tab 8-9-10-11-12-13-14'!$A8,'00 PDC SP'!K:K)","v":0},{"$f":"SUMIF('00 PDC SP'!$A:$A,'Tab 8-9-10-11-12-13-14'!$A8,'00 PDC SP'!L:L)+SUMIF('00 PDC SP'!$A:$A,'Tab 8-9-10-11-12-13-14'!$B8,'00 PDC SP'!L:L)","v":0},{"$f":"SUMIF('00 PDC SP'!$A:$A,'Tab 8-9-10-11-12-13-14'!$A8,'00 PDC SP'!M:M)+SUMIF('00 PDC SP'!$A:$A,'Tab 8-9-10-11-12-13-14'!$B8,'00 PDC SP'!M:M)","v":0},0]
["AAA690CR",{"$f":"C9&\"CR\"","v":"AAA690CR"},"AAA690"," Crediti finanziari v/altri:",null,14036.45,0,{"$f":"SUMIF('00 PDC SP'!$A:$A,'Tab 8-9-10-11-12-13-14'!$A9,'00 PDC SP'!M:M)+SUMIF('00 PDC SP'!$A:$A,'Tab 8-9-10-11-12-13-14'!$B9,'00 PDC SP'!M:M)","v":0},14036.45]
[null,null,null,null,null,{"$f":"SUMIF('00 PDC SP'!$A:$A,'Tab 8-9-10-11-12-13-14'!$A10,'00 PDC SP'!K:K)","v":0},{"$f":"SUMIF('00 PDC SP'!$A:$A,'Tab 8-9-10-11-12-13-14'!$A10,'00 PDC SP'!L:L)+SUMIF('00 PDC SP'!$A:$A,'Tab 8-9-10-11-12-13-14'!$B10,'00 PDC SP'!L:L)","v":0},{"$f":"SUMIF('00 PDC SP'!$A:$A,'Tab 8-9-10-11-12-13-14'!$A10,'00 PDC SP'!M:M)+SUMIF('00 PDC SP'!$A:$A,'Tab 8-9-10-11-12-13-14'!$B10,'00 PDC SP'!M:M)","v":0},0]
[null,null,null,"TOTALE CREDITI FINANZIARI",null,{"$f":"SUM(F6:F9)","v":14036.45},{"$f":"SUM(G6:G9)","v":0},{"$f":"SUM(H6:H9)","v":0},{"$f":"SUM(I6:I9)","v":14036.45}]
[]
[null,null,null,"Tab. 9 – Movimentazione del fondo svalutazione dei crediti finanziari"]
[null,null,"CODICE MOD. SP","CREDITI FINANZIARI\n(FONDO SVALUTAZIONE)",null,"Fondo svalutaz. iniziale","Accanton.ti","Utilizzi","Fondo svalutaz.  finale"]
[]
[null,{"$f":"C16&\"FS\"","v":"AAA660FS"},"AAA660"," Crediti finanziari v/Stato",null,{"$f":"SUMIF('00 PDC SP'!$A:$A,'Tab 8-9-10-11-12-13-14'!$B16,'00 PDC SP'!K:K)","v":0},{"$f":"SUMIF('00 PDC SP'!$A:$A,'Tab 8-9-10-11-12-13-14'!$B16,'00 PDC SP'!L:L)","v":0},{"$f":"SUMIF('00 PDC SP'!$A:$A,'Tab 8-9-10-11-12-13-14'!$B16,'00 PDC SP'!M:M)","v":0},{"$f":"F16+G16-H16","v":0}]
[null,{"$f":"C17&\"FS\"","v":"AAA670FS"},"AAA670"," Crediti finanziari v/Regione",null,{"$f":"SUMIF('00 PDC SP'!$A:$A,'Tab 8-9-10-11-12-13-14'!$B17,'00 PDC SP'!K:K)","v":0},{"$f":"SUMIF('00 PDC SP'!$A:$A,'Tab 8-9-10-11-12-13-14'!$B17,'00 PDC SP'!L:L)","v":0},{"$f":"SUMIF('00 PDC SP'!$A:$A,'Tab 8-9-10-11-12-13-14'!$B17,'00 PDC SP'!M:M)","v":0},{"$f":"SUMIF('00 PDC SP'!$A:$A,'Tab 8-9-10-11-12-13-14'!$B17,'00 PDC SP'!N:N)","v":0}]
[null,{"$f":"C18&\"FS\"","v":"AAA680FS"},"AAA680"," Crediti finanziari v/partecipate:",null,{"$f":"SUMIF('00 PDC SP'!$A:$A,'Tab 8-9-10-11-12-13-14'!$B18,'00 PDC SP'!K:K)","v":0},{"$f":"SUMIF('00 PDC SP'!$A:$A,'Tab 8-9-10-11-12-13-14'!$B18,'00 PDC SP'!L:L)","v":0},{"$f":"SUMIF('00 PDC SP'!$A:$A,'Tab 8-9-10-11-12-13-14'!$B18,'00 PDC SP'!M:M)","v":0},{"$f":"SUMIF('00 PDC SP'!$A:$A,'Tab 8-9-10-11-12-13-14'!$B18,'00 PDC SP'!N:N)","v":0}]
[null,{"$f":"C19&\"FS\"","v":"AAA690FS"},"AAA690"," Crediti finanziari v/altri:",null,{"$f":"SUMIF('00 PDC SP'!$A:$A,'Tab 8-9-10-11-12-13-14'!$B19,'00 PDC SP'!K:K)","v":0},{"$f":"SUMIF('00 PDC SP'!$A:$A,'Tab 8-9-10-11-12-13-14'!$B19,'00 PDC SP'!L:L)","v":0},{"$f":"SUMIF('00 PDC SP'!$A:$A,'Tab 8-9-10-11-12-13-14'!$B19,'00 PDC SP'!M:M)","v":0},{"$f":"SUMIF('00 PDC SP'!$A:$A,'Tab 8-9-10-11-12-13-14'!$B19,'00 PDC SP'!N:N)","v":0}]
[null,null,null,"TOTALE CREDITI FINANZIARI",null,{"$f":"SUM(F16:F19)","v":0},{"$f":"SUM(G16:G19)","v":0},{"$f":"SUM(H16:H19)","v":0},{"$f":"SUM(I16:I19)","v":0}]
[]
[null,null,null,"Tab. 10 – Valore nominale dei crediti finanziari distinti per anno di formazione"]
[null,null,"CODICE MOD. SP","CREDITI FINANZIARI",null,{"$f":"\"VALORE NOMINALE DEI CREDITI AL 31/12/\" & '00 PDC SP'!$F$2 & \" PER ANNO DI FORMAZIONE\"","v":"VALORE NOMINALE DEI CREDITI AL 31/12/2017 PER ANNO DI FORMAZIONE"}]
[null,null,null,null,null,{"$f":"\"Anno \" & '00 PDC SP'!$F$2-4 & \" e precedenti\"","v":"Anno 2013 e precedenti"},{"$f":"\"Anno \" & '00 PDC SP'!$F$2-3","v":"Anno 2014"},{"$f":"\"Anno \" & '00 PDC SP'!$F$2-2","v":"Anno 2015"},{"$f":"\"Anno \" & '00 PDC SP'!$F$2 -1","v":"Anno 2016"},{"$f":"\"Anno \" & '00 PDC SP'!$F$2","v":"Anno 2017"},null,null,null,null,null,null,"Valore SP","Diff","Ctrl"]
[null,null,"AAA660"," Crediti finanziari v/Stato",null,0,0,0,0,0,null,null,null,null,null,null,{"$f":"SUMIF('00 SP'!A:A,'Tab 8-9-10-11-12-13-14'!C25,'00 SP'!L:L)","v":0},{"$f":"(F25+G25+H25+I25+J25)-Q25","v":0},{"$f":"IF(R25=0,\"OK\",\"CTRL\")","v":"OK"}]
[null,null,"AAA670"," Crediti finanziari v/Regione",null,0,0,0,0,0,null,null,null,null,null,null,{"$f":"SUMIF('00 SP'!A:A,'Tab 8-9-10-11-12-13-14'!C26,'00 SP'!L:L)","v":0},{"$f":"(F26+G26+H26+I26+J26)-Q26","v":0},{"$f":"IF(R26=0,\"OK\",\"CTRL\")","v":"OK"}]
[null,null,"AAA680"," Crediti finanziari v/partecipate:",null,0,0,0,0,0,null,null,null,null,null,null,{"$f":"SUMIF('00 SP'!A:A,'Tab 8-9-10-11-12-13-14'!C27,'00 SP'!L:L)","v":0},{"$f":"(F27+G27+H27+I27+J27)-Q27","v":0},{"$f":"IF(R27=0,\"OK\",\"CTRL\")","v":"OK"}]
[null,null,"AAA690"," Crediti finanziari v/altri:",null,12379.7,0,0,1657,0,null,null,null,null,null,null,{"$f":"SUMIF('00 SP'!A:A,'Tab 8-9-10-11-12-13-14'!C28,'00 SP'!L:L)+0.25","v":14036.7},{"$f":"(F28+G28+H28+I28+J28)-Q28","v":0},{"$f":"IF(R28=0,\"OK\",\"CTRL\")","v":"OK"}]
[null,null,null,"TOTALE CREDITI FINANZIARI",null,{"$f":"SUM(F25:F28)","v":12379.7},{"$f":"SUM(G25:G28)","v":0},0,1657,0]
[]
[null,null,null,"Tab. 11 – Valore netto dei crediti finanziari distinti per scadenza"]
[null,null,"CODICE MOD. SP","CREDITI FINANZIARI",null,{"$f":"\"VALORE NETTO DEI CREDITI AL 31/12/\" & '00 PDC SP'!$F$2 & \" PER SCADENZA\"","v":"VALORE NETTO DEI CREDITI AL 31/12/2017 PER SCADENZA"}]
[null,null,null,null,null,"Entro\n12 mesi","Tra 1 e 5 anni","Oltre\n5 anni",null,null,null,null,null,null,null,null,"Valore SP","Diff","Ctrl"]
[null,null,"AAA660"," Crediti finanziari v/Stato",null,0,0,0,null,null,null,null,null,null,null,null,{"$f":"SUMIF('00 SP'!A:A,'Tab 8-9-10-11-12-13-14'!C34,'00 SP'!L:L)","v":0},{"$f":"(F34+G34+H34)-Q34","v":0},{"$f":"IF(R34=0,\"OK\",\"CTRL\")","v":"OK"}]
[null,null,"AAA670"," Crediti finanziari v/Regione",null,0,0,0,null,null,null,null,null,null,null,null,{"$f":"SUMIF('00 SP'!A:A,'Tab 8-9-10-11-12-13-14'!C35,'00 SP'!L:L)","v":0},{"$f":"(F35+G35+H35)-Q35","v":0},{"$f":"IF(R35=0,\"OK\",\"CTRL\")","v":"OK"}]
[null,null,"AAA680"," Crediti finanziari v/partecipate:",null,0,0,0,null,null,null,null,null,null,null,null,{"$f":"SUMIF('00 SP'!A:A,'Tab 8-9-10-11-12-13-14'!C36,'00 SP'!L:L)","v":0},{"$f":"(F36+G36+H36)-Q36","v":0},{"$f":"IF(R36=0,\"OK\",\"CTRL\")","v":"OK"}]
[null,null,"AAA690"," Crediti finanziari v/altri:",null,0,0,{"$f":"12379.7+1656.75","v":14036.45},null,null,null,null,null,null,null,null,{"$f":"SUMIF('00 SP'!A:A,'Tab 8-9-10-11-12-13-14'!C37,'00 SP'!L:L)","v":14036.45},{"$f":"(F37+G37+H37)-Q37","v":0},{"$f":"IF(R37=0,\"OK\",\"CTRL\")","v":"OK"}]
[null,null,null,"TOTALE CREDITI FINANZIARI",null,{"$f":"SUM(F34:F37)","v":0},0,{"$f":"SUM(H34:H37)","v":14036.45}]
[]
[null,null,"L'importo di € 12.380 si riferisce al deposito cauzionale versato dall'Azienda con riferimento al contratto di locazione relativo all'immobile sito in via Rieti n. 47, sede del DSB di Pescara Sud. Il deposito in questione è stato versato e contabilizzato nel corso dell'esercizio 2010. Ad oggi il contratto di locazione è ancora in essere, per cui il credito relativo al deposito cauzionale risulta ancora apero.Il contratto è stato rinnovato nel 2016 con l'integrazione del deposito cauzionale di €. 1657"]
[]
[]
[]
[null,null,null,"Tab. 12 – Dettagli e movimentazioni dei titoli iscritti nelle immobilizzazioni finanziarie"]
[null,null,"CODICE MOD. SP","TITOLI CHE COSTITUISCONO IMMOBILIZZAZIONI FINANZIARIE",null,"Costo\nstorico","ESERCIZI PRECEDENTI",null,null,"MOVIMENTI DELL'ESERCIZIO"]
[null,null,null,null,null,null,"Rivalutazioni","Svalutazioni","Valore iniziale","Giroconti e Riclassificaz.","Rivalutazioni (+)","Svalutazioni (-)","Acquisizioni e conferimenti ","Cessioni\n(valore contabile)","Valore contabile",null,"Valore SP","Diff","Ctrl"]
[null,null,"AAA710"," Partecipazioni:",null,{"$f":"SUMIF('00 SP'!$A:$A,'Tab 8-9-10-11-12-13-14'!$C47,'00 SP'!F:F)","v":0},{"$f":"SUMIF('00 SP'!$A:$A,'Tab 8-9-10-11-12-13-14'!$C47,'00 SP'!G:G)","v":0},{"$f":"SUMIF('00 SP'!$A:$A,'Tab 8-9-10-11-12-13-14'!$C47,'00 SP'!H:H)","v":0},{"$f":"F47+G47-H47","v":0},0,0,0,{"$f":"SUMIF('00 SP'!$A:$A,'Tab 8-9-10-11-12-13-14'!$C47,'00 SP'!J:J)-(J47+K47+L47)","v":0},{"$f":"SUMIF('00 SP'!$A:$A,'Tab 8-9-10-11-12-13-14'!$C47,'00 SP'!K:K)","v":0},{"$f":"I47+J47+K47-L47+M47-N47","v":0},null,{"$f":"SUMIF('00 SP'!A:A,'Tab 8-9-10-11-12-13-14'!C47,'00 SP'!L:L)","v":0},{"$f":"O47-Q47","v":0},{"$f":"IF(R47=0,\"OK\",\"CTRL\")","v":"OK"}]
[null,null,null," Partecipazioni in imprese controllate"]
[null,null,null," Partecipazioni in imprese collegate"]
[null,null,null," Partecipazioni in altre imprese"]
[null,null,"AAA720"," Altri titoli:",null,{"$f":"SUM(F52:F55)","v":0},0,0,0,0,0,0,0,0,0,null,{"$f":"SUMIF('00 SP'!A:A,'Tab 8-9-10-11-12-13-14'!C51,'00 SP'!L:L)","v":0},{"$f":"O51-Q51","v":0},{"$f":"IF(R51=0,\"OK\",\"CTRL\")","v":"OK"}]
[null,null,"AAA730"," Titoli di Stato",null,{"$f":"SUMIF('00 SP'!$A:$A,'Tab 8-9-10-11-12-13-14'!$C52,'00 SP'!F:F)","v":0},{"$f":"SUMIF('00 SP'!$A:$A,'Tab 8-9-10-11-12-13-14'!$C52,'00 SP'!G:G)","v":0},{"$f":"SUMIF('00 SP'!$A:$A,'Tab 8-9-10-11-12-13-14'!$C52,'00 SP'!H:H)","v":0},{"$f":"F52+G52-H52","v":0},0,0,0,{"$f":"SUMIF('00 SP'!$A:$A,'Tab 8-9-10-11-12-13-14'!$C52,'00 SP'!J:J)-(J52+K52+L52)","v":0},{"$f":"SUMIF('00 SP'!$A:$A,'Tab 8-9-10-11-12-13-14'!$C52,'00 SP'!K:K)","v":0},{"$f":"I52+J52+K52-L52+M52-N52","v":0},null,{"$f":"SUMIF('00 SP'!A:A,'Tab 8-9-10-11-12-13-14'!C52,'00 SP'!L:L)","v":0},{"$f":"O52-Q52","v":0},{"$f":"IF(R52=0,\"OK\",\"CTRL\")","v":"OK"}]
[null,null,"AAA740"," Altre Obbligazioni",null,{"$f":"SUMIF('00 SP'!$A:$A,'Tab 8-9-10-11-12-13-14'!$C53,'00 SP'!F:F)","v":0},{"$f":"SUMIF('00 SP'!$A:$A,'Tab 8-9-10-11-12-13-14'!$C53,'00 SP'!G:G)","v":0},{"$f":"SUMIF('00 SP'!$A:$A,'Tab 8-9-10-11-12-13-14'!$C53,'00 SP'!H:H)","v":0},{"$f":"F53+G53-H53","v":0},0,0,0,{"$f":"SUMIF('00 SP'!$A:$A,'Tab 8-9-10-11-12-13-14'!$C53,'00 SP'!J:J)-(J53+K53+L53)","v":0},{"$f":"SUMIF('00 SP'!$A:$A,'Tab 8-9-10-11-12-13-14'!$C53,'00 SP'!K:K)","v":0},{"$f":"I53+J53+K53-L53+M53-N53","v":0},null,{"$f":"SUMIF('00 SP'!A:A,'Tab 8-9-10-11-12-13-14'!C53,'00 SP'!L:L)","v":0},{"$f":"O53-Q53","v":0},{"$f":"IF(R53=0,\"OK\",\"CTRL\")","v":"OK"}]
[null,null,"AAA750"," Titoli azionari quotati in Borsa",null,{"$f":"SUMIF('00 SP'!$A:$A,'Tab 8-9-10-11-12-13-14'!$C54,'00 SP'!F:F)","v":0},{"$f":"SUMIF('00 SP'!$A:$A,'Tab 8-9-10-11-12-13-14'!$C54,'00 SP'!G:G)","v":0},{"$f":"SUMIF('00 SP'!$A:$A,'Tab 8-9-10-11-12-13-14'!$C54,'00 SP'!H:H)","v":0},0,0,0,0,{"$f":"SUMIF('00 SP'!$A:$A,'Tab 8-9-10-11-12-13-14'!$C54,'00 SP'!J:J)-(J54+K54+L54)","v":0},{"$f":"SUMIF('00 SP'!$A:$A,'Tab 8-9-10-11-12-13-14'!$C54,'00 SP'!K:K)","v":0},0,null,{"$f":"SUMIF('00 SP'!A:A,'Tab 8-9-10-11-12-13-14'!C54,'00 SP'!L:L)","v":0},{"$f":"O54-Q54","v":0},{"$f":"IF(R54=0,\"OK\",\"CTRL\")","v":"OK"}]
[null,null,"AAA760"," Titoli diversi",null,{"$f":"SUMIF('00 SP'!$A:$A,'Tab 8-9-10-11-12-13-14'!$C55,'00 SP'!F:F)","v":0},{"$f":"SUMIF('00 SP'!$A:$A,'Tab 8-9-10-11-12-13-14'!$C55,'00 SP'!G:G)","v":0},{"$f":"SUMIF('00 SP'!$A:$A,'Tab 8-9-10-11-12-13-14'!$C55,'00 SP'!H:H)","v":0},0,0,0,0,{"$f":"SUMIF('00 SP'!$A:$A,'Tab 8-9-10-11-12-13-14'!$C55,'00 SP'!J:J)-(J55+K55+L55)","v":0},{"$f":"SUMIF('00 SP'!$A:$A,'Tab 8-9-10-11-12-13-14'!$C55,'00 SP'!K:K)","v":0},0,null,{"$f":"SUMIF('00 SP'!A:A,'Tab 8-9-10-11-12-13-14'!C55,'00 SP'!L:L)","v":0},{"$f":"O55-Q55","v":0},{"$f":"IF(R55=0,\"OK\",\"CTRL\")","v":"OK"}]
[null,null,null,"TOTALE",null,{"$f":"F47+F51","v":0},0,0,0,0,0,0,0,0,0]
[]
[null,null,null,"Tab. 13 – Informativa in merito alle partecipazioni iscritte nelle immobilizzazioni finanziarie"]
[null,null,null,"ELENCO PARTECIPAZIONI",null,"Sede","Forma\ngiuridica","Capitale","% capitale pubblico","Patrimonio netto incluso riserve","Totale\nAttivo","Risultato di esercizio","% di possesso","Valore attribuito a bilancio","Criterio di valorizzazione (costo / PN)"]
[null,null,null," Partecipazioni in imprese controllate:"]
[null,null,null,"…"]
[null,null,null," Partecipazioni in imprese collegate:"]
[null,null,null,"…"]
[null,null,null," Partecipazioni in altre imprese:"]
[null,null,null,"…"]
[]
[null,null,null,"Tab. 14 – Dettagli e movimentazioni delle partecipazioni iscritte nelle immobilizzazioni finanziarie"]
[null,null,null,"DETTAGLIO PARTECIPAZIONI",null,"Costo \nstorico","ESERCIZI PRECEDENTI",null,null,"MOVIMENTI DELL'ESERCIZIO"]
[null,null,null,null,null,null,"Rivalutazioni","Svalutazioni","Valore iniziale","Giroconti e Riclassificazioni","Rivalutazioni","Svalutazioni","Acquisizioni e conferimenti","Cessioni (valore contabile)","Valore\nfinale"]
[null,null,null," Partecipazioni in imprese controllate:"]
[null,null,null,"…"]
[null,null,null," Partecipazioni in imprese collegate:"]
[null,null,null,"…"]
[null,null,null," Partecipazioni in altre imprese:"]
[null,null,null,"…"]

{"sheet":"IF01-IF02","index":15,"n_rows":9,"n_cols":5,"rows_kept":9,"cut":false,"hidden":false,"merged":[[1,1,1,4],[7,0,7,1],[8,0,8,1],[3,0,3,4],[4,0,4,1],[4,2,4,3],[5,0,5,1],[6,0,6,1]]}
["IF01 - Svalutazione delle immobilizzazioni finanziarie."]
["IF01 - NO","Nel corso dell'esercizio non sono state effettuate svalutazioni delle immobilizzazioni finanziarie."]
[]
["Altre informazioni relative alle immobilizzazioni finanziarie"]
["Informazione",null,"Caso presente in azienda?",null,"Se sì, illustrare"]
["IF02 - Gravami. Su crediti immobilizzati, partecipazioni e altri titoli dell'azienda vi sono gravami quali pegni, pignoramenti, ecc.?",null,null,"NO"]
["IF03 - Contenzioso con iscrizione in bilancio. Su crediti immobilizzati, partecipazioni e altri titoli iscritti in bilancio sono in corso contenziosi con altre aziende sanitarie, con altri enti pubblici o con enti privati?",null,null,"NO"]
["IF04 - Contenzioso senza iscrizione in bilancio. Esistono partecipazioni o altri titoli non iscritti nello stato patrimoniale perché non riconosciuti come proprietà dell'azienda in seguito a contenziosi in corso con altre aziende sanitarie, con altri enti pubblici o con soggetti privati?",null,null,"NO"]
["IF05 - Altro. Esistono altre informazioni che si ritiene necessario fornire per soddisfare la regola generale secondo cui \"Se le informazioni richieste da specifiche disposizioni di legge non sono sufficienti a dare una rappresentazione veritiera e corretta, si devono fornire le informazioni complementari necessarie allo scopo\" (art. 2423 cc)?",null,null,"NO"]

{"sheet":"Tab 15","index":16,"n_rows":48,"n_cols":15,"rows_kept":48,"cut":false,"hidden":false,"merged":[[42,0,42,3],[43,0,43,4],[43,5,43,6],[2,1,2,10],[30,0,30,10],[40,1,40,10],[31,0,35,10],[45,7,45,10],[44,7,44,10],[43,7,43,10],[47,0,47,4],[44,0,44,4],[45,0,45,4],[46,0,46,4],[47,7,47,10],[46,7,46,10]]}
[null,"6.     Rimanenze"]
[]
[null,"Tab. 15 – Movimentazioni delle rimanenze di beni sanitari e non sanitari"]
["CODICE MOD. SP","RIMANENZE",null,"Valore\niniziale","Giroconti e Riclassifiche (+/-)","Incrementi","Incrementi/ Utilizzi Fondo Svalutazione magazzino (+/-)","Decrementi","Valore finale","di cui presso terzi per distribuzione per nome e per conto","di cui scorte di reparto",null,"Valore SP","Diff","Ctrl"]
["ABA020","  Prodotti farmaceutici ed emoderivati:",null,{"$f":"SUMIF('00 SP'!A:A,'Tab 15'!A5,'00 SP'!I:I)","v":5481808.8900000006},0,{"$f":"SUMIF('00 SP'!A:A,'Tab 15'!A5,'00 SP'!J:J)-(G5+E5)","v":5834132.1200000001},0,{"$f":"SUMIF('00 SP'!A:A,'Tab 15'!A5,'00 SP'!K:K)","v":5481808.8900000006},{"$f":"D5+E5+F5+G5-H5","v":5834132.120000001},0,2019560.04,null,{"$f":"SUMIF('00 SP'!A:A,'Tab 15'!A5,'00 SP'!L:L)","v":5834132.120000001},{"$f":"I5-M5","v":0},{"$f":"IF(N5=0,\"OK\",\"CTRL\")","v":"OK"}]
[null,"   Medicinali con AIC, ad eccezione di vaccini ed emoderivati di produzione  regionale"]
[null,"   Medicinali senza AIC"]
[null,"   Emoderivati di produzione regionale"]
["ABA030","  Sangue ed emocomponenti",null,{"$f":"SUMIF('00 SP'!A:A,'Tab 15'!A9,'00 SP'!I:I)","v":0},0,{"$f":"SUMIF('00 SP'!A:A,'Tab 15'!A9,'00 SP'!J:J)-(G9+E9)","v":0},0,{"$f":"SUMIF('00 SP'!A:A,'Tab 15'!A9,'00 SP'!K:K)*-1","v":0},{"$f":"D9+E9+F9+G9-H9","v":0},0,0,null,{"$f":"SUMIF('00 SP'!A:A,'Tab 15'!A9,'00 SP'!L:L)","v":0},{"$f":"I9-M9","v":0},{"$f":"IF(N9=0,\"OK\",\"CTRL\")","v":"OK"}]
["ABA040","  Dispositivi medici:",null,{"$f":"SUMIF('00 SP'!A:A,'Tab 15'!A10,'00 SP'!I:I)","v":4404910.21},0,{"$f":"SUMIF('00 SP'!A:A,'Tab 15'!A10,'00 SP'!J:J)-(G10+E10)","v":5139047.9299999988},0,{"$f":"SUMIF('00 SP'!A:A,'Tab 15'!A10,'00 SP'!K:K)","v":4404910.21},5139047.9299999988,0,{"$f":"4100425.99+2028","v":4102453.99},null,{"$f":"SUMIF('00 SP'!A:A,'Tab 15'!A10,'00 SP'!L:L)","v":5139047.9299999988},{"$f":"I10-M10","v":0},{"$f":"IF(N10=0,\"OK\",\"CTRL\")","v":"OK"}]
[null,"   Dispositivi medici"]
[null,"   Dispositivi medici impiantabili attivi"]
[null,"   Dispositivi medico diagnostici in vitro (IVD)"]
["ABA050","  Prodotti dietetici",null,{"$f":"SUMIF('00 SP'!A:A,'Tab 15'!A14,'00 SP'!I:I)","v":68269.16},0,{"$f":"SUMIF('00 SP'!A:A,'Tab 15'!A14,'00 SP'!J:J)-(G14+E14)","v":63620.12},0,{"$f":"SUMIF('00 SP'!A:A,'Tab 15'!A14,'00 SP'!K:K)","v":68269.16},63620.119999999995,0,28532.44,null,{"$f":"SUMIF('00 SP'!A:A,'Tab 15'!A14,'00 SP'!L:L)","v":63620.12},{"$f":"I14-M14","v":0},{"$f":"IF(N14=0,\"OK\",\"CTRL\")","v":"OK"}]
["ABA060","  Materiali per la profilassi (vaccini)",null,{"$f":"SUMIF('00 SP'!A:A,'Tab 15'!A15,'00 SP'!I:I)","v":0},0,{"$f":"SUMIF('00 SP'!A:A,'Tab 15'!A15,'00 SP'!J:J)-(G15+E15)","v":1112.76},0,{"$f":"SUMIF('00 SP'!A:A,'Tab 15'!A15,'00 SP'!K:K)","v":0},1112.76,0,0,null,{"$f":"SUMIF('00 SP'!A:A,'Tab 15'!A15,'00 SP'!L:L)","v":1112.76},0,"OK"]
["ABA070","  Prodotti chimici",null,{"$f":"SUMIF('00 SP'!A:A,'Tab 15'!A16,'00 SP'!I:I)","v":0},0,{"$f":"SUMIF('00 SP'!A:A,'Tab 15'!A16,'00 SP'!J:J)-(G16+E16)","v":0},0,{"$f":"SUMIF('00 SP'!A:A,'Tab 15'!A16,'00 SP'!K:K)","v":0},0,0,0,null,{"$f":"SUMIF('00 SP'!A:A,'Tab 15'!A16,'00 SP'!L:L)","v":0},0,"OK"]
["ABA080","  Materiali e prodotti per uso veterinario",null,{"$f":"SUMIF('00 SP'!A:A,'Tab 15'!A17,'00 SP'!I:I)","v":0},0,{"$f":"SUMIF('00 SP'!A:A,'Tab 15'!A17,'00 SP'!J:J)-(G17+E17)","v":0},0,{"$f":"SUMIF('00 SP'!A:A,'Tab 15'!A17,'00 SP'!K:K)","v":0},0,0,0,null,{"$f":"SUMIF('00 SP'!A:A,'Tab 15'!A17,'00 SP'!L:L)","v":0},0,"OK"]
["ABA090","  Altri beni e prodotti sanitari",null,{"$f":"SUMIF('00 SP'!A:A,'Tab 15'!A18,'00 SP'!I:I)","v":211412.98},0,{"$f":"SUMIF('00 SP'!A:A,'Tab 15'!A18,'00 SP'!J:J)-(G18+E18)","v":296192.15000000002},0,{"$f":"SUMIF('00 SP'!A:A,'Tab 15'!A18,'00 SP'!K:K)","v":211412.98},296192.15000000002,0,191059.34,null,{"$f":"SUMIF('00 SP'!A:A,'Tab 15'!A18,'00 SP'!L:L)","v":296192.15000000002},0,"OK"]
["ABA100","  Acconti per acquisto di beni e prodotti sanitari",null,{"$f":"SUMIF('00 SP'!A:A,'Tab 15'!A19,'00 SP'!I:I)","v":0},0,{"$f":"SUMIF('00 SP'!A:A,'Tab 15'!A19,'00 SP'!J:J)-(G19+E19)","v":0},0,{"$f":"SUMIF('00 SP'!A:A,'Tab 15'!A19,'00 SP'!K:K)","v":0},0,0,0,null,{"$f":"SUMIF('00 SP'!A:A,'Tab 15'!A19,'00 SP'!L:L)","v":0},0,"OK"]
[null," RIMANENZE BENI SANITARI",null,{"$f":"D5+D9+D10+D14+D15+D16+D17+D18+D19","v":10166401.240000002},{"$f":"SUM(E5:E19)","v":0},11334105.079999998,0,10166401.240000002,11334105.08,0,6341605.8100000005]
[]
["ABA120","  Prodotti alimentari",null,{"$f":"SUMIF('00 SP'!A:A,'Tab 15'!A22,'00 SP'!I:I)","v":0},0,{"$f":"SUMIF('00 SP'!A:A,'Tab 15'!A22,'00 SP'!J:J)-(G22+E22)","v":0},0,{"$f":"SUMIF('00 SP'!A:A,'Tab 15'!A22,'00 SP'!K:K)","v":0},{"$f":"D22+E22+F22+G22-H22","v":0},0,0,null,{"$f":"SUMIF('00 SP'!A:A,'Tab 15'!A22,'00 SP'!L:L)","v":0},{"$f":"I22-M22","v":0},{"$f":"IF(N22=0,\"OK\",\"CTRL\")","v":"OK"}]
["ABA130","  Materiali di guardaroba, di pulizia e di convivenza in genere",null,{"$f":"SUMIF('00 SP'!A:A,'Tab 15'!A23,'00 SP'!I:I)","v":35073.03},0,{"$f":"SUMIF('00 SP'!A:A,'Tab 15'!A23,'00 SP'!J:J)-(G23+E23)","v":29727.94},0,{"$f":"SUMIF('00 SP'!A:A,'Tab 15'!A23,'00 SP'!K:K)","v":35073.03},29727.940000000002,0,1923.29,null,{"$f":"SUMIF('00 SP'!A:A,'Tab 15'!A23,'00 SP'!L:L)","v":29727.940000000002},{"$f":"I23-M23","v":0},{"$f":"IF(N23=0,\"OK\",\"CTRL\")","v":"OK"}]
["ABA140","  Combustibili, carburanti e lubrificanti",null,{"$f":"SUMIF('00 SP'!A:A,'Tab 15'!A24,'00 SP'!I:I)","v":0},0,{"$f":"SUMIF('00 SP'!A:A,'Tab 15'!A24,'00 SP'!J:J)-(G24+E24)","v":0},0,{"$f":"SUMIF('00 SP'!A:A,'Tab 15'!A24,'00 SP'!K:K)","v":0},0,0,0,null,{"$f":"SUMIF('00 SP'!A:A,'Tab 15'!A24,'00 SP'!L:L)","v":0},0,"OK"]
["ABA150","  Supporti informatici e cancelleria",null,{"$f":"SUMIF('00 SP'!A:A,'Tab 15'!A25,'00 SP'!I:I)","v":333136.13},0,{"$f":"SUMIF('00 SP'!A:A,'Tab 15'!A25,'00 SP'!J:J)-(G25+E25)","v":362290.35},0,{"$f":"SUMIF('00 SP'!A:A,'Tab 15'!A25,'00 SP'!K:K)","v":333136.13},362290.35,0,{"$f":"24239.47-2028","v":22211.47},null,{"$f":"SUMIF('00 SP'!A:A,'Tab 15'!A25,'00 SP'!L:L)","v":362290.35},0,"OK"]
["ABA160","  Materiale per la manutenzione",null,{"$f":"SUMIF('00 SP'!A:A,'Tab 15'!A26,'00 SP'!I:I)","v":85148.94},0,{"$f":"SUMIF('00 SP'!A:A,'Tab 15'!A26,'00 SP'!J:J)-(G26+E26)","v":117370.13999999998},0,{"$f":"SUMIF('00 SP'!A:A,'Tab 15'!A26,'00 SP'!K:K)","v":85148.94},117370.13999999998,0,8195.18,null,{"$f":"SUMIF('00 SP'!A:A,'Tab 15'!A26,'00 SP'!L:L)","v":117370.14},0,"OK"]
["ABA170","  Altri beni e prodotti non sanitari",null,{"$f":"SUMIF('00 SP'!A:A,'Tab 15'!A27,'00 SP'!I:I)","v":2869.46},0,{"$f":"SUMIF('00 SP'!A:A,'Tab 15'!A27,'00 SP'!J:J)-(G27+E27)","v":1229.74},0,{"$f":"SUMIF('00 SP'!A:A,'Tab 15'!A27,'00 SP'!K:K)","v":2869.46},{"$f":"D27+E27+F27+G27-H27","v":1229.7399999999998},0,62.64,null,{"$f":"SUMIF('00 SP'!A:A,'Tab 15'!A27,'00 SP'!L:L)","v":1229.7399999999998},0,"OK"]
["ABA180","  Acconti per acquisto di beni e prodotti non sanitari",null,{"$f":"SUMIF('00 SP'!A:A,'Tab 15'!A28,'00 SP'!I:I)","v":0},0,{"$f":"SUMIF('00 SP'!A:A,'Tab 15'!A28,'00 SP'!J:J)-(G28+E28)","v":0},0,{"$f":"SUMIF('00 SP'!A:A,'Tab 15'!A28,'00 SP'!K:K)","v":0},0,0,0,null,{"$f":"SUMIF('00 SP'!A:A,'Tab 15'!A28,'00 SP'!L:L)","v":0},0,"OK"]
[null," RIMANENZE BENI NON SANITARI",null,{"$f":"SUM(D22:D28)","v":456227.56000000006},0,510618.16999999993,0,456227.56000000006,510618.16999999993,0,32392.58]
[]
["Al 31/12/2017 è stato effettuato l'inventario fisico delle giacenze sia presso i magazzini che presso i reparti."]
["Il Collegio Sindacale ,  in sede di verifica dulle giacenze  del Magazzino Economale di Pescara,  ha chiesto chiarimenti all'Azienda in merito ad alcuni articoli. Il responsabile del servizio a cui fa capo il magazzino di cui trattasi ha preso in carico il problema per la sua definizione .In sede di esame del Bilancio ,il Collegio Sindacale ha ritenuto non del tutto esausitivi i chiarimenti forniti, per cui ha invitato l'Azienda ad effettuare ulteriori approfondimenti con l'impegno da parte della stessa di apportare eventuali rettifiche , ove ve ne fosse la necessità, nella contabilità dell'esercizio 2018."]
[]
[]
[]
[]
[]
[]
[]
["RIM01 - Svalutazioni."]
["RIM01 - NO","Nel corso dell'esercizio non sono state effettuate svalutazioni di rimanenze obsolete o a lento rigiro."]
[]
["Altre informazioni relative alle rimanenze"]
["Informazione",null,null,null,null,"Caso presente in azienda?",null,"Se SI, illustrare"]
["RIM02 - Gravami. Sulle rimanenze dell'azienda vi sono gravami quali pegni, patti di riservato dominio, pignoramenti, ecc.?",null,null,null,null,null,"NO"]
["RIM03 - Modifiche di classificazione. Nel corso dell'esercizio vi sono stati rilevanti cambiamenti nella classificazione delle voci?",null,null,null,null,null,"NO"]
["RIM04 - Valore a prezzi di mercato. Vi è una differenza, positiva e significativa, tra il valore delle rimanenze a prezzi di mercato e la loro valutazione a bilancio?",null,null,null,null,null,"NO"]
["RIM05 - Altro. Esistono altre informazioni che si ritiene necessario fornire per soddisfare la regola generale secondo cui \"Se le informazioni richieste da specifiche disposizioni di legge non sono sufficienti a dare una rappresentazione veritiera e corretta, si devono fornire le informazioni complementari necessarie allo scopo\" (art. 2423 cc)?",null,null,null,null,"SI ",null,"Le rimanenze d'esercizio sono state valorizzate secondo il metodo della media ponderata in ossequio a quanto stabilito con d.lgs 118/2011"]

{"sheet":"Tab 16-17","index":17,"n_rows":127,"n_cols":13,"rows_kept":127,"cut":false,"hidden":false,"merged":[[126,2,128,5],[2,3,2,9],[3,2,4,2],[3,3,4,3],[3,5,3,9],[46,3,46,5],[47,5,47,9],[47,3,48,3],[47,2,48,2],[110,2,110,9],[122,2,122,3],[88,2,88,9],[98,2,98,3],[101,2,108,5]]}
[null,null,null,"7.     Crediti"]
[]
[null,null,null,"Tab. 16 – Movimentazioni dei crediti (valore nominale) – I parte"]
[null,null,"CODICE MOD. SP","CREDITI\n(VALORE NOMINALE)",null,"MOVIMENTI DELL'ESERCIZIO"]
[null,null,null,null,null,"Valore\niniziale","Incrementi","Decrementi","Valore finale","di cui per fatt. da emett."]
[null,null,null," CREDITI V/STATO - PARTE CORRENTE",null,{"$f":"F7+F14","v":5970.26},{"$f":"G7+G14","v":12202.45},18172.71,0,0]
[null,null,null," Crediti v/Stato per spesa corrente e acconti:",null,{"$f":"SUM(F8:F13)","v":5970.26},{"$f":"SUM(G8:G13)","v":12202.45},{"$f":"SUM(H8:H13)","v":18172.71},{"$f":"SUM(I8:I13)","v":0},{"$f":"SUM(J8:J13)","v":0}]
[{"$f":"C8&\"CR\"","v":"ABA210CR"},{"$f":"C8&\"FE\"","v":"ABA210FE"},"ABA210","  Crediti v/Stato per spesa corrente - Integrazione a norma del D.Lvo 56/2000",null,{"$f":"SUMIF('00 PDC SP'!A:A,'Tab 16-17'!A8,'00 PDC SP'!K:K)+SUMIF('00 PDC SP'!A:A,'Tab 16-17'!B8,'00 PDC SP'!K:K)","v":5970.26},{"$f":"SUMIF('00 PDC SP'!A:A,'Tab 16-17'!A8,'00 PDC SP'!L:L)+SUMIF('00 PDC SP'!A:A,'Tab 16-17'!B8,'00 PDC SP'!L:L)","v":12202.45},{"$f":"SUMIF('00 PDC SP'!A:A,'Tab 16-17'!A8,'00 PDC SP'!M:M)+SUMIF('00 PDC SP'!A:A,'Tab 16-17'!B8,'00 PDC SP'!M:M)","v":18172.71},{"$f":"F8+G8-H8","v":0},{"$f":"SUMIF('00 PDC SP'!A:A,'Tab 16-17'!B8,'00 PDC SP'!N:N)","v":0}]
[{"$f":"C9&\"CR\"","v":"ABA220CR"},{"$f":"C9&\"FE\"","v":"ABA220FE"},"ABA220","  Crediti v/Stato per spesa corrente - FSN",null,{"$f":"SUMIF('00 PDC SP'!A:A,'Tab 16-17'!A9,'00 PDC SP'!K:K)+SUMIF('00 PDC SP'!A:A,'Tab 16-17'!B9,'00 PDC SP'!K:K)","v":0},{"$f":"SUMIF('00 PDC SP'!A:A,'Tab 16-17'!A9,'00 PDC SP'!L:L)+SUMIF('00 PDC SP'!A:A,'Tab 16-17'!B9,'00 PDC SP'!L:L)","v":0},{"$f":"SUMIF('00 PDC SP'!A:A,'Tab 16-17'!A9,'00 PDC SP'!M:M)+SUMIF('00 PDC SP'!A:A,'Tab 16-17'!B9,'00 PDC SP'!M:M)","v":0},0,{"$f":"SUMIF('00 PDC SP'!A:A,'Tab 16-17'!B9,'00 PDC SP'!N:N)","v":0}]
["ABA230CR","ABA230FE","ABA230","  Crediti v/Stato per mobilità attiva extraregionale",null,{"$f":"SUMIF('00 PDC SP'!A:A,'Tab 16-17'!A10,'00 PDC SP'!K:K)+SUMIF('00 PDC SP'!A:A,'Tab 16-17'!B10,'00 PDC SP'!K:K)","v":0},{"$f":"SUMIF('00 PDC SP'!A:A,'Tab 16-17'!A10,'00 PDC SP'!L:L)+SUMIF('00 PDC SP'!A:A,'Tab 16-17'!B10,'00 PDC SP'!L:L)","v":0},{"$f":"SUMIF('00 PDC SP'!A:A,'Tab 16-17'!A10,'00 PDC SP'!M:M)+SUMIF('00 PDC SP'!A:A,'Tab 16-17'!B10,'00 PDC SP'!M:M)","v":0},0,{"$f":"SUMIF('00 PDC SP'!A:A,'Tab 16-17'!B10,'00 PDC SP'!N:N)","v":0}]
["ABA240CR","ABA240FE","ABA240","  Crediti v/Stato per mobilità attiva internazionale",null,{"$f":"SUMIF('00 PDC SP'!A:A,'Tab 16-17'!A11,'00 PDC SP'!K:K)+SUMIF('00 PDC SP'!A:A,'Tab 16-17'!B11,'00 PDC SP'!K:K)","v":0},{"$f":"SUMIF('00 PDC SP'!A:A,'Tab 16-17'!A11,'00 PDC SP'!L:L)+SUMIF('00 PDC SP'!A:A,'Tab 16-17'!B11,'00 PDC SP'!L:L)","v":0},{"$f":"SUMIF('00 PDC SP'!A:A,'Tab 16-17'!A11,'00 PDC SP'!M:M)+SUMIF('00 PDC SP'!A:A,'Tab 16-17'!B11,'00 PDC SP'!M:M)","v":0},0,{"$f":"SUMIF('00 PDC SP'!A:A,'Tab 16-17'!B11,'00 PDC SP'!N:N)","v":0}]
["ABA250CR","ABA250FE","ABA250","  Crediti v/Stato per acconto quota fabbisogno sanitario regionale standard",null,{"$f":"SUMIF('00 PDC SP'!A:A,'Tab 16-17'!A12,'00 PDC SP'!K:K)+SUMIF('00 PDC SP'!A:A,'Tab 16-17'!B12,'00 PDC SP'!K:K)","v":0},{"$f":"SUMIF('00 PDC SP'!A:A,'Tab 16-17'!A12,'00 PDC SP'!L:L)+SUMIF('00 PDC SP'!A:A,'Tab 16-17'!B12,'00 PDC SP'!L:L)","v":0},{"$f":"SUMIF('00 PDC SP'!A:A,'Tab 16-17'!A12,'00 PDC SP'!M:M)+SUMIF('00 PDC SP'!A:A,'Tab 16-17'!B12,'00 PDC SP'!M:M)","v":0},0,{"$f":"SUMIF('00 PDC SP'!A:A,'Tab 16-17'!B12,'00 PDC SP'!N:N)","v":0}]
["ABA260CR","ABA260FE","ABA260","  Crediti v/Stato per finanziamento sanitario aggiuntivo corrente",null,{"$f":"SUMIF('00 PDC SP'!A:A,'Tab 16-17'!A13,'00 PDC SP'!K:K)+SUMIF('00 PDC SP'!A:A,'Tab 16-17'!B13,'00 PDC SP'!K:K)","v":0},{"$f":"SUMIF('00 PDC SP'!A:A,'Tab 16-17'!A13,'00 PDC SP'!L:L)+SUMIF('00 PDC SP'!A:A,'Tab 16-17'!B13,'00 PDC SP'!L:L)","v":0},{"$f":"SUMIF('00 PDC SP'!A:A,'Tab 16-17'!A13,'00 PDC SP'!M:M)+SUMIF('00 PDC SP'!A:A,'Tab 16-17'!B13,'00 PDC SP'!M:M)","v":0},0,{"$f":"SUMIF('00 PDC SP'!A:A,'Tab 16-17'!B13,'00 PDC SP'!N:N)","v":0}]
[null,null,null," Crediti v/Stato - altro:",null,{"$f":"SUM(F15)","v":0},{"$f":"SUM(G15)","v":0},{"$f":"SUM(H15)","v":0},{"$f":"SUM(I15)","v":0},{"$f":"SUM(J15)","v":0}]
["ABA270CR","ABA270FE","ABA270","  Crediti v/Stato per spesa corrente - altro",null,{"$f":"SUMIF('00 PDC SP'!A:A,'Tab 16-17'!A15,'00 PDC SP'!K:K)+SUMIF('00 PDC SP'!A:A,'Tab 16-17'!B15,'00 PDC SP'!K:K)","v":0},{"$f":"SUMIF('00 PDC SP'!A:A,'Tab 16-17'!A15,'00 PDC SP'!L:L)+SUMIF('00 PDC SP'!A:A,'Tab 16-17'!B15,'00 PDC SP'!L:L)","v":0},{"$f":"SUMIF('00 PDC SP'!A:A,'Tab 16-17'!A15,'00 PDC SP'!M:M)+SUMIF('00 PDC SP'!A:A,'Tab 16-17'!B15,'00 PDC SP'!M:M)","v":0},{"$f":"F15+G15-H15","v":0},{"$f":"SUMIF('00 PDC SP'!A:A,'Tab 16-17'!B15,'00 PDC SP'!N:N)","v":0}]
[null,null,null," CREDITI V/STATO - INVESTIMENTI",null,{"$f":"SUM(F17)","v":0},{"$f":"SUM(G17)","v":0},{"$f":"SUM(H17)","v":0},{"$f":"SUM(I17)","v":0},{"$f":"SUM(J17)","v":0}]
["ABA280CR","ABA280FE","ABA280"," Crediti v/Stato per finanziamenti per investimenti:",null,{"$f":"SUMIF('00 PDC SP'!A:A,'Tab 16-17'!A17,'00 PDC SP'!K:K)+SUMIF('00 PDC SP'!A:A,'Tab 16-17'!B17,'00 PDC SP'!K:K)","v":0},{"$f":"SUMIF('00 PDC SP'!A:A,'Tab 16-17'!A17,'00 PDC SP'!L:L)+SUMIF('00 PDC SP'!A:A,'Tab 16-17'!B17,'00 PDC SP'!L:L)","v":0},{"$f":"SUMIF('00 PDC SP'!A:A,'Tab 16-17'!A17,'00 PDC SP'!M:M)+SUMIF('00 PDC SP'!A:A,'Tab 16-17'!B17,'00 PDC SP'!M:M)","v":0},{"$f":"F17+G17-H17","v":0},{"$f":"SUMIF('00 PDC SP'!A:A,'Tab 16-17'!B17,'00 PDC SP'!N:N)","v":0}]
[null,null,null," CREDITI V/STATO - RICERCA",null,{"$f":"F19+F20+F21+F22","v":4620},{"$f":"G19+G20+G21+G22","v":0},{"$f":"H19+H20+H21+H22","v":0},4620,{"$f":"J19+J22","v":0}]
["ABA300CR","ABA300FE","ABA300"," Crediti v/Stato per ricerca corrente - Ministero della Salute ",null,{"$f":"SUMIF('00 PDC SP'!A:A,'Tab 16-17'!A19,'00 PDC SP'!K:K)+SUMIF('00 PDC SP'!A:A,'Tab 16-17'!B19,'00 PDC SP'!K:K)","v":0},{"$f":"SUMIF('00 PDC SP'!A:A,'Tab 16-17'!A19,'00 PDC SP'!L:L)+SUMIF('00 PDC SP'!A:A,'Tab 16-17'!B19,'00 PDC SP'!L:L)","v":0},{"$f":"SUMIF('00 PDC SP'!B:B,'Tab 16-17'!B19,'00 PDC SP'!M:M)+SUMIF('00 PDC SP'!B:B,'Tab 16-17'!C19,'00 PDC SP'!M:M)","v":0},0,{"$f":"SUMIF('00 PDC SP'!A:A,'Tab 16-17'!B19,'00 PDC SP'!N:N)","v":0},null,null,"copiate formule rigo inferiore"]
["ABA310CR","ABA310FE","ABA310"," Crediti v/Stato per ricerca finalizzata - Ministero della Salute ",null,{"$f":"SUMIF('00 PDC SP'!A:A,'Tab 16-17'!A20,'00 PDC SP'!K:K)+SUMIF('00 PDC SP'!A:A,'Tab 16-17'!B20,'00 PDC SP'!K:K)","v":4620},{"$f":"SUMIF('00 PDC SP'!A:A,'Tab 16-17'!A20,'00 PDC SP'!L:L)+SUMIF('00 PDC SP'!A:A,'Tab 16-17'!B20,'00 PDC SP'!L:L)","v":0},{"$f":"SUMIF('00 PDC SP'!A:A,'Tab 16-17'!A20,'00 PDC SP'!M:M)+SUMIF('00 PDC SP'!A:A,'Tab 16-17'!B20,'00 PDC SP'!M:M)","v":0},4620,{"$f":"SUMIF('00 PDC SP'!A:A,'Tab 16-17'!B20,'00 PDC SP'!N:N)","v":0},null,null,"da controllare"]
["ABA320CR","ABA320FE","ABA320"," Crediti v/Stato per ricerca - altre Amministrazioni centrali ",null,{"$f":"SUMIF('00 PDC SP'!A:A,'Tab 16-17'!A21,'00 PDC SP'!K:K)+SUMIF('00 PDC SP'!A:A,'Tab 16-17'!B21,'00 PDC SP'!K:K)","v":0},{"$f":"SUMIF('00 PDC SP'!A:A,'Tab 16-17'!A21,'00 PDC SP'!L:L)+SUMIF('00 PDC SP'!A:A,'Tab 16-17'!B21,'00 PDC SP'!L:L)","v":0},{"$f":"SUMIF('00 PDC SP'!A:A,'Tab 16-17'!A21,'00 PDC SP'!M:M)+SUMIF('00 PDC SP'!A:A,'Tab 16-17'!B21,'00 PDC SP'!M:M)","v":0},0,{"$f":"SUMIF('00 PDC SP'!A:A,'Tab 16-17'!B21,'00 PDC SP'!N:N)","v":0}]
["ABA330CR","ABA330FE","ABA330"," Crediti v/Stato per ricerca - finanziamenti per investimenti",null,{"$f":"SUMIF('00 PDC SP'!A:A,'Tab 16-17'!A22,'00 PDC SP'!K:K)+SUMIF('00 PDC SP'!A:A,'Tab 16-17'!B22,'00 PDC SP'!K:K)","v":0},{"$f":"SUMIF('00 PDC SP'!A:A,'Tab 16-17'!A22,'00 PDC SP'!L:L)+SUMIF('00 PDC SP'!A:A,'Tab 16-17'!B22,'00 PDC SP'!L:L)","v":0},{"$f":"SUMIF('00 PDC SP'!A:A,'Tab 16-17'!A22,'00 PDC SP'!M:M)+SUMIF('00 PDC SP'!A:A,'Tab 16-17'!B22,'00 PDC SP'!M:M)","v":0},0,{"$f":"SUMIF('00 PDC SP'!A:A,'Tab 16-17'!B22,'00 PDC SP'!N:N)","v":0}]
["ABA340CR","ABA340FE","ABA340"," CREDITI V/PREFETTURE",null,{"$f":"SUMIF('00 PDC SP'!A:A,'Tab 16-17'!A23,'00 PDC SP'!K:K)+SUMIF('00 PDC SP'!A:A,'Tab 16-17'!B23,'00 PDC SP'!K:K)","v":93462.74},{"$f":"SUMIF('00 PDC SP'!A:A,'Tab 16-17'!A23,'00 PDC SP'!L:L)+SUMIF('00 PDC SP'!A:A,'Tab 16-17'!B23,'00 PDC SP'!L:L)","v":0},{"$f":"SUMIF('00 PDC SP'!A:A,'Tab 16-17'!A23,'00 PDC SP'!M:M)+SUMIF('00 PDC SP'!A:A,'Tab 16-17'!B23,'00 PDC SP'!M:M)","v":0},93462.74,{"$f":"SUMIF('00 PDC SP'!A:A,'Tab 16-17'!B23,'00 PDC SP'!N:N)","v":0}]
[null,null,null,"TOTALE CREDITI V/STATO",null,{"$f":"F7+F16+F18+F23","v":104053},{"$f":"G7+G14+G16+G18+G23","v":12202.45},{"$f":"H7+H14+H16+H18+H23","v":18172.71},{"$f":"I7+I14+I16+I18+I23","v":98082.74},{"$f":"J7+J16+J18+J23","v":0}]
[]
[null,null,null," CREDITI V/REGIONE O P.A. PER SPESA CORRENTE",null,{"$f":"F27+F34+F35+F36","v":197281223.70999998},{"$f":"G27+G34+G35+G36","v":1279389476.2599998},{"$f":"H27+H34+H35+H36","v":1311503799.21},{"$f":"I27+I34+I35+I36","v":165166900.75999993},{"$f":"J27+J34+J35+J36","v":0}]
[null,null,null," Crediti v/Regione o P.A. per finanziamento sanitario ordinario corrente:",null,{"$f":"SUM(F28:F33)","v":185412748.81999999},{"$f":"SUM(G28:G33)","v":1274242659.8899999},{"$f":"SUM(H28:H33)","v":1304872598.97},{"$f":"SUM(I28:I33)","v":154782809.73999992},{"$f":"SUM(J28:J33)","v":0}]
[{"$f":"C28&\"CR\"","v":"ABA370CR"},{"$f":"C28&\"FE\"","v":"ABA370FE"},"ABA370","  Crediti v/Regione o P.A. per spesa corrente - IRAP",null,{"$f":"SUMIF('00 PDC SP'!A:A,'Tab 16-17'!A28,'00 PDC SP'!K:K)+SUMIF('00 PDC SP'!A:A,'Tab 16-17'!B28,'00 PDC SP'!K:K)","v":0},{"$f":"SUMIF('00 PDC SP'!A:A,'Tab 16-17'!A28,'00 PDC SP'!L:L)+SUMIF('00 PDC SP'!A:A,'Tab 16-17'!B28,'00 PDC SP'!L:L)","v":0},{"$f":"SUMIF('00 PDC SP'!A:A,'Tab 16-17'!A28,'00 PDC SP'!M:M)+SUMIF('00 PDC SP'!A:A,'Tab 16-17'!B28,'00 PDC SP'!M:M)","v":0},{"$f":"F28+G28-H28","v":0},{"$f":"SUMIF('00 PDC SP'!A:A,'Tab 16-17'!B28,'00 PDC SP'!N:N)","v":0}]
[{"$f":"C29&\"CR\"","v":"ABA380CR"},{"$f":"C29&\"FE\"","v":"ABA380FE"},"ABA380","  Crediti v/Regione o P.A. per spesa corrente - Addizionale IRPEF",null,{"$f":"SUMIF('00 PDC SP'!A:A,'Tab 16-17'!A29,'00 PDC SP'!K:K)+SUMIF('00 PDC SP'!A:A,'Tab 16-17'!B29,'00 PDC SP'!K:K)","v":0},{"$f":"SUMIF('00 PDC SP'!A:A,'Tab 16-17'!A29,'00 PDC SP'!L:L)+SUMIF('00 PDC SP'!A:A,'Tab 16-17'!B29,'00 PDC SP'!L:L)","v":0},{"$f":"SUMIF('00 PDC SP'!A:A,'Tab 16-17'!A29,'00 PDC SP'!M:M)+SUMIF('00 PDC SP'!A:A,'Tab 16-17'!B29,'00 PDC SP'!M:M)","v":0},{"$f":"F29+G29-H29","v":0},{"$f":"SUMIF('00 PDC SP'!A:A,'Tab 16-17'!B29,'00 PDC SP'!N:N)","v":0}]
["ABA390CR","ABA390FE","ABA390","  Crediti v/Regione o P.A. per quota FSR",null,{"$f":"SUMIF('00 PDC SP'!A:A,'Tab 16-17'!A30,'00 PDC SP'!K:K)+SUMIF('00 PDC SP'!A:A,'Tab 16-17'!B30,'00 PDC SP'!K:K)","v":149470398.15000001},{"$f":"SUMIF('00 PDC SP'!A:A,'Tab 16-17'!A30,'00 PDC SP'!L:L)+SUMIF('00 PDC SP'!A:A,'Tab 16-17'!B30,'00 PDC SP'!L:L)","v":611234256.89999998},{"$f":"SUMIF('00 PDC SP'!A:A,'Tab 16-17'!A30,'00 PDC SP'!M:M)+SUMIF('00 PDC SP'!A:A,'Tab 16-17'!B30,'00 PDC SP'!M:M)","v":641777088.98000002},118927566.06999993,{"$f":"SUMIF('00 PDC SP'!A:A,'Tab 16-17'!B30,'00 PDC SP'!N:N)","v":0}]
["ABA400CR","ABA400FE","ABA400","  Crediti v/Regione o P.A. per mobilità attiva intraregionale",null,{"$f":"SUMIF('00 PDC SP'!A:A,'Tab 16-17'!A31,'00 PDC SP'!K:K)+SUMIF('00 PDC SP'!A:A,'Tab 16-17'!B31,'00 PDC SP'!K:K)","v":16936850.379999999},{"$f":"SUMIF('00 PDC SP'!A:A,'Tab 16-17'!A31,'00 PDC SP'!L:L)+SUMIF('00 PDC SP'!A:A,'Tab 16-17'!B31,'00 PDC SP'!L:L)","v":98488215.590000004},{"$f":"SUMIF('00 PDC SP'!A:A,'Tab 16-17'!A31,'00 PDC SP'!M:M)+SUMIF('00 PDC SP'!A:A,'Tab 16-17'!B31,'00 PDC SP'!M:M)","v":98575322.590000004},16849743.379999995,{"$f":"SUMIF('00 PDC SP'!A:A,'Tab 16-17'!B31,'00 PDC SP'!N:N)","v":0}]
["ABA410CR","ABA410FE","ABA410","  Crediti v/Regione o P.A. per mobilità attiva extraregionale",null,{"$f":"SUMIF('00 PDC SP'!A:A,'Tab 16-17'!A32,'00 PDC SP'!K:K)+SUMIF('00 PDC SP'!A:A,'Tab 16-17'!B32,'00 PDC SP'!K:K)","v":19005500.289999999},{"$f":"SUMIF('00 PDC SP'!A:A,'Tab 16-17'!A32,'00 PDC SP'!L:L)+SUMIF('00 PDC SP'!A:A,'Tab 16-17'!B32,'00 PDC SP'!L:L)","v":17628432.399999999},{"$f":"SUMIF('00 PDC SP'!A:A,'Tab 16-17'!A32,'00 PDC SP'!M:M)+SUMIF('00 PDC SP'!A:A,'Tab 16-17'!B32,'00 PDC SP'!M:M)","v":17628432.399999999},19005500.289999999,{"$f":"SUMIF('00 PDC SP'!A:A,'Tab 16-17'!B32,'00 PDC SP'!N:N)","v":0}]
["ABA420CR","ABA420FE","ABA420","  Crediti v/Regione o P.A. per acconto quota FSR",null,{"$f":"SUMIF('00 PDC SP'!A:A,'Tab 16-17'!A33,'00 PDC SP'!K:K)+SUMIF('00 PDC SP'!A:A,'Tab 16-17'!B33,'00 PDC SP'!K:K)","v":0},{"$f":"SUMIF('00 PDC SP'!A:A,'Tab 16-17'!A33,'00 PDC SP'!L:L)+SUMIF('00 PDC SP'!A:A,'Tab 16-17'!B33,'00 PDC SP'!L:L)","v":546891755},{"$f":"SUMIF('00 PDC SP'!A:A,'Tab 16-17'!A33,'00 PDC SP'!M:M)+SUMIF('00 PDC SP'!A:A,'Tab 16-17'!B33,'00 PDC SP'!M:M)","v":546891755},0,{"$f":"SUMIF('00 PDC SP'!A:A,'Tab 16-17'!B33,'00 PDC SP'!N:N)","v":0}]
["ABA430CR","ABA430FE","ABA430"," Crediti v/Regione o P.A. per finanziamento sanitario aggiuntivo corrente LEA",null,{"$f":"SUMIF('00 PDC SP'!A:A,'Tab 16-17'!A34,'00 PDC SP'!K:K)+SUMIF('00 PDC SP'!A:A,'Tab 16-17'!B34,'00 PDC SP'!K:K)","v":11868474.890000001},{"$f":"SUMIF('00 PDC SP'!A:A,'Tab 16-17'!A34,'00 PDC SP'!L:L)+SUMIF('00 PDC SP'!A:A,'Tab 16-17'!B34,'00 PDC SP'!L:L)","v":5146816.37},{"$f":"SUMIF('00 PDC SP'!A:A,'Tab 16-17'!A34,'00 PDC SP'!M:M)+SUMIF('00 PDC SP'!A:A,'Tab 16-17'!B34,'00 PDC SP'!M:M)","v":6631200.2400000002},10384091.020000001,{"$f":"SUMIF('00 PDC SP'!A:A,'Tab 16-17'!B34,'00 PDC SP'!N:N)","v":0}]
["ABA440CR","ABA440FE","ABA440"," Crediti v/Regione o P.A. per finanziamento sanitario aggiuntivo corrente extra LEA",null,{"$f":"SUMIF('00 PDC SP'!A:A,'Tab 16-17'!A35,'00 PDC SP'!K:K)+SUMIF('00 PDC SP'!A:A,'Tab 16-17'!B35,'00 PDC SP'!K:K)","v":0},{"$f":"SUMIF('00 PDC SP'!A:A,'Tab 16-17'!A35,'00 PDC SP'!L:L)+SUMIF('00 PDC SP'!A:A,'Tab 16-17'!B35,'00 PDC SP'!L:L)","v":0},{"$f":"SUMIF('00 PDC SP'!A:A,'Tab 16-17'!A35,'00 PDC SP'!M:M)+SUMIF('00 PDC SP'!A:A,'Tab 16-17'!B35,'00 PDC SP'!M:M)","v":0},0,{"$f":"SUMIF('00 PDC SP'!A:A,'Tab 16-17'!B35,'00 PDC SP'!N:N)","v":0}]
["ABA450CR","ABA450FE","ABA450"," Crediti v/Regione o P.A. per spesa corrente - altro",null,{"$f":"SUMIF('00 PDC SP'!A:A,'Tab 16-17'!A36,'00 PDC SP'!K:K)+SUMIF('00 PDC SP'!A:A,'Tab 16-17'!B36,'00 PDC SP'!K:K)","v":0},{"$f":"SUMIF('00 PDC SP'!A:A,'Tab 16-17'!A36,'00 PDC SP'!L:L)+SUMIF('00 PDC SP'!A:A,'Tab 16-17'!B36,'00 PDC SP'!L:L)","v":0},{"$f":"SUMIF('00 PDC SP'!A:A,'Tab 16-17'!A36,'00 PDC SP'!M:M)+SUMIF('00 PDC SP'!A:A,'Tab 16-17'!B36,'00 PDC SP'!M:M)","v":0},0,{"$f":"SUMIF('00 PDC SP'!A:A,'Tab 16-17'!B36,'00 PDC SP'!N:N)","v":0}]
["ABA460CR","ABA460FE","ABA460"," CREDITI V/REGIONE O P.A. PER RICERCA:",null,{"$f":"SUMIF('00 PDC SP'!A:A,'Tab 16-17'!A37,'00 PDC SP'!K:K)+SUMIF('00 PDC SP'!A:A,'Tab 16-17'!B37,'00 PDC SP'!K:K)","v":0},{"$f":"SUMIF('00 PDC SP'!A:A,'Tab 16-17'!A37,'00 PDC SP'!L:L)+SUMIF('00 PDC SP'!A:A,'Tab 16-17'!B37,'00 PDC SP'!L:L)","v":0},{"$f":"SUMIF('00 PDC SP'!A:A,'Tab 16-17'!A37,'00 PDC SP'!M:M)+SUMIF('00 PDC SP'!A:A,'Tab 16-17'!B37,'00 PDC SP'!M:M)","v":0},{"$f":"F37+G37-H37","v":0},{"$f":"SUMIF('00 PDC SP'!A:A,'Tab 16-17'!B37,'00 PDC SP'!N:N)","v":0}]
[null,null,null," CREDITI V/REGIONE O P.A. PER VERSAMENTI A PATRIMONIO NETTO",null,{"$f":"SUM(F39:F41)","v":21640314.57},{"$f":"SUM(G39:G41)","v":14264710},{"$f":"SUM(H39:H41)","v":21602059.57},{"$f":"SUM(I39:I41)","v":14302965},{"$f":"SUM(J39:J41)","v":0}]
[{"$f":"C39&\"CR\"","v":"ABA480CR"},{"$f":"C39&\"FE\"","v":"ABA480FE"},"ABA480","  Crediti v/Regione o P.A. per finanziamenti per investimenti",null,{"$f":"SUMIF('00 PDC SP'!A:A,'Tab 16-17'!A39,'00 PDC SP'!K:K)+SUMIF('00 PDC SP'!A:A,'Tab 16-17'!B39,'00 PDC SP'!K:K)","v":38255},{"$f":"SUMIF('00 PDC SP'!A:A,'Tab 16-17'!A39,'00 PDC SP'!L:L)+SUMIF('00 PDC SP'!A:A,'Tab 16-17'!B39,'00 PDC SP'!L:L)","v":0},{"$f":"SUMIF('00 PDC SP'!A:A,'Tab 16-17'!A39,'00 PDC SP'!M:M)+SUMIF('00 PDC SP'!A:A,'Tab 16-17'!B39,'00 PDC SP'!M:M)","v":0},{"$f":"F39+G39-H39","v":38255},{"$f":"SUMIF('00 PDC SP'!A:A,'Tab 16-17'!B39,'00 PDC SP'!N:N)","v":0}]
["ABA490CR","ABA490FE","ABA490","  Crediti v/Regione o P.A. per incremento fondo dotazione",null,{"$f":"SUMIF('00 PDC SP'!A:A,'Tab 16-17'!A40,'00 PDC SP'!K:K)+SUMIF('00 PDC SP'!A:A,'Tab 16-17'!B40,'00 PDC SP'!K:K)","v":0},{"$f":"SUMIF('00 PDC SP'!A:A,'Tab 16-17'!A40,'00 PDC SP'!L:L)+SUMIF('00 PDC SP'!A:A,'Tab 16-17'!B40,'00 PDC SP'!L:L)","v":0},{"$f":"SUMIF('00 PDC SP'!A:A,'Tab 16-17'!A40,'00 PDC SP'!M:M)+SUMIF('00 PDC SP'!A:A,'Tab 16-17'!B40,'00 PDC SP'!M:M)","v":0},0,{"$f":"SUMIF('00 PDC SP'!A:A,'Tab 16-17'!B40,'00 PDC SP'!N:N)","v":0}]
[null,null,null,"  Crediti v/Regione o P.A. per ripiano perdite:",null,{"$f":"SUM(F42:F44)","v":21602059.57},{"$f":"SUM(G42:G44)","v":14264710},{"$f":"SUM(H42:H44)","v":21602059.57},{"$f":"SUM(I42:I44)","v":14264710},{"$f":"SUM(J42:J44)","v":0}]
[{"$f":"C42&\"CR\"","v":"ABA500CR"},{"$f":"C42&\"FE\"","v":"ABA500FE"},"ABA500","  Crediti v/Regione o P.A. per ripiano perdite",null,{"$f":"SUMIF('00 PDC SP'!A:A,'Tab 16-17'!A42,'00 PDC SP'!K:K)+SUMIF('00 PDC SP'!A:A,'Tab 16-17'!B42,'00 PDC SP'!K:K)","v":21602059.57},{"$f":"SUMIF('00 PDC SP'!A:A,'Tab 16-17'!A42,'00 PDC SP'!L:L)+SUMIF('00 PDC SP'!A:A,'Tab 16-17'!B42,'00 PDC SP'!L:L)","v":14264710},{"$f":"SUMIF('00 PDC SP'!A:A,'Tab 16-17'!A42,'00 PDC SP'!M:M)+SUMIF('00 PDC SP'!A:A,'Tab 16-17'!B42,'00 PDC SP'!M:M)","v":21602059.57},{"$f":"F42+G42-H42","v":14264710},{"$f":"SUMIF('00 PDC SP'!A:A,'Tab 16-17'!B42,'00 PDC SP'!N:N)","v":0}]
["ABA510CR","ABA510FE","ABA510","  Crediti v/Regione per copertura debiti al 31/12/2005",null,{"$f":"SUMIF('00 PDC SP'!A:A,'Tab 16-17'!A43,'00 PDC SP'!K:K)+SUMIF('00 PDC SP'!A:A,'Tab 16-17'!B43,'00 PDC SP'!K:K)","v":0},{"$f":"SUMIF('00 PDC SP'!A:A,'Tab 16-17'!A43,'00 PDC SP'!L:L)+SUMIF('00 PDC SP'!A:A,'Tab 16-17'!B43,'00 PDC SP'!L:L)","v":0},{"$f":"SUMIF('00 PDC SP'!A:A,'Tab 16-17'!A43,'00 PDC SP'!M:M)+SUMIF('00 PDC SP'!A:A,'Tab 16-17'!B43,'00 PDC SP'!M:M)","v":0},0,{"$f":"SUMIF('00 PDC SP'!A:A,'Tab 16-17'!B43,'00 PDC SP'!N:N)","v":0}]
["ABA520CR","ABA520FE","ABA520","Crediti v/Regione o P.A. per ricostituzione risorse da investimenti esercizi precedenti",null,{"$f":"SUMIF('00 PDC SP'!A:A,'Tab 16-17'!A44,'00 PDC SP'!K:K)+SUMIF('00 PDC SP'!A:A,'Tab 16-17'!B44,'00 PDC SP'!K:K)","v":0},{"$f":"SUMIF('00 PDC SP'!A:A,'Tab 16-17'!A44,'00 PDC SP'!L:L)+SUMIF('00 PDC SP'!A:A,'Tab 16-17'!B44,'00 PDC SP'!L:L)","v":0},{"$f":"SUMIF('00 PDC SP'!A:A,'Tab 16-17'!A44,'00 PDC SP'!M:M)+SUMIF('00 PDC SP'!A:A,'Tab 16-17'!B44,'00 PDC SP'!M:M)","v":0},0,{"$f":"SUMIF('00 PDC SP'!A:A,'Tab 16-17'!B44,'00 PDC SP'!N:N)","v":0}]
[null,null,null,"TOTALE CREDITI V/REGIONE O PROVINCIA AUTONOMA",null,{"$f":"F26+F37+F38","v":218921538.27999997},{"$f":"G26+G37+G38","v":1293654186.2599998},{"$f":"H26+H37+H38","v":1333105858.78},{"$f":"I26+I37+I38","v":179469865.75999993},{"$f":"J26+J37+J38","v":0}]
[]
[null,null,null,"Tab. 17 – Movimentazioni dei crediti (valore nominale) – II parte"]
[null,null,"CODICE MOD. SP","CREDITI\n(VALORE NOMINALE)",null,"MOVIMENTI DELL'ESERCIZIO"]
[null,null,null,null,null,"Valore\niniziale","Incrementi","Decrementi","Valore finale","di cui per fatture da emettere"]
[{"$f":"C50&\"CR\"","v":"ABA530CR"},{"$f":"C50&\"FE\"","v":"ABA530FE"},"ABA530"," CREDITI V/COMUNI",null,{"$f":"SUMIF('00 PDC SP'!A:A,'Tab 16-17'!A50,'00 PDC SP'!K:K)+SUMIF('00 PDC SP'!A:A,'Tab 16-17'!B50,'00 PDC SP'!K:K)","v":88306.98000000001},{"$f":"SUMIF('00 PDC SP'!A:A,'Tab 16-17'!A50,'00 PDC SP'!L:L)+SUMIF('00 PDC SP'!A:A,'Tab 16-17'!B50,'00 PDC SP'!L:L)","v":172187.78},{"$f":"SUMIF('00 PDC SP'!A:A,'Tab 16-17'!A50,'00 PDC SP'!M:M)+SUMIF('00 PDC SP'!A:A,'Tab 16-17'!B50,'00 PDC SP'!M:M)","v":40166.410000000003},{"$f":"F50+G50-H50","v":220328.35},{"$f":"SUMIF('00 PDC SP'!A:A,'Tab 16-17'!B50,'00 PDC SP'!N:N)","v":56969.77}]
[null,null,null,"  ……"]
[]
[null,null,null," CREDITI V/AZIENDE SANITARIE PUBBLICHE DELLA REGIONE",null,{"$f":"SUM(F54:F56)","v":4989794.92},{"$f":"SUM(G54:G56)","v":4860674.1400000006},{"$f":"SUM(H54:H56)","v":5260150.0299999993},{"$f":"SUM(I54:I56)","v":4590319.0300000012},{"$f":"SUM(J54:J56)","v":14986.29}]
[{"$f":"C54&\"CR\"","v":"ABA560CR"},{"$f":"C54&\"FE\"","v":"ABA560FE"},"ABA560"," Crediti v/Aziende sanitarie pubbliche della Regione - mobilità in compensazione",null,{"$f":"SUMIF('00 PDC SP'!A:A,'Tab 16-17'!A54,'00 PDC SP'!K:K)+SUMIF('00 PDC SP'!A:A,'Tab 16-17'!B54,'00 PDC SP'!K:K)","v":0},{"$f":"SUMIF('00 PDC SP'!A:A,'Tab 16-17'!A54,'00 PDC SP'!L:L)+SUMIF('00 PDC SP'!A:A,'Tab 16-17'!B54,'00 PDC SP'!L:L)","v":0},{"$f":"SUMIF('00 PDC SP'!A:A,'Tab 16-17'!A54,'00 PDC SP'!M:M)+SUMIF('00 PDC SP'!A:A,'Tab 16-17'!B54,'00 PDC SP'!M:M)","v":0},{"$f":"F54+G54-H54","v":0},{"$f":"SUMIF('00 PDC SP'!A:A,'Tab 16-17'!B54,'00 PDC SP'!N:N)","v":0}]
["ABA570CR","ABA570FE","ABA570"," Crediti v/Aziende sanitarie pubbliche della Regione - mobilità non in compensazione",null,{"$f":"SUMIF('00 PDC SP'!A:A,'Tab 16-17'!A55,'00 PDC SP'!K:K)+SUMIF('00 PDC SP'!A:A,'Tab 16-17'!B55,'00 PDC SP'!K:K)","v":0},{"$f":"SUMIF('00 PDC SP'!A:A,'Tab 16-17'!A55,'00 PDC SP'!L:L)+SUMIF('00 PDC SP'!A:A,'Tab 16-17'!B55,'00 PDC SP'!L:L)","v":0},{"$f":"SUMIF('00 PDC SP'!A:A,'Tab 16-17'!A55,'00 PDC SP'!M:M)+SUMIF('00 PDC SP'!A:A,'Tab 16-17'!B55,'00 PDC SP'!M:M)","v":0},0,{"$f":"SUMIF('00 PDC SP'!A:A,'Tab 16-17'!B55,'00 PDC SP'!N:N)","v":0}]
["ABA580CR","ABA580FE","ABA580"," Crediti v/Aziende sanitarie pubbliche della Regione - altre\n prestazioni",null,{"$f":"SUMIF('00 PDC SP'!A:A,'Tab 16-17'!A56,'00 PDC SP'!K:K)+SUMIF('00 PDC SP'!A:A,'Tab 16-17'!B56,'00 PDC SP'!K:K)","v":4989794.92},{"$f":"SUMIF('00 PDC SP'!A:A,'Tab 16-17'!A56,'00 PDC SP'!L:L)+SUMIF('00 PDC SP'!A:A,'Tab 16-17'!B56,'00 PDC SP'!L:L)","v":4860674.1400000006},{"$f":"SUMIF('00 PDC SP'!A:A,'Tab 16-17'!A56,'00 PDC SP'!M:M)+SUMIF('00 PDC SP'!A:A,'Tab 16-17'!B56,'00 PDC SP'!M:M)","v":5260150.0299999993},4590319.0300000012,{"$f":"SUMIF('00 PDC SP'!A:A,'Tab 16-17'!B56,'00 PDC SP'!N:N)","v":14986.29}]
["ABA590CR","ABA590FE","ABA590"," Acconto quota FSR da distribuire",null,{"$f":"SUMIF('00 PDC SP'!A:A,'Tab 16-17'!A57,'00 PDC SP'!K:K)+SUMIF('00 PDC SP'!A:A,'Tab 16-17'!B57,'00 PDC SP'!K:K)","v":0},{"$f":"SUMIF('00 PDC SP'!A:A,'Tab 16-17'!A57,'00 PDC SP'!L:L)+SUMIF('00 PDC SP'!A:A,'Tab 16-17'!B57,'00 PDC SP'!L:L)","v":0},{"$f":"SUMIF('00 PDC SP'!A:A,'Tab 16-17'!A57,'00 PDC SP'!M:M)+SUMIF('00 PDC SP'!A:A,'Tab 16-17'!B57,'00 PDC SP'!M:M)","v":0},{"$f":"F57+G57-H57","v":0},{"$f":"SUMIF('00 PDC SP'!A:A,'Tab 16-17'!B57,'00 PDC SP'!N:N)","v":0}]
["ABA600CR","ABA600FE","ABA600"," CREDITI V/AZIENDE SANITARIE PUBBLICHE FUORI REGIONE",null,{"$f":"SUMIF('00 PDC SP'!A:A,'Tab 16-17'!A58,'00 PDC SP'!K:K)+SUMIF('00 PDC SP'!A:A,'Tab 16-17'!B58,'00 PDC SP'!K:K)","v":201131.82},{"$f":"SUMIF('00 PDC SP'!A:A,'Tab 16-17'!A58,'00 PDC SP'!L:L)+SUMIF('00 PDC SP'!A:A,'Tab 16-17'!B58,'00 PDC SP'!L:L)","v":247247.5},{"$f":"SUMIF('00 PDC SP'!A:A,'Tab 16-17'!A58,'00 PDC SP'!M:M)+SUMIF('00 PDC SP'!A:A,'Tab 16-17'!B58,'00 PDC SP'!M:M)","v":234143.78},214235.54,{"$f":"SUMIF('00 PDC SP'!A:A,'Tab 16-17'!B58,'00 PDC SP'!N:N)","v":85649.51999999999}]
[null,null,null,"TOTALE CREDITI V/AZIENDE SANITARIE PUBBLICHE",null,{"$f":"F53+F57+F58","v":5190926.74},{"$f":"G53+G57+G58","v":5107921.6400000006},{"$f":"H53+H57+H58","v":5494293.8099999996},{"$f":"I53+I57+I58","v":4804554.5700000012},{"$f":"J53+J57+J58","v":100635.81}]
[]
[null,null,null," CREDITI V/SOCIETA' PARTECIPATE E/O ENTI DIPENDENTI",null,{"$f":"F62+F64+F65","v":5931.31},{"$f":"G62+G64+G65","v":0},{"$f":"H62+H64+H65","v":0},{"$f":"I62+I64+I65","v":5931.31},{"$f":"J62+J64+J65","v":0}]
[{"$f":"C62&\"CR\"","v":"ABA620CR"},{"$f":"C62&\"FE\"","v":"ABA620FE"},"ABA620"," Crediti v/enti regionali:",null,{"$f":"SUMIF('00 PDC SP'!A:A,'Tab 16-17'!A62,'00 PDC SP'!K:K)+SUMIF('00 PDC SP'!A:A,'Tab 16-17'!B62,'00 PDC SP'!K:K)","v":5931.31},{"$f":"SUMIF('00 PDC SP'!A:A,'Tab 16-17'!A62,'00 PDC SP'!L:L)+SUMIF('00 PDC SP'!A:A,'Tab 16-17'!B62,'00 PDC SP'!L:L)","v":0},{"$f":"SUMIF('00 PDC SP'!A:A,'Tab 16-17'!A62,'00 PDC SP'!M:M)+SUMIF('00 PDC SP'!A:A,'Tab 16-17'!B62,'00 PDC SP'!M:M)","v":0},{"$f":"F62+G62-H62","v":5931.31},{"$f":"SUMIF('00 PDC SP'!A:A,'Tab 16-17'!B62,'00 PDC SP'!N:N)","v":0}]
[null,null,null,"Arta",null,5931,0,0,5931]
[{"$f":"C64&\"CR\"","v":"ABA630CR"},{"$f":"C64&\"FE\"","v":"ABA630FE"},"ABA630"," Crediti v/sperimentazioni gestionali:",null,{"$f":"SUMIF('00 PDC SP'!A:A,'Tab 16-17'!A64,'00 PDC SP'!K:K)+SUMIF('00 PDC SP'!A:A,'Tab 16-17'!B64,'00 PDC SP'!K:K)","v":0},{"$f":"SUMIF('00 PDC SP'!A:A,'Tab 16-17'!A64,'00 PDC SP'!L:L)+SUMIF('00 PDC SP'!A:A,'Tab 16-17'!B64,'00 PDC SP'!L:L)","v":0},{"$f":"SUMIF('00 PDC SP'!A:A,'Tab 16-17'!A64,'00 PDC SP'!M:M)+SUMIF('00 PDC SP'!A:A,'Tab 16-17'!B64,'00 PDC SP'!M:M)","v":0},{"$f":"F64+G64-H64","v":0},{"$f":"SUMIF('00 PDC SP'!A:A,'Tab 16-17'!B64,'00 PDC SP'!N:N)","v":0}]
["ABA640CR","ABA640FE","ABA640"," Crediti v/altre partecipate:",null,{"$f":"SUMIF('00 PDC SP'!A:A,'Tab 16-17'!A65,'00 PDC SP'!K:K)+SUMIF('00 PDC SP'!A:A,'Tab 16-17'!B65,'00 PDC SP'!K:K)","v":0},{"$f":"SUMIF('00 PDC SP'!A:A,'Tab 16-17'!A65,'00 PDC SP'!L:L)+SUMIF('00 PDC SP'!A:A,'Tab 16-17'!B65,'00 PDC SP'!L:L)","v":0},{"$f":"SUMIF('00 PDC SP'!A:A,'Tab 16-17'!A65,'00 PDC SP'!M:M)+SUMIF('00 PDC SP'!A:A,'Tab 16-17'!B65,'00 PDC SP'!M:M)","v":0},0,{"$f":"SUMIF('00 PDC SP'!A:A,'Tab 16-17'!B65,'00 PDC SP'!N:N)","v":0}]
[]
[{"$f":"C67&\"CR\"","v":"ABA650CR"},{"$f":"C67&\"FE\"","v":"ABA650FE"},"ABA650"," CREDITI V/ERARIO",null,{"$f":"SUMIF('00 PDC SP'!A:A,'Tab 16-17'!A67,'00 PDC SP'!K:K)+SUMIF('00 PDC SP'!A:A,'Tab 16-17'!B67,'00 PDC SP'!K:K)","v":12007.160000000002},{"$f":"SUMIF('00 PDC SP'!A:A,'Tab 16-17'!A67,'00 PDC SP'!L:L)+SUMIF('00 PDC SP'!A:A,'Tab 16-17'!B67,'00 PDC SP'!L:L)","v":496878.45},{"$f":"SUMIF('00 PDC SP'!A:A,'Tab 16-17'!A67,'00 PDC SP'!M:M)+SUMIF('00 PDC SP'!A:A,'Tab 16-17'!B67,'00 PDC SP'!M:M)","v":500676.57},{"$f":"F67+G67-H67","v":8209.039999999979},{"$f":"SUMIF('00 PDC SP'!A:A,'Tab 16-17'!B67,'00 PDC SP'!N:N)","v":0}]
[null,null,null,"  ……"]
[]
[null,null,null," CREDITI V/ALTRI",null,{"$f":"F71+F72+F73+F78+F80","v":6319610.1200000001},{"$f":"G71+G72+G73+G78+G80","v":18195683.129999999},{"$f":"H71+H72+H73+H78+H80","v":18037765.050000001},{"$f":"I71+I72+I73+I78+I80","v":6477528.2000000002},{"$f":"J71+J72+J73+J78+J80","v":190154.70000000004}]
[{"$f":"C71&\"CR\"","v":"ABA670CR"},{"$f":"C71&\"FE\"","v":"ABA670FE"},"ABA670"," Crediti v/clienti privati",null,{"$f":"SUMIF('00 PDC SP'!A:A,'Tab 16-17'!A71,'00 PDC SP'!K:K)+SUMIF('00 PDC SP'!A:A,'Tab 16-17'!B71,'00 PDC SP'!K:K)","v":5061266.3900000006},{"$f":"SUMIF('00 PDC SP'!A:A,'Tab 16-17'!A71,'00 PDC SP'!L:L)+SUMIF('00 PDC SP'!A:A,'Tab 16-17'!B71,'00 PDC SP'!L:L)","v":15852276.68},{"$f":"SUMIF('00 PDC SP'!A:A,'Tab 16-17'!A71,'00 PDC SP'!M:M)+SUMIF('00 PDC SP'!A:A,'Tab 16-17'!B71,'00 PDC SP'!M:M)","v":16016405.82},{"$f":"F71+G71-H71","v":4897137.25},{"$f":"SUMIF('00 PDC SP'!A:A,'Tab 16-17'!B71,'00 PDC SP'!N:N)","v":189569.26000000004}]
["ABA680CR","ABA680FE","ABA680"," Crediti v/gestioni liquidatorie",null,{"$f":"SUMIF('00 PDC SP'!A:A,'Tab 16-17'!A72,'00 PDC SP'!K:K)+SUMIF('00 PDC SP'!A:A,'Tab 16-17'!B72,'00 PDC SP'!K:K)","v":0},{"$f":"SUMIF('00 PDC SP'!A:A,'Tab 16-17'!A72,'00 PDC SP'!L:L)+SUMIF('00 PDC SP'!A:A,'Tab 16-17'!B72,'00 PDC SP'!L:L)","v":0},{"$f":"SUMIF('00 PDC SP'!A:A,'Tab 16-17'!A72,'00 PDC SP'!M:M)+SUMIF('00 PDC SP'!A:A,'Tab 16-17'!B72,'00 PDC SP'!M:M)","v":0},{"$f":"F72+G72-H72","v":0},{"$f":"SUMIF('00 PDC SP'!A:A,'Tab 16-17'!B72,'00 PDC SP'!N:N)","v":0}]
["ABA690CR","ABA690FE","ABA690"," Crediti v/altri soggetti pubblici",null,{"$f":"SUMIF('00 PDC SP'!A:A,'Tab 16-17'!A73,'00 PDC SP'!K:K)+SUMIF('00 PDC SP'!A:A,'Tab 16-17'!B73,'00 PDC SP'!K:K)","v":377206.68000000005},{"$f":"SUMIF('00 PDC SP'!A:A,'Tab 16-17'!A73,'00 PDC SP'!L:L)+SUMIF('00 PDC SP'!A:A,'Tab 16-17'!B73,'00 PDC SP'!L:L)","v":422007.95},{"$f":"SUMIF('00 PDC SP'!A:A,'Tab 16-17'!A73,'00 PDC SP'!M:M)+SUMIF('00 PDC SP'!A:A,'Tab 16-17'!B73,'00 PDC SP'!M:M)","v":404678.64},{"$f":"F73+G73-H73","v":394535.99000000011},{"$f":"SUMIF('00 PDC SP'!A:A,'Tab 16-17'!B73,'00 PDC SP'!N:N)","v":585.44000000000005}]
[null,null,null,"Crediti v/altri soggetti pubblici",null,377131.92999999993,421422.51,404603,393951.43999999994]
[null,null,null,"Fatture da emettere v/altri soggetti pubblici",null,75.28,585,75,585]
[null,null,null,"Note credito da emettere v/altri soggetti pubblici",null,0,0,0,0]
[]
[{"$f":"C78&\"CR\"","v":"ABA700CR"},{"$f":"C78&\"FE\"","v":"ABA700FE"},"ABA700"," Crediti v/altri soggetti pubblici per ricerca",null,{"$f":"SUMIF('00 PDC SP'!A:A,'Tab 16-17'!A78,'00 PDC SP'!K:K)+SUMIF('00 PDC SP'!A:A,'Tab 16-17'!B78,'00 PDC SP'!K:K)","v":0},{"$f":"SUMIF('00 PDC SP'!A:A,'Tab 16-17'!A78,'00 PDC SP'!L:L)+SUMIF('00 PDC SP'!A:A,'Tab 16-17'!B78,'00 PDC SP'!L:L)","v":0},{"$f":"SUMIF('00 PDC SP'!A:A,'Tab 16-17'!A78,'00 PDC SP'!M:M)+SUMIF('00 PDC SP'!A:A,'Tab 16-17'!B78,'00 PDC SP'!M:M)","v":0},{"$f":"F78+G78-H78","v":0},{"$f":"SUMIF('00 PDC SP'!A:A,'Tab 16-17'!B78,'00 PDC SP'!N:N)","v":0}]
[null,null,null,"  ……"]
[{"$f":"C80&\"CR\"","v":"ABA710CR"},{"$f":"C80&\"FE\"","v":"ABA710FE"},"ABA710"," Altri crediti diversi",null,{"$f":"SUMIF('00 PDC SP'!A:A,'Tab 16-17'!A80,'00 PDC SP'!K:K)+SUMIF('00 PDC SP'!A:A,'Tab 16-17'!B80,'00 PDC SP'!K:K)","v":881137.05},{"$f":"SUMIF('00 PDC SP'!A:A,'Tab 16-17'!A80,'00 PDC SP'!L:L)+SUMIF('00 PDC SP'!A:A,'Tab 16-17'!B80,'00 PDC SP'!L:L)","v":1921398.5},{"$f":"SUMIF('00 PDC SP'!A:A,'Tab 16-17'!A80,'00 PDC SP'!M:M)+SUMIF('00 PDC SP'!A:A,'Tab 16-17'!B80,'00 PDC SP'!M:M)","v":1616680.59},{"$f":"F80+G80-H80","v":1185854.9599999997},{"$f":"SUMIF('00 PDC SP'!A:A,'Tab 16-17'!B80,'00 PDC SP'!N:N)","v":0}]
[null,null,null,"Altri crediti diversi",null,881137,1921399,1616681,1185855]
[null,null,null,"Fatture da emettere v/altri crediti diversi",null,450,0,450,0]
[]
[]
[]
[]
[]
[]
[null,null,"La voce \"Crediti verso aziende sanitarie pubbliche della Regione - altre prestazioni\" è così composta:"]
[]
[null,null,null,"Tab. 17bis – Dettaglio \"Crediti verso aziende sanitarie pubbliche della Regione - altre prestazioni\""]
[null,null,"Codice Conto","Descrizione",null,{"$f":"\"Saldo al 31/12/\"&'00 PDC SP'!$F$2","v":"Saldo al 31/12/2017"}]
[null,null,"0102021418","Crediti verso ASL  Avezzano Sulmona  L'Aquila",null,486040]
[null,null,"0102021419","Fatture da Emettere V/ASL  Avezzano Sulmona  L'Aquila",null,8144]
[null,null,"0102021420","Crediti verso ASL  Lanciano Vasto Chieti",null,233845.47]
[null,null,"0102021421","Fatture da Emettere verso ASL  Lanciano Vasto Chieti",null,1283]
[null,null,"0102021424","Crediti verso ASL  di Teramo",null,3855447]
[null,null,"0102021425","Fatture da emettere v/ASL Teramo per altre prestazioni",null,5560]
[null,null,"TOTALE",null,null,{"$f":"SUM(F93:F98)","v":4590319.47}]
[]
[]
[null,null,"Il conto \"Crediti verso ASL di Teramo\" accoglie anche le registrazioni di documenti antecedenti alla data di adozione del nuovo Piano dei Conti. Infatti, il nuovo Piano dei Conti declina i crediti verso ASL in base a ciascuna azienda debitrice, a differenza del precedente Piano dei Conti, che prevedeva un conto unico. Si è ritenuto opportuno non riclassificare i crediti artificiosamente da un conto all'altro. Ad ogni buon conto si fa presente che la ripartizione del credito dell'Azienda verso le ASL della Regione è evidenziata nella tabella 24. "]
[]
[]
[]
[]
[]
[]
[]
[]
[null,null,"La voce \"Crediti verso altri\" è così composta:"]
[]
[null,null,null,"Tab. 17-ter – Dettaglio \"Crediti verso altri\""]
[null,null,"Codice Conto","Descrizione",null,{"$f":"\"Saldo al 31/12/\"&'00 PDC SP'!$F$2","v":"Saldo al 31/12/2017"}]
[null,null,"0102022101","Crediti v/clienti privati",null,4591562.3899999997]
[null,null,"0102022102","Fatture da emettere v/clienti privati",null,190888.78]
[null,null,"0102022103","Crediti v/utenza per proventi da ticket",null,38021.18]
[null,null,"0102022109","Crediti v/dipendenti",null,77984.42]
[null,null,"0205110534","Note credito da emettere v/clienti privati",null,-1319.52]
[null,null,"0102022301","Crediti v/altri soggetti pubblici",null,393950.55]
[null,null,"0102022302","Fatture da emettere v/altri soggetti pubblici",null,585]
[null,null,"0102022501","Altri crediti diversi",null,1185854.96]
[null,null,"TOTALE",null,null,{"$f":"SUM(F115:F122)","v":6477527.7599999998}]
[]
[]
[]
[null,null,"La voce di SP \"Crediti verso altri\" presenta un dcremento poco significativo rispetto all'esercizio 2016"]

{"sheet":"DETTAGLIO VOCE ABA390 ","index":18,"n_rows":90,"n_cols":9,"rows_kept":90,"cut":false,"hidden":false,"merged":[[1,0,1,6]]}
[]
["Dettaglio  \"Crediti verso Regione per quota FSR\""]
["DESCRIZIONE","TIPOLOGIA DI CREDITO","PROVVEDIMENTI REGIONALI","DATA PROVVEDIMENTI","CREDITO","LIQUIDAZIONE","SALDO"]
["SALDO ABA390 AL 31/12/2016",null,null,null,149470398.15000001,null,{"$f":"E4-F4","v":149470398.15000001}]
["FONDO SVALUTAZIONE ABA390 AL 31/12/2016",null,null,null,-3047520.97,null,-3047520.97]
["ATTRIBUZIONE QUOTA INDISTINTA",null,null,null,535837429.24491811,null,{"$f":"+E6-F6","v":535837429.24491811},null,2017]
["ANTICIPAZIONE GENNAIO 2017","ANTICIPAZIONI 2017","DPF012/1","2017-01-09",null,45507298,{"$f":"+E7-F7","v":-45507298},null,2017]
["ANTICIPAZIONE FEBBRAIO 2017","ANTICIPAZIONI 2017","DPF012/5","2017-02-02",null,45914667,{"$f":"+E8-F8","v":-45914667},null,2017]
["ANTICIPAZIONE MARZO 2017","ANTICIPAZIONI 2017","DPF012/7","2017-02-28",null,45914667,-45914667,null,2017]
["ANTICIPAZIONE APRILE 2017","ANTICIPAZIONI 2017","DPF012/12","2017-03-23",null,45731025,-45731025,null,2017]
["ANTICIPAZIONE MAGGIO 2017","ANTICIPAZIONI 2017","DPF012/17","2017-05-04",null,44684421,-44684421,null,2017]
["ANTICIPAZIONE GIUGNO 2017","ANTICIPAZIONI 2017","DPF012/22","2017-05-29",null,45550415,-45550415,null,2017]
["ANTICIPAZIONE LUGLIO 2017","ANTICIPAZIONI 2017","DPF012/25","2017-06-28",null,45550415,-45550415,null,2017]
["ANTICIPAZIONE AGOSTO 2017","ANTICIPAZIONI 2017","DPF012/30","2017-07-20",null,45550415,-45550415,null,2017]
["ANTICIPAZIONE SETTEMBRE 2017","ANTICIPAZIONI 2017","DPF012/37","2017-09-07",null,45550415,-45550415,null,2017]
["ANTICIPAZIONE OTTOBRE 2017","ANTICIPAZIONI 2017","DPF012/39","2017-10-05",null,{"$f":"51554129-5764738","v":45789391},-45789391,null,2017]
["ANTICIPAZIONE NOVEMBRE 2017","ANTICIPAZIONI 2017","DPF012/41","2017-11-02",null,45574313,-45574313,null,2017]
["ANTICIPAZIONE DICEMBRE 2017","ANTICIPAZIONI 2017","DPF012/48","2017-12-11",null,45574313,-45574313,null,2017]
["ACCONTI MOBILITÀ ATTIVA INTRAREGIONALE DA PUBBLICO","ANTICIPAZIONI 2017",null,null,51666876.879999921,null,51666876.879999921,null,2017]
["ACCONTI MOBILITÀ PASSIVA INTRAREGIONALE DA PUBBLICO","ANTICIPAZIONI 2017",null,null,null,39161910.819999799,-39161910.819999799,null,2017]
["ACCONTI MOBILITÀ ATTIVA INTRAREGIONALE DA PRIVATO (TABELLA H AL CONSUNTIVO)","ANTICIPAZIONI 2017",null,null,45014182.710000008,null,45014182.710000008,null,2017]
["ACCONTI MOBILITÀ PASSIVA INTRAREGIONALE DA PRIVATO (TABELLA H AL CONSUNTIVO)","ANTICIPAZIONI 2017",null,null,null,12109769.109999999,-12109769.109999999,null,2017]
["CONGUAGLI MOBILITÀ ATTIVA INTRAREGIONALE DA PUBBLICO","ANTICIPAZIONI 2017",null,null,1807155.729779914,null,1807155.729779914,null,2017]
["CONGUAGLI MOBILITÀ PASSIVA INTRAREGIONALE DA PUBBLICO","ANTICIPAZIONI 2017",null,null,130530.49000004679,null,130530.49000004679,null,2017]
["CONGUAGLI MOBILITÀ ATTIVA INTRAREGIONALE DA PRIVATO","ANTICIPAZIONI 2017",null,null,87107.380000002697,null,87107.380000002697,null,2017]
["CONGUAGLI MOBILITÀ PASSIVA INTRAREGIONALE DA PRIVATO","ANTICIPAZIONI 2017",null,null,null,688.59999999962702,-688.59999999962702,null,2017]
["ACCONTI MOBILITÀ ATTIVA EXTRAREGIONALE","ANTICIPAZIONI 2017",null,null,19770369.306224804,null,19770369.306224804,null,2017]
["ACCONTI MOBILITÀ PASSIVA EXTRAREGIONALE","ANTICIPAZIONI 2017",null,null,null,29224257.240771499,-29224257.240771499,null,2017]
["CONGUAGLI MOBILITÀ ATTIVA EXTRAREGIONALE","ANTICIPAZIONI 2017",null,null,-2316702.9473654609,null,-2316702.9473654609,null,2017]
["CONGUAGLI MOBILITÀ PASSIVA EXTRAREGIONALE","ANTICIPAZIONI 2017",null,null,null,616952.45035865798,{"$f":"+E30-F30","v":-616952.45035865798},null,2017]
["CONGUAGLIO RESIDUI MOBILITÀ EXTRAREGIONALE PER RESIDUI MANICOMIALI E HANSENIANI","ANTICIPAZIONI 2017",null,null,null,null,0,null,2017]
["ACCONTI MOBILITÀ EXTRAREGIONALE PER CELLULE STAMINALI","ANTICIPAZIONI 2017",null,null,-148010.5,null,-148010.5,null,2017]
["CONGUAGLIO MOBILITÀ EXTRAREGIONALE PER CELLULE STAMINALI","ANTICIPAZIONI 2017",null,null,-54174.69,null,-54174.69,null,2017]
["ACCONTI MOBILITÀ EXTRAREGIONALE PER CELLULE STAMINALI NUOVI DONATORI","ANTICIPAZIONI 2017",null,null,-10710,null,-10710,null,2017]
["CONGUAGLI MOBILITÀ EXTRAREGIONALE PER CELLULE STAMINALI NUOVI DONATORI","ANTICIPAZIONI 2017",null,null,-1170,null,-1170,null,2017]
["ACCONTI MOBILITÀ EXTRAREGIONALE PER PLASMADERIVAZIONE","ANTICIPAZIONI 2017",null,null,22381.238311952624,null,22381.238311952624,null,2017]
["CONGUAGLI MOBILITÀ EXTRAREGIONALE PER PLASMADERIVAZIONE","ANTICIPAZIONI 2017",null,null,152384.81083632761,null,152384.81083632761,null,2017]
["ACCONTI MOBILITÀ ATTIVA EXTRAREGIONALE PER EMOCOMPONENTI","ANTICIPAZIONI 2017",null,null,-94786.493059341796,null,{"$f":"+E38-F38","v":-94786.493059341796},null,2017]
["CONGUAGLI MOBILITÀ PASSIVA EXTRAREGIONALE PER EMOCOMPONENTI","ANTICIPAZIONI 2017",null,null,-92562.493059341796,null,{"$f":"+E39-F39","v":-92562.493059341796},null,2017]
["LOTTA AL TABAGISMO","FUNZIONI REGIONALI 2017","DPF006/12 ","2017-12-19",36450.33,null,{"$f":"+E40-F40","v":36450.33},null,2017]
["SPESE RELATIVE AGLIACCORDI INTEGRATIVI DELLA MEDICINA CONVENZIONATA.","FUNZIONI REGIONALI 2017","DPF015/74 ","2017-12-13",5589.05,5589.05,{"$f":"+E41-F41","v":0},null,2017]
["L. 21.10.2005 N. 219 \"NUOVA DISCIPLINA DELLE ATTIVITA' TRASFUSIONALI E DELLA PRODUZIONE NAZIONALE DI EMODERIVATI\"","FUNZIONI REGIONALI 2017","DPF003/53 ","2017-06-14",1075184.22,{"$f":"1075184.22","v":1075184.22},0,null,2017]
["PROVVIDENZE A FAVORE DEI NEFROPATICI","FUNZIONI REGIONALI 2017","DPF009/17 ","2017-08-04",360826.65,130007.47,230819.18000000002,null,2017]
["PREVENZIONE SU BASE GENETICA PER L'ERADICAZIONE DELLA SCRAPIE","FUNZIONI REGIONALI 2017","DPF011/191 ","2017-12-11",45275.22,null,45275.22,null,2017]
["PIANO ANNUALI DI EMERGENZA VETERINARIA","FUNZIONI REGIONALI 2017","DPF011/161 ","2017-10-18",45006.96,45006.96,0,null,2017]
["BANCA DEL SANGUE PLACENTARE","FUNZIONI REGIONALI 2017","DPF003/161 ","2017-12-12",258000,null,258000,null,2017]
["RILASCIO DEI PATENTINI PER FITOFARMACI","FUNZIONI REGIONALI 2017","DPF011/167 ","2017-11-03",21157.05,21157.05,0,null,2017]
["PIANO REGIONALE DI PREVENZIONE CAMPAGNA DI VACCINAZIONE ANTINFLUENZALE","FUNZIONI REGIONALI 2017","DPF010/12 ","2017-04-24",1710556.5,{"$f":"932049.91+210000+95200","v":1237249.9100000001},473306.58999999985,null,2017]
["PIANO EMATOLOGICO REGIONALE. L.R. 5/1998","FUNZIONI REGIONALI 2017","DPF003/174 ","2017-12-20",242000,null,242000,null,2017]
["PIANO EMATOLOGICO REGIONALE. L.R. 5/1998","FUNZIONI REGIONALI 2017","DPF003/178 ","2017-12-29",286228,null,286228,null,2017]
["SERVIZIO DI ELISOCCORSO NELL’AMBITO DEL SISTEMA DI URGENZA ED EMERGENZA SANITARIA “118” DELLA REGIONE ABRUZZO","FUNZIONI REGIONALI 2017","DPF017/23 ","2017-06-13",5748203.5700000003,4548027.0999999996,1200176.4700000007,null,2017]
["SERVIZIO DI ELISOCCORSO NELL’AMBITO DEL SISTEMA DI URGENZA ED EMERGENZA SANITARIA “118” DELLA REGIONE ABRUZZO","FUNZIONI REGIONALI 2017","DPF017/46 \nrettificata con nota 326370 ","11/12/2017\n21/12/2017",1251796.4299999997,null,1251796.4299999997,null,2017]
[" CORSI DI FORMAZIONE DEFIBRILLAZIONE PRECOCE ","FUNZIONI REGIONALI 2017","DPF017/24\nDPF017/39\nDPF017/07","20/06/2017\n3/10/2017\n21/02/2018",70800,{"$f":"15500+38020","v":53520},17280,null,2017]
["Economie 2017 relative alle funzioni regionali","FUNZIONI REGIONALI 2017","DPF012/54","2017-12-29",771383.39,null,771383.39,null,2017]
["PROGETTI OBIETTIVO ANNO 2017","SOMME VINCOLATE 2017","DGR/92"," 20/02/2018 ",5438713.4000000004,null,{"$f":"+E55-F55","v":5438713.4000000004},null,2017]
["PROGETTI OBIETTIVO ANNO 2017","SOMME VINCOLATE 2017","DPF010/27 \n","21/12/2017\n 07/03/2018 ",1579414.15,null,{"$f":"+E56-F56","v":1579414.15},null,2017]
["RIMBORSO ACQUISTO FARMACI INNOVATIVI","SOMME VINCOLATE 2017","DPF003/180","2017-12-29",3846893.9966366244,null,{"$f":"+E57-F57","v":3846893.9966366244},null,2017]
["RIMBORSO ACQUISTO FARMACI INNOVATIVI ONCOLOGICI","SOMME VINCOLATE 2017","DPF003/179","2017-12-29",3950444.0422192458,null,3950444.0422192458,null,2017]
["QUOTA RESIDUA FSR 2014","QUOTE RESIDUE ANNI PRECEDENTI","DPF012/42\nDPF012/3","03/11/2017\n31/01/2017",null,{"$f":"12788747.82+9659038.18","v":22447786},-22447786,null,2014]
["QUOTA RESIDUA FSR 2015","QUOTE RESIDUE ANNI PRECEDENTI","DPF012/45\nDPF012/3","07/11/2017\n31/01/2017",null,{"$f":"28967844.74+5024923.83","v":33992768.57},-33992768.57,null,2015]
["QUOTA RESIDUA FSR 2016","QUOTE RESIDUE ANNI PRECEDENTI"," DPF012/39 ","2017-10-05",null,5764738,-5764738,null,2016]
["ASSEGNAZIONE QUOTA GAP 2015","QUOTE RESIDUE ANNI PRECEDENTI","DPF012/3","2017-01-31",220805,220805,0,null,2017]
["ASSEGNAZIONE SOMME CENTRALI OPERATIVE 118 ASL FABBISOGNO 2015","FUNZIONI REGIONALI 2015","DPF017/21","2016-06-03",null,4734.53,-4734.53,null,2015]
["DECRETO DEL COMMISSARIO AD ACTA 56/2015 - PIANO REGIONALE DI PREVENZIONE. TRASFERIMENTO SOMME","FUNZIONI REGIONALI 2015","DPF010/5","2017-03-24",null,1203258,-1203258,null,2015]
["SERVIZIO ELISOCCORSO EMERGENZA 118","FUNZIONI REGIONALI 2016","DPF017/23","2016-06-24",null,3793377,-3793377,null,2016]
["Assegnazione alle AASSLL del territorio delle somme destinate alla campagna vaccinale antinfluenzale 2016-1017.","FUNZIONI REGIONALI 2016","DPF010/15","2016-11-09",null,97674.62,-97674.62,null,2016]
["POTENZIAMENTO CENTRO DI EMATOLOGIA","FUNZIONI REGIONALI 2016","DPF003/131","2016-11-25",null,528228,-528228,null,2016]
["Somme relative alle economie delle funzioni regionali F.S.R. anno 2016.","FUNZIONI REGIONALI 2016","DPF012/46","2016-12-23",null,599317.52,-599317.52,null,2016]
["Somme relative alle economie delle funzioni regionali F.S.R. anno 2016.","FUNZIONI REGIONALI 2016","DPF012/46","2016-12-23",null,226788.3,-226788.3,null,2016]
["Attuazione Piano Regionale di prevenzione .","FUNZIONI REGIONALI 2016","DPF010/6","2017-03-27",null,728163.99,-728163.99,null,2016]
["ATTUAZIONE PIANO REGIONALE DI PREVENZIONE","FUNZIONI REGIONALI 2016","DPF011/85","2017-06-06",null,105000,-105000,null,2016]
["SERVIZIO DI ELISOCCORSO EMERGENZA SANITARIA","FUNZIONI REGIONALI 2016","DPF017/30","2016-11-21",null,1153943.1000000001,-1153943.1000000001,null,2016]
["SERVIZIO DI ELISOCCORSO EMERGENZA SANITARIA","FUNZIONI REGIONALI 2016","DPF017/30","2016-11-21",null,252679.9,-252679.9,null,2016]
["Programma regionale di defibrillazione precoce - Corsi di formazione-","FUNZIONI REGIONALI 2016","DPF017/21","2016-06-03",null,10765.47,{"$f":"+E74-F74","v":-10765.47},null,2016]
["DEFIBRILLAZIONE PRECOCE - COMPETENZE ISTRUTTORI 2° SEMESTRE 2016","FUNZIONI REGIONALI 2016","DPF017/18","2017-05-26",11028,11028,{"$f":"+E75-F75","v":0},null,2017]
["DEFIBRILLAZIONE PRECOCE - COMPETENZE ISTRUTTORI  2016","FUNZIONI REGIONALI 2016","DPF017/24","2017-06-20",2689,2689,0,null,2017]
["DEFIBRILLAZIONE PRECOCE - COMPETENZE ISTRUTTORI 1° SEMESTRE 2016","FUNZIONI REGIONALI 2016","DPF017/32","2016-11-30",null,52366.53,{"$f":"+E77-F77","v":-52366.53},null,2016]
["SOMME ASSEGNATE ALLE ASL A FAVORE DEI NEFROPATICI E SERVIZI DI DIALISI","FUNZIONI REGIONALI 2016","DPF009/16\nDPF009/19","04/08/2017\n17/10/2017",null,{"$f":"194075.25+33728.71","v":227803.96},-227803.96,null,2016]
["SPESA SANITARIA DETENUTI  E MINORENNI","FSN VINCOLATO 2015","DPF015/74","2016-12-16",null,518496.01,-518496.01,null,2016]
["ATTIVITA' CONNESSE TRATTAMENTO MALATI DI AIDS","FSN VINCOLATO 2011","DPF010/18","2016-12-21",null,211495.52,-211495.52,null,2016]
["ATTIVITA' SANITARIA PENITENZIARIA ACCONTO 80% 2016","FSN VINCOLATO 2016","DPF015/36","2017-08-02",609546.18000000005,609546.18000000005,0,null,2017]
["EROGAZIONE 80% INTRVENTI MEDICINA PENITENZIARIA","FSN VINCOLATO 2015","DPF015/39","2017-08-31",37833.599999999999,37833.599999999999,0,null,2017]
["D.LGS. 286/1998- IMPEGNO QUOTA FSN  ANNO 2014 PER EXTRACOMUNITARI IRREGOLARI","FSN VINCOLATO 2014","DPF015/49","2014-10-04",97702.88,97702.88,0,null,2017]
["SALDO CONTRIBUTO PREVENZIONE E ASSIST. DETENUTI INTERNATI TOSSICODIPENDENTI","FSN VINCOLATO 2015","DPF015/50","2017-10-05",9458.4,9458.4,0,null,2017]
["QUOTE FSN 2015 VINCOLATE PER EXTRACOMUNITARI","FSN VINCOLATO 2015","DPF015/51","2017-10-18",93020.01,93020.01,{"$f":"+E85-F85","v":0},null,2017]
["ASSISTENZA DETENUTI E TOSSICODIPENDENTI SAL 2016","FSN VINCOLATO 2016","DPF015/52","2017-10-18",9458.4,9458.4,0,null,2017]
["EROGAZIONE 80% RISORSE 2016 MEDICINA PENITENZIARIA","FSN VINCOLATO 2016","DPF015/46","2017-09-21",37833.599999999999,37833.599999999999,0,null,2017]
["FSN 2016 - ACCANTONAMENTI PEREXTRACOMUNITARI","FSN VINCOLATO 2016","DPF015/65","2017-11-13",90045.97,90045.97,0,null,2017]
["FARMACI INNOVATIVI 2016","FSN VINCOLATO 2016","DPF003/103","2017-09-26",null,2016594.68,-2016594.68,null,2016]
["SALDO ABA390 AL 31/12/2017",null,null,null,null,null,{"$f":"SUM(G4:G89)","v":115880046.12431294}]

{"sheet":"DETTAGLIO VOCE ABA430 ","index":19,"n_rows":30,"n_cols":7,"rows_kept":30,"cut":false,"hidden":false,"merged":[[1,0,1,6]]}
[]
["Dettaglio  \"Crediti verso Regione per finanziamento sanitario aggiuntivo corrente LEA\""]
["DESCRIZIONE","TIPOLOGIA DI CREDITO","PROVVEDIMENTI REGIONALI","DATA PROVV","CREDITO","LIQUIDAZIONE","SALDO"]
["SALDO ABA430 AL 31/12/2016",null,null,null,11868474.890000001,null,{"$f":"+E4-F4","v":11868474.890000001}]
["FORMAZIONE OPERATORI CONSULTORI FAMILIARI  2017","SOMME VINCOLATE EXTRAFONDO","DPF015/33","2017-07-21",7500,7500,0]
["CONSULTORI FAMILIARI ANNO 2017","SOMME VINCOLATE EXTRAFONDO","DPF015/33","2017-07-21",84952.46,84952.46,0]
["BANCA DATI ED ANAGRAFE DEL BESTIAME ","SOMME VINCOLATE EXTRAFONDO","DPF011/172","2017-11-14",1430.36,1430.36,0]
["FORMAZIONE OPERATORI DIP. PREVENZIONE SERVIZI VETERINARI","SOMME VINCOLATE EXTRAFONDO","DPF011/162","2017-10-20",29221.279999999999,29221.279999999999,0]
["RIMBORSO ACQUISTO FARMACI INNOVATIVI  2015","PAYBACK","DPF003/62","2017-05-26",null,188060.45,-188060.45]
["PAYBACK 5%  1 E 2 RATA 2015 ","PAYBACK","DPF003/115","2016-11-15",null,811015.28,-811015.28]
["PAYBACK  I SEMESTRE 2015 1,83% ","PAYBACK","DPF003/114","2016-11-15",null,702152.38,-702152.38]
["PAYBACK 2015  DET. AIFA 1525/2015","PAYBACK","DPF003/117","2016-11-15",null,160935.97,-160935.97]
["PAYBACK 2015  RIPIANO SFONDAMENTO TETTO SPESA SPECIALITA' MEDICINALI","PAYBACK","DPF003/116","2016-11-15",null,9182.43,-9182.43]
["PAYBACK 2 SEM. 2015 SCONTO 1,83%","PAYBACK","DPF003/142","2016-12-21",null,581085.76,-581085.76]
["PAYBACK 5%  3^  RATA 2015 ","PAYBACK","DPF003/145","2016-12-22",null,444691.62,-444691.62]
["PAYBACK I SEMESTRE 2016 1,83% TERRITORIALE","PAYBACK","DPF003/148","2016-12-30",null,632954.25,-632954.25]
["PAYBACK DET. AIFA 1525/2015","PAYBACK","DPF003/133","2016-11-28",null,435459.15,-435459.15]
["PAYBACK SPECIALITA' MEDICINALI VARIE","PAYBACK","DPF003/129","2016-11-24",null,363478.74,-363478.74]
["PAYBACK  2014 RIPIANO SFONDAMENTO TETTO NEGOZIALE","PAYBACK","DPF003/63","2015-12-16",null,63.33,-63.33]
["PAYBACK 5%   2016 ","PAYBACK","DPF003/110","2017-10-04",1069495.72,1069495.72,0]
["PAYBACK 5%   2017","PAYBACK","DPF003/12","2018-02-08",836659.62,null,836659.62]
["PAYBACK  RIPIANO SFONDAMENTO TETTO SPESA SPECIALITA' MEDICINALI VARIE ","PAYBACK","DPF003/111","2017-10-04",1109521.06,1109521.06,0]
["PAYBACK  1 SEMESTRE 2016 1,83%","PAYBACK","DPF003/158","2017-12-07",3902.66,null,3902.66]
["PAYBACK  2 SEMESTRE  2016  1,83%","PAYBACK","DPF003/157","2017-12-07",523381.49,null,523381.49]
["PAYBACK 1 SEMESTRE  2017 1,83%","PAYBACK","DPF003/13","2018-02-08",620591.31999999995,null,620591.31999999995]
["PAYBACK 2015-2016-2017  DET. AIFA 1525/2015","PAYBACK","DPF003/154","2017-12-07",470558.25,null,470558.25]
["PAYBACK SPECIALITA' MEDICINALI VARIE","PAYBACK","DPF003/155","2017-12-07",67037.820000000007,null,67037.820000000007]
["PAYBACK SPECIALITA' MEDICINALI VARIE","PAYBACK","DPF003/159","2017-12-07",7523.1,null,7523.1]
["PAYBACK SPECIALITA' MEDICINALI VARIE","PAYBACK","DPF003/21","2018-02-19",315041.23,null,315041.23]
["SALDO ABA430 AL 31/12/2017",null,null,null,null,null,{"$f":"SUM(G4:G29)","v":10384091.020000001}]

{"sheet":"Dettaglio ABA480 ","index":20,"n_rows":4,"n_cols":2,"rows_kept":4,"cut":false,"hidden":false,"merged":[[0,0,0,1]]}
["ABA480 \"Crediti v/Regione o Provincia Autonoma per finanziamenti per investimenti\""]
[null,"IMPORTO"]
["SALDO ABA480 al 31/12/2016",38255]
["SALDO ABA480 al 31/12/2017",38255]

{"sheet":"Dettaglio ABA500 ","index":21,"n_rows":6,"n_cols":9,"rows_kept":6,"cut":false,"hidden":false,"merged":[[0,0,0,8]]}
["Dettaglio  \"Crediti v/Regione per ripiano perdite\""]
["TIPOLOGIA DI CREDITO","PROVVEDIMENTI REGIONALI","DATA ","NUM. MANDATO","DATA MANDATO","CAPITOLO","CREDITO","LIQUIDAZIONE","SALDO"]
["SALDO ABA500 AL 31/12/2016",null,null,null,null,null,null,null,21602059.57]
["Liquidazione saldo risorse a titolo di copertura perdita d'esercizio 2015 assegnate con DGR n. 777 del 28/11/2016 ","DPF012/43","2016-12-05",null,null,null,null,21602059.57,{"$f":"+G4-H4","v":-21602059.57}]
["Assegnazione risorse finanziarie a titolo di copertura perdita di esercizio 2016","DPF012/14","2018-04-13",null,null,null,14264710,null,{"$f":"+G5-H5","v":14264710}]
["SALDO ABA500 al 31/12/2017",null,null,null,null,null,null,null,{"$f":"SUM(I3:I5)","v":14264710}]

{"sheet":"Tab 18-19","index":22,"n_rows":103,"n_cols":8,"rows_kept":103,"cut":false,"hidden":false,"merged":[[102,1,103,7],[51,4,51,6],[52,4,52,6],[53,4,53,6],[54,2,54,6],[46,2,46,7],[47,4,47,6],[48,4,48,6],[49,4,49,6],[50,4,50,6]]}
[null,null,"Tab. 18 – Movimentazioni del fondo svalutazione crediti – I parte"]
[null,"CODICE MOD. SP","FONDO SVALUTAZIONE CREDITI",null,"Fondo svalutazione iniziale","Accantonamenti","Utilizzi","Fondo svalutazione finale"]
[null,null," CREDITI V/STATO - PARTE CORRENTE",null,{"$f":"E4+E11","v":0},{"$f":"F4+F11","v":0},0,0]
[null,null," Crediti v/Stato per spesa corrente e acconti:",null,{"$f":"E5+E6+E7+E8+E9+E10","v":0},{"$f":"F5+F6+F7+F8+F9+F10","v":0},0,0]
[{"$f":"B5&\"FS\"","v":"ABA210FS"},"ABA210","  Crediti v/Stato per spesa corrente - Integrazione a norma del D.Lvo 56/2000",null,{"$f":"SUMIF('00 PDC SP'!$A:$A,'Tab 18-19'!$A5,'00 PDC SP'!K:K)","v":0},{"$f":"SUMIF('00 PDC SP'!$A:$A,'Tab 18-19'!$A5,'00 PDC SP'!L:L)","v":0},{"$f":"SUMIF('00 PDC SP'!$A:$A,'Tab 18-19'!$A5,'00 PDC SP'!M:M)","v":0},{"$f":"E5+F5-G5","v":0}]
["ABA220FS","ABA220","  Crediti v/Stato per spesa corrente - FSN",null,{"$f":"SUMIF('00 PDC SP'!$A:$A,'Tab 18-19'!$A6,'00 PDC SP'!K:K)","v":0},{"$f":"SUMIF('00 PDC SP'!$A:$A,'Tab 18-19'!$A6,'00 PDC SP'!L:L)","v":0},{"$f":"SUMIF('00 PDC SP'!$A:$A,'Tab 18-19'!$A6,'00 PDC SP'!M:M)","v":0},0]
["ABA230FS","ABA230","  Crediti v/Stato per mobilità attiva extraregionale",null,{"$f":"SUMIF('00 PDC SP'!$A:$A,'Tab 18-19'!$A7,'00 PDC SP'!K:K)","v":0},{"$f":"SUMIF('00 PDC SP'!$A:$A,'Tab 18-19'!$A7,'00 PDC SP'!L:L)","v":0},{"$f":"SUMIF('00 PDC SP'!$A:$A,'Tab 18-19'!$A7,'00 PDC SP'!M:M)","v":0},0]
["ABA240FS","ABA240","  Crediti v/Stato per mobilità attiva internazionale",null,{"$f":"SUMIF('00 PDC SP'!$A:$A,'Tab 18-19'!$A8,'00 PDC SP'!K:K)","v":0},{"$f":"SUMIF('00 PDC SP'!$A:$A,'Tab 18-19'!$A8,'00 PDC SP'!L:L)","v":0},{"$f":"SUMIF('00 PDC SP'!$A:$A,'Tab 18-19'!$A8,'00 PDC SP'!M:M)","v":0},0]
["ABA250FS","ABA250","  Crediti v/Stato per acconto quota fabbisogno sanitario regionale standard",null,{"$f":"SUMIF('00 PDC SP'!$A:$A,'Tab 18-19'!$A9,'00 PDC SP'!K:K)","v":0},{"$f":"SUMIF('00 PDC SP'!$A:$A,'Tab 18-19'!$A9,'00 PDC SP'!L:L)","v":0},{"$f":"SUMIF('00 PDC SP'!$A:$A,'Tab 18-19'!$A9,'00 PDC SP'!M:M)","v":0},0]
["ABA260FS","ABA260","  Crediti v/Stato per finanziamento sanitario aggiuntivo corrente",null,{"$f":"SUMIF('00 PDC SP'!$A:$A,'Tab 18-19'!$A10,'00 PDC SP'!K:K)","v":0},{"$f":"SUMIF('00 PDC SP'!$A:$A,'Tab 18-19'!$A10,'00 PDC SP'!L:L)","v":0},{"$f":"SUMIF('00 PDC SP'!$A:$A,'Tab 18-19'!$A10,'00 PDC SP'!M:M)","v":0},0]
[null,null," Crediti v/Stato - altro:",null,{"$f":"E12","v":0},{"$f":"F12","v":0},{"$f":"G12","v":0},{"$f":"H12","v":0}]
[{"$f":"B12&\"FS\"","v":"ABA270FS"},"ABA270","  Crediti v/Stato per spesa corrente - altro",null,{"$f":"SUMIF('00 PDC SP'!$A:$A,'Tab 18-19'!$A12,'00 PDC SP'!K:K)","v":0},{"$f":"SUMIF('00 PDC SP'!$A:$A,'Tab 18-19'!$A12,'00 PDC SP'!L:L)","v":0},{"$f":"SUMIF('00 PDC SP'!$A:$A,'Tab 18-19'!$A12,'00 PDC SP'!M:M)","v":0},{"$f":"E12+F12-G12","v":0}]
[null,null," CREDITI V/STATO - INVESTIMENTI",null,{"$f":"E14","v":0},{"$f":"F14","v":0},{"$f":"G14","v":0},{"$f":"H14","v":0}]
[{"$f":"B14&\"FS\"","v":"ABA280FS"},"ABA280"," Crediti v/Stato per finanziamenti per investimenti:",null,{"$f":"SUMIF('00 PDC SP'!$A:$A,'Tab 18-19'!$A14,'00 PDC SP'!K:K)","v":0},{"$f":"SUMIF('00 PDC SP'!$A:$A,'Tab 18-19'!$A14,'00 PDC SP'!L:L)","v":0},{"$f":"SUMIF('00 PDC SP'!$A:$A,'Tab 18-19'!$A14,'00 PDC SP'!M:M)","v":0},{"$f":"E14+F14-G14","v":0}]
[null,null,"  ……"]
[null,null," CREDITI V/STATO - RICERCA",null,{"$f":"E17+E20","v":0},{"$f":"F17+F20","v":0},{"$f":"G17+G20","v":0},{"$f":"H17+H20","v":0}]
[{"$f":"B17&\"FS\"","v":"ABA300FS"},"ABA300"," Crediti v/Stato per ricerca corrente - Ministero della Salute ",null,{"$f":"SUMIF('00 PDC SP'!$A:$A,'Tab 18-19'!$A17,'00 PDC SP'!K:K)","v":0},{"$f":"SUMIF('00 PDC SP'!$A:$A,'Tab 18-19'!$A17,'00 PDC SP'!L:L)","v":0},{"$f":"SUMIF('00 PDC SP'!$A:$A,'Tab 18-19'!$A17,'00 PDC SP'!M:M)","v":0},{"$f":"E17+F17-G17","v":0}]
[{"$f":"B18&\"FS\"","v":"ABA310FS"},"ABA310"," Crediti v/Stato per ricerca finalizzata - Ministero della Salute ",null,{"$f":"SUMIF('00 PDC SP'!$A:$A,'Tab 18-19'!$A18,'00 PDC SP'!K:K)","v":0},{"$f":"SUMIF('00 PDC SP'!$A:$A,'Tab 18-19'!$A18,'00 PDC SP'!L:L)","v":0},{"$f":"SUMIF('00 PDC SP'!$A:$A,'Tab 18-19'!$A18,'00 PDC SP'!M:M)","v":0},0]
[{"$f":"B19&\"FS\"","v":"ABA320FS"},"ABA320"," Crediti v/Stato per ricerca - altre Amministrazioni centrali ",null,{"$f":"SUMIF('00 PDC SP'!$A:$A,'Tab 18-19'!$A19,'00 PDC SP'!K:K)","v":0},{"$f":"SUMIF('00 PDC SP'!$A:$A,'Tab 18-19'!$A19,'00 PDC SP'!L:L)","v":0},{"$f":"SUMIF('00 PDC SP'!$A:$A,'Tab 18-19'!$A19,'00 PDC SP'!M:M)","v":0},0]
[{"$f":"B20&\"FS\"","v":"ABA330FS"},"ABA330"," Crediti v/Stato per ricerca - finanziamenti per investimenti",null,{"$f":"SUMIF('00 PDC SP'!$A:$A,'Tab 18-19'!$A20,'00 PDC SP'!K:K)","v":0},{"$f":"SUMIF('00 PDC SP'!$A:$A,'Tab 18-19'!$A20,'00 PDC SP'!L:L)","v":0},{"$f":"SUMIF('00 PDC SP'!$A:$A,'Tab 18-19'!$A20,'00 PDC SP'!M:M)","v":0},0]
[{"$f":"B21&\"FS\"","v":"ABA340FS"},"ABA340"," CREDITI V/PREFETTURE",null,{"$f":"SUMIF('00 PDC SP'!$A:$A,'Tab 18-19'!$A21,'00 PDC SP'!K:K)","v":0},{"$f":"SUMIF('00 PDC SP'!$A:$A,'Tab 18-19'!$A21,'00 PDC SP'!L:L)","v":0},{"$f":"SUMIF('00 PDC SP'!$A:$A,'Tab 18-19'!$A21,'00 PDC SP'!M:M)","v":0},0]
[null,null,"TOTALE CREDITI V/STATO",null,{"$f":"E21+E16+E13+E3","v":0},{"$f":"F21+F16+F13+F3","v":0},{"$f":"G21+G16+G13+G3","v":0},{"$f":"H21+H16+H13+H3","v":0}]
[]
[null,null," CREDITI V/REGIONE O P.A. PER SPESA CORRENTE",null,{"$f":"E25+E32+E33+E34","v":-3047520.97},{"$f":"F25+F32+F33+F34","v":0},{"$f":"G25+G32+G33+G34","v":0},{"$f":"H25+H32+H33+H34","v":-3047520.97}]
[null,null," Crediti v/Regione o P.A. per finanziamento sanitario ordinario corrente:",null,{"$f":"E26+E27+E28+E29+E30+E31","v":-3047520.97},{"$f":"F26+F27+F28+F29+F30+F31","v":0},{"$f":"G26+G27+G28+G29+G30+G31","v":0},{"$f":"H26+H27+H28+H29+H30+H31","v":-3047520.97}]
[{"$f":"B26&\"FS\"","v":"ABA370FS"},"ABA370","  Crediti v/Regione o P.A. per spesa corrente - IRAP",null,{"$f":"SUMIF('00 PDC SP'!$A:$A,'Tab 18-19'!$A26,'00 PDC SP'!K:K)","v":0},{"$f":"SUMIF('00 PDC SP'!$A:$A,'Tab 18-19'!$A26,'00 PDC SP'!L:L)","v":0},{"$f":"SUMIF('00 PDC SP'!$A:$A,'Tab 18-19'!$A26,'00 PDC SP'!M:M)","v":0},{"$f":"E26+F26-G26","v":0}]
["ABA380FS","ABA380","  Crediti v/Regione o P.A. per spesa corrente - Addizionale IRPEF",null,{"$f":"SUMIF('00 PDC SP'!$A:$A,'Tab 18-19'!$A27,'00 PDC SP'!K:K)","v":0},{"$f":"SUMIF('00 PDC SP'!$A:$A,'Tab 18-19'!$A27,'00 PDC SP'!L:L)","v":0},{"$f":"SUMIF('00 PDC SP'!$A:$A,'Tab 18-19'!$A27,'00 PDC SP'!M:M)","v":0},0]
["ABA390FS","ABA390","  Crediti v/Regione o P.A. per quota FSR",null,{"$f":"SUMIF('00 PDC SP'!$A:$A,'Tab 18-19'!$A28,'00 PDC SP'!K:K)","v":-3047520.97},{"$f":"SUMIF('00 PDC SP'!$A:$A,'Tab 18-19'!$A28,'00 PDC SP'!L:L)","v":0},{"$f":"SUMIF('00 PDC SP'!$A:$A,'Tab 18-19'!$A28,'00 PDC SP'!M:M)","v":0},-3047520.97]
["ABA400FS","ABA400","  Crediti v/Regione o P.A. per mobilità attiva intraregionale",null,{"$f":"SUMIF('00 PDC SP'!$A:$A,'Tab 18-19'!$A29,'00 PDC SP'!K:K)","v":0},{"$f":"SUMIF('00 PDC SP'!$A:$A,'Tab 18-19'!$A29,'00 PDC SP'!L:L)","v":0},{"$f":"SUMIF('00 PDC SP'!$A:$A,'Tab 18-19'!$A29,'00 PDC SP'!M:M)","v":0},0]
["ABA410FS","ABA410","  Crediti v/Regione o P.A. per mobilità attiva extraregionale",null,{"$f":"SUMIF('00 PDC SP'!$A:$A,'Tab 18-19'!$A30,'00 PDC SP'!K:K)","v":0},{"$f":"SUMIF('00 PDC SP'!$A:$A,'Tab 18-19'!$A30,'00 PDC SP'!L:L)","v":0},{"$f":"SUMIF('00 PDC SP'!$A:$A,'Tab 18-19'!$A30,'00 PDC SP'!M:M)","v":0},0]
["ABA420FS","ABA420","  Crediti v/Regione o P.A. per acconto quota FSR",null,{"$f":"SUMIF('00 PDC SP'!$A:$A,'Tab 18-19'!$A31,'00 PDC SP'!K:K)","v":0},{"$f":"SUMIF('00 PDC SP'!$A:$A,'Tab 18-19'!$A31,'00 PDC SP'!L:L)","v":0},{"$f":"SUMIF('00 PDC SP'!$A:$A,'Tab 18-19'!$A31,'00 PDC SP'!M:M)","v":0},0]
["ABA430FS","ABA430"," Crediti v/Regione o P.A. per finanziamento sanitario aggiuntivo corrente LEA",null,{"$f":"SUMIF('00 PDC SP'!$A:$A,'Tab 18-19'!$A32,'00 PDC SP'!K:K)","v":0},{"$f":"SUMIF('00 PDC SP'!$A:$A,'Tab 18-19'!$A32,'00 PDC SP'!L:L)","v":0},{"$f":"SUMIF('00 PDC SP'!$A:$A,'Tab 18-19'!$A32,'00 PDC SP'!M:M)","v":0},0]
["ABA440FS","ABA440"," Crediti v/Regione o P.A. per finanziamento sanitario aggiuntivo corrente extra LEA",null,{"$f":"SUMIF('00 PDC SP'!$A:$A,'Tab 18-19'!$A33,'00 PDC SP'!K:K)","v":0},{"$f":"SUMIF('00 PDC SP'!$A:$A,'Tab 18-19'!$A33,'00 PDC SP'!L:L)","v":0},{"$f":"SUMIF('00 PDC SP'!$A:$A,'Tab 18-19'!$A33,'00 PDC SP'!M:M)","v":0},0]
["ABA450FS","ABA450"," Crediti v/Regione o P.A. per spesa corrente - altro",null,{"$f":"SUMIF('00 PDC SP'!$A:$A,'Tab 18-19'!$A34,'00 PDC SP'!K:K)","v":0},{"$f":"SUMIF('00 PDC SP'!$A:$A,'Tab 18-19'!$A34,'00 PDC SP'!L:L)","v":0},{"$f":"SUMIF('00 PDC SP'!$A:$A,'Tab 18-19'!$A34,'00 PDC SP'!M:M)","v":0},0]
["ABA460FS","ABA460"," CREDITI V/REGIONE O P.A. PER RICERCA:",null,{"$f":"SUMIF('00 PDC SP'!$A:$A,'Tab 18-19'!$A35,'00 PDC SP'!K:K)","v":0},{"$f":"SUMIF('00 PDC SP'!$A:$A,'Tab 18-19'!$A35,'00 PDC SP'!L:L)","v":0},{"$f":"SUMIF('00 PDC SP'!$A:$A,'Tab 18-19'!$A35,'00 PDC SP'!M:M)","v":0},{"$f":"E35+F35-G35","v":0}]
[null,null,"  ……"]
[null,null," CREDITI V/REGIONE O P.A. PER VERSAMENTI A PATRIMONIO NETTO",null,{"$f":"E38+E39+E40","v":0},{"$f":"F38+F39+F40","v":0},0,0]
[{"$f":"B38&\"FS\"","v":"ABA480FS"},"ABA480","  Crediti v/Regione o P.A. per finanziamenti per investimenti",null,{"$f":"SUMIF('00 PDC SP'!$A:$A,'Tab 18-19'!$A38,'00 PDC SP'!K:K)","v":0},{"$f":"SUMIF('00 PDC SP'!$A:$A,'Tab 18-19'!$A38,'00 PDC SP'!L:L)","v":0},{"$f":"SUMIF('00 PDC SP'!$A:$A,'Tab 18-19'!$A38,'00 PDC SP'!M:M)","v":0},{"$f":"E38+F38-G38","v":0}]
[{"$f":"B39&\"FS\"","v":"ABA490FS"},"ABA490","  Crediti v/Regione o P.A. per incremento fondo dotazione",null,{"$f":"SUMIF('00 PDC SP'!$A:$A,'Tab 18-19'!$A39,'00 PDC SP'!K:K)","v":0},{"$f":"SUMIF('00 PDC SP'!$A:$A,'Tab 18-19'!$A39,'00 PDC SP'!L:L)","v":0},{"$f":"SUMIF('00 PDC SP'!$A:$A,'Tab 18-19'!$A39,'00 PDC SP'!M:M)","v":0},0]
[null,null,"  Crediti v/Regione o P.A. per ripiano perdite:",null,{"$f":"E41+E42+E43","v":0},{"$f":"F41+F42+F43","v":0},0,{"$f":"H41+H42+H43","v":0}]
[{"$f":"B41&\"FS\"","v":"ABA500FS"},"ABA500","  Crediti v/Regione o P.A. per ripiano perdite",null,{"$f":"SUMIF('00 PDC SP'!$A:$A,'Tab 18-19'!$A41,'00 PDC SP'!K:K)","v":0},{"$f":"SUMIF('00 PDC SP'!$A:$A,'Tab 18-19'!$A41,'00 PDC SP'!L:L)","v":0},{"$f":"SUMIF('00 PDC SP'!$A:$A,'Tab 18-19'!$A41,'00 PDC SP'!M:M)","v":0},{"$f":"E41+F41-G41","v":0}]
[{"$f":"B42&\"FS\"","v":"ABA510FS"},"ABA510","  Crediti v/Regione per copertura debiti al 31/12/2005",null,{"$f":"SUMIF('00 PDC SP'!$A:$A,'Tab 18-19'!$A42,'00 PDC SP'!K:K)","v":0},{"$f":"SUMIF('00 PDC SP'!$A:$A,'Tab 18-19'!$A42,'00 PDC SP'!L:L)","v":0},{"$f":"SUMIF('00 PDC SP'!$A:$A,'Tab 18-19'!$A42,'00 PDC SP'!M:M)","v":0},0]
[{"$f":"B43&\"FS\"","v":"ABA520FS"},"ABA520","Crediti v/Regione o P.A. per ricostituzione risorse da investimenti esercizi precedenti",null,{"$f":"SUMIF('00 PDC SP'!$A:$A,'Tab 18-19'!$A43,'00 PDC SP'!K:K)","v":0},{"$f":"SUMIF('00 PDC SP'!$A:$A,'Tab 18-19'!$A43,'00 PDC SP'!L:L)","v":0},{"$f":"SUMIF('00 PDC SP'!$A:$A,'Tab 18-19'!$A43,'00 PDC SP'!M:M)","v":0},0]
[null,null,"TOTALE CREDITI V/REGIONE O PROVINCIA AUTONOMA",null,{"$f":"E37+E35+E24","v":-3047520.97},{"$f":"F37+F35+F24","v":0},{"$f":"G37+G35+G24","v":0},{"$f":"H37+H35+H24","v":-3047520.97}]
[]
[null,null,"Tab. 18 bis – Dettaglio del Fondo svalutazione crediti verso Regione per quota FSR"]
[null,null,"FONDO SVALUTAZIONE CREDITI VERSO REGIONE"]
[null,null,"Note",null,"Descrizione",null,null,"Importo"]
[null,null,"Prot. 20954/6/2423 del 17/10/1997",null,"Interventi a favore della famiglia anno 1997",null,null,20959.34]
[null,null,"DEL G.R.A. n.640 del 31/03/1999",null,"Tutela della fauna minore",null,null,{"$f":"1910.89+2066","v":3976.8900000000003}]
[null,null,"Prot. N 1612 del 14/05/2002 Serv.Interv.Socio-Assistenziali",null,"Interventi a favore della famiglia anno 2001",null,null,5422.8]
[null,null,"Spesa Farmaci erogati per malattie rare",null,"Nota a firma del Responsabile della Farmacia ospedaliera",null,null,1145345.71]
[null,null,"Spesa Farmaci erogati per malattie rare Anni 2002-2004",null,"Nota a firma del Responsabile della Farmacia ospedaliera",null,null,1508304.98]
[null,null,"Nota R.A.n.8804/02",null,"Residuo FSR 2001 ",null,null,363511.25]
[null,null,"TOTALE",null,null,null,null,{"$f":"SUM(H49:H54)","v":3047520.9699999997}]
[]
[null,null,"Tab. 19 – Movimentazioni del fondo svalutazione crediti – II parte"]
[null,"CODICE MOD. SP","FONDO SVALUTAZIONE CREDITI",null,"Fondo svalutazione iniziale","Accantonamenti","Utilizzi","Fondo svalutazione finale"]
[{"$f":"B59&\"FS\"","v":"ABA530FS"},"ABA530"," CREDITI V/COMUNI",null,{"$f":"SUMIF('00 PDC SP'!$A:$A,'Tab 18-19'!$A59,'00 PDC SP'!K:K)","v":0},{"$f":"SUMIF('00 PDC SP'!$A:$A,'Tab 18-19'!$A59,'00 PDC SP'!L:L)","v":0},{"$f":"SUMIF('00 PDC SP'!$A:$A,'Tab 18-19'!$A59,'00 PDC SP'!M:M)","v":0},{"$f":"E59+F59-G59","v":0}]
[null,null,"  ……"]
[null,null,"  ……"]
[]
[null,null," CREDITI V/AZIENDE SANITARIE PUBBLICHE DELLA REGIONE",null,{"$f":"E64+E65+E66","v":-3259926.7},{"$f":"F64+F65+F66","v":0},{"$f":"G64+G65+G66","v":0},{"$f":"H64+H65+H66","v":-3259926.7}]
[{"$f":"B64&\"FS\"","v":"ABA560FS"},"ABA560"," Crediti v/Aziende sanitarie pubbliche della Regione - mobilità\n in compensazione",null,{"$f":"SUMIF('00 PDC SP'!$A:$A,'Tab 18-19'!$A64,'00 PDC SP'!K:K)","v":0},{"$f":"SUMIF('00 PDC SP'!$A:$A,'Tab 18-19'!$A64,'00 PDC SP'!L:L)","v":0},{"$f":"SUMIF('00 PDC SP'!$A:$A,'Tab 18-19'!$A64,'00 PDC SP'!M:M)","v":0},{"$f":"E64+F64-G64","v":0}]
[{"$f":"B65&\"FS\"","v":"ABA570FS"},"ABA570"," Crediti v/Aziende sanitarie pubbliche della Regione - mobilità\n non in compensazione",null,{"$f":"SUMIF('00 PDC SP'!$A:$A,'Tab 18-19'!$A65,'00 PDC SP'!K:K)","v":0},{"$f":"SUMIF('00 PDC SP'!$A:$A,'Tab 18-19'!$A65,'00 PDC SP'!L:L)","v":0},{"$f":"SUMIF('00 PDC SP'!$A:$A,'Tab 18-19'!$A65,'00 PDC SP'!M:M)","v":0},{"$f":"E65+F65-G65","v":0}]
[{"$f":"B66&\"FS\"","v":"ABA580FS"},"ABA580"," Crediti v/Aziende sanitarie pubbliche della Regione - altre\n prestazioni",null,{"$f":"SUMIF('00 PDC SP'!$A:$A,'Tab 18-19'!$A66,'00 PDC SP'!K:K)","v":-3259926.7},{"$f":"SUMIF('00 PDC SP'!$A:$A,'Tab 18-19'!$A66,'00 PDC SP'!L:L)","v":0},{"$f":"SUMIF('00 PDC SP'!$A:$A,'Tab 18-19'!$A66,'00 PDC SP'!M:M)","v":0},-3259926.7]
[{"$f":"B67&\"FS\"","v":"ABA590FS"},"ABA590"," Acconto quota FSR da distribuire",null,{"$f":"SUMIF('00 PDC SP'!$A:$A,'Tab 18-19'!$A67,'00 PDC SP'!K:K)","v":0},{"$f":"SUMIF('00 PDC SP'!$A:$A,'Tab 18-19'!$A67,'00 PDC SP'!L:L)","v":0},{"$f":"SUMIF('00 PDC SP'!$A:$A,'Tab 18-19'!$A67,'00 PDC SP'!M:M)","v":0},0]
[{"$f":"B68&\"FS\"","v":"ABA600FS"},"ABA600"," CREDITI V/AZIENDE SANITARIE PUBBLICHE FUORI REGIONE",null,{"$f":"SUMIF('00 PDC SP'!$A:$A,'Tab 18-19'!$A68,'00 PDC SP'!K:K)","v":0},{"$f":"SUMIF('00 PDC SP'!$A:$A,'Tab 18-19'!$A68,'00 PDC SP'!L:L)","v":0},{"$f":"SUMIF('00 PDC SP'!$A:$A,'Tab 18-19'!$A68,'00 PDC SP'!M:M)","v":0},0]
[null,null,"TOTALE CREDITI V/AZIENDE SANITARIE PUBBLICHE",null,{"$f":"E63+E67+E68","v":-3259926.7},{"$f":"F63+F67+F68","v":0},{"$f":"G63+G67+G68","v":0},{"$f":"H63+H67+H68","v":-3259926.7}]
[]
[null,null," CREDITI V/SOCIETA' PARTECIPATE E/O ENTI DIPENDENTI",null,{"$f":"E72+E75+E78","v":0},{"$f":"F72+F75+F78","v":0},{"$f":"G72+G75+G78","v":0},{"$f":"H72+H75+H78","v":0}]
[{"$f":"B72&\"FS\"","v":"ABA620FS"},"ABA620"," Crediti v/enti regionali:",null,{"$f":"SUMIF('00 PDC SP'!$A:$A,'Tab 18-19'!$A72,'00 PDC SP'!K:K)","v":0},{"$f":"SUMIF('00 PDC SP'!$A:$A,'Tab 18-19'!$A72,'00 PDC SP'!L:L)","v":0},{"$f":"SUMIF('00 PDC SP'!$A:$A,'Tab 18-19'!$A72,'00 PDC SP'!M:M)","v":0},{"$f":"E72+F72-G72","v":0}]
[null,null,"  ……"]
[null,null,"  ……"]
[{"$f":"B75&\"FS\"","v":"ABA630FS"},"ABA630"," Crediti v/sperimentazioni gestionali:",null,{"$f":"SUMIF('00 PDC SP'!$A:$A,'Tab 18-19'!$A75,'00 PDC SP'!K:K)","v":0},{"$f":"SUMIF('00 PDC SP'!$A:$A,'Tab 18-19'!$A75,'00 PDC SP'!L:L)","v":0},{"$f":"SUMIF('00 PDC SP'!$A:$A,'Tab 18-19'!$A75,'00 PDC SP'!M:M)","v":0},{"$f":"E75+F75-G75","v":0}]
[null,null,"  ……"]
[null,null,"  ……"]
[{"$f":"B78&\"FS\"","v":"ABA640FS"},"ABA640"," Crediti v/altre partecipate:",null,{"$f":"SUMIF('00 PDC SP'!$A:$A,'Tab 18-19'!$A78,'00 PDC SP'!K:K)","v":0},{"$f":"SUMIF('00 PDC SP'!$A:$A,'Tab 18-19'!$A78,'00 PDC SP'!L:L)","v":0},{"$f":"SUMIF('00 PDC SP'!$A:$A,'Tab 18-19'!$A78,'00 PDC SP'!M:M)","v":0},{"$f":"E78+F78-G78","v":0}]
[null,null,"  ……"]
[null,null,"  ……"]
[]
[{"$f":"B82&\"FS\"","v":"ABA650FS"},"ABA650"," CREDITI V/ERARIO",null,{"$f":"SUMIF('00 PDC SP'!$A:$A,'Tab 18-19'!$A82,'00 PDC SP'!K:K)","v":0},{"$f":"SUMIF('00 PDC SP'!$A:$A,'Tab 18-19'!$A82,'00 PDC SP'!L:L)","v":0},{"$f":"SUMIF('00 PDC SP'!$A:$A,'Tab 18-19'!$A82,'00 PDC SP'!M:M)","v":0},{"$f":"E82+F82-G82","v":0}]
[null,null,"  ……"]
[null,null,"  ……"]
[]
[null,null," CREDITI V/ALTRI",null,{"$f":"E87+E88+E91+E94+E97","v":-2874726.99},{"$f":"F87+F88+F91+F94+F97","v":-300000},{"$f":"G87+G88+G91+G94+G97","v":0},{"$f":"H87+H88+H91+H94+H97","v":-3174726.99}]
[{"$f":"B87&\"FS\"","v":"ABA670FS"},"ABA670"," Crediti v/clienti privati",null,{"$f":"SUMIF('00 PDC SP'!$A:$A,'Tab 18-19'!$A87,'00 PDC SP'!K:K)","v":-2874726.99},{"$f":"SUMIF('00 PDC SP'!$A:$A,'Tab 18-19'!$A87,'00 PDC SP'!L:L)","v":0},{"$f":"SUMIF('00 PDC SP'!$A:$A,'Tab 18-19'!$A87,'00 PDC SP'!M:M)","v":0},{"$f":"E87+F87-G87","v":-2874726.99}]
[{"$f":"B88&\"FS\"","v":"ABA680FS"},"ABA680"," Crediti v/gestioni liquidatorie",null,{"$f":"SUMIF('00 PDC SP'!$A:$A,'Tab 18-19'!$A88,'00 PDC SP'!K:K)","v":0},{"$f":"SUMIF('00 PDC SP'!$A:$A,'Tab 18-19'!$A88,'00 PDC SP'!L:L)","v":0},{"$f":"SUMIF('00 PDC SP'!$A:$A,'Tab 18-19'!$A88,'00 PDC SP'!M:M)","v":0},0]
[null,null,"  ……"]
[null,null,"  ……"]
[{"$f":"B91&\"FS\"","v":"ABA690FS"},"ABA690"," Crediti v/altri soggetti pubblici",null,{"$f":"SUMIF('00 PDC SP'!$A:$A,'Tab 18-19'!$A91,'00 PDC SP'!K:K)","v":0},{"$f":"SUMIF('00 PDC SP'!$A:$A,'Tab 18-19'!$A91,'00 PDC SP'!L:L)","v":0},{"$f":"SUMIF('00 PDC SP'!$A:$A,'Tab 18-19'!$A91,'00 PDC SP'!M:M)","v":0},{"$f":"E91+F91-G91","v":0}]
[null,null,"  ……"]
[null,null,"  ……"]
[{"$f":"B94&\"FS\"","v":"ABA700FS"},"ABA700"," Crediti v/altri soggetti pubblici per ricerca",null,{"$f":"SUMIF('00 PDC SP'!$A:$A,'Tab 18-19'!$A94,'00 PDC SP'!K:K)","v":0},{"$f":"SUMIF('00 PDC SP'!$A:$A,'Tab 18-19'!$A94,'00 PDC SP'!L:L)","v":0},{"$f":"SUMIF('00 PDC SP'!$A:$A,'Tab 18-19'!$A94,'00 PDC SP'!M:M)","v":0},{"$f":"E94+F94-G94","v":0}]
[null,null,"  ……"]
[null,null,"  ……"]
[{"$f":"B97&\"FS\"","v":"ABA710FS"},"ABA710"," Altri crediti diversi",null,{"$f":"SUMIF('00 PDC SP'!$A:$A,'Tab 18-19'!$A97,'00 PDC SP'!K:K)","v":0},{"$f":"SUMIF('00 PDC SP'!$A:$A,'Tab 18-19'!$A97,'00 PDC SP'!L:L)","v":-300000},{"$f":"SUMIF('00 PDC SP'!$A:$A,'Tab 18-19'!$A97,'00 PDC SP'!M:M)","v":0},{"$f":"E97+F97-G97","v":-300000}]
[null,null,"  ……"]
[null,null,"  ……"]
[]
[]
[]
[null,"Nell'esercizio 2017 il fondo svalutazione crediti è stata incrementato di €/000 300  "]

{"sheet":"Tab. 20-21 ","index":23,"n_rows":121,"n_cols":17,"rows_kept":121,"cut":false,"hidden":false,"merged":[[115,2,115,12],[0,2,0,12],[1,1,2,1],[1,2,2,2],[1,4,1,12],[49,1,49,12],[51,1,52,1],[51,2,52,2],[51,4,51,12],[105,2,106,12]]}
[null,null,"Tab. 20 – Valore nominale dei crediti distinti per anno di formazione – I parte"]
[null,"CODICE MOD. SP","CREDITI",null,"VALORE NOMINALE DEI CREDITI AL 31/12/2017 PER ANNO DI FORMAZIONE"]
[null,null,null,null,{"$f":"\"Anno \"&'00 PDC SP'!$F$2-8 &\" e precedenti\"","v":"Anno 2009 e precedenti"},{"$f":"\"Anno \"&'00 PDC SP'!$F$2-7","v":"Anno 2010"},{"$f":"\"Anno \"&'00 PDC SP'!$F$2-6","v":"Anno 2011"},{"$f":"\"Anno \"&'00 PDC SP'!$F$2-5","v":"Anno 2012"},{"$f":"\"Anno \"&'[1]00 PDC SP'!$F$2-4","v":"Anno 2013"},{"$f":"\"Anno \"&'00 PDC SP'!$F$2-3","v":"Anno 2014"},{"$f":"\"Anno \"&'00 PDC SP'!$F$2-2","v":"Anno 2015"},{"$f":"\"Anno \"&'00 PDC SP'!$F$2-1","v":"Anno 2016"},{"$f":"\"Anno \"&'00 PDC SP'!$F$2","v":"Anno 2017"},null,"Valore SP","Diff","Ctrl"]
[null,null," CREDITI V/STATO - PARTE CORRENTE",null,{"$f":"E5+E12","v":0},0,0,0,0,0,0,{"$f":"L5+L12","v":0},{"$f":"M5+M12","v":0},null,{"$f":"O5+O12","v":0},{"$f":"E4+F4+G4+H4+I4+J4+K4+L4+M4-O4","v":0}]
[null,null," Crediti v/Stato per spesa corrente e acconti:",null,{"$f":"E6+E7+E8+E9+E10+E11","v":0},0,0,0,0,0,0,{"$f":"L6+L7+L8+L9+L10+L11","v":0},{"$f":"M6+M7+M8+M9+M10+M11","v":0},null,{"$f":"O6+O7+O8+O9+O10+O11","v":0},0]
[{"$f":"B6&\"CR\"","v":"ABA210CR"},"ABA210","  Crediti v/Stato per spesa corrente - Integrazione a norma del D.Lvo 56/2000",null,0,0,0,0,0,0,0,0,0,null,{"$f":"SUMIF('00 PDC SP'!A:A,'Tab. 20-21 '!A6,'00 PDC SP'!N:N)","v":0},0,{"$f":"IF(P6=0,\"OK\",\"CTRL\")","v":"OK"}]
["ABA220CR","ABA220","  Crediti v/Stato per spesa corrente - FSN",null,0,0,0,0,0,0,0,0,0,null,{"$f":"SUMIF('00 PDC SP'!A:A,'Tab. 20-21 '!A7,'00 PDC SP'!N:N)","v":0},0,{"$f":"IF(P7=0,\"OK\",\"CTRL\")","v":"OK"}]
["ABA230CR","ABA230","  Crediti v/Stato per mobilità attiva extraregionale",null,0,0,0,0,0,0,0,0,0,null,{"$f":"SUMIF('00 PDC SP'!A:A,'Tab. 20-21 '!A8,'00 PDC SP'!N:N)","v":0},0,"OK"]
["ABA240CR","ABA240","  Crediti v/Stato per mobilità attiva internazionale",null,0,0,0,0,0,0,0,0,0,null,{"$f":"SUMIF('00 PDC SP'!A:A,'Tab. 20-21 '!A9,'00 PDC SP'!N:N)","v":0},0,"OK"]
["ABA250CR","ABA250","  Crediti v/Stato per acconto quota fabbisogno sanitario regionale standard",null,0,0,0,0,0,0,0,0,0,null,{"$f":"SUMIF('00 PDC SP'!A:A,'Tab. 20-21 '!A10,'00 PDC SP'!N:N)","v":0},0,"OK"]
["ABA260CR","ABA260","  Crediti v/Stato per finanziamento sanitario aggiuntivo corrente",null,0,0,0,0,0,0,0,0,0,null,{"$f":"SUMIF('00 PDC SP'!A:A,'Tab. 20-21 '!A11,'00 PDC SP'!N:N)","v":0},0,{"$f":"IF(P11=0,\"OK\",\"CTRL\")","v":"OK"}]
[null,null," Crediti v/Stato - altro:",null,{"$f":"E13","v":0},{"$f":"F13","v":0},{"$f":"G13","v":0},0,0,0,0,0,0,null,{"$f":"SUMIF('00 PDC SP'!A:A,'Tab. 20-21 '!A12,'00 PDC SP'!N:N)","v":0},0]
[{"$f":"B13&\"CR\"","v":"ABA270CR"},"ABA270","  Crediti v/Stato per spesa corrente - altro",null,0,null,0,0,0,0,0,0,0,null,{"$f":"SUMIF('00 PDC SP'!A:A,'Tab. 20-21 '!A13,'00 PDC SP'!N:N)","v":0},0,{"$f":"IF(P13=0,\"OK\",\"CTRL\")","v":"OK"}]
[null,null," CREDITI V/STATO - INVESTIMENTI",null,{"$f":"E15","v":0},{"$f":"F15","v":0},{"$f":"G15","v":0},0,0,0,0,0,0,null,0,0]
[{"$f":"B15&\"CR\"","v":"ABA280CR"},"ABA280"," Crediti v/Stato per finanziamenti per investimenti:",null,0,null,0,0,0,0,0,0,0,null,{"$f":"SUMIF('00 PDC SP'!A:A,'Tab. 20-21 '!A15,'00 PDC SP'!N:N)","v":0},0,{"$f":"IF(P15=0,\"OK\",\"CTRL\")","v":"OK"}]
[null,null,"  ……",null,null,null,null,null,null,null,null,null,null,null,null,0]
[null,null," CREDITI V/STATO - RICERCA",null,{"$f":"E18+E19+E20+E22","v":0},{"$f":"F18+F19+F20+F22","v":0},{"$f":"G18+G19+G20+G22","v":0},0,0,0,0,{"$f":"L18+L19+L20","v":4620},0,null,{"$f":"O18+O19+O20","v":4620},0]
[{"$f":"B18&\"CR\"","v":"ABA300CR"},"ABA300"," Crediti v/Stato per ricerca corrente - Ministero della Salute ",null,0,null,0,0,0,0,0,0,0,null,{"$f":"SUMIF('00 PDC SP'!A:A,'Tab. 20-21 '!A18,'00 PDC SP'!N:N)","v":0},0,{"$f":"IF(P18=0,\"OK\",\"CTRL\")","v":"OK"}]
[{"$f":"B19&\"CR\"","v":"ABA310CR"},"ABA310"," Crediti v/Stato per ricerca finalizzata - Ministero della Salute ",null,0,null,0,0,0,0,0,4620,0,null,{"$f":"SUMIF('00 PDC SP'!A:A,'Tab. 20-21 '!A19,'00 PDC SP'!N:N)","v":4620},0,"OK"]
[{"$f":"B20&\"CR\"","v":"ABA320CR"},"ABA320"," Crediti v/Stato per ricerca - altre Amministrazioni centrali ",null,0,null,0,0,0,0,0,0,0,null,{"$f":"SUMIF('00 PDC SP'!A:A,'Tab. 20-21 '!A20,'00 PDC SP'!N:N)","v":0},0,"OK"]
[{"$f":"B21&\"CR\"","v":"ABA330CR"},"ABA330"," Crediti v/Stato per ricerca - finanziamenti per investimenti",null,0,null,0,0,0,0,0,0,0,null,{"$f":"SUMIF('00 PDC SP'!A:A,'Tab. 20-21 '!A21,'00 PDC SP'!N:N)","v":0},0,"OK"]
[{"$f":"B22&\"CR\"","v":"ABA340CR"},"ABA340"," CREDITI V/PREFETTURE",null,0,null,0,0,0,0,0,93463,0,null,{"$f":"SUMIF('00 PDC SP'!A:A,'Tab. 20-21 '!A22,'00 PDC SP'!N:N)","v":93462.74},0.25999999999476131,"CTRL"]
[null,null,"TOTALE CREDITI V/STATO",null,{"$f":"E17+E4","v":0},null,{"$f":"G17+G4","v":0},0,0,0,0,{"$f":"L17+L4+L22","v":98083},0,null,{"$f":"O17+O4+O22","v":98082.74}]
[]
[null,null," CREDITI V/REGIONE O P.A. PER SPESA CORRENTE",null,{"$f":"E26+E39","v":24232927.289999999},{"$f":"F26+F39","v":200626},{"$f":"G26+G39","v":31625.3},2900235.3899999997,2579166.81,40480592.200000003,10685308.399999999,37818575.5,46237843.520000003,null,165166900.75999993,{"$f":"E25+F25+G25+H25+I25+J25+K25+L25+M25-O25","v":-0.34999990463256836}]
[null,null," Crediti v/Regione o P.A. per finanziamento sanitario ordinario corrente:",null,{"$f":"E29+E33+E34+E35+E36+E37+E38","v":24232927.289999999},{"$f":"F29+F33+F34+F35+F36+F37+F38","v":200626},{"$f":"G29+G33+G34+G35+G36+G37+G38","v":31625.3},{"$f":"H29+H33+H34+H35+H36+H37+H38","v":2900235.3899999997},{"$f":"I29+I33+I34+I35+I36+I37+I38","v":2579166.81},{"$f":"J29+J33+J34+J35+J36+J37+J38","v":40480592.200000003},10685308.399999999,37818575.5,46237843.520000003,null,{"$f":"O29+O33+O34+O35+O36+O37+O38","v":165166900.75999993},-0.34999990463256836]
[{"$f":"B27&\"CR\"","v":"ABA370CR"},"ABA370","  Crediti v/Regione o P.A. per spesa corrente - IRAP",null,0,null,0,0,0,0,0,null,0,null,{"$f":"SUMIF('00 PDC SP'!A:A,'Tab. 20-21 '!A27,'00 PDC SP'!N:N)","v":0},0,{"$f":"IF(P27=0,\"OK\",\"CTRL\")","v":"OK"}]
[{"$f":"B28&\"CR\"","v":"ABA380CR"},"ABA380","  Crediti v/Regione o P.A. per spesa corrente - Addizionale IRPEF",null,0,null,0,0,0,0,0,null,0,null,{"$f":"SUMIF('00 PDC SP'!A:A,'Tab. 20-21 '!A28,'00 PDC SP'!N:N)","v":0},0,"OK"]
[{"$f":"B29&\"CR\"","v":"ABA390CR"},"ABA390","  Crediti v/Regione :",null,{"$f":"SUM(E30:E32)","v":3228479.3},{"$f":"SUM(F30:F32)","v":0},31625.3,{"$f":"SUM(H30:H32)","v":2900235.3899999997},2518344.81,27087261.91,2174586.2999999998,37593884.68,43393148.030000001,null,{"$f":"SUMIF('00 PDC SP'!A:A,'Tab. 20-21 '!A29,'00 PDC SP'!N:N)","v":118927566.06999993},{"$f":"E29+F29+G29+H29+I29+J29+K29+L29+M29-O29","v":-0.34999993443489075},"CTRL"]
[null,null,"          di cui crediti per FS indistinto",null,542280.30000000005,0,31625.3,0,0,24798147.699999999,4235,33526861,28577682.030000001,null,null,87480831.329999998,"CTRL"]
[null,null,"          di cui crediti per FS vincolato",null,0,0,0,2895370.3,2518344.81,2289114.21,2170351.2999999998,4067023.68,14815466,null,null,{"$f":"E31+F31+G31+H31+I31+J31+L31+M31-O31","v":26585319},"CTRL"]
[null,null,"          di cui crediti per extrafondo vincolato",null,2686199,0,0,4865.09,null,null,null,null,0,null,null,{"$f":"E32+F32+G32+H32+J32+K32+L32+M32-O32","v":2691064.09},"CTRL"]
[{"$f":"B33&\"CR\"","v":"ABA400CR"},"ABA400","  Crediti v/Regione o P.A. per mobilità attiva intraregionale",null,15592903.99,0,0,0,0,0,{"$f":"1343946.39-87107","v":1256839.3899999999},null,0,null,{"$f":"SUMIF('00 PDC SP'!A:A,'Tab. 20-21 '!A33,'00 PDC SP'!N:N)","v":16849743.380000003},0,"OK"]
["ABA410CR","ABA410","  Crediti v/Regione o P.A. per mobilità attiva extraregionale",null,{"$f":"6298767-392985-357247-136991","v":5411544},200626,0,0,0,13393330.289999999,0,null,0,null,{"$f":"SUMIF('00 PDC SP'!A:A,'Tab. 20-21 '!A34,'00 PDC SP'!N:N)","v":19005500.289999999},0,"OK"]
["ABA420CR","ABA420","  Crediti v/Regione o P.A. per acconto quota FSR",null,0,0,0,0,0,0,0,null,0,null,{"$f":"SUMIF('00 PDC SP'!A:A,'Tab. 20-21 '!A35,'00 PDC SP'!N:N)","v":0},0,"OK"]
["ABA430CR","ABA430"," Crediti v/Regione o P.A. per finanziamento sanitario aggiuntivo corrente LEA",null,0,0,0,0,60822,0,7253882.71,224690.82,2844695.49,null,{"$f":"SUMIF('00 PDC SP'!A:A,'Tab. 20-21 '!A36,'00 PDC SP'!N:N)","v":10384091.020000001},0,{"$f":"IF(P36=0,\"OK\",\"CTRL\")","v":"OK"}]
["ABA440CR","ABA440"," Crediti v/Regione o P.A. per finanziamento sanitario aggiuntivo corrente extra LEA",null,0,0,0,0,0,0,0,null,0,null,{"$f":"SUMIF('00 PDC SP'!A:A,'Tab. 20-21 '!A37,'00 PDC SP'!N:N)","v":0},0,"OK"]
["ABA450CR","ABA450"," Crediti v/Regione o P.A. per spesa corrente - altro",null,0,0,0,0,0,0,0,null,0,null,{"$f":"SUMIF('00 PDC SP'!A:A,'Tab. 20-21 '!A38,'00 PDC SP'!N:N)","v":0},0,"OK"]
["ABA460CR","ABA460"," CREDITI V/REGIONE O P.A. PER RICERCA:",null,0,0,0,0,0,0,0,null,0,null,{"$f":"SUMIF('00 PDC SP'!A:A,'Tab. 20-21 '!A39,'00 PDC SP'!N:N)","v":0},0,"OK"]
[null,null,"  ……",null,null,null,null,null,null,null,null,null,null,null,null,0]
[null,null," CREDITI V/REGIONE O P.A. PER VERSAMENTI A PATRIMONIO NETTO",null,{"$f":"E42+E43+E44","v":38255},{"$f":"F42+F43+F44","v":0},{"$f":"G42+G43+G44","v":0},0,0,0,0,0,14264710,null,14302965,0]
[{"$f":"B42&\"CR\"","v":"ABA480CR"},"ABA480","  Crediti v/Regione o P.A. per finanziamenti per investimenti",null,38255,0,0,0,0,0,0,null,0,null,{"$f":"SUMIF('00 PDC SP'!A:A,'Tab. 20-21 '!A42,'00 PDC SP'!N:N)","v":38255},0,{"$f":"IF(P42=0,\"OK\",\"CTRL\")","v":"OK"}]
[{"$f":"B43&\"CR\"","v":"ABA490CR"},"ABA490","  Crediti v/Regione o P.A. per incremento fondo dotazione",null,0,0,0,0,0,0,0,null,0,null,{"$f":"SUMIF('00 PDC SP'!A:A,'Tab. 20-21 '!A43,'00 PDC SP'!N:N)","v":0},0,"OK"]
[null,null,"  Crediti v/Regione o P.A. per ripiano perdite:",null,{"$f":"E45+E46+E47","v":0},{"$f":"F45+F46+F47","v":0},{"$f":"G45+G46+G47","v":0},0,0,0,0,0,14264710,null,14264710,0]
[{"$f":"B45&\"CR\"","v":"ABA500CR"},"ABA500","  Crediti v/Regione o P.A. per ripiano perdite",null,0,0,0,0,0,0,0,null,14264710,null,{"$f":"SUMIF('00 PDC SP'!A:A,'Tab. 20-21 '!A45,'00 PDC SP'!N:N)","v":14264710},0,{"$f":"IF(P45=0,\"OK\",\"CTRL\")","v":"OK"}]
[{"$f":"B46&\"CR\"","v":"ABA510CR"},"ABA510","  Crediti v/Regione per copertura debiti al 31/12/2005",null,0,0,0,0,0,0,0,null,0,null,{"$f":"SUMIF('00 PDC SP'!A:A,'Tab. 20-21 '!A46,'00 PDC SP'!N:N)","v":0},0,"OK"]
[{"$f":"B47&\"CR\"","v":"ABA520CR"},"ABA520","Crediti v/Regione o P.A. per ricostituzione risorse da investimenti esercizi precedenti",null,0,0,0,0,0,0,0,null,0,null,{"$f":"SUMIF('00 PDC SP'!A:A,'Tab. 20-21 '!A47,'00 PDC SP'!N:N)","v":0},0,"OK"]
[null,null,"TOTALE CREDITI V/REGIONE O PROVINCIA AUTONOMA",null,{"$f":"E41+E25","v":24271182.289999999},{"$f":"F41+F25","v":200626},31625.3,2900235.3899999997,2579166.81,40480592.200000003,10685308.399999999,37818575.5,60502553.520000003,null,{"$f":"O41+O25","v":179469865.75999993},-0.34999990463256836]
[]
[]
[null,null,"Tab. 21 – Valore nominale dei crediti distinti per anno di formazione – II parte"]
[null,"CODICE MOD. SP","CREDITI",null,{"$f":"\"VALORE NOMINALE DEI CREDITI AL 31/12/\" &'[2]00 Alimenta'!$F$2& \" PER ANNO DI FORMAZIONE\"","v":{"$error":"#REF!"}}]
[null,null,null,null,{"$f":"\"Anno \"&'00 PDC SP'!$F$2-8 &\" e precedenti\"","v":"Anno 2009 e precedenti"},{"$f":"\"Anno \"&'00 PDC SP'!$F$2-7","v":"Anno 2010"},{"$f":"\"Anno \"&'00 PDC SP'!$F$2-6","v":"Anno 2011"},{"$f":"\"Anno \"&'00 PDC SP'!$F$2-5","v":"Anno 2012"},{"$f":"\"Anno \"&'[1]00 PDC SP'!$F$2-4","v":"Anno 2013"},{"$f":"\"Anno \"&'00 PDC SP'!$F$2-3","v":"Anno 2014"},{"$f":"\"Anno \"&'00 PDC SP'!$F$2-2","v":"Anno 2015"},{"$f":"\"Anno \"&'00 PDC SP'!$F$2-1","v":"Anno 2016"},{"$f":"\"Anno \"&'00 PDC SP'!$F$2","v":"Anno 2017"},null,"Valore SP","Diff","Ctrl"]
[{"$f":"B54&\"CR\"","v":"ABA530CR"},"ABA530"," CREDITI V/COMUNI",null,{"$f":"34018.2+5505.16","v":39523.360000000001},0,0,0,0,76,31437,735,{"$f":"148556.45+1","v":148557.45000000001},null,{"$f":"SUMIF('00 PDC SP'!A:A,'Tab. 20-21 '!A54,'00 PDC SP'!N:N)+58770.94-1801.13","v":220328.39},{"$f":"E54+F54+G54+H54+I54+J54+K54+L54+M54-O54","v":0.41999999998370185},{"$f":"IF(P54=0,\"OK\",\"CTRL\")","v":"CTRL"}]
[null,null,"  ……"]
[]
[null,null," CREDITI V/AZIENDE SANITARIE PUBBLICHE DELLA REGIONE",null,{"$f":"E58+E59+E60+E61","v":3576799.61},{"$f":"F58+F59+F60+F61","v":106920.53},{"$f":"G58+G59+G60+G61","v":53938},16196.31,49224.2,281636.15999999997,200027.9,null,152380,null,4575332.74]
[{"$f":"B58&\"CR\"","v":"ABA560CR"},"ABA560"," Crediti v/Aziende sanitarie pubbliche della Regione - mobilità in compensazione",null,0,0,0,0,0,0,0,null,0,null,{"$f":"SUMIF('00 PDC SP'!A:A,'Tab. 20-21 '!A58,'00 PDC SP'!N:N)","v":0},{"$f":"E58+F58+G58+H58+I58+J58+K58+L58+M58-O58","v":0},{"$f":"IF(P58=0,\"OK\",\"CTRL\")","v":"OK"}]
[{"$f":"B59&\"CR\"","v":"ABA570CR"},"ABA570"," Crediti v/Aziende sanitarie pubbliche della Regione - mobilità non in compensazione",null,0,0,0,0,0,0,0,null,0,null,{"$f":"SUMIF('00 PDC SP'!A:A,'Tab. 20-21 '!A59,'00 PDC SP'!N:N)","v":0},0,"OK"]
[{"$f":"B60&\"CR\"","v":"ABA580CR"},"ABA580"," Crediti v/Aziende sanitarie pubbliche della Regione - altre\n prestazioni",null,3576799.61,106920.53,53938,16196.31,49224.2,281636.15999999997,200027.9,138210.12,152380,null,{"$f":"SUMIF('00 PDC SP'!A:A,'Tab. 20-21 '!A60,'00 PDC SP'!N:N)","v":4575332.74},8.9999999850988388E-2,"CTRL"]
[{"$f":"B61&\"CR\"","v":"ABA590CR"},"ABA590"," Acconto quota FSR da distribuire",null,0,0,0,0,0,0,0,null,0,null,{"$f":"SUMIF('00 PDC SP'!A:A,'Tab. 20-21 '!A61,'00 PDC SP'!N:N)","v":0},0,"OK"]
[{"$f":"B62&\"CR\"","v":"ABA600CR"},"ABA600"," CREDITI V/AZIENDE SANITARIE PUBBLICHE FUORI REGIONE",null,53330,0,2659,81,30,0,127,57212,{"$f":"100796-37816","v":62980},null,{"$f":"SUMIF('00 PDC SP'!A:A,'Tab. 20-21 '!A62,'00 PDC SP'!N:N)+47833.03","v":176419.05000000002},-5.0000000017462298E-2,"CTRL"]
[null,null,"TOTALE CREDITI V/AZIENDE SANITARIE PUBBLICHE",null,{"$f":"SUM(E60:E62)","v":3630129.61},{"$f":"SUM(F60:F62)","v":106920.53},{"$f":"SUM(G60:G62)","v":56597},16277.31,49254.2,281636.15999999997,200154.9,null,215360,null,{"$f":"SUM(O60:O62)","v":4751751.79}]
[]
[null,null," CREDITI V/SOCIETA' PARTECIPATE E/O ENTI DIPENDENTI",null,{"$f":"E66+E69+E72","v":0},{"$f":"F66+F69+F72","v":0},0,0,0,5931.31,0,null,0]
[{"$f":"B66&\"CR\"","v":"ABA620CR"},"ABA620"," Crediti v/enti regionali:",null,0,0,0,0,0,5931.31,0,null,0,null,{"$f":"SUMIF('00 PDC SP'!A:A,'Tab. 20-21 '!A66,'00 PDC SP'!N:N)","v":5931.31},{"$f":"E66+F66+G66+H66+I66+J66+K66+L66+M66-O66","v":0},{"$f":"IF(P66=0,\"OK\",\"CTRL\")","v":"OK"}]
[null,null,"Crediti verso ARPA",null,0,0,0,0,0,5931.31,0,null,0]
[null,null,"  ……"]
[{"$f":"B69&\"CR\"","v":"ABA630CR"},"ABA630"," Crediti v/sperimentazioni gestionali:",null,0,0,0,0,0,0,0,null,0,null,{"$f":"SUMIF('00 PDC SP'!A:A,'Tab. 20-21 '!A69,'00 PDC SP'!N:N)","v":0},{"$f":"E69+F69+G69+H69+I69+J69+K69+L69+M69-O69","v":0},{"$f":"IF(P69=0,\"OK\",\"CTRL\")","v":"OK"}]
[null,null,"  ……"]
[null,null,"  ……"]
[{"$f":"B72&\"CR\"","v":"ABA640CR"},"ABA640"," Crediti v/altre partecipate:",null,0,0,0,0,0,0,0,null,0,null,{"$f":"SUMIF('00 PDC SP'!A:A,'Tab. 20-21 '!A72,'00 PDC SP'!N:N)","v":0},{"$f":"E72+F72+G72+H72+I72+J72+K72+L72+M72-O72","v":0},{"$f":"IF(P72=0,\"OK\",\"CTRL\")","v":"OK"}]
[null,null,"  ……"]
[null,null,"  ……"]
[]
[{"$f":"B76&\"CR\"","v":"ABA650CR"},"ABA650"," CREDITI V/ERARIO",null,{"$f":"E77+E78+E81+E79+E80","v":0},0,0,0,0,1295,0,0,{"$f":"M77+M78+M81+M79+M80","v":6914},null,{"$f":"SUMIF('00 PDC SP'!A:A,'Tab. 20-21 '!A76,'00 PDC SP'!N:N)","v":8209.0400000000009},{"$f":"E76+F76+G76+H76+I76+J76+K76+L76+M76-O76","v":-4.0000000000873115E-2},{"$f":"IF(P76=0,\"OK\",\"CTRL\")","v":"CTRL"}]
[null,null,"Crediti verso IVA",null,0,0,0,0,0,1295,0,0,0]
[null,null,"Crediti verso IRES",null,0,0,0,0,0,0,0,0,0]
[null,null,"Altri crediti verso Erario",null,0,0,0,0,0,0,0,0,0]
[null,null,"Erario c/Iva per acconti versati",null,0,0,0,0,0,0,0,0,6914]
[null,null,"Crediti per erario conto ritenute",null,0,0,0,0,0,0,0,0,0]
[]
[null,null," CREDITI V/ALTRI",null,{"$f":"E84+E91+E93+E99+E100","v":1974985.39},{"$f":"F84+F91+F93+F99+F100","v":25794.13},123356.36,197717.65000000002,235335.13999999998,767640.22,363508.83999999997,837389.67,{"$f":"M84+M91+M93+M99+M100","v":1951800.3399999999},null,{"$f":"O84+O91+O93+O99+O100","v":6477527.5}]
[{"$f":"B84&\"CR\"","v":"ABA670CR"},"ABA670"," Crediti v/clienti privati",null,{"$f":"SUM(E85:E90)","v":1642129.39},25794.13,117615.44,197107.17,150682.85999999999,266595.43,346316.06,785152.91,{"$f":"SUM(M85:M90)","v":1365743.8599999999},null,{"$f":"SUMIF('00 PDC SP'!A:A,'Tab. 20-21 '!A84,'00 PDC SP'!N:N)+190889-1320","v":4897136.99},{"$f":"E84+F84+G84+H84+I84+J84+K84+L84+M84-O84","v":0.25999999977648258},{"$f":"IF(P84=0,\"OK\",\"CTRL\")","v":"CTRL"}]
[null,null," Crediti v/clienti privati ",null,{"$f":"1297421.95+344707.44","v":1642129.39},25794.13,117615.44,197107.17,150682.85999999999,266595.43,346316.06,{"$f":"777094.38+8058.53","v":785152.91},{"$f":"1050723+9446","v":1060169},null,{"$f":"SUM(E85:M85)","v":4591562.3900000006}]
[null,null,"Crediti v/utenza per proventi da ticket",null,0,0,0,0,0,0,0,null,38021.18]
[null,null,"Fatture da emettere v/clienti privati",null,0,0,0,0,0,0,0,null,190888.78]
[null,null," Crediti v/ dipendenti",null,0,0,0,0,0,0,0,null,77984.42]
[null,null,"Acconti verso altri fornitori",null,null,null,null,null,null,null,null,null,0]
[null,null,"Note credito da emettere v/clienti privati",null,0,0,0,0,0,0,0,null,-1319.52]
[{"$f":"B91&\"CR\"","v":"ABA680CR"},"ABA680"," Crediti v/gestioni liquidatorie",null,0,0,0,0,0,0,0,null,0,null,{"$f":"SUMIF('00 PDC SP'!A:A,'Tab. 20-21 '!A91,'00 PDC SP'!N:N)","v":0},{"$f":"E91+F91+G91+H91+I91+J91+K91+L91+M91-O91","v":0},{"$f":"IF(P91=0,\"OK\",\"CTRL\")","v":"OK"}]
[null,null,"  ……",null,null,null,null,null,null,null,null,null,null,null,{"$f":"SUMIF('00 PDC SP'!A:A,'Tab. 20-21 '!A92,'00 PDC SP'!N:N)","v":0}]
[{"$f":"B93&\"CR\"","v":"ABA690CR"},"ABA690"," Crediti v/altri soggetti pubblici",null,{"$f":"E94+E95+E96+E97","v":9782},0,5740.92,610.48,15994.78,23019.57,17192.78,50816.76,{"$f":"M94+M95+M96+M97+M98","v":271378.52},null,{"$f":"SUMIF('00 PDC SP'!A:A,'Tab. 20-21 '!A93,'00 PDC SP'!N:N)+M97","v":394535.55000000005},{"$f":"E93+F93+G93+H93+I93+J93+K93+L93+M93-O93","v":0.26000000000931323},{"$f":"IF(P93=0,\"OK\",\"CTRL\")","v":"CTRL"}]
[null,null,"Crediti verso Enti Previdenziali per servizi resi",null,0,0,0,0,0,0,0,null,0]
[null,null,"Crediti verso Amministrazioni del settore Statale",null,0,0,0,0,0,0,0,null,0]
[null,null,"Crediti Verso altri enti Pubblici",null,{"$f":"4082+5700","v":9782},0,5740.92,610.48,15994.78,23019.57,17192.78,50816.76,{"$f":"270842.52-49","v":270793.52}]
[null,null,"Fatture da emettere v/altri soggetti Pubblici",null,0,0,0,0,0,0,0,null,585]
[null,null,"Note credito da emettere v/altri soggetti pubblici",null,0,0,0,0,0,0,0,null,0]
[{"$f":"B99&\"CR\"","v":"ABA700CR"},"ABA700"," Crediti v/altri soggetti pubblici per ricerca",null,0,0,0,0,0,0,0,null,0,null,{"$f":"SUMIF('00 PDC SP'!A:A,'Tab. 20-21 '!A99,'00 PDC SP'!N:N)","v":0},{"$f":"E99+F99+G99+H99+I99+J99+K99+L99+M99-O99","v":0},{"$f":"IF(P99=0,\"OK\",\"CTRL\")","v":"OK"}]
[{"$f":"B100&\"CR\"","v":"ABA710CR"},"ABA710"," Altri crediti diversi",null,{"$f":"E101+E102+E103","v":323074},{"$f":"F101+F102+F103","v":0},{"$f":"G101+G102+G103","v":0},0,68657.5,478025.22,0,1420,314677.96000000002,null,{"$f":"SUMIF('00 PDC SP'!A:A,'Tab. 20-21 '!A100,'00 PDC SP'!N:N)","v":1185854.9599999997},-0.27999999979510903,"CTRL"]
[null,null,"Crediti verso Enti Previdenziali per contributi",null,0,0,0,0,0,0,0,null,0]
[null,null,"Altri crediti diversi",null,323074,0,0,0,68657.5,478025.22,0,1420,314677.96000000002]
[null,null,"Fatture da emettere v/Altri crediti diversi",null,0,0,0,0,0,0,0,null,0]
[]
[]
[null,null,"I crediti verso prefetture al 31/12/2017, pari ad €.93.463 , derivano esclusivamente dalle richieste di rimborsi di prestazioni sanitarie in regime di ricovero erogate agli immigrati irregolari negli anni 2012,2013 e 2014 , di cui all'art .35/ comma 3 d.lgs 286/98"]
[]
[]
[]
[]
[]
[]
[]
[]
[]
[null,null,"Nella tabella sottostante si dà rappresentazione della variazione dei CREDITI   con separata evidenza delle differenze, rispetto allo Stato Patrimoniale 2016,   dei crediti 2015 e precedenti  non più sussistenti al 31/12/2017 e dei crediti di formazione anno 2017 ."]
[]
[null,"Voce di SP","descrizione",null,"saldo al 31/12/2016","incassi effettuati al 31/12/2017","svalutazione crediti ","crediti di formazione 2017 aperti al 31/12/2017","saldo al 31/12/2017"]
[null,"ABA670","Crediti verso privati al lordo del fondo svalutazione crediti",null,5061,{"$f":"E119-I119+H119","v":1530},null,1366,4897]
[null,"ABA670","Fondo svalutazione crediti",null,-2875,0,null,0,{"$f":"E120-F120+G120+H120","v":-2875}]
[null,"ABA670","VALORE NETTO",null,{"$f":"SUM(E119:E120)","v":2186},{"$f":"SUM(F119:F120)","v":1530},0,1366,2022,null,null,null,null,null,null,"CANCELLATA RIGA BILANCIO 2015"]

{"sheet":"Tab 22-23-24","index":24,"n_rows":101,"n_cols":10,"rows_kept":101,"cut":false,"hidden":false,"merged":[[1,1,1,5],[96,1,96,5],[2,0,3,0],[2,1,3,1],[2,3,2,5],[47,1,47,3],[48,0,49,0],[48,1,49,1],[48,3,48,5],[87,1,87,5],[89,1,89,5]]}
[]
[null,"Tab. 22 – Valore netto dei crediti per anno di scadenza – I parte"]
["CODICE MOD. SP","CREDITI",null,{"$f":"\"VALORE NETTO DEI CREDITI AL 31/12/\" &'00 PDC SP'!$F$2& \" PER SCADENZA\"","v":"VALORE NETTO DEI CREDITI AL 31/12/2017 PER SCADENZA"}]
[null,null,null,"Entro\n12 mesi","Tra 1 e 5 anni","Oltre\n5 anni",null,"Valore SP","Diff","Ctrl"]
[null," CREDITI V/STATO - PARTE CORRENTE",null,{"$f":"D6+D13+D15","v":0},{"$f":"E6+E13+E15","v":0},0,null,0]
[null," Crediti v/Stato per spesa corrente e acconti:",null,{"$f":"SUM(D7:D12)","v":0},{"$f":"SUM(E7:E12)","v":0},0,null,0]
["ABA210","  Crediti v/Stato per spesa corrente - Integrazione a norma del D.Lvo 56/2000",null,0,0,0,null,{"$f":"SUMIF('00 SP'!A:A,'Tab 22-23-24'!A7,'00 SP'!L:L)","v":0},{"$f":"(D7+E7+F7)-H7","v":0},{"$f":"IF(I7=0,\"OK\",\"CTRL\")","v":"OK"}]
["ABA220","  Crediti v/Stato per spesa corrente - FSN",null,0,0,0,null,{"$f":"SUMIF('00 SP'!A:A,'Tab 22-23-24'!A8,'00 SP'!L:L)","v":0},0,"OK"]
["ABA230","  Crediti v/Stato per mobilità attiva extraregionale",null,0,0,0,null,{"$f":"SUMIF('00 SP'!A:A,'Tab 22-23-24'!A9,'00 SP'!L:L)","v":0},0,"OK"]
["ABA240","  Crediti v/Stato per mobilità attiva internazionale",null,0,0,0,null,{"$f":"SUMIF('00 SP'!A:A,'Tab 22-23-24'!A10,'00 SP'!L:L)","v":0},0,"OK"]
["ABA250","  Crediti v/Stato per acconto quota fabbisogno sanitario regionale standard",null,0,0,0,null,{"$f":"SUMIF('00 SP'!A:A,'Tab 22-23-24'!A11,'00 SP'!L:L)","v":0},0,"OK"]
["ABA260","  Crediti v/Stato per finanziamento sanitario aggiuntivo corrente",null,0,0,0,null,{"$f":"SUMIF('00 SP'!A:A,'Tab 22-23-24'!A12,'00 SP'!L:L)","v":0},0,"OK"]
[null," Crediti v/Stato - altro:",null,{"$f":"D14","v":0},{"$f":"E14","v":0},0,null,0]
["ABA270","  Crediti v/Stato per spesa corrente - altro",null,0,0,0,null,{"$f":"SUMIF('00 SP'!A:A,'Tab 22-23-24'!A14,'00 SP'!L:L)","v":0},{"$f":"(D14+E14+F14)-H14","v":0},{"$f":"IF(I14=0,\"OK\",\"CTRL\")","v":"OK"}]
[null," CREDITI V/STATO - INVESTIMENTI",null,{"$f":"D16","v":0},{"$f":"E16","v":0},0,null,0]
["ABA280"," Crediti v/Stato per finanziamenti per investimenti:",null,0,0,0,null,{"$f":"SUMIF('00 SP'!A:A,'Tab 22-23-24'!A16,'00 SP'!L:L)","v":0},{"$f":"(D16+E16+F16)-H16","v":0},{"$f":"IF(I16=0,\"OK\",\"CTRL\")","v":"OK"}]
[null,"  ……"]
[null," CREDITI V/STATO - RICERCA",null,{"$f":"D19+D20+D21+D22","v":4620},{"$f":"E19+E20+E21+E22","v":0},0,null,4620]
["ABA300"," Crediti v/Stato per ricerca corrente - Ministero della Salute ",null,0,0,0,null,{"$f":"SUMIF('00 SP'!A:A,'Tab 22-23-24'!A19,'00 SP'!L:L)","v":0},{"$f":"(D19+E19+F19)-H19","v":0},{"$f":"IF(I19=0,\"OK\",\"CTRL\")","v":"OK"}]
["ABA310"," Crediti v/Stato per ricerca finalizzata - Ministero della Salute ",null,4620,0,0,null,{"$f":"SUMIF('00 SP'!A:A,'Tab 22-23-24'!A20,'00 SP'!L:L)","v":4620},0,"OK"]
["ABA320"," Crediti v/Stato per ricerca - altre Amministrazioni centrali ",null,0,0,0,null,{"$f":"SUMIF('00 SP'!A:A,'Tab 22-23-24'!A21,'00 SP'!L:L)","v":0},0,"OK"]
["ABA330"," Crediti v/Stato per ricerca - finanziamenti per investimenti",null,0,0,0,null,{"$f":"SUMIF('00 SP'!A:A,'Tab 22-23-24'!A22,'00 SP'!L:L)","v":0},0,"OK"]
["ABA340"," CREDITI V/PREFETTURE",null,93462.74,0,0,null,{"$f":"SUMIF('00 SP'!A:A,'Tab 22-23-24'!A23,'00 SP'!L:L)","v":93462.74},0,"OK"]
[null,"TOTALE CREDITI V/STATO",null,{"$f":"D5+D18+D23","v":98082.74},{"$f":"E5+E18+E23","v":0},0,null,98082.74]
[]
[null," CREDITI V/REGIONE O P.A. PER SPESA CORRENTE",null,{"$f":"D27+D37","v":162119379.78999999},{"$f":"E27+E37","v":0},0,null,162119379.78999993]
[null," Crediti v/Regione o P.A. per finanziamento sanitario ordinario corrente:",null,{"$f":"SUM(D30:D36)","v":162119379.78999999},{"$f":"SUM(E30:E36)","v":0},0,null,162119379.78999993]
["ABA370","  Crediti v/Regione o P.A. per spesa corrente - IRAP",null,0,0,0,null,{"$f":"SUMIF('00 SP'!A:A,'Tab 22-23-24'!A28,'00 SP'!L:L)","v":0},{"$f":"(D28+E28+F28)-H28","v":0},{"$f":"IF(I28=0,\"OK\",\"CTRL\")","v":"OK"}]
["ABA380","  Crediti v/Regione o P.A. per spesa corrente - Addizionale IRPEF",null,0,0,0,null,{"$f":"SUMIF('00 SP'!A:A,'Tab 22-23-24'!A29,'00 SP'!L:L)","v":0},0,"OK"]
["ABA390","  Crediti v/Regione o P.A. per quota FSR",null,{"$f":"118927566-3047520.9","v":115880045.09999999},0,0,null,{"$f":"SUMIF('00 SP'!A:A,'Tab 22-23-24'!A30,'00 SP'!L:L)","v":115880045.09999993},0,"OK"]
["ABA400","  Crediti v/Regione o P.A. per mobilità attiva intraregionale",null,{"$f":"16936850.38-87107","v":16849743.379999999},0,0,null,{"$f":"SUMIF('00 SP'!A:A,'Tab 22-23-24'!A31,'00 SP'!L:L)","v":16849743.380000003},0,"OK"]
["ABA410","  Crediti v/Regione o P.A. per mobilità attiva extraregionale",null,19005500.289999999,0,0,null,{"$f":"SUMIF('00 SP'!A:A,'Tab 22-23-24'!A32,'00 SP'!L:L)","v":19005500.289999999},0,"OK"]
["ABA420","  Crediti v/Regione o P.A. per acconto quota FSR",null,0,0,0,null,{"$f":"SUMIF('00 SP'!A:A,'Tab 22-23-24'!A33,'00 SP'!L:L)","v":0},0,"OK"]
["ABA430"," Crediti v/Regione o P.A. per finanziamento sanitario aggiuntivo corrente LEA",null,10384091.02,0,0,null,{"$f":"SUMIF('00 SP'!A:A,'Tab 22-23-24'!A34,'00 SP'!L:L)","v":10384091.020000001},0,"OK"]
["ABA440"," Crediti v/Regione o P.A. per finanziamento sanitario aggiuntivo corrente extra LEA",null,0,0,0,null,{"$f":"SUMIF('00 SP'!A:A,'Tab 22-23-24'!A35,'00 SP'!L:L)","v":0},0,"OK"]
["ABA450"," Crediti v/Regione o P.A. per spesa corrente - altro",null,0,0,0,null,{"$f":"SUMIF('00 SP'!A:A,'Tab 22-23-24'!A36,'00 SP'!L:L)","v":0},0,"OK"]
["ABA460"," CREDITI V/REGIONE O P.A. PER RICERCA:",null,0,0,0,null,{"$f":"SUMIF('00 SP'!A:A,'Tab 22-23-24'!A37,'00 SP'!L:L)","v":0},0,"OK"]
[null,"  ……"]
[null," CREDITI V/REGIONE O P.A. PER VERSAMENTI A PATRIMONIO NETTO",null,{"$f":"D40+D41","v":38255},{"$f":"E40+E41","v":0},0,null,38255]
["ABA480","  Crediti v/Regione o P.A. per finanziamenti per investimenti",null,38255,0,0,null,{"$f":"SUMIF('00 SP'!A:A,'Tab 22-23-24'!A40,'00 SP'!L:L)","v":38255},{"$f":"(D40+E40+F40)-H40","v":0},{"$f":"IF(I40=0,\"OK\",\"CTRL\")","v":"OK"}]
["ABA490","  Crediti v/Regione o P.A. per incremento fondo dotazione",null,0,0,0,null,{"$f":"SUMIF('00 SP'!A:A,'Tab 22-23-24'!A41,'00 SP'!L:L)","v":0},0,"OK"]
[null,"  Crediti v/Regione o P.A. per ripiano perdite:",null,{"$f":"D43+D44+D45","v":14264710},{"$f":"E43+E44+E45","v":0},0,null,14264710]
["ABA500","  Crediti v/Regione o P.A. per ripiano perdite",null,{"$f":"14264710","v":14264710},0,0,null,{"$f":"SUMIF('00 SP'!A:A,'Tab 22-23-24'!A43,'00 SP'!L:L)","v":14264710},{"$f":"(D43+E43+F43)-H43","v":0},{"$f":"IF(I43=0,\"OK\",\"CTRL\")","v":"OK"}]
["ABA510","  Crediti v/Regione per copertura debiti al 31/12/2005",null,0,0,0,null,{"$f":"SUMIF('00 SP'!A:A,'Tab 22-23-24'!A44,'00 SP'!L:L)","v":0},0,"OK"]
["ABA520","Crediti v/Regione o P.A. per ricostituzione risorse da investimenti esercizi precedenti",null,0,0,0,null,{"$f":"SUMIF('00 SP'!A:A,'Tab 22-23-24'!A45,'00 SP'!L:L)","v":0},0,"OK"]
[null,"TOTALE CREDITI V/REGIONE O PROVINCIA AUTONOMA",null,{"$f":"D26+D39+D42","v":176422344.78999999},{"$f":"E26+E39+E42","v":0},0,null,176422344.78999993]
[]
[null,"Tab. 23 – Valore netto dei crediti per anno di scadenza – II parte"]
["CODICE MOD. SP","CREDITI",null,{"$f":"\"VALORE NETTO DEI CREDITI AL 31/12/\" &'00 PDC SP'!$F$2& \" PER SCADENZA\"","v":"VALORE NETTO DEI CREDITI AL 31/12/2017 PER SCADENZA"}]
[null,null,null,"Entro\n12 mesi","Tra 1 e 5 anni","Oltre\n5 anni",null,"Valore SP","Diff","Ctrl"]
["ABA530"," CREDITI V/COMUNI",null,220328.35,0,0,null,{"$f":"SUMIF('00 SP'!A:A,'Tab 22-23-24'!A51,'00 SP'!L:L)","v":220328.35},{"$f":"(D51+E51+F51)-H51","v":0},{"$f":"IF(I51=0,\"OK\",\"CTRL\")","v":"OK"}]
[null,"  ……"]
[]
[null," CREDITI V/AZIENDE SANITARIE PUBBLICHE DELLA REGIONE",null,{"$f":"D55+D56+D57+D58","v":1330392.33},{"$f":"E55+E56+E57+E58","v":0},0,null,1330392.3299999991]
["ABA560"," Crediti v/Aziende sanitarie pubbliche della Regione - mobilità in compensazione",null,0,0,0,null,{"$f":"SUMIF('00 SP'!A:A,'Tab 22-23-24'!A55,'00 SP'!L:L)","v":0},{"$f":"(D55+E55+F55)-H55","v":0},{"$f":"IF(I55=0,\"OK\",\"CTRL\")","v":"OK"}]
["ABA570"," Crediti v/Aziende sanitarie pubbliche della Regione - mobilità non in compensazione",null,0,0,0,null,{"$f":"SUMIF('00 SP'!A:A,'Tab 22-23-24'!A56,'00 SP'!L:L)","v":0},0,"OK"]
["ABA580"," Crediti v/Aziende sanitarie pubbliche della Regione - altre\n prestazioni",null,1330392.33,0,0,null,{"$f":"SUMIF('00 SP'!A:A,'Tab 22-23-24'!A57,'00 SP'!L:L)","v":1330392.3299999991},0,"OK"]
["ABA590"," Acconto quota FSR da distribuire",null,0,0,0,null,{"$f":"SUMIF('00 SP'!A:A,'Tab 22-23-24'!A58,'00 SP'!L:L)","v":0},0,"OK"]
["ABA600"," CREDITI V/AZIENDE SANITARIE PUBBLICHE FUORI REGIONE",null,{"$f":"128586.02+85649.52","v":214235.54},0,0,null,{"$f":"SUMIF('00 SP'!A:A,'Tab 22-23-24'!A59,'00 SP'!L:L)","v":214235.54},0,"OK"]
[null,"TOTALE CREDITI V/AZIENDE SANITARIE PUBBLICHE",null,{"$f":"D54+D59","v":1544627.87},{"$f":"E54+E59","v":0},0,null,1544627.8699999992]
[]
[null," CREDITI V/SOCIETA' PARTECIPATE E/O ENTI DIPENDENTI",null,{"$f":"D63+D65+D67","v":5931.31},{"$f":"E63+E65+E67","v":0},0,null,5931.31]
["ABA620"," Crediti v/enti regionali:",null,5931.31,0,0,null,{"$f":"SUMIF('00 SP'!A:A,'Tab 22-23-24'!A63,'00 SP'!L:L)","v":5931.31},{"$f":"(D63+E63+F63)-H63","v":0},{"$f":"IF(I63=0,\"OK\",\"CTRL\")","v":"OK"}]
[null,"  ……"]
["ABA630"," Crediti v/sperimentazioni gestionali:",null,0,0,0,null,{"$f":"SUMIF('00 SP'!A:A,'Tab 22-23-24'!A65,'00 SP'!L:L)","v":0},{"$f":"(D65+E65+F65)-H65","v":0},{"$f":"IF(I65=0,\"OK\",\"CTRL\")","v":"OK"}]
[null,"  ……"]
["ABA640"," Crediti v/altre partecipate:",null,0,0,0,null,{"$f":"SUMIF('00 SP'!A:A,'Tab 22-23-24'!A67,'00 SP'!L:L)","v":0},{"$f":"(D67+E67+F67)-H67","v":0},{"$f":"IF(I67=0,\"OK\",\"CTRL\")","v":"OK"}]
[null,"  ……"]
[]
["ABA650"," CREDITI V/ERARIO",null,8209.0400000000009,0,0,null,{"$f":"SUMIF('00 SP'!A:A,'Tab 22-23-24'!A70,'00 SP'!L:L)","v":8209.0400000000009},{"$f":"(D70+E70+F70)-H70","v":0},{"$f":"IF(I70=0,\"OK\",\"CTRL\")","v":"OK"}]
[null,"  ……"]
[]
[null," CREDITI V/ALTRI",null,{"$f":"D74+D75+D78+D81+D84","v":3302801.21},{"$f":"E74+E75+E78+E81+E84","v":0},0,null,3302801.21]
["ABA670"," Crediti v/clienti privati",null,2022410.26,0,0,null,{"$f":"SUMIF('00 SP'!A:A,'Tab 22-23-24'!A74,'00 SP'!L:L)","v":2022410.2600000002},{"$f":"(D74+E74+F74)-H74","v":0},{"$f":"IF(I74=0,\"OK\",\"CTRL\")","v":"OK"}]
["ABA680"," Crediti v/gestioni liquidatorie",null,0,0,0,null,{"$f":"SUMIF('00 SP'!A:A,'Tab 22-23-24'!A75,'00 SP'!L:L)","v":0},{"$f":"(D75+E75+F75)-H75","v":0},{"$f":"IF(I75=0,\"OK\",\"CTRL\")","v":"OK"}]
[null,"  ……"]
[null,"  ……"]
["ABA690"," Crediti v/altri soggetti pubblici",null,394535.99,0,0,null,{"$f":"SUMIF('00 SP'!A:A,'Tab 22-23-24'!A78,'00 SP'!L:L)","v":394535.99000000005},{"$f":"(D78+E78+F78)-H78","v":0},{"$f":"IF(I78=0,\"OK\",\"CTRL\")","v":"OK"}]
[null,"  ……"]
[null,"  ……"]
["ABA700"," Crediti v/altri soggetti pubblici per ricerca",null,0,0,0,null,{"$f":"SUMIF('00 SP'!A:A,'Tab 22-23-24'!A81,'00 SP'!L:L)","v":0},{"$f":"(D81+E81+F81)-H81","v":0},{"$f":"IF(I81=0,\"OK\",\"CTRL\")","v":"OK"}]
[null,"  ……"]
[null,"  ……"]
["ABA710"," Altri crediti diversi",null,{"$f":"1185854.96-300000","v":885854.96},0,0,null,{"$f":"SUMIF('00 SP'!A:A,'Tab 22-23-24'!A84,'00 SP'!L:L)","v":885854.95999999973},{"$f":"(D84+E84+F84)-H84","v":0},{"$f":"IF(I84=0,\"OK\",\"CTRL\")","v":"OK"}]
[null,"  ……"]
[null,"  ……"]
[]
[null,"Nell'esercizio 2017, come di consueto, si è proceduto all'analisi dei crediti verso privati ancora aperti  al 31/12/2017 . In particolare sono stati  presi in esame i crediti risalenti al 2016 e precedenti, come da Reolamento approvato con Delibera del Direttore Generale n. 590 del 23.06.2016,  al fine di verificarne la sussistenza . .In particolare si è constatato che tra i crediti v / clienti privati permangono situazioni creditore verso società sottoposte a procedure fallimentari quali Villa Pini nei confronti della quale vantiamo un credito di €/000 608 e la CO.RI.MA s.r.l il cui credito insoluto ammonta ad €/000 364. Ciò nonostante si ritiene che , a tutto il 31/12/2017, il  fondo svalutazione credi v/ clienti privati , di € /000 3 .075 sia sufficientemente capiente"]
[]
[null,"A seguito dell'analisi dei crediti iscritti sul conto  \" crediti verso altri\" si è constatato che la riscossione di crediti risalenti al 2009 e  retro di circa €/000 330  procede con estrema lentezzaed in via del tutto prudenziale si è ritenuto opportuno accantonare un fondo di €/000 300 "]
[]
[]
[]
[]
[]
[]
[null,"Tab. 24 – Dettaglio crediti intraregionali per mobilità (in compensazione e non) e per altre prestazioni"]
[null,"DETTAGLIO CREDITI INTRAREGIONALI\nPER SINGOLA AZIENDA",null,"Mobilità in compens.","Mobilità non in compens.","Altre prestazioni"]
[null,"Asl 201- Avezzano Sulmona L'Aquila",null,null,null,2149898]
[null,"Asl 202- Lanciano Vasto Chieti",null,null,null,2281099]
[null,"Asl 204-Teramo",null,null,null,159]

{"sheet":"partite infragruppo","index":25,"n_rows":192,"n_cols":10,"rows_kept":192,"cut":false,"hidden":false,"merged":[[0,0,0,9],[5,0,5,6],[6,0,6,6],[7,0,7,6],[11,0,11,9],[12,0,13,0],[12,1,13,1],[12,2,13,2],[12,3,13,3],[12,4,13,4],[19,0,19,1],[19,6,19,9],[24,0,24,6],[25,0,25,6],[26,0,26,6],[30,0,30,5],[12,5,13,5],[12,6,13,9],[14,6,14,9],[15,6,15,9],[16,6,16,9],[17,6,17,9],[41,0,41,9],[43,0,43,9],[44,0,44,9],[45,0,45,9],[46,0,46,9],[53,0,53,7],[35,0,35,9],[36,0,36,9],[37,0,37,9],[38,0,38,9],[39,0,39,9],[40,0,40,9],[58,0,58,6],[59,0,59,6],[60,0,60,6],[69,0,69,9],[70,0,71,0],[70,1,71,1],[70,2,71,2],[70,3,71,3],[70,4,71,4],[70,5,71,5],[77,0,77,1],[77,6,77,9],[82,0,82,6],[83,0,83,6],[84,0,84,6],[89,0,89,9],[70,6,71,9],[72,6,72,9],[73,6,73,9],[74,6,74,9],[75,6,75,9],[76,6,76,9],[90,6,91,9],[92,6,92,9],[93,0,93,1],[93,6,93,9],[95,0,95,9],[96,0,96,9],[90,0,91,0],[90,1,91,1],[90,2,91,2],[90,3,91,3],[90,4,91,4],[90,5,91,5],[103,0,103,9],[111,0,111,9],[113,0,113,9],[116,0,116,6],[117,0,117,6],[118,0,118,6],[97,0,97,9],[98,0,98,9],[99,0,99,9],[100,0,100,9],[101,0,101,9],[102,0,102,9],[127,6,127,9],[128,0,128,1],[128,6,128,9],[136,0,136,6],[137,0,137,6],[138,0,138,6],[124,0,124,9],[125,0,126,0],[125,1,126,1],[125,2,126,2],[125,3,126,3],[125,4,126,4],[125,5,126,5],[125,6,126,9],[192,2,192,4],[179,0,179,5],[187,2,187,4],[188,2,188,4],[189,2,189,4],[190,2,190,4],[191,2,191,4],[146,0,146,9],[147,0,147,9],[148,0,148,9],[149,0,149,9],[150,0,150,9],[175,0,175,9]]}
["CREDITI E DEBITI VS ASL AVEZZANO-SULMONA-L'AQUILA"]
[]
["Di seguito si evidenzia il disallineamento tra i crediti della ASL di Pescara vs la ASL Avezzano-Sulmona-L'Aquila ed i loro debiti nei nostri confronti: "]
[]
[null,null,null,null,null,null,null,"Valore nominale","Fondo svalutazione crediti","Valore netto"]
["Crediti ASL Pescara verso ASL Avezzano-Sulmona L'Aquila ",null,null,null,null,null,null,2149897.79,-1381339.1,{"$f":"H6+I6","v":768558.69}]
["Debiti ASL Avezzano-Sulmona-L'Aquila verso ASL Pescara *",null,null,null,null,null,null,802545.05,0,{"$f":"H7+I7","v":802545.05}]
["Disallineamento",null,null,null,null,null,null,{"$f":"H6-H7","v":1347352.74},{"$f":"SUM(I6:I7)","v":-1381339.1},{"$f":"J6-J7","v":-33986.360000000102}]
[]
["*","Dato comunicato dalla ASL 301 con e-mail del 18/04/2018."]
[]
["Crediti v/ASL 301 per altre prestazioni - Importo disallineamento infragruppo"]
["Riferimento documento","Anno di competenza","Importo residuo al 31/12/2016","Credito prescritto","Documento disponibile/riproducibile (SI/NO)","Importo fondo rischi","Motivazione disallineamento"]
[]
["2-2002-724",1999,1348072.26,"NO","Da verificare",-1348072.26,"Partita non presente nell'E/C della ASL debitrice"]
["2-2002-725",1999,null,null,null,-33266.839999999997,"Fondo rischi accantonato da ASL Pescara relativamente alla fattura 2-2002-725 di € 33.267, presente anche nell'E/C della ASL 301. "]
["FT-2017-1332",2016,-122.36,"NO","SI",null,"Iva, dalla ASL di Pescara stornata dall'importo del credito a chiusura del debito v/Erario (meccanismo dello split payment)"]
["FT-2017-2923",2017,-589,"NO","SI",null,"Iva, dalla ASL di Pescara stornata dall'importo del credito a chiusura del debito v/Erario (meccanismo dello split payment)"]
["BOLLI",2017,-8]
["Totale disallineamento",null,{"$f":"SUM(C15:C19)","v":1347352.9},null,null,{"$f":"SUM(F15:F18)","v":-1381339.1},{"$f":"C20+F20","v":-33986.200000000186}]
[]
["Di seguito si evidenzia il disallineamento tra i debiti della ASL di Pescara vs la ASL Avezzano-Sulmona-L'Aquila ed i loro crediti nei nostri confronti: "]
[]
[null,null,null,null,null,null,null,"Valore nominale","Fondo svalutazione crediti","Valore netto"]
["Debiti ASL Pescara verso ASL Avezzano-Sulmona L'Aquila ",null,null,null,null,null,null,355700.78,0,{"$f":"H25-I25","v":355700.78}]
["Crediti ASL Avezzano-Sulmona-L'Aquila verso ASL Pescara *",null,null,null,null,null,null,355690.78,0,{"$f":"H26-I26","v":355690.78}]
["Disallineamento",null,null,null,null,null,null,{"$f":"H25-H26","v":10},{"$f":"SUM(I25:I26)","v":0},{"$f":"J25-J26","v":10}]
[]
["*","Dato comunicato dalla ASL 301 con e-mail del 18/04/2018."]
[]
["Il disallineamento di €/unità 10 è dovuto ai bolli."]
[]
[]
[]
[]
["In occasione della chiusura del bilancio, è stata effettuata l'attività di riconciliazione dei saldi creditori e debitori infragruppo. "]
["All'esito di tale attività, si è provveduto, laddove possibile, secondo le indicazioni fornite dalla Regione nelle Linee Guida alla redazione del Bilancio di eserizio 2017, ad eliminare i disallinementi tra i saldi."]
["Al 31/12/2017 permane un disallinemanto tra il credito della ASL di Pescara vs la ASL di Avezzano Sulmona-L'Aquila ed il loro debito nei nostri confronti. Le partite che formano il disallineamento ancora presente al 31/12/2017 sono: "]
["- la fattura registrazione n. 2-2002-724 di €/000 1.348, risalente all'esercizio 1999, emessa nei confronti della ex ASL di Avezzano-Sulmona, per la quale è stato ripetutamente sollecitato il pagamento alla ASL di Avezzano-Sulmona-L'Aquila. Tale fattura non è presente nella contabilità della ASL debitrice e a fronte del rischio di inesigibilità della stessa, la ASL di Pescara ha accantonato un fondo rischi di pari importo; "]
["- fondo rischi di €/000 33, accantonato a fronte della fattura 2-2002-725, anch'essa risalente all'esercizio 1999. Tale fattura, a differenza della precedente, è presente nella contabilità della ASL debitrice, ma ad oggi, nonostante numerosi solleciti effettuati nel corso degli anni, non è ancora stata pagata. A fronte del rischio di inesigibilità della stessa, la ASL di Pescara ha accantonato un fondo rischi di pari importo. "]
["- Iva su fatture 2017, per un importo complessivo di €/unità 711, che secondo il meccanismo dello Split Payment è stata stornata dall'importo del credito a chiusura del debito v/erario per iva. Lo storno dell'Iva viene invece effettuato dalla ASL debitrice al momento del pagamento della fattura. Pertanto, il disallinemento in questione si annullerà al momento del pagamento delle due fatture da parte della ASL di Avezzano-Sulmona-L'Aquila."]
["- Differenza dovuta ai bolli sulle fatture da emettere al 31/12/2017, da ASL Pescara rilevati nel 2018, al momento dell'emissione della fattura."]
[]
["In merito alle azioni che la ASL di Pescara intende intraprendere nel corso del 2018 per eliminare detto disallineamento, si fa presente quanto segue. "]
["In relazione al documento n. 2-2002-724, non presente nella contabilità della ASL debitrice,  la ASL di Pescara intende portare a compimento la verifica della disponibilità/riproducibilità del documento, attraverso un'attenta ricognizione da parte degli uffici competenti che hanno emesso la fattura, e procedere nuovamente all'invio del documento alla ASL debitrice, affinchè quest'ultima provveda a registrare la fattura nella sua contabilità e ad effettuare il pagamento a nostro favore."]
["Per quanto riguarda il documento n. 2-2002-725, esso è presente nella contabilità della ASL debitrice, ma ad oggi non è ancora stato pagato. L'azienda intende sollecitare nuovamente il pagamento"]
[" alla ASL di Avezzano Sulmona L'Aquila."]
[]
["In riferimento all'attività di riconciliazione tra il debito della ASL di Pescara vs la ASL di Avezzano Sulmona-L'Aquila ed il loro credito nei nostri confronti, al 31/12/2017 c'è un disallinemento di importo non"]
[" significativo (€/unità 10) dovuto ai bolli sulle fatture da ricevere, contabilizzati dalla ASL di Avezzano-Sulmona-L'Aquila nel 2018, al momento dell'emissione della fattura."]
[]
[]
[]
["CREDITI E DEBITI VS ASL LANCIANO-VASTO-CHIETI"]
[]
["Di seguito si evidenzia il disallineamento tra i crediti della ASL di Pescara vs la ASL Lanciano-Vasto-Chieti  ed i loro debiti nei nostri confronti:  "]
[]
[null,null,null,null,null,null,null,"Valore nominale","Fondo svalutazione crediti","Valore netto"]
["Crediti ASL Pescara verso ASL Lanciano-Vasto-Chieti",null,null,null,null,null,null,2281098.91,-1878587.6,{"$f":"H59+I59","v":402511.31000000006}]
["Debiti ASL Lanciano-Vasto-Chieti verso ASL Pescara *",null,null,null,null,null,null,1064464.71,0,{"$f":"H60+I60","v":1064464.71}]
["Disallineamento",null,null,null,null,null,null,{"$f":"H59-H60","v":1216634.2000000002},-1878587.6,{"$f":"J59-J60","v":-661953.39999999991}]
[]
["*","Dato comunicato dalla ASL 302 con e-mail del 18/04/2018."]
[]
[]
[]
[]
[]
[]
["Crediti v/ASL 302 per altre prestazioni - Importo disallineamento infragruppo"]
["Riferimento documento","Anno di competenza","Importo residuo al 31/12/2016","Credito prescritto","Documento disponibile/riproducibile (SI/NO)","Importo fondo rischi","Motivazione disallineamento"]
[]
["2-2002-722",1999,null,null,null,-661638.73,"Fondo rischi accantonato da ASL Pescara relativamente alla fattura 2-2002-722 di € 661.638,73, presente anche nell'E/C della ASL 302. "]
["2-2002-723",1999,1216948.8700000001,"NO","Da verificare",-1216948.8700000001,"Partita non presente nell'E/C della ASL debitrice"]
["FT-2015-4615",2015,-171.77,null,null,0,"Iva, dalla ASL di Pescara stornata dall'importo del credito a chiusura del debito v/Erario (meccanismo dello Split Payment). "]
["FT-2017-2867",2017,-132.9,null,null,0,"Iva, dalla ASL di Pescara stornata dall'importo del credito a chiusura del debito v/Erario (meccanismo dello Split Payment). "]
[null,2017,-10,null,null,null,"Disallineamento dovuto ai bolli sulle fatture da emettere al 31/12/2017"]
["Totale disallineamento",null,{"$f":"SUM(C73:C77)","v":1216634.2000000002},null,null,{"$f":"SUM(F73:F77)","v":-1878587.6},{"$f":"C78+F78","v":-661953.39999999991}]
[]
["Di seguito si evidenzia il disallineamento tra i debiti della ASL di Pescara vs la ASL Lanciano-Vasto-Chieti ed i loro crediti nei nostri confronti: "]
[]
[null,null,null,null,null,null,null,"Valore nominale","Fondo svalutazione crediti","Valore netto"]
["Debiti ASL Pescara verso ASL Lanciano-Vasto-Chieti",null,null,null,null,null,null,236111.19,0,{"$f":"H83-I83","v":236111.19}]
["Crediti ASL Lanciano-Vasto-Chieti verso ASL Pescara *",null,null,null,null,null,null,236144.56,0,{"$f":"H84-I84","v":236144.56}]
["Disallineamento",null,null,null,null,null,null,{"$f":"H83-H84","v":-33.369999999995343},{"$f":"SUM(I83:I84)","v":0},{"$f":"J83-J84","v":-33.369999999995343}]
[]
["*","Dato comunicato dalla ASL 302 con e-mail del 18/04/2018."]
[]
[]
["Debiti v/ASL 302 per altre prestazioni - Importo disallineamento infragruppo"]
["Riferimento documento","Anno di competenza","Importo residuo al 31/12/2016","Debito  prescritto","Documento disponibile/riproducibile (SI/NO)","Importo fondo rischi","Motivazione disallineamento"]
[]
["Rimborso spese di registrazione sentenza (Determina n. 25/AGL del 30/01/2017 della ASL di Lanciano Vasto Chieti) ",2016,-33.369999999999997,"NO",null,null,"La partita sarà registrata nella contabilità della ASL di Pescara nell'esercizio 2018. "]
["Totale disallineamento",null,{"$f":"SUM(C93:C93)","v":-33.369999999999997},null,null,{"$f":"SUM(F93)","v":0},{"$f":"C94-F94","v":-33.369999999999997}]
[]
["In occasione della chiusura del bilancio, è stata effettuata l'attività di riconciliazione dei saldi creditori e debitori infragruppo. "]
["All'esito di tale attività, si è provveduto, laddove possibile, secondo le indicazioni fornite dalla Regione nelle Linee Guida alla redazione del Bilancio di eserizio 2016, ad eliminare i disallinementi tra i saldi."]
["Al 31/12/2017 permane un disallineamento tra il credito della ASL di Pescara vs la ASL di Lanciano-Vasto-Chieti ed il loro debito nei nostri confronti. Le partite che formano il disallineamento ancora presente al 31/12/2017 sono: "]
["- la fattura con registrazione n. 2-2002-723 di €/000 1.217, risalente all'esercizio 1999, emessa nei confronti della ex ASL di Chieti, per la quale è stato ripetutamente sollecitato il pagamento. Tale fattura, inizialmente presente nella contabilità della ASL debitrice, attualmente non compare più tra i debiti della ASL di Chieti. A fronte del rischio di inesigibilità della fattura, la ASL di Pescara ha accantonato un fondo rischi di pari importo; "]
["- fondo rischi accantonato a fronte della fattura 2-2002-722, anch'essa risalente all'esercizio 1999. Tale fattura, a differenza della precedente, è presente nella contabilità della ASL debitrice, ma ad oggi, nonostante numerosi solleciti effettuati nel corso degli anni, non è ancora stata pagata. A fronte del rischio di inesigibilità della stessa, la ASL di Pescara ha accantonato un fondo rischi di pari importo. "]
["- Iva su ns fatture, per un importo complessivo di €/unità 305, che secondo il meccanismo dello Split Payment è stata stornata dall'importo del credito a chiusura del debito v/erario per iva. Lo storno dell'Iva viene invece effettuato dalla ASL debitrice al momento del pagamento della fattura. Pertanto, il disallinemento in questione si annullerà al momento del pagamento delle due fatture da parte della ASL di Lanciano-Vasto-Chieti."]
["In merito alle azioni che la ASL di Pescara intende intraprendere nel corso del 2017 per eliminare detto disallineamento, si fa presente quanto segue. "]
["In relazione al documento n. 2-2002-723, non più presente nella contabilità della ASL debitrice,  la ASL di Pescara intende completare la raccolta della documentazione comprovante il credito nei confronti della ASL di Lanciano-Vasto Chieti, portando a compimento la ricognizione, da parte degli uffici competenti che hanno emesso la fattura, e procedere all'invio della suddetta documentazione alla ASL debitrice, affinchè quest'ultima provveda a registrare nuovamente la fattura nella sua contabilità e ad effettuare il pagamento a nostro favore."]
["Per quanto riguarda il documento n. 2-2002-722, esso è presente nella contabilità della ASL debitrice, ma ad oggi non è ancora stato pagato. L'azienda intende sollecitare  nuovamente il pagamento"]
[" da parte della ASL di Lanciano-Vasto-Chieti."]
[]
["In riferimento all'attività di riconciliazione svolta tra il debito della ASL di Pescara vs la ASL di Lanciano Vasto Chieti ed il loro credito nei nostri confronti, al 31/12/2017 c'è un disallinemento di importo "]
["pari ad €/unità -33, che si riferisce al rimborso dovuto dalla ASL di Pescara delle spese di registrazione di una sentenza. La ASL di Lanciano-Vasto-Chieti ha rilevato il credito verso la ASL di Pescara "]
["nel 2016, ma la ASL di Pescara non ha ancora registrato tale partita nella sua contabilità, in quanto non è ancora stato adottato il relativo provvedimento di liquidazione da parte dell'Ufficio Legale aziendale.    "]
["Essa sarà registrata nella contabilità della ASL di Pescara nell'esercizio 2018."]
[]
["CREDITI E DEBITI VS ASL TERAMO"]
[]
["Di seguito si evidenzia il disallineamento tra i crediti della ASL di Pescara vs la ASL di Teramo ed i loro debiti nei nostri confronti:  "]
[]
[null,null,null,null,null,null,null,"Valore nominale","Fondo svalutazione crediti","Valore netto"]
["Crediti ASL Pescara verso ASL Teramo ",null,null,null,null,null,null,159319.63,0,{"$f":"H117+I117","v":159319.63}]
["Debiti ASL Teramo verso ASL Pescara *",null,null,null,null,null,null,157226.63,0,{"$f":"H118+I118","v":157226.63}]
["Disallineamento",null,null,null,null,null,null,{"$f":"H117-H118","v":2093},{"$f":"SUM(I117:I118)","v":0},{"$f":"J117-J118","v":2093}]
[]
["*","Dato comunicato dalla ASL 304 con e-mail del 13/04/2018."]
[]
[]
[]
["Crediti v/ASL 301 per altre prestazioni - Importo disallineamento infragruppo"]
["Riferimento documento","Anno di competenza","Importo residuo al 31/12/2017","Credito prescritto","Documento disponibile/riproducibile (SI/NO)","Importo fondo rischi","Motivazione disallineamento"]
[]
["FT-2017-3932",2017,2093,"NO","SI",0,"La ASL di Teramo ha rilevato una Nota di credito da ricevere a storno della fattura indicata. Tale partita non è presente nella contabilità della ASL di Pescara in quanto la struttura competente ed emittente la fattura (DSB di Città Sant'Angelo), alla data di redazione del Bilancio di esercizio al 31/12/2017, non ha ricevuto alcuna richiesta di emissione di nota di credito per cui non è a conoscenza delle ragioni della contestazione."]
["Totale disallineamento",null,{"$f":"SUM(C128:C128)","v":2093},null,null,{"$f":"SUM(F128:F128)","v":0},{"$f":"C129+F129","v":2093}]
[]
[]
[]
[]
["Di seguito si evidenzia il disallineamento tra i debiti della ASL di Pescara vs la ASL di Teramo ed i loro crediti nei nostri confronti: "]
[]
[null,null,null,null,null,null,null,"Valore nominale","Fondo svalutazione crediti","Valore netto"]
["Debiti ASL Pescara verso ASL Teramo ",null,null,null,null,null,null,1797950.77,0,{"$f":"H137-I137","v":1797950.77}]
["Crediti ASL Teramo verso ASL Pescara *",null,null,null,null,null,null,1797947.87,0,{"$f":"H138-I138","v":1797947.87}]
["Disallineamento",null,null,null,null,null,null,{"$f":"H137-H138","v":2.8999999999068677},{"$f":"SUM(I137:I138)","v":0},{"$f":"J137-J138","v":2.8999999999068677}]
[]
["*","Dato comunicato dalla ASL 304 con e-mail del 13/04/2018."]
[]
["La differenza è dovuta alla contabilizzazione dei bolli."]
[]
[]
[]
["In occasione della chiusura del bilancio, è stata effettuata l'attività di riconciliazione dei saldi creditori e debitori infragruppo. "]
["All'esito di tale attività, si è provveduto, laddove possibile, secondo le indicazioni fornite dalla Regione nelle Linee Guida alla redazione del Bilancio di eserizio 2017, ad eliminare i disallinementi tra i saldi."]
["Al 31/12/2017 esiste una differenza tra il credito della ASL di Pescara vs la ASL di Teramo ed il debito di quest'ultima verso la ASL di Pescara di € 2.093. Tale differenza è dovuta al fatto che la ASL di Teramo ha rilevato, al"]
["31/12/2017, una nota di credito da ricevere a storno della Fattura n. FT-2017-3932. La ASL di Pescara non ha rilevato nella sua contabilità una nota di credito da emettere, in quanto non ha ricevuto alcuna comunicazione/richiesta dalla ASL di Teramo e non è a conoscenza delle ragioni della contestazione. "]
["Nell'esercizio 2018 la ASL di Pescara intende approfondire la questione e verificare le ragioni della contestazione della fattura da parte della ASL di Teramo."]
[]
["In riferimento all'attività di riconciliazione tra il debito della ASL di Pescara vs la ASL di Teramo ed il loro credito nei nostri confronti, al 31/12/2017 c'è un disallinemento di importo non  significativo"]
[" (€/unità 3) dovuto ai bolli sulle fatture da ricevere al 31/12/2017, rilevati dalla ASL di Pescara al 31/12/2017 e dalla ASL di Teramo nel 2018, al momento dell'emissione della fattura. "]
["Tale disallineamento, pertanto, si è annullato già nei primi mesi del 2018, alla data di emissione delle fatture da parte della ASL di Teramo, con relativa rilevazione dei bolli."]
[]
[]
[]
[]
[]
[]
[]
[]
[]
[]
[]
[]
[]
[]
[]
[]
[]
[]
[]
[]
["POSTE STRAORDINARIE INFRAGRUPPO"]
[]
[]
["I disallineamenti rilevati al 31/12/2016, in occasione dell'attività di riconciliazione, hanno determinato le seguenti rilevazioni di poste straordinarie infragruppo nel corso dell'esercizio 2017:"]
["- Gettoni di presenza Comitato Etico, registrato da ASL Chieti come competenza 2016 e da ASL Pescara come sopravvenienza attiva 2017",null,null,null,null,null,23257.16]
[]
[]
["Inoltre, nel corso dell'esercizio 2017 sono state rilevate nelle poste straordinarie infragruppo le fatture emesse/ricevute nel 2017, dopo la data di predisposizione del bilancio di esercizio al  "]
["31/12/2016, di competenza di esercizi precedenti, rilevate anche dalle altre AASSLL tra i componenti straordinari dell'esercizio."]
[]
["Si riportano di seguito i saldi delle poste straordinarie infragruppo, movimentate nel 2017, suddivise per AA.SS.LL.:"]
[]
["Voce di CE","Voce di conto","Descrizione",null,null,"ASL Avezzano-Sulmona-L'Aquila","ASL Lanciano-Vasto-Chieti","ASL Teramo","TOTALE"]
["EA0060","0601020202","Altre sopravvenienze attive v/Aziende sanitarie pubbliche della Regione ",null,null,2408.02,61223.53,48134.71,{"$f":"SUM(F189:H189)","v":111766.26}]
["EA0160","0601020301","Insussistenze attive v/Aziende sanitarie pubbliche della Regione",null,null,0,0,0,{"$f":"SUM(F190:H190)","v":0}]
["EA0340","1001020302","Altre sopravvenienze passive v/Aziende sanitarie pubbliche della Regione ",null,null,0,0,134078.51,{"$f":"SUM(F191:H191)","v":134078.51}]
["EA0470",1001020401,"Insussistenze passive v/Aziende sanitarie pubbliche della Regione",null,null,0,0,0,{"$f":"SUM(F192:H192)","v":0}]

{"sheet":"Tab 25","index":26,"n_rows":24,"n_cols":16,"rows_kept":24,"cut":false,"hidden":false,"merged":[[17,1,17,3],[19,0,19,3],[10,3,10,5],[1,3,1,5],[2,3,2,5],[3,3,3,5],[4,3,4,5],[5,3,5,5],[6,3,6,5],[7,3,7,5],[8,3,8,5],[9,3,9,5],[0,1,0,11],[11,3,11,5],[12,3,12,5],[13,3,13,5],[14,3,14,5],[20,5,20,11],[21,5,21,11],[22,5,22,11],[23,5,23,11],[20,0,20,2],[21,0,21,2],[22,0,22,2],[23,0,23,2],[20,3,20,4]]}
[null,"Tab. 25 – Dettagli crediti per incrementi di patrimonio netto"]
["CODICE MOD. SP","DETTAGLIO CREDITI PER INCREMENTI DI PATRIMONIO NETTO DELIBERATI",null,"Delibera n°/anno",null,null,"Importo delibera","Riscosso negli esercizi precedenti (-)","Consistenza iniziale","Importo nuove deliberazioni","Riscossioni/compensazioni\n(-)","Consistenza finale",null,"Valore SP","Diff","Ctrl"]
["ABA280","  Crediti v/Stato per finanziamenti per investimenti",null,null,null,null,null,null,0,null,null,0,null,{"$f":"SUMIF('00 SP'!A:A,'Tab 25'!A3,'00 SP'!L:L)","v":0},{"$f":"L3-N3","v":0},{"$f":"IF(O3=0,\"OK\",\"CTRL\")","v":"OK"}]
[null,"     Inserire dettaglio"]
["ABA480"," Crediti v/Regione o Provincia Autonoma per finanziamenti per investimenti",null,null,null,null,{"$f":"G6+G7","v":38255},{"$f":"+H7+H6","v":0},38255,{"$f":"+J7+J6","v":0},0,38255,null,{"$f":"SUMIF('00 SP'!A:A,'Tab 25'!A5,'00 SP'!L:L)","v":38255},{"$f":"L5-N5","v":0},{"$f":"IF(O5=0,\"OK\",\"CTRL\")","v":"OK"}]
[null,"Potenz. Attrez. San. Servizio Prevenzione e Ig. Amb.",null,"Consiglio Regionale n.128/43 del 23/12/89",null,null,27719,0,{"$f":"G6","v":27719},0,0,{"$f":"I6+J6-K6","v":27719}]
[null,"Acq telefoni cell. Servizio guardia medica ",null,"Del. Consiliare 68/10 del 27/04/1993",null,null,10536,0,10536,0,0,{"$f":"I7+J7-K7","v":10536}]
["ABA490"," Crediti v/Regione o Provincia Autonoma per incremento fondo dotazione",null,null,null,null,0,null,0,null,null,{"$f":"I8+J8-K8","v":0},null,{"$f":"SUMIF('00 SP'!A:A,'Tab 25'!A8,'00 SP'!L:L)","v":0},{"$f":"L8-N8","v":0},{"$f":"IF(O8=0,\"OK\",\"CTRL\")","v":"OK"}]
[null,"     Inserire dettaglio",null,null,null,null,null,null,null,null,null,0]
["ABA500"," Crediti v/Regione o Provincia Autonoma per ripiano perdite",null,"DPF012/14  DEL 13/04/2018",null,null,14264710,null,0,14264710,0,14264710,null,{"$f":"SUMIF('00 SP'!A:A,'Tab 25'!A10,'00 SP'!L:L)","v":14264710},{"$f":"L10-N10","v":0},{"$f":"IF(O10=0,\"OK\",\"CTRL\")","v":"OK"}]
[]
["ABA510"," Crediti v/Regione per copertura debiti al 31/12/2005",null,null,null,null,0,null,0,null,null,0,null,{"$f":"SUMIF('00 SP'!A:A,'Tab 25'!A12,'00 SP'!L:L)","v":0},{"$f":"L12-N12","v":0},{"$f":"IF(O12=0,\"OK\",\"CTRL\")","v":"OK"}]
[null,"     Inserire dettaglio"]
["ABA520","  Crediti v/Regione o Provincia Autonoma per ricostituzione risorse da investimenti esercizi precedenti",null,null,null,null,0,null,0,null,null,0,null,{"$f":"SUMIF('00 SP'!A:A,'Tab 25'!A14,'00 SP'!L:L)","v":0},{"$f":"L14-N14","v":0},{"$f":"IF(O14=0,\"OK\",\"CTRL\")","v":"OK"}]
[null,"     Inserire dettaglio"]
[]
["CRED01 - Svalutazione crediti iscritti nell'attivo circolante."]
["CRED01 - NO","non sono state effettuate svalutazione di crediti inseriti nell'attivo circolante"]
[]
["Altre informazioni relative ai crediti."]
["Informazione",null,null,"Caso presente in azienda?",null,"Se sì, illustrare"]
["CRED02 - Gravami. Sui crediti dell'azienda vi sono gravami quali pignoramenti, ecc.?",null,null,null,"NO"]
["CRED03 - Cartolarizzazioni. L'azienda ha in atto operazioni di cartolarizzazione dei crediti?",null,null,null,"NO"]
["CRED04 - Altro. Esistono altre informazioni che si ritiene necessario fornire per soddisfare la regola generale secondo cui \"Se le informazioni richieste da specifiche disposizioni di legge non sono sufficienti a dare una rappresentazione veritiera e corretta, si devono fornire le informazioni complementari necessarie allo scopo\" (art. 2423 cc)?",null,null,null,"NO"]

{"sheet":"Tab 26-27-28","index":27,"n_rows":41,"n_cols":19,"rows_kept":41,"cut":false,"hidden":false,"merged":[[3,14,4,14],[5,2,7,2],[0,2,0,8],[3,2,4,2],[3,3,4,3],[3,5,4,5],[3,6,3,8],[3,9,3,13],[23,9,23,13],[23,14,24,14],[37,2,37,3],[37,4,37,5],[23,2,24,2],[23,3,24,3],[23,5,24,5],[23,6,23,8],[25,2,30,2],[34,2,34,8],[36,2,36,3],[36,4,36,6],[36,7,36,14],[37,7,37,14],[38,7,38,14],[39,7,39,14],[40,7,40,14],[40,2,40,3],[40,4,40,5],[38,2,38,3],[38,4,38,5],[39,2,39,3],[39,4,39,5]]}
[null,null,"8.     Attività finanziarie che non costituiscono immobilizzazioni"]
[]
[null,null,null,"Tab. 26 – Movimentazioni delle attività finanziarie che non costituiscono immobilizzazioni"]
[null,null,"CODICE MOD. SP","ATTIVITA' FINANZIARIE CHE NON COSTITUISCONO IMMOBILIZZAZIONI",null,"Costo\nstorico","ESERCIZI PRECEDENTI",null,null,"MOVIMENTI DELL'ESERCIZIO",null,null,null,null,"Valore\nnetto"]
[null,null,null,null,null,null,"Rivalut.","Svalut.","Valore\niniziale","Giroconti e Riclassificaz. (+/-)","Rivalut. (+)","Svalut. (-)","Acquisiz. ","Cessioni (valore netto)",null,null,"Valore SP","Diff","Ctrl"]
["ABA730CN","ABA730","ABA730"," Partecipazioni in imprese controllate",null,{"$f":"SUMIF('00 PDC SP'!$A:$A,'Tab 26-27-28'!$A6,'00 PDC SP'!H:H)","v":0},{"$f":"SUMIF('00 PDC SP'!$A:$A,'Tab 26-27-28'!$A6,'00 PDC SP'!I:I)","v":0},{"$f":"SUMIF('00 PDC SP'!$A:$A,'Tab 26-27-28'!$A6,'00 PDC SP'!J:J)","v":0},{"$f":"F6+G6-H6","v":0},0,0,0,{"$f":"SUMIF('00 PDC SP'!$A:$A,'Tab 26-27-28'!$A6,'00 PDC SP'!L:L)-(J6+K6+L6)","v":0},{"$f":"SUMIF('00 PDC SP'!$A:$A,'Tab 26-27-28'!$A6,'00 PDC SP'!M:M)","v":0},{"$f":"I6+J6+K6-L6+M6-N6","v":0},null,{"$f":"SUMIF('00 SP'!A:A,'Tab 26-27-28'!B6,'00 SP'!L:L)","v":0},{"$f":"(O6+O7+O8)-Q6","v":0},{"$f":"IF(R6=0,\"OK\",\"CTRL\")","v":"OK"}]
["ABA730CL",null,null," Partecipazioni in imprese collegate",null,{"$f":"SUMIF('00 PDC SP'!$A:$A,'Tab 26-27-28'!$A7,'00 PDC SP'!H:H)","v":0},{"$f":"SUMIF('00 PDC SP'!$A:$A,'Tab 26-27-28'!$A7,'00 PDC SP'!I:I)","v":0},{"$f":"SUMIF('00 PDC SP'!$A:$A,'Tab 26-27-28'!$A7,'00 PDC SP'!J:J)","v":0},{"$f":"F7+G7-H7","v":0},0,0,0,{"$f":"SUMIF('00 PDC SP'!$A:$A,'Tab 26-27-28'!$A7,'00 PDC SP'!L:L)-(J7+K7+L7)","v":0},{"$f":"SUMIF('00 PDC SP'!$A:$A,'Tab 26-27-28'!$A7,'00 PDC SP'!M:M)-L7","v":0},{"$f":"I7+J7+K7-L7+M7-N7","v":0}]
["ABA730AI",null,null," Partecipazioni in altre imprese",null,{"$f":"SUMIF('00 PDC SP'!$A:$A,'Tab 26-27-28'!$A8,'00 PDC SP'!H:H)","v":0},{"$f":"SUMIF('00 PDC SP'!$A:$A,'Tab 26-27-28'!$A8,'00 PDC SP'!I:I)","v":0},{"$f":"SUMIF('00 PDC SP'!$A:$A,'Tab 26-27-28'!$A8,'00 PDC SP'!J:J)","v":0},{"$f":"F8+G8-H8","v":0},0,0,0,{"$f":"SUMIF('00 PDC SP'!$A:$A,'Tab 26-27-28'!$A8,'00 PDC SP'!L:L)-(J8+K8+L8)","v":0},{"$f":"SUMIF('00 PDC SP'!$A:$A,'Tab 26-27-28'!$A8,'00 PDC SP'!M:M)-L8","v":0},{"$f":"I8+J8+K8-L8+M8-N8","v":0}]
["ABA740","ABA740","ABA740"," Altri titoli che non costituiscono immobilizzazioni",null,{"$f":"SUMIF('00 PDC SP'!$A:$A,'Tab 26-27-28'!$A9,'00 PDC SP'!H:H)","v":0},{"$f":"SUMIF('00 PDC SP'!$A:$A,'Tab 26-27-28'!$A9,'00 PDC SP'!I:I)","v":0},{"$f":"SUMIF('00 PDC SP'!$A:$A,'Tab 26-27-28'!$A9,'00 PDC SP'!J:J)","v":0},0,0,0,0,{"$f":"SUMIF('00 PDC SP'!$A:$A,'Tab 26-27-28'!$A9,'00 PDC SP'!L:L)-(J9+K9+L9)","v":0},{"$f":"SUMIF('00 PDC SP'!$A:$A,'Tab 26-27-28'!$A9,'00 PDC SP'!M:M)-L9","v":0},{"$f":"I9+J9+K9-L9+M9-N9","v":0},null,{"$f":"SUMIF('00 SP'!A:A,'Tab 26-27-28'!B9,'00 SP'!L:L)","v":0},{"$f":"(O9+O10+O11)-Q9","v":0},{"$f":"IF(R9=0,\"OK\",\"CTRL\")","v":"OK"}]
[null,null,null,"TOTALE ATTIVITA' FINANZIARIE CHE NON COSTITUISCONO IMMOBILIZZAZIONI",null,{"$f":"SUM(F6:F9)","v":0},0,0,0,0,0,0,0,0,0]
[]
[]
[null,null,null,"Tab. 27 – Elenco e informativa delle partecipazioni che non costituiscono immobilizzazioni"]
[null,null,null,"ELENCO PARTECIPAZIONI CHE NON COSTITUISCONO IMMOBILIZZAZIONI",null,"Sede","Forma\ngiuridica","Capitale","% capitale pubblico","Patrimonio netto incluso riserve","Totale\nAttivo","Risultato di esercizio","% di possesso","Valore attribuito a bilancio"]
[null,null,null," Partecipazioni in imprese controllate:"]
[null,null,null,"   …"]
[null,null,null," Partecipazioni in imprese collegate:"]
[null,null,null,"   …"]
[null,null,null," Partecipazioni in altre imprese:"]
[null,null,null,"   …"]
[]
[]
[null,null,null,"Tab. 28 – Dettagli e movimentazioni delle attività finanziarie che non costituiscono immobilizzazioni"]
[null,null,"CODICE MOD. SP","DETTAGLIO ATTIVITA' FINANZIARIE CHE NON COSTITUISCONO IMMOBILIZZAZIONI",null,"Costo\nstorico","ESERCIZI PRECEDENTI",null,null,"MOVIMENTI DELL'ESERCIZIO",null,null,null,null,"Valore\nfinale"]
[null,null,null,null,null,null,"Rivalut.","Svalut.","Valore iniziale","Giroconti e Riclassific.","Rivalut.","Svalut.","Acquisiz.","Cessioni (valore netto)"]
[null,null,"ABA730"," Partecipazioni in imprese controllate:"]
[null,null,null,"   …"]
[null,null,null," Partecipazioni in imprese collegate:"]
[null,null,null,"   …"]
[null,null,null," Partecipazioni in altre imprese:"]
[null,null,null,"   …"]
[null,null,"ABA740","Altri titoli (diversi dalle partecipazioni)"]
[null,null,null,"   …"]
[]
[null,null,"Altre informazioni relative alle attività finanziarie che non costituiscono immobilizzazioni."]
[]
[null,null,"Informazione",null,"Caso presente in azienda?",null,null,"Se sì, illustrare"]
[null,null,"AF01 - Gravami. Sulle attività finanziarie che non costituiscono immobilizzazioni vi sono gravami quali pegni, pignoramenti, ecc.?"]
[null,null,"AF02 - Contenzioso con iscrizione in bilancio. Sulle attività finanziarie che non costituiscono immobilizzazioni iscritte in bilancio sono in corso contenziosi con altre aziende sanitarie, con altri enti pubblici o con enti privati?"]
[null,null,"AF03 - Contenzioso senza iscrizione in bilancio. Esistono attività finanziarie che non costituiscono immobilizzazioni non iscritte nello stato patrimoniale perché non riconosciute come proprietà dell'azienda in seguito a contenziosi in corso con altre aziende sanitarie, con altri enti pubblici o con soggetti privati?"]
[null,null,"AF04 - Altro. Esistono altre informazioni che si ritiene necessario fornire per soddisfare la regola generale secondo cui \"Se le informazioni richieste da specifiche disposizioni di legge non sono sufficienti a dare una rappresentazione veritiera e corretta, si devono fornire le informazioni complementari necessarie allo scopo\" (art. 2423 cc)?"]

{"sheet":"Tab 29-30-31","index":28,"n_rows":45,"n_cols":15,"rows_kept":45,"cut":false,"hidden":false,"merged":[[0,0,0,6],[16,7,16,10],[17,7,17,10],[18,7,18,10],[21,0,21,4],[4,0,5,0],[4,1,5,1],[4,3,5,3],[4,4,4,5],[4,6,5,6],[3,1,3,6],[23,1,23,6],[43,0,43,4],[43,5,43,6],[44,0,44,4],[13,1,13,7],[15,0,15,3],[16,0,16,4],[16,5,16,6],[17,0,17,4],[18,0,18,4],[43,7,43,10],[44,7,44,10]]}
["9.     Disponibilità liquide"]
[]
[]
[null,"Tab. 29 – Movimentazioni delle disponibilità liquide"]
["CODICE MOD. SP","DISPONIBILITA' LIQUIDE",null,"Valore\niniziale","MOVIMENTI DELL'ESERCIZIO",null,"Valore\nfinale"]
[null,null,null,null,"Incrementi","Decrementi",null,null,null,null,null,null,"Valore SP","Diff","Ctrl"]
["ABA760","  Cassa",null,{"$f":"SUMIF('00 SP'!$A:$A,'Tab 29-30-31'!$A7,'00 SP'!I:I)","v":20000},{"$f":"SUMIF('00 SP'!$A:$A,'Tab 29-30-31'!$A7,'00 SP'!J:J)","v":90884.92},{"$f":"SUMIF('00 SP'!$A:$A,'Tab 29-30-31'!$A7,'00 SP'!K:K)","v":90884.92},{"$f":"D7+E7-F7","v":20000},null,null,null,null,null,{"$f":"SUMIF('00 SP'!A:A,'Tab 29-30-31'!A7,'00 SP'!L:L)","v":20000},{"$f":"G7-M7","v":0},{"$f":"IF(N7=0,\"OK\",\"CTRL\")","v":"OK"}]
["ABA770","  Istituto Tesoriere",null,{"$f":"SUMIF('00 SP'!$A:$A,'Tab 29-30-31'!$A8,'00 SP'!I:I)","v":26889884.399999999},{"$f":"SUMIF('00 SP'!$A:$A,'Tab 29-30-31'!$A8,'00 SP'!J:J)","v":674025083},{"$f":"SUMIF('00 SP'!$A:$A,'Tab 29-30-31'!$A8,'00 SP'!K:K)","v":631356001.04999995},{"$f":"D8+E8-F8","v":69558966.350000024},null,null,null,null,null,{"$f":"SUMIF('00 SP'!A:A,'Tab 29-30-31'!A8,'00 SP'!L:L)","v":69558966.350000024},{"$f":"G8-M8","v":0},{"$f":"IF(N8=0,\"OK\",\"CTRL\")","v":"OK"}]
["ABA780","  Tesoreria Unica",null,{"$f":"SUMIF('00 SP'!$A:$A,'Tab 29-30-31'!$A9,'00 SP'!I:I)","v":0},{"$f":"SUMIF('00 SP'!$A:$A,'Tab 29-30-31'!$A9,'00 SP'!J:J)","v":0},{"$f":"SUMIF('00 SP'!$A:$A,'Tab 29-30-31'!$A9,'00 SP'!K:K)","v":0},0,null,null,null,null,null,{"$f":"SUMIF('00 SP'!A:A,'Tab 29-30-31'!A9,'00 SP'!L:L)","v":0},{"$f":"G9-M9","v":0},{"$f":"IF(N9=0,\"OK\",\"CTRL\")","v":"OK"}]
["ABA790","  Conto corrente postale",null,{"$f":"SUMIF('00 SP'!$A:$A,'Tab 29-30-31'!$A10,'00 SP'!I:I)","v":1570006.74},{"$f":"SUMIF('00 SP'!$A:$A,'Tab 29-30-31'!$A10,'00 SP'!J:J)","v":1732809.77},{"$f":"SUMIF('00 SP'!$A:$A,'Tab 29-30-31'!$A10,'00 SP'!K:K)","v":75200.34},3227616.17,null,null,null,null,null,{"$f":"SUMIF('00 SP'!A:A,'Tab 29-30-31'!A10,'00 SP'!L:L)","v":3227616.17},{"$f":"G10-M10","v":0},{"$f":"IF(N10=0,\"OK\",\"CTRL\")","v":"OK"}]
[]
[]
["DL01 - Fondi vincolati."]
["DL01 - no"]
[]
["Altre informazioni relative alle disponibilità liquide"]
["Informazione",null,null,null,null,"Caso presente in azienda?",null,"Se sì, illustrare"]
["DL02 - Gravami. Sulle disponibilità liquide  dell'azienda vi sono gravami quali pignoramenti, ecc.?",null,null,null,null,null,"NO"]
["DL03 - Altro. Esistono altre informazioni che si ritiene necessario fornire per soddisfare la regola generale secondo cui \"Se le informazioni richieste da specifiche disposizioni di legge non sono sufficienti a dare una rappresentazione veritiera e corretta, si devono fornire le informazioni complementari necessarie allo scopo\" (art. 2423 cc)?",null,null,null,null,null,"si","l'incremento di liquidità sui  c/c postali di circa 1,7 mln è attribuibile al fatto che dal 2016 , gli stessi,  sono stati pignorati e pertanto non è stato possibile effettuare i relativi prelievi .Solo in aprile del 2018 si è potuto procedere al prelievo delle giacenze  a seguito della comunicazione da parte di Poste Italiane dell'avvenuto svincolo "]
[null,null,null,null,null,null,null,". "]
[]
["10.     Ratei e risconti attivi"]
[]
[null,"Tab. 30 – Ratei attivi – Dettaglio a livello di ricavo (codice CE)"]
["CODICE MOD. CE","RATEI ATTIVI",null,"Importo","di cui\noltre 12 mesi"]
[null,"DETTAGLIO A LIVELLO DI CODICE DI RICAVO CE"]
[null,"…"]
[null,"…"]
[]
[]
[]
[]
[null,"Tab. 31 – Risconti attivi – Dettaglio a livello di costo (codice CE)"]
["CODICE MOD. CE","RISCONTI ATTIVI",null,"Importo","di cui\noltre 12 mesi"]
[null,"DETTAGLIO A LIVELLO DI CODICE DI COSTO CE",null,{"$f":"D36+D37+D41","v":8698.51}]
["BA1690","B.2.B.1.11.A)  Premi di assicurazione - R.C. Professionale ",null,0]
["BA1700","B.2.B.1.11.B)  Premi di assicurazione - Altri premi assicurativi",null,0]
[null,"per rischi su immobili",null,0]
[null,"RC automezzi",null,0]
[null,"altri premi di assicurazione",null,0]
["BA2000","B.4.A) Fitti passivi",null,8698.51]
[]
[]
["Informazione",null,null,null,null,"Caso presente in azienda?",null,"Se sì, illustrare"]
["RR01 - Altro. Esistono altre informazioni che si ritiene necessario fornire per soddisfare la regola generale secondo cui \"Se le informazioni richieste da specifiche disposizioni di legge non sono sufficienti a dare una rappresentazione veritiera e corretta, si devono fornire le informazioni complementari necessarie allo scopo\" (art. 2423 cc)?",null,null,null,null,null,"NO"]

{"sheet":"Tab 32","index":29,"n_rows":37,"n_cols":22,"rows_kept":37,"cut":false,"hidden":false,"merged":[[4,10,4,12],[1,0,1,4],[4,0,5,0],[4,1,5,1],[4,3,5,3],[4,4,4,8],[4,9,5,9],[3,1,3,12]]}
[]
["11. Patrimonio netto"]
[]
[null,"Tab. 32 – Consistenza, movimentazioni e utilizzazioni delle poste di patrimonio netto"]
["CODICE MOD. SP","PATRIMONIO NETTO",null,"Consistenza iniziale","MOVIMENTI DELL'ESERCIZIO",null,null,null,null,"Consistenza finale","RIEPILOGO DELLE UTILIZZAZIONI EFFETTUATE NEI TRE PRECEDENTI ESERCIZI"]
[null,null,null,null,"Giroconti e Riclassifiche","Assegnazioni nel corso dell'esercizio","Utilizzi per sterilizzazioni nel corso dell'esercizio","Altre variazioni\n(+/-)","Risultato di esercizio\n(+/-)",null,"Copertura perdite","Sterilizzazioni","Altre\nmotivazioni",null,"Valore SP","Diff","Ctrl"]
["PAA000"," FONDO DI DOTAZIONE",null,{"$f":"SUMIF('00 SP'!$A:$A,'Tab 32'!$A7,'00 SP'!I:I)","v":0},0,{"$f":"SUMIF('00 SP'!$A:$A,'Tab 32'!$A7,'00 SP'!J:J)","v":0},0,{"$f":"SUMIF('00 SP'!$A:$A,'Tab 32'!$A7,'00 SP'!$K:$K)-G7+E7","v":0},{"$f":"E7+F7-(G7+H7)","v":0},{"$f":"D7+I7","v":0},0,0,0,null,{"$f":"SUMIF('00 SP'!A:A,'Tab 32'!A7,'00 SP'!L:L)","v":0},{"$f":"J7-O7","v":0},{"$f":"IF(P7=0,\"OK\",\"CTRL\")","v":"OK"}]
["PAA010"," FINANZIAMENTI PER INVESTIMENTI:",null,{"$f":"D9+D10+D14+D15+D16","v":122310905.73999999},{"$f":"E9+E10+E14+E15+E16","v":0},6628571.3899999997,{"$f":"G9+G10+G14+G15+G16","v":9776706.6500000004},0.42999999993480742,-3148135.6900000004,119162770.04999998,{"$f":"K9+K10+K14+K15+K16","v":0},{"$f":"L9+L10+L14+L15+L16","v":9776706.6500000004},{"$f":"M9+M10+M14+M15+M16","v":0},null,{"$f":"SUMIF('00 SP'!A:A,'Tab 32'!A8,'00 SP'!L:L)","v":119162770.04999998},{"$f":"J8-O8","v":0},{"$f":"IF(P8=0,\"OK\",\"CTRL\")","v":"OK"}]
["PAA020","   Finanziamenti per beni di prima dotazione",null,{"$f":"SUMIF('00 SP'!$A:$A,'Tab 32'!$A9,'00 SP'!I:I)","v":67286349.670000002},0,{"$f":"SUMIF('00 SP'!$A:$A,'Tab 32'!$A9,'00 SP'!J:J)-E9","v":0},3577467.65,{"$f":"SUMIF('00 SP'!$A:$A,'Tab 32'!$A9,'00 SP'!$K:$K)-G9+E9","v":0.28000000026077032},{"$f":"E9+F9-(G9+H9)","v":-3577467.93},{"$f":"D9+I9","v":63708881.740000002},0,{"$f":"G9","v":3577467.65},0,null,{"$f":"SUMIF('00 SP'!A:A,'Tab 32'!A9,'00 SP'!L:L)","v":63708881.740000002},0,"OK"]
["PAA030","   Finanziamenti da Stato per investimenti",null,{"$f":"SUM(D11:D13)","v":0},0,{"$f":"SUMIF('00 SP'!$A:$A,'Tab 32'!$A10,'00 SP'!J:J)","v":0},0,0,0,0,0,0,0,null,{"$f":"SUMIF('00 SP'!A:A,'Tab 32'!A10,'00 SP'!L:L)","v":0},0,"OK"]
["PAA040","       Finanziamenti da Stato per investimenti - ex art. 20 legge 67/88",null,{"$f":"SUMIF('00 SP'!$A:$A,'Tab 32'!$A11,'00 SP'!I:I)","v":0},0,{"$f":"SUMIF('00 SP'!$A:$A,'Tab 32'!$A11,'00 SP'!J:J)","v":0},0,{"$f":"SUMIF('00 SP'!$A:$A,'Tab 32'!$A11,'00 SP'!$K:$K)-G11+E11","v":0},{"$f":"E11+F11-(G11+H11)","v":0},0,0,0,0,null,{"$f":"SUMIF('00 SP'!A:A,'Tab 32'!A11,'00 SP'!L:L)","v":0},0,"OK",null,27202401.649999999,692956.06,103432.03,26612877.620000001]
["PAA050","       Finanziamenti da Stato per investimenti - ricerca",null,{"$f":"SUMIF('00 SP'!$A:$A,'Tab 32'!$A12,'00 SP'!I:I)","v":0},0,{"$f":"SUMIF('00 SP'!$A:$A,'Tab 32'!$A12,'00 SP'!J:J)","v":0},0,{"$f":"SUMIF('00 SP'!$A:$A,'Tab 32'!$A12,'00 SP'!$K:$K)-G12+E12","v":0},{"$f":"E12+F12-(G12+H12)","v":0},0,0,0,0,null,{"$f":"SUMIF('00 SP'!A:A,'Tab 32'!A12,'00 SP'!L:L)","v":0},0,"OK",null,16671881.27,899669.67,2423420.38,18195631.98]
["PAA060","       Finanziamenti da Stato per investimenti - altro",null,{"$f":"SUMIF('00 SP'!$A:$A,'Tab 32'!$A13,'00 SP'!I:I)","v":0},0,{"$f":"SUMIF('00 SP'!$A:$A,'Tab 32'!$A13,'00 SP'!J:J)","v":0},0,{"$f":"SUMIF('00 SP'!$A:$A,'Tab 32'!$A13,'00 SP'!$K:$K)-G13+E13","v":0},0,0,0,0,0,null,{"$f":"SUMIF('00 SP'!A:A,'Tab 32'!A13,'00 SP'!L:L)","v":0},0,"OK",null,{"$f":"SUM(S11:S12)","v":43874282.920000002},{"$f":"SUM(T11:T12)","v":1592625.73},2526852.4099999997,44808509.600000001]
["PAA070","   Finanziamenti da Regione per investimenti",null,{"$f":"SUMIF('00 SP'!$A:$A,'Tab 32'!$A14,'00 SP'!I:I)","v":38902957.799999997},0,{"$f":"SUMIF('00 SP'!$A:$A,'Tab 32'!$A14,'00 SP'!J:J)","v":122252.5},1468545,{"$f":"SUMIF('00 SP'!$A:$A,'Tab 32'!$A14,'00 SP'!$K:$K)-G14+E14","v":-0.15999999991618097},-1346292.34,{"$f":"D14+I14","v":37556665.459999993},0,{"$f":"G14","v":1468545},0,null,{"$f":"SUMIF('00 SP'!A:A,'Tab 32'!A14,'00 SP'!L:L)","v":37556665.459999993},0,"OK"]
["PAA080","   Finanziamenti da altri soggetti pubblici per investimenti",null,{"$f":"SUMIF('00 SP'!$A:$A,'Tab 32'!$A15,'00 SP'!I:I)","v":0},0,{"$f":"SUMIF('00 SP'!$A:$A,'Tab 32'!$A15,'00 SP'!J:J)","v":0},0,{"$f":"SUMIF('00 SP'!$A:$A,'Tab 32'!$A15,'00 SP'!$K:$K)-G15+E15","v":0},0,0,0,0,0,null,{"$f":"SUMIF('00 SP'!A:A,'Tab 32'!A15,'00 SP'!L:L)","v":0},0,"OK"]
["PAA090","   Finanziamenti per investimenti da rettifica contributi in conto esercizio",null,{"$f":"SUMIF('00 SP'!$A:$A,'Tab 32'!$A16,'00 SP'!I:I)","v":16121598.27},0,{"$f":"SUMIF('00 SP'!$A:$A,'Tab 32'!$A16,'00 SP'!J:J)","v":6506318.8899999997},4730694,{"$f":"SUMIF('00 SP'!$A:$A,'Tab 32'!$A16,'00 SP'!$K:$K)-G16+E16","v":0.30999999959021807},1775624.58,17897222.850000001,0,{"$f":"G16","v":4730694},0,null,{"$f":"SUMIF('00 SP'!A:A,'Tab 32'!A16,'00 SP'!L:L)","v":17897222.850000001},0,"OK",null,{"$f":"F16-G16","v":1775624.8899999997},22997669.739999998]
["PAA100"," RISERVE DA DONAZIONI E LASCITI VINCOLATI AD INVESTIMENTI",null,{"$f":"SUMIF('00 SP'!$A:$A,'Tab 32'!$A17,'00 SP'!I:I)","v":170994.85},0,{"$f":"SUMIF('00 SP'!$A:$A,'Tab 32'!$A17,'00 SP'!J:J)","v":78486.47},48286,{"$f":"SUMIF('00 SP'!$A:$A,'Tab 32'!$A17,'00 SP'!$K:$K)-G17+E17","v":6.9999999999708962E-2},30200.400000000001,{"$f":"D17+I17","v":201195.25},0,{"$f":"G17","v":48286},0,null,{"$f":"SUMIF('00 SP'!A:A,'Tab 32'!A17,'00 SP'!L:L)","v":201195.25},0,"OK",null,null,17343741.93]
["PAA110"," ALTRE RISERVE:",null,{"$f":"SUM(D19:D23)","v":2730000},0,0,0,0,0,2730000,0,0,0,null,{"$f":"SUMIF('00 SP'!A:A,'Tab 32'!A18,'00 SP'!L:L)","v":2730000},0,"OK",null,692956,103432]
["PAA120","   Riserve da rivalutazioni",null,{"$f":"SUMIF('00 SP'!$A:$A,'Tab 32'!$A19,'00 SP'!I:I)","v":0},0,{"$f":"SUMIF('00 SP'!$A:$A,'Tab 32'!$A19,'00 SP'!J:J)","v":0},0,{"$f":"SUMIF('00 SP'!$A:$A,'Tab 32'!$A19,'00 SP'!$K:$K)-G19+E19","v":0},{"$f":"E19+F19-(G19+H19)","v":0},0,0,0,0,null,{"$f":"SUMIF('00 SP'!A:A,'Tab 32'!A19,'00 SP'!L:L)","v":0},0,"OK",null,899670,2423420]
["PAA130","   Riserve da plusvalenze da reinvestire",null,{"$f":"SUMIF('00 SP'!$A:$A,'Tab 32'!$A20,'00 SP'!I:I)","v":0},0,{"$f":"SUMIF('00 SP'!$A:$A,'Tab 32'!$A20,'00 SP'!J:J)","v":0},0,{"$f":"SUMIF('00 SP'!$A:$A,'Tab 32'!$A20,'00 SP'!$K:$K)-G20+E20","v":0},0,0,0,0,0,null,{"$f":"SUMIF('00 SP'!A:A,'Tab 32'!A20,'00 SP'!L:L)","v":0},0,"OK",null,{"$f":"SUM(S18:S19)","v":1592626}]
["PAA140","   Contributi da reinvestire",null,{"$f":"SUMIF('00 SP'!$A:$A,'Tab 32'!$A21,'00 SP'!I:I)","v":0},0,{"$f":"SUMIF('00 SP'!$A:$A,'Tab 32'!$A21,'00 SP'!J:J)","v":0},0,{"$f":"SUMIF('00 SP'!$A:$A,'Tab 32'!$A21,'00 SP'!$K:$K)-G21+E21","v":0},0,0,0,0,0,null,{"$f":"SUMIF('00 SP'!A:A,'Tab 32'!A21,'00 SP'!L:L)","v":0},0,"OK"]
["PAA150","   Riserve da utili di esercizio destinati ad investimenti",null,{"$f":"SUMIF('00 SP'!$A:$A,'Tab 32'!$A22,'00 SP'!I:I)","v":0},0,{"$f":"SUMIF('00 SP'!$A:$A,'Tab 32'!$A22,'00 SP'!J:J)","v":0},0,{"$f":"SUMIF('00 SP'!$A:$A,'Tab 32'!$A22,'00 SP'!$K:$K)-G22+E22","v":0},0,0,0,0,0,null,{"$f":"SUMIF('00 SP'!A:A,'Tab 32'!A22,'00 SP'!L:L)","v":0},0,"OK"]
["PAA160","   Riserve diverse",null,{"$f":"SUMIF('00 SP'!$A:$A,'Tab 32'!$A23,'00 SP'!I:I)","v":2730000},0,{"$f":"SUMIF('00 SP'!$A:$A,'Tab 32'!$A23,'00 SP'!J:J)","v":0},0,{"$f":"SUMIF('00 SP'!$A:$A,'Tab 32'!$A23,'00 SP'!$K:$K)-G23+E23","v":0},0,2730000,0,0,0,null,{"$f":"SUMIF('00 SP'!A:A,'Tab 32'!A23,'00 SP'!L:L)","v":2730000},0,"OK",null,616654.79]
["PAA170"," CONTRIBUTI PER RIPIANO PERDITE:",null,{"$f":"D25+D26+D27","v":30778127.57},0,14264710,0,30778127.57,{"$f":"E24+F24-(G24+H24)","v":-16513417.57},{"$f":"D24+I24","v":14264710},0,0,0,null,{"$f":"SUMIF('00 SP'!A:A,'Tab 32'!A24,'00 SP'!L:L)","v":14264710},0,"OK",null,851890.05]
["PAA180","   Contributi per copertura debiti al 31/12/2005",null,{"$f":"SUMIF('00 SP'!$A:$A,'Tab 32'!$A25,'00 SP'!I:I)","v":0},0,{"$f":"SUMIF('00 SP'!$A:$A,'Tab 32'!$A25,'00 SP'!J:J)","v":0},0,{"$f":"SUMIF('00 SP'!$A:$A,'Tab 32'!$A25,'00 SP'!$K:$K)-G25+E25","v":0},0,0,0,0,0,null,{"$f":"SUMIF('00 SP'!A:A,'Tab 32'!A25,'00 SP'!L:L)","v":0},0,"OK",null,{"$f":"SUM(S23:S24)","v":1468544.84}]
["PAA190","   Contributi per ricostituzione risorse da investimenti esercizi precedenti",null,{"$f":"SUMIF('00 SP'!$A:$A,'Tab 32'!$A26,'00 SP'!I:I)","v":0},0,{"$f":"SUMIF('00 SP'!$A:$A,'Tab 32'!$A26,'00 SP'!J:J)","v":0},0,{"$f":"SUMIF('00 SP'!$A:$A,'Tab 32'!$A26,'00 SP'!$K:$K)-G26+E26","v":0},0,0,0,0,0,null,{"$f":"SUMIF('00 SP'!A:A,'Tab 32'!A26,'00 SP'!L:L)","v":0},0,"OK"]
["PAA200","   Altro",null,{"$f":"SUMIF('00 SP'!$A:$A,'Tab 32'!$A27,'00 SP'!I:I)","v":30778127.57},null,{"$f":"SUMIF('00 SP'!$A:$A,'Tab 32'!$A27,'00 SP'!J:J)","v":14264710},0,{"$f":"SUMIF('00 SP'!$A:$A,'Tab 32'!$A27,'00 SP'!$K:$K)-G27+E27","v":30778127.57},-16513417.57,14264710,0,0,0,null,{"$f":"SUMIF('00 SP'!A:A,'Tab 32'!A27,'00 SP'!L:L)","v":14264710},0,"OK"]
["PAA210"," UTILI (PERDITE) PORTATI A NUOVO",null,{"$f":"SUMIF('00 SP'!$A:$A,'Tab 32'!$A28,'00 SP'!I:I)","v":-30778127.57},0,{"$f":"SUMIF('00 SP'!$A:$A,'Tab 32'!$A28,'00 SP'!J:J)","v":30778127.57},0,{"$f":"SUMIF('00 SP'!$A:$A,'Tab 32'!$A28,'00 SP'!$K:$K)-G28+E28","v":14264709.560000001},16513418.01,{"$f":"D28+I28","v":-14264709.560000001},0,0,0,null,{"$f":"SUMIF('00 SP'!A:A,'Tab 32'!A28,'00 SP'!L:L)","v":-14264709.560000001},0,"OK"]
["PAA220"," UTILE (PERDITA) D'ESERCIZIO",null,{"$f":"SUMIF('00 SP'!$A:$A,'Tab 32'!$A29,'00 SP'!I:I)","v":-14264709.560000001},0,{"$f":"SUMIF('00 SP'!$A:$A,'Tab 32'!$A29,'00 SP'!J:J)","v":14264709.560000001},0,{"$f":"SUMIF('00 SP'!$A:$A,'Tab 32'!$A29,'00 SP'!$K:$K)-G29+E29","v":13609624.26},{"$f":"E29+F29-(G29+H29)","v":655085.30000000075},{"$f":"D29+I29","v":-13609624.26},0,0,0,null,{"$f":"SUMIF('00 SP'!A:A,'Tab 32'!A29,'00 SP'!L:L)","v":-13609624.26},0,"OK"]
[null,"TOTALE PATRIMONIO NETTO",null,{"$f":"D7+D8+D17+D18+D24+D28+D29","v":110947191.03},0,{"$f":"F7+F8+F17+F18+F24+F28+F29","v":66014604.990000002},{"$f":"G7+G8+G17+G18+G24+G28+G29","v":9824992.6500000004},58652461.890000001,-2462849.5499999989,{"$f":"J7+J8+J17+J18+J24+J28+J29","v":108484341.47999997},0,9824992.6500000004,0]
[]
[]
[null,"riconciliazione con le tabelle 1 , 5 con tab 32"]
[]
["tab 1","sterilizzazione beni immateriali",null,136552]
["tab 5","sterilizzazione beni materiali",null,9688441]
["tab 32","totale sterilizzazione patrimonio netto",null,{"$f":"SUM(D35:D36)","v":9824993}]

{"sheet":"Acquisti con fdi propri ","index":30,"n_rows":88,"n_cols":5,"rows_kept":88,"cut":false,"hidden":false,"merged":[[64,0,64,4],[86,0,86,1],[51,0,51,4],[0,0,0,4],[2,0,2,4],[13,0,13,4],[25,0,25,4],[38,0,38,4],[85,0,85,1],[79,0,79,4],[80,0,80,1],[81,0,81,1],[82,0,82,1],[83,0,83,1],[84,0,84,1]]}
["BENI ACQUISTATI CON CONTRIBUTI IN C/ESERCIZIO: DETTAGLIO AMMORTAMENTI E STERILIZZAZIONI"]
[]
["ACQUISTI 2012"]
["Conto","Descrizione","Costo Acquisto","Ammortamento 2016","Sterilizzazione 2016"]
[101010602,"Licenze d'uso software",25593.31,0,0]
[101020301,"Fabbricati strumentali (indisponibili)",227232.72,6816.98,{"$f":"D6","v":6816.98}]
[101020404,"Macchinari generici",545059.68000000005,72262,72262]
[101020502,"Attrezzature generiche",1140017,178316,178316]
[101020601,"Mobili e arredi",359431,44928,44928]
[101020703,"Altri mezzi di trasporto",55387.89,0,0]
[101020903,"Computer e macchinari elettronici",205284.86,23847,23847]
[101020904,"Altri beni materiali",31624.91,2758,2758]
["Totale","Beni acquistati nell'esercizio 2012",{"$f":"SUM(C5:C12)","v":2589631.37},{"$f":"SUM(D5:D12)","v":328927.98},{"$f":"SUM(E5:E12)","v":328927.98}]
["ACQUISTI 2013"]
["Conto","Descrizione","Costo Acquisto","Ammortamento 2016","Sterilizzazione 2016"]
[101010602,"Licenze d'uso software",224284.03,44856.81,44856.81]
[101020301,"Fabbricati strumentali (indisponibili)",138663.92000000001,4159.92,4159.92]
[101020404,"Macchinari generici",419470.7,52921.5,52921.5]
[101020502,"Attrezzature generiche",2574629.5099999998,514285.61,{"$f":"D19","v":514285.61}]
[101020601,"Mobili e arredi",358456.2,44808.27,44808.27]
[101020703,"Altri mezzi di trasporto",178564.08,42806,44641.02]
[101020903,"Computer e macchinari elettronici",295355.53999999998,59071.93,59071.93]
[101020904,"Altri beni materiali",17385.939999999999,3477.18,3477.18]
["Totale","Beni acquistati nell'esercizio 2013",{"$f":"SUM(C16:C23)","v":4206809.92},{"$f":"SUM(D16:D23)","v":766387.22000000009},{"$f":"SUM(E16:E23)","v":768222.24000000011}]
[]
["ACQUISTI 2014"]
["Conto","Descrizione","Costo Acquisto","Ammortamento 2016","Sterilizzazione 2016"]
[101010602,"Licenze d'uso software",183732.84,{"$f":"32300.91+4445.8","v":36746.71},{"$f":"D28","v":36746.71}]
[101020301,"Fabbricati strumentali (indisponibili)",579825.56999999995,17395,17395]
[101020404,"Macchinari generici",313763.59000000003,39803,39803]
[101020502,"Attrezzature generiche",3356359.63,{"$f":"632196+36304.8","v":668500.80000000005},668500.80000000005]
[101020601,"Mobili e arredi",457379,57283,57283]
[101020703,"Altri mezzi di trasporto",46142.3,11536,11536]
[101020903,"Computer e macchinari elettronici",248046,49609,49609]
[101020904,"Altri beni materiali",7241.73,1448,1448]
["Totale","Beni acquistati nell'esercizio 2014",{"$f":"SUM(C28:C35)","v":5192490.66},{"$f":"SUM(D28:D35)","v":882321.51},{"$f":"SUM(E28:E35)","v":882321.51}]
[]
[]
["ACQUISTI 2015"]
["Conto","Descrizione","Costo Acquisto","Ammortamento 2016","Sterilizzazione 2016"]
[101010602,"Licenze d'uso software",79589,15917,{"$f":"D41","v":15917}]
[101020301,"Fabbricati strumentali (indisponibili)",0,0,0]
[101020404,"Macchinari generici",89338,12723,12723]
[101020502,"Attrezzature generiche",3612973,717845,717845]
[101020601,"Mobili e arredi",430935,53893,53893]
[101020703,"Altri mezzi di trasporto",53135,13283.76,13283.76]
[101020903,"Computer e macchinari elettronici",363651,72730,72730]
[101020904,"Altri beni materiali",23623,4725,4725]
["Totale","Beni acquistati nell'esercizio 2015",{"$f":"SUM(C41:C48)","v":4653244},{"$f":"SUM(D41:D48)","v":891116.76},{"$f":"SUM(E41:E48)","v":891116.76}]
[]
[]
["ACQUISTI 2016"]
["Conto","Descrizione","Costo Acquisto","Ammortamento 2016","Sterilizzazione 2016"]
[101010602,"Licenze d'uso software",161547.51999999999,32310,{"$f":"D54","v":32310}]
[101020301,"Fabbricati strumentali (indisponibili)",0,0,0]
[101020404,"Macchinari generici",174746.44,22170,22170]
[101020502,"Attrezzature generiche",6445420.5099999998,1289084,1289084]
[101020601,"Mobili e arredi",344744.41,43095,43095]
[101020703,"Altri mezzi di trasporto",144301.6,36075,36075]
[101020903,"Computer e macchinari elettronici",74042,14808,14808]
[101020904,"Altri beni materiali",3261.87,646,646]
["Totale","Beni acquistati nell'esercizio 2016",{"$f":"SUM(C54:C61)","v":7348064.3499999996},{"$f":"SUM(D54:D61)","v":1438188},{"$f":"SUM(E54:E61)","v":1438188}]
[]
[]
["ACQUISTI 2017"]
["Conto","Descrizione","Costo Acquisto","Ammortamento 2017","Sterilizzazione 2017"]
[101010602,"Licenze d'uso software",191469,3156,3156]
[101020301,"Fabbricati strumentali (indisponibili)",0,0,0]
[101020404,"Macchinari generici",218527,5356,5356]
[101020502,"Attrezzature generiche",5494273,386899,386899]
[101020601,"Mobili e arredi",215123,12574,12574]
[101020703,"Altri mezzi di trasporto",123030,8646,8646]
[101020903,"Computer e macchinari elettronici",261895,6992,6992]
[101020904,"Altri beni materiali",2001,126,126]
["Totale","Beni acquistati nell'esercizio 2017",{"$f":"SUM(C67:C74)","v":6506318},{"$f":"SUM(D67:D74)","v":423749},423749]
[]
[]
[]
[]
["RIEPILOGO"]
["Descrizione",null,"Costo di Acquisto","Ammortamento 2017","Sterilizzazione 2017"]
["Beni acquistati nel 2012 con contributi in c/esercizio",null,{"$f":"C13","v":2589631.37},{"$f":"D13","v":328927.98},{"$f":"D82","v":328927.98}]
["Beni acquistati nel 2013 con contributi in c/esercizio",null,{"$f":"SUM(C24)","v":4206809.92},{"$f":"SUM(D24)","v":766387.22000000009},{"$f":"D83","v":766387.22000000009}]
["Beni acquistati nel 2014 con contributi in c/esercizio",null,{"$f":"SUM(C36)","v":5192490.66},{"$f":"SUM(D36)","v":882321.51},{"$f":"D84","v":882321.51}]
["Beni acquistati nel 2015 con contributi in c/esercizio",null,{"$f":"C49","v":4653244},{"$f":"D49","v":891116.76},{"$f":"D85","v":891116.76}]
["Beni acquistati nel 2016 con contributi in c/esercizio",null,{"$f":"C62","v":7348064.3499999996},{"$f":"D62","v":1438188},{"$f":"E62","v":1438188}]
["Beni acquistati nel 2017 con contributi in c/esercizio",null,{"$f":"C75","v":6506318},{"$f":"D75","v":423749},423749]
["TOTALE AMMORTAMENTI E STERILIZZAZIONI",null,{"$f":"SUM(C82:C86)","v":23990240.299999997},{"$f":"SUM(D82:D86)","v":4306941.4700000007},{"$f":"SUM(E82:E86)","v":4306941.4700000007}]

{"sheet":"Tab 33","index":31,"n_rows":38,"n_cols":15,"rows_kept":38,"cut":false,"hidden":false,"merged":[[4,8,4,14],[2,1,2,6],[4,0,5,0],[4,1,5,1],[4,3,4,6],[4,7,5,7]]}
[]
[]
[null,"Tab. 33 – Dettaglio finanziamenti per investimenti (ultimi 3 esercizi)"]
[]
["CODICE MOD. SP","DETTAGLIO FINANZIAMENTI PER INVESTIMENTI RICEVUTI\nNEGLI ULTIMI TRE ESERCIZI",null,"INFORMAZIONI",null,null,null,"Consistenza all'inizio dell'esercizio 2016","MOVIMENTI DELL'ESERCIZIO"]
[null,null,null,"Vincolato o indistinto","Esercizio di  assegnazione","Estremi del provvedimento","Destinazione (tipologia di beni acquisiti)",null,"Giroconti e Riclassifiche","Assegnazioni nel corso dell'esercizio","Utilizzo a fronte di sterilizzazioni nel corso dell'esercizio","Altre variazioni\n(+/-)","Consistenza al 31 12 2016\nfinale","di cui\nriscossi","di cui\ninvestiti"]
["PAA020","  Per beni di prima dotazione:",null,null,null,null,null,67286349,null,null,-3577468,null,{"$f":"H7+I7+J7+K7+L7","v":63708881},63708881,63708881]
[null,"    ... assegnati in data antecedente al 1/1/x-2"]
[null,"    ... assegnati in data antecedente al 1/1/x-2"]
[null,"    ... assegnati a partire dall'1/1/2010 (dettagliare)"]
[]
["PAA030","  Da Stato:"]
[null,"    ... assegnati in data antecedente al 1/1/2009"]
[null,"    ... assegnati a partire dall'1/1/2009 (dettagliare)"]
[]
["PAA070","  Da Regione:"]
[null,"    ... assegnati in data antecedente al 1/1/2009",null,null,null,null,null,38902957,122253,0,{"$f":"-616655-851890","v":-1468545},null,{"$f":"H17+I17+J17+K17+L17","v":37556665},{"$f":"M17","v":37556665},{"$f":"N17","v":37556665}]
[null,"    ... assegnati a partire dall'1/1/2009(dettagliare)"]
[]
[null,"art 20 L.67/80",null,null,null,null,null,16491851.880000001,null,null,-851890.05,null,{"$f":"H20+K20","v":15639961.83}]
[21296703," c/capitale e P.O.",null,null,null,null,null,{"$f":"22411105.92-3465620","v":18945485.920000002},null,null,-616654.79,null,{"$f":"H21+K21","v":18328831.130000003}]
[null,"P.O.",null,null,null,null,null,3465619,122253,null,null,null,{"$f":"H22+I22","v":3587872}]
[null,"  utilizzo  risconti passivi di  progetti obiettivo regionali "]
[null,"  utilizzo  risconti passivi di  progetti obiettivo regionali "]
[null,"  utilizzo  risconti passivi di  progetti obiettivo regionali "]
[null,"  utilizzo  risconti passivi di  progetti obiettivo regionali "]
[]
[]
["PAA080","  Da altri soggetti pubblici:",null,null,null,null,null,null,null,null,null,null,{"$f":"H29+J29+K29+L29","v":0}]
[null,"    ... assegnati in data antecedente al 1/1/x-2"]
[null,"    ... assegnati a partire dall'1/1/x-2 (dettagliare)"]
["PAA090","  Per investimenti da rettifica contributi in conto esercizio:",null,null,null,null,null,{"$f":"SUM(H33:H38)","v":16121698},{"$f":"SUM(I33:I38)","v":0},6506319,{"$f":"SUM(K33:K38)","v":-4730745},{"$f":"SUM(L33:L38)","v":0},{"$f":"H32+I32+J32+K32+L32","v":17897272},{"$f":"M32","v":17897272},{"$f":"N32","v":17897272}]
[null,"    ... assegnati in data antecedente al 1/1/2013",null,null,null,null,null,823391,null,null,-328982,null,{"$f":"H33+I33+J33+K33+L33","v":494409}]
[null,"    ... assegnati a partire dall'1/1/2013",null,null,null,null,null,1656683,null,null,-766387,0,{"$f":"H34+I34+J34+K34+L34","v":890296}]
[null,"    ... assegnati a partire dall'1/1/2014",null,null,null,null,null,3225726,null,null,-882322,null,2343404]
[null,"    ... assegnati a partire dall'1/1/2015",null,null,null,null,null,3419967,null,null,-891117,null,2528850]
[null,"    ... assegnati a partire dall'1/1/2016",null,null,null,null,null,6995931,null,null,-1438188]
[null,"    ... assegnati a partire dall'1/1/2017",null,null,null,null,null,0,null,6506319,-423749,0,6082570]

{"sheet":"Tab 34-35 ","index":32,"n_rows":71,"n_cols":7,"rows_kept":71,"cut":false,"hidden":false,"merged":[[67,0,67,1],[68,0,68,1],[69,0,69,1],[61,0,61,1],[62,0,62,1],[63,0,63,1],[64,0,64,1],[65,0,65,1],[66,0,66,1],[60,0,60,1],[44,2,44,3],[45,2,45,3],[46,2,46,3],[47,0,47,1],[47,2,47,3],[52,1,52,6],[55,0,55,1],[56,0,56,1],[57,0,57,1],[58,0,58,1],[59,0,59,1],[21,0,21,6],[23,0,23,6],[22,0,22,6],[43,2,43,3],[24,0,24,6],[25,0,25,7],[26,0,26,6],[27,0,27,7],[30,0,30,7],[33,0,33,1],[35,0,36,6],[39,2,39,3],[40,2,40,3],[41,2,41,3],[42,2,42,3],[11,1,12,1],[11,3,11,5],[11,6,12,6],[19,0,19,7],[20,0,20,7],[1,1,1,6],[2,1,3,1],[2,3,2,5],[2,6,3,6],[10,1,10,6]]}
[]
[null,"Tab. 34 – Dettaglio riserve da plusvalenze da reinvestire "]
[null,"DETTAGLIO RISERVE DA PLUSVALENZE DA REINVESTIRE",null,"ESERCIZI PRECEDENTI",null,null,"Valore finale"]
[null,null,null,"Valore\nal 31/12/2014 e precedenti","Valore\nal 31/12/2015","Valore\nal 31/12/2016\n(Valore iniziale)"]
[null,"Valore iniziale"]
[null,"Incrementi"]
[null,"Utilizzi"]
[null,"Valore finale"]
[]
[]
[null,"Tab. 35 – Dettaglio contributi da reinvestire "]
[null,"DETTAGLIO CONTRIBUTI DA REINVESTIRE",null,"ESERCIZI PRECEDENTI",null,null,"Valore finale"]
[null,null,null,"Valore\nal 31/12/2014 e precedenti","Valore\nal 31/12/2015","Valore\nal 31/12/2016\n(Valore iniziale)"]
[null,"Valore iniziale"]
[null,"Incrementi"]
[null,"Utilizzi"]
[null,"Valore finale"]
[]
[]
["Le cause di variazione del patrimonio netto sono di seguito elencate: "]
[" -  La colonna \"Assegnazioni nel corso dell'esercizio\" accoglie le seguenti movimentazioni:    "]
["a) l'incremento di €/000 6.506 relativo allo storno del 100% dei contributi in conto esercizio destinati ad investimenti  anno 2017  in applicazione  dell'intesa del 6/08/2013, concernente l'adozione di documenti afferenti la casistica applicativa del Titolo II del D.lgs 118/2011, Documento n.1 \" la sterilizzazione degli ammortamenti\"."]
[" b)  l' incremento di patrimonio netto a Finanziamenti da Regione derivati  dall'utilizzo, nell'esercizio 2017, di risorse da Progetti Obiettivo di €/000 122 l il cui dettaglio è riportato nella tabella dedicata; "]
[" b)  l' incremento di patrimonio netto a Riserva da donazioni derivati  da donazioni, di €/000 78 , intervenute nel corso dell'esercizio 2017 il cui dettaglio è riportato nella tabella dedicata; "]
["d) l'incremento di €/000 14.265 è relativo al contributo per ripiano perdite eesercizio 2016 assegnato con DPF012/14 DEL 13 APRILE 2018"]
[" -  La colonna \"Utilizzi per sterilizzazioni nel corso dell'esercizio\" accoglie le sterilizzazione di quote di ammortamento di competenza dell'esercizio 2017. L'importo complessivo di dette sterilizzazioni  è pari ad € /000 9.825 come si può desumere anche dalle Tabelle 2 e 5, in base alle quali detto importo risulta così determinato: €/000  137+ 9.688"]
[" -  La colonna \"Altre Variazioni\" accoglie le rettifica  della voce PAA210 \" perdita portata a nuovo \" relativo al risultato d'esercizio 2016 e la perdita d'esercizio 2017"]
["  -   La colonna \"Risultato d'esercizio +/-\" accoglie la  movimentazione delle voci che compongono il Patrimonio Netto  nell'esercizio 2017"]
[]
[]
["Il dettaglio degli incrementi della voce \"Finanziamenti per investimenti\" è il seguente:"]
[]
["Estremi provvedim.","Descrizione",null," Importo "]
["TOTALE",null,null,0]
[]
["L'utilizzo della voce \"Riserve da donazioni lasciti vinvolati e investimenti\" è rappresentato dalla sterilizzazione degli ammortamenti 2017 dei cespiti donati. Il dettaglio delle sterilizzazioni è il seguente:"]
[]
[]
[]
["Voce di conto","Descrizione","Importo sterilizzazione"]
["0101010602","Licenze d'uso software",1]
["0101020404","Macchinari generici",0]
["0101020502","Attrezzature generiche",7070]
["0101020601","Mobili e arredi",7]
["0101020903","Computer e macchinari elettronici",0]
["0101020904","Altri beni materiali",180]
[]
["TOTALE STERILIZZAZIONI 2017 CESPITI DONATI",null,{"$f":"SUM(C41:C47)","v":7258}]
[]
[]
["PN01 - Donazioni e lasciti vincolati ad investimenti"]
[]
["PN01 - SI","Nell'esercizio 2017 sono state rilevate le seguenti  donazioni e lasciti vincolati ad investimenti:"]
[]
[]
["Descrizione",null,null,"Estremi Provvedimento","Importo","Tipologia Bene","Voce di PN"]
["Delibera 902del 06/10/17 condizionatore  INV. 86130",null,null,"DEL. 902/2017",1220,"Impianti",101020404]
["Delibera 1006 del 21/11/2016 poltrone prelievi    INV. Dal 84846 al 84861",null,null,"DEL.785/2016",60795,"Attrezzature generiche","0101020502"]
["Delibera 365/2017 donazione  venoscopio  INV. 84863","Delibera 320/2015 donazione  proiettore inv. 80558 da  AGBE per Dipart.Medicina Trasfusionale",null,"DEL.365/2017",5490,"Attrezzature generiche","0101020502"]
["Delibera 584/2017 donazione  misuratore pressione INV. Dal 85922 al 85927","Delibera 341/2015 donazione  arredi  inv. 78199/78296  da  ADRICESTA  per Chirurgia Pediatrica",null,"DEL.584/2017",401,"Attrezzature generiche","0101020502"]
["Delibera  1002/2017 donazione  apparecchio otoemissioni neon. INV.85928","Delibera  1180/2015 donazione  computer compaq  n. inv. 80570  da AGBE  per  U.O. Oncoematologia Pediatrica",null,"DEL.1002/2017",4050,"Attrezzature generiche","0101020502"]
["Delibera  212/2017 donazione  bilancia pesa bambino/scalda biberon INV. 85931/85932","Delibera  1180/2015 donazione  computer compaq  n. inv. 80570  da AGBE  per  U.O. Oncoematologia Pediatrica",null,"DEL.2122017",207,"Attrezzature generiche","0101020502"]
["Delibera  1082/2017 monitor multiparametrico INV. 86131","Delibera  1404/2015 donazione Sistema ECG Galileo Be Light 22   da  Società Italiana Malattie Infettive e Tropicali   per U.O.C Malattie Infettive  ( in attesa di collaudo)",null,"DEL.1082/2017",2074,"Attrezzature generiche","0101020502"]
["Delibea 211/2017 Armadio  Inv. 85929/85930",null,null," DEL 211/2017",2100,"Mobili Arredi",101020601]
["Delibera 1081/2017 carrozzella x infermi INV. 86129",null,null," DEL 1081/2017",128,"Mobili Arredi",101020601]
["Delibera 369/2017 televisore  INV 84941",null,null," DEL 369/2017",260,"Altri beni","0101020904"]
["Delibera 526/2017 televisore INV. 84942",null,null," DEL 526/2017",327,"Altri beni","0101020904"]
["Delibera 521/2017  n.2 televisori a colori INV. 84943/84944",null,null," DEL 521/2017",620,"Altri beni","0101020904"]
["Delibera  520/2017 donazione televisore a colori INV. 84945","Delibera  349/2015 donazione  4 climatizzatori  n. inv. 80615/80618  da  Assoc. ASNEI e Gruppo Esperienza Angelini Fater  per U.O.C. Nefrologia e Dialisi",null,"DEL.520/2017",270,"Altri beni","0101020904"]
["Delibera 214/2017 donazione televisore a colori INV. 84946","Delibera  349/2015 donazione  4 climatizzatori  n. inv. 80615/80618  da  Assoc. ASNEI e Gruppo Esperienza Angelini Fater  per U.O.C. Nefrologia e Dialisi",null,"DEL.214/2017",544,"Altri beni","0101020904"]
[null,"TOTALE CESPITI ",null,null,{"$f":"SUM(E57:E70)","v":78486}]

{"sheet":"35-bis Dettaglio cespiti PO ","index":33,"n_rows":44,"n_cols":5,"rows_kept":44,"cut":false,"hidden":false,"merged":[[0,0,0,4]]}
["Tab. 35 bis - DETTAGLIO CESPITI ACQUISTATI CON FONDI PROGETTI OBIETTIVO 2017"]
[]
["Cod. Cespite","Data Carico","Provenienza Progetto","Descrizione"," Costo di acquisto"]
[84198,"2017-03-06","Prog.Ob. Ril.naz. L.662/96 2010-2011-2012 ALZHEIMER","SOFTWARE ERICA - PACCHETTO COMPLETO     RINNOVO ANNUO",5621.76]
[84199,"2017-03-06","Prog.Ob. Ril.naz. L.662/96 2010-2011-2012 ALZHEIMER","SOFTWARE ERICA - PACCHETTO COMPLETO     RINNOVO ANNUO",5621.76]
[84326,"2017-03-10","Malattie RARE  Prog.Ob. Ril.naz. Legge 662/96  Anno 2010 DGR 655 del 31.08.10  D.G.244 del 25.02.11","MONITOR MULTIPARAMETRICO Q3 - BLTQ3TS   CON MODULO SPO2",2928]
[84327,"2017-03-10","Malattie RARE  Prog.Ob. Ril.naz. Legge 662/96  Anno 2010 DGR 655 del 31.08.10  D.G.244 del 25.02.11","MONITOR MULTIPARAMETRICO Q3 - BLTQ3TS   CON MODULO SPO2",2928]
[84500,"2017-05-03","Prog.Ob. Ril.naz. Malattie Rare DGR 8 14.01.13 Anno 2012 DG 1298 21.12.12","UMIDIFICATORE FISHER  PAYKEL AIRVO TM 2",1830]
[84501,"2017-05-03","Prog.Ob. Ril.naz. Malattie Rare DGR 8 14.01.13 Anno 2012 DG 1298 21.12.12","UMIDIFICATORE FISHER  PAYKEL AIRVO TM 2",1830]
[84747,"2017-05-31","Prog.Ob.ril.naz.2012 DGR 8 14.01.2013 LP10 - Percorso Riabilitativo Paz. 65/75 anni affetti da esiti Ictus Cerebri  -  Prog.Ob. Ril.naz. 2013 DGR 269 14.04.14 LP3 Riabilitazione","SISTEMA ROBOTICO \"MOTORE\" HUMANWARE X RIEDUCAZ.NEUROMOTORIA ARTO SUPERIORE",40260]
[85148,"2017-08-21","Prog.Ob. Ril.naz. Malattie Rare DGR 8 14.01.13 Anno 2012 DG 1298 21.12.12","POLTRONCINA ERGONOMICA CON BRACCIOLI",124.33]
[85149,"2017-08-21","Prog.Ob. Ril.naz. Malattie Rare DGR 8 14.01.13 Anno 2012 DG 1298 21.12.12","POLTRONCINA ERGONOMICA CON BRACCIOLI",124.33]
[85150,"2017-08-21","Prog.Ob. Ril.naz. Malattie Rare DGR 8 14.01.13 Anno 2012 DG 1298 21.12.12","POLTRONCINA GIREVOLE SU RUOTE",178.89]
[85151,"2017-08-21","Prog.Ob. Ril.naz. Malattie Rare DGR 8 14.01.13 Anno 2012 DG 1298 21.12.12","POLTRONCINA GIREVOLE SU RUOTE",178.89]
[85152,"2017-08-21","Prog.Ob. Ril.naz. Malattie Rare DGR 8 14.01.13 Anno 2012 DG 1298 21.12.12","POLTRONCINA GIREVOLE SU RUOTE",178.89]
[85153,"2017-08-21","Prog.Ob. Ril.naz. Malattie Rare DGR 8 14.01.13 Anno 2012 DG 1298 21.12.12","COMODINO  CON PIANO SERV.REGOLAB.",367.74]
[85154,"2017-08-21","Prog.Ob. Ril.naz. Malattie Rare DGR 8 14.01.13 Anno 2012 DG 1298 21.12.12","COMODINO  CON PIANO SERV.REGOLAB.",367.75]
[85155,"2017-08-21","Prog.Ob. Ril.naz. Malattie Rare DGR 8 14.01.13 Anno 2012 DG 1298 21.12.12","CASSETTIERA SU RUOTE",137.97]
[85156,"2017-08-21","Prog.Ob. Ril.naz. Malattie Rare DGR 8 14.01.13 Anno 2012 DG 1298 21.12.12","ARMADIO DEGENZA 2 POSTI",599.62]
[85157,"2017-08-21","Prog.Ob. Ril.naz. Malattie Rare DGR 8 14.01.13 Anno 2012 DG 1298 21.12.12","CARRELLO PORTASTRUMENTO",1112.1500000000001]
[85158,"2017-08-21","Prog.Ob. Ril.naz. Malattie Rare DGR 8 14.01.13 Anno 2012 DG 1298 21.12.12","PIANO DI LAVORO ATTREZZATO",352.53]
[85159,"2017-08-21","Prog.Ob. Ril.naz. Malattie Rare DGR 8 14.01.13 Anno 2012 DG 1298 21.12.12","PIANO DI LAVORO ATTREZZATO",352.53]
[85160,"2017-08-21","Prog.Ob. Ril.naz. Malattie Rare DGR 8 14.01.13 Anno 2012 DG 1298 21.12.12","ARMADIO -  PENSILE IB01",1056.32]
[85161,"2017-08-21","Prog.Ob. Ril.naz. Malattie Rare DGR 8 14.01.13 Anno 2012 DG 1298 21.12.12","ARMADIO - TECNICA ATTREZZATA PER FARMACI",1575.37]
[85162,"2017-08-21","Prog.Ob. Ril.naz. Malattie Rare DGR 8 14.01.13 Anno 2012 DG 1298 21.12.12","ARMADIO- PARETE TECNICA ATTREZZATA TIPO IB02",2318.4299999999998]
[85163,"2017-08-21","Prog.Ob. Ril.naz. Malattie Rare DGR 8 14.01.13 Anno 2012 DG 1298 21.12.12","LETTO ELETTRICO 4 SEZIONI CON BILANCIA START",2816.05]
[85164,"2017-08-21","Prog.Ob. Ril.naz. Malattie Rare DGR 8 14.01.13 Anno 2012 DG 1298 21.12.12","LETTO ELETTRICO 4 SEZIONI CON BILANCIA START",2816.06]
[85165,"2017-08-21","Prog.Ob. Ril.naz. Malattie Rare DGR 8 14.01.13 Anno 2012 DG 1298 21.12.12","ARMADIO DEGENZA 2 POSTI PEDIATRICO",152.13]
[85166,"2017-08-21","Prog.Ob. Ril.naz. Malattie Rare DGR 8 14.01.13 Anno 2012 DG 1298 21.12.12","SUPPORTO A MURO E TENDA CON SISTEMA TELESCOPICO",412.34]
[85167,"2017-08-21","Prog.Ob. Ril.naz. Malattie Rare DGR 8 14.01.13 Anno 2012 DG 1298 21.12.12","SUPPORTO A MURO E TENDA CON SISTEMA TELESCOPICO",412.33]
[85344,"2017-09-22","Prog.Ob. Ril.naz. Malattie Rare DGR 8 14.01.13 Anno 2012 DG 1298 21.12.12","VENTILATORE POLMONARE MONNAL T 60",12115.28]
[85345,"2017-09-22","Prog.Ob. Ril.naz. Malattie Rare DGR 8 14.01.13 Anno 2012 DG 1298 21.12.12","VENTILATORE POLMONARE MONNAL T 60",12115.29]
[85366,"2017-09-29","Prog.Ob. Ril.naz. Malattie Rare DGR 8 14.01.13 Anno 2012 DG 1298 21.12.12","POLTRONA LETTO EASY",911.75]
[85367,"2017-09-29","Prog.Ob. Ril.naz. Malattie Rare DGR 8 14.01.13 Anno 2012 DG 1298 21.12.12","POLTRONA LETTO EASY",911.76]
[86192,"2017-12-31","Prog.Ob. Ril.naz. Malattie Rare DGR 8 14.01.13 Anno 2012 DG 1298 21.12.12","CENTRALE MONITORAGGIO M6000C",16897]
[86193,"2017-12-31","Prog.Ob. Ril.naz. Malattie Rare DGR 8 14.01.13 Anno 2012 DG 1298 21.12.12","SCHERMO PIATTO 22\"",512.4]
[86194,"2017-12-31","Prog.Ob. Ril.naz. Malattie Rare DGR 8 14.01.13 Anno 2012 DG 1298 21.12.12","STAMPANTE LASER",512.4]
[86195,"2017-12-31","Prog.Ob. Ril.naz. Malattie Rare DGR 8 14.01.13 Anno 2012 DG 1298 21.12.12","MONITOR LCD 31.5\"",134.19999999999999]
[86196,"2017-12-31","Prog.Ob. Ril.naz. Malattie Rare DGR 8 14.01.13 Anno 2012 DG 1298 21.12.12","MONITOR LCD 31.5\"",134.19999999999999]
[86197,"2017-12-31","Prog.Ob. Ril.naz. Malattie Rare DGR 8 14.01.13 Anno 2012 DG 1298 21.12.12","TRASMETTITORE PER MONITOR REMOTI",457.5]
[86198,"2017-12-31","Prog.Ob. Ril.naz. Malattie Rare DGR 8 14.01.13 Anno 2012 DG 1298 21.12.12","TRASMETTITORE PER MONITOR REMOTI",457.5]
[86199,"2017-12-31","Prog.Ob. Ril.naz. Malattie Rare DGR 8 14.01.13 Anno 2012 DG 1298 21.12.12","RICEVITORE PER MONITOR REMOTI",219.6]
[86200,"2017-12-31","Prog.Ob. Ril.naz. Malattie Rare DGR 8 14.01.13 Anno 2012 DG 1298 21.12.12","RICEVITORE PER MONITOR REMOTI",219.6]
[null,null,"TOTALE 2017",null,{"$f":"SUM(E4:E43)","v":122252.64999999998}]

{"sheet":"Tab 35 ter- quater","index":34,"n_rows":25,"n_cols":7,"rows_kept":25,"cut":false,"hidden":false,"merged":[[0,0,0,11],[19,1,19,11],[13,1,13,4],[12,1,12,4],[23,0,23,3],[23,4,23,5],[24,0,24,3],[2,0,2,8],[3,0,3,5],[4,1,4,3],[5,1,5,3],[6,1,6,3],[10,0,10,8],[11,0,11,5]]}
["Nella tabella sottostante si riporta il dettaglio della voce contributi per ripiano perdite con l'indicazione dei provvedimenti regionali."]
[]
[" Tab. 35 ter - Dettaglio voce \"Contributi per ripiano perdite\""]
["CONTRIBUTI RIPIANO PERDITE al 31/12/2017     v.d.c.  '0201050301"]
["Anno","Riferimento atto regionale",null,null,"Descrizione","Importo Ripiano Perdite"]
[2017,"DPF012/14 DEL 13 APRILE 2018",null,null,"copertura perdite 2016",14264710]
[null,null,null,null,"TOTALE RIPIANI PERDITE",{"$f":"SUM(F6:F6)","v":14264710}]
[]
["Nella tabella sottostante  si riporta il dettaglio delle perdite portate a nuovo ."]
[]
[" Tab. 35 quater - Dettaglio voce \" Perdite portate a nuovo distinti per anno di formazione\""]
["CONTRIBUTI RIPIANO PERDITE al 31/12/2017      v.d.c.  '0201060102"]
["Anno","Descrizione",null,null,null,"Importo Ripiano Perdite"]
[2017,"perdite d'esercizio 2016",null,null,null,14264710]
[null,"TOTALE PERDITE  D'ESERCIZIO PORTATI A NUOVO",null,null,null,{"$f":"SUM(F14:F14)","v":14264710}]
[]
[]
["PN02 - Fondo di dotazione"]
[]
["PN01 - NO","Il Fondo di dotazione non ha subito variazioni nel corso del 2016."]
[]
["Altre informazioni relative al patrimonio netto"]
[]
["Informazione",null,null,null,"Caso presente in azienda?",null,"Se sì, illustrare"]
["PN03 - Altro. Esistono altre informazioni che si ritiene necessario fornire per soddisfare la regola generale secondo cui \"Se le informazioni richieste da specifiche disposizioni di legge non sono sufficienti a dare una rappresentazione veritiera e corretta, si devono fornire le informazioni complementari necessarie allo scopo\" (art. 2423 cc)?",null,null,null,"NO"]

{"sheet":"Tab 36 ","index":35,"n_rows":50,"n_cols":14,"rows_kept":50,"cut":false,"hidden":false,"merged":[[0,0,0,5],[2,1,2,7],[3,0,4,0],[3,1,4,1],[3,2,4,2],[3,3,4,3],[3,4,4,4],[3,5,4,5],[3,6,4,6],[3,7,4,7]]}
["12.     Fondi per rischi e oneri"]
[]
[null,"Tab. 36 – Consistenza e movimentazioni dei fondi rischi e oneri"]
["CODICE MOD. SP","FONDO RISCHI E ONERI","Consistenza iniziale","Acc.to\ndell'esercizio","Altri incrementi /decrementi","Riclassifiche\ndell'esercizio","Utilizzi","Valore\nfinale"]
[null,null,null,null,null,null,null,null,null,"Valore SP","Diff","Ctrl"]
["PBA000","FONDI PER IMPOSTE, ANCHE DIFFERITE",{"$f":"SUMIF('00 SP'!$A:$A,'Tab 36 '!$A6,'00 SP'!I:I)","v":0},{"$f":"SUMIF('00 SP'!$A:$A,'Tab 36 '!$A6,'00 SP'!J:J)-(E6+F6)","v":0},0,0,{"$f":"SUMIF('00 SP'!$A:$A,'Tab 36 '!$A6,'00 SP'!K:K)","v":0},{"$f":"C6+D6+E6+F6-G6","v":0},null,{"$f":"SUMIF('00 SP'!A:A,'Tab 36 '!A6,'00 SP'!L:L)","v":0},{"$f":"H6-J6","v":0},{"$f":"IF(K6=0,\"OK\",\"CTRL\")","v":"OK"}]
["PBA010","FONDI PER RISCHI:",{"$f":"SUM(C8:C12)","v":36530382.340000004},{"$f":"SUM(D8:D12)","v":17301441.75},{"$f":"SUM(E8:E12)","v":0},{"$f":"SUM(F8:F12)","v":0},{"$f":"SUM(G8:G12)","v":7491765.5800000001},{"$f":"C7+D7+E7+F7-G7","v":46340058.510000005},null,{"$f":"SUMIF('00 SP'!A:A,'Tab 36 '!A7,'00 SP'!L:L)","v":46340058.509999998},{"$f":"H7-J7","v":0},{"$f":"IF(K7=0,\"OK\",\"CTRL\")","v":"OK"}]
["PBA020","  Fondo rischi per cause civili e oneri processuali",{"$f":"SUMIF('00 SP'!$A:$A,'Tab 36 '!$A8,'00 SP'!I:I)","v":7150000},{"$f":"SUMIF('00 SP'!$A:$A,'Tab 36 '!$A8,'00 SP'!J:J)-(E8+F8)-12054","v":9268206.1600000001},0,0,{"$f":"SUMIF('00 SP'!$A:$A,'Tab 36 '!$A8,'00 SP'!K:K)-12054","v":152984.16},16265222,null,{"$f":"SUMIF('00 SP'!A:A,'Tab 36 '!A8,'00 SP'!L:L)","v":16265222},0,"OK"]
["PBA030","  Fondo rischi per contenzioso personale dipendente",{"$f":"SUMIF('00 SP'!$A:$A,'Tab 36 '!$A9,'00 SP'!I:I)","v":1250000},{"$f":"SUMIF('00 SP'!$A:$A,'Tab 36 '!$A9,'00 SP'!J:J)-(E9+F9)-218","v":562892.28},0,0,{"$f":"SUMIF('00 SP'!$A:$A,'Tab 36 '!$A9,'00 SP'!K:K)-218","v":562892.28},1250000,null,{"$f":"SUMIF('00 SP'!A:A,'Tab 36 '!A9,'00 SP'!L:L)","v":1250000},0,"OK"]
["PBA040","  Fondo rischi connessi all'acquisto di prestazioni sanitarie da privato",{"$f":"SUMIF('00 SP'!$A:$A,'Tab 36 '!$A10,'00 SP'!I:I)","v":22630382.34},{"$f":"SUMIF('00 SP'!$A:$A,'Tab 36 '!$A10,'00 SP'!J:J)-(E10+F10)","v":4358962},0,0,{"$f":"SUMIF('00 SP'!$A:$A,'Tab 36 '!$A10,'00 SP'!K:K)","v":3664507.83},23324836.509999998,null,{"$f":"SUMIF('00 SP'!A:A,'Tab 36 '!A10,'00 SP'!L:L)","v":23324836.509999998},0,"OK"]
["PBA050","  Fondo rischi per copertura diretta dei rischi (autoassicurazione)",{"$f":"SUMIF('00 SP'!$A:$A,'Tab 36 '!$A11,'00 SP'!I:I)","v":5500000},{"$f":"SUMIF('00 SP'!$A:$A,'Tab 36 '!$A11,'00 SP'!J:J)-(E11+F11)","v":3111381.31},0,0,{"$f":"SUMIF('00 SP'!$A:$A,'Tab 36 '!$A11,'00 SP'!K:K)","v":3111381.31},5500000,null,{"$f":"SUMIF('00 SP'!A:A,'Tab 36 '!A11,'00 SP'!L:L)","v":5500000},0,"OK"]
["PBA060","  Altri fondi rischi",{"$f":"SUMIF('00 SP'!$A:$A,'Tab 36 '!$A12,'00 SP'!I:I)","v":0},{"$f":"SUMIF('00 SP'!$A:$A,'Tab 36 '!$A12,'00 SP'!J:J)-(E12+F12)","v":0},0,0,{"$f":"SUMIF('00 SP'!$A:$A,'Tab 36 '!$A12,'00 SP'!K:K)","v":0},0,null,{"$f":"SUMIF('00 SP'!A:A,'Tab 36 '!A12,'00 SP'!L:L)","v":0},0,"OK"]
["PBA070","FONDI DA DISTRIBUIRE:",{"$f":"SUM(C14:C20)","v":0},{"$f":"SUM(D14:D20)","v":0},0,0,0,0,null,{"$f":"SUMIF('00 SP'!A:A,'Tab 36 '!A13,'00 SP'!L:L)","v":0},0,"OK"]
["PBA080","  FSR indistinto da distribuire",{"$f":"SUMIF('00 SP'!$A:$A,'Tab 36 '!$A14,'00 SP'!I:I)","v":0},{"$f":"SUMIF('00 SP'!$A:$A,'Tab 36 '!$A14,'00 SP'!J:J)-(E14+F14)","v":0},0,0,{"$f":"SUMIF('00 SP'!$A:$A,'Tab 36 '!$A14,'00 SP'!K:K)","v":0},{"$f":"C14+D14+E14+F14-G14","v":0},null,{"$f":"SUMIF('00 SP'!A:A,'Tab 36 '!A14,'00 SP'!L:L)","v":0},0,"OK"]
["PBA090","  FSR vincolato da distribuire",{"$f":"SUMIF('00 SP'!$A:$A,'Tab 36 '!$A15,'00 SP'!I:I)","v":0},{"$f":"SUMIF('00 SP'!$A:$A,'Tab 36 '!$A15,'00 SP'!J:J)-(E15+F15)","v":0},0,0,{"$f":"SUMIF('00 SP'!$A:$A,'Tab 36 '!$A15,'00 SP'!K:K)","v":0},0,null,{"$f":"SUMIF('00 SP'!A:A,'Tab 36 '!A15,'00 SP'!L:L)","v":0},0,"OK"]
["PBA100","  Fondo per ripiano disavanzi pregressi",{"$f":"SUMIF('00 SP'!$A:$A,'Tab 36 '!$A16,'00 SP'!I:I)","v":0},{"$f":"SUMIF('00 SP'!$A:$A,'Tab 36 '!$A16,'00 SP'!J:J)-(E16+F16)","v":0},0,0,{"$f":"SUMIF('00 SP'!$A:$A,'Tab 36 '!$A16,'00 SP'!K:K)","v":0},0,null,{"$f":"SUMIF('00 SP'!A:A,'Tab 36 '!A16,'00 SP'!L:L)","v":0},0,"OK"]
["PBA110","  Fondo finanziamento sanitario aggiuntivo corrente LEA",{"$f":"SUMIF('00 SP'!$A:$A,'Tab 36 '!$A17,'00 SP'!I:I)","v":0},{"$f":"SUMIF('00 SP'!$A:$A,'Tab 36 '!$A17,'00 SP'!J:J)-(E17+F17)","v":0},0,0,{"$f":"SUMIF('00 SP'!$A:$A,'Tab 36 '!$A17,'00 SP'!K:K)","v":0},0,null,{"$f":"SUMIF('00 SP'!A:A,'Tab 36 '!A17,'00 SP'!L:L)","v":0},0,"OK"]
["PBA120","  Fondo finanziamento sanitario aggiuntivo corrente extra LEA",{"$f":"SUMIF('00 SP'!$A:$A,'Tab 36 '!$A18,'00 SP'!I:I)","v":0},{"$f":"SUMIF('00 SP'!$A:$A,'Tab 36 '!$A18,'00 SP'!J:J)-(E18+F18)","v":0},null,0,{"$f":"SUMIF('00 SP'!$A:$A,'Tab 36 '!$A18,'00 SP'!K:K)","v":0},0,null,{"$f":"SUMIF('00 SP'!A:A,'Tab 36 '!A18,'00 SP'!L:L)","v":0},0,"OK"]
["PBA130","  Fondo finanziamento per ricerca",{"$f":"SUMIF('00 SP'!$A:$A,'Tab 36 '!$A19,'00 SP'!I:I)","v":0},{"$f":"SUMIF('00 SP'!$A:$A,'Tab 36 '!$A19,'00 SP'!J:J)-(E19+F19)","v":0},0,0,{"$f":"SUMIF('00 SP'!$A:$A,'Tab 36 '!$A19,'00 SP'!K:K)","v":0},0,null,{"$f":"SUMIF('00 SP'!A:A,'Tab 36 '!A19,'00 SP'!L:L)","v":0},0,"OK"]
["PBA140","  Fondo finanziamento per investimenti",{"$f":"SUMIF('00 SP'!$A:$A,'Tab 36 '!$A20,'00 SP'!I:I)","v":0},{"$f":"SUMIF('00 SP'!$A:$A,'Tab 36 '!$A20,'00 SP'!J:J)-(E20+F20)","v":0},0,0,{"$f":"SUMIF('00 SP'!$A:$A,'Tab 36 '!$A20,'00 SP'!K:K)","v":0},0,null,{"$f":"SUMIF('00 SP'!A:A,'Tab 36 '!A20,'00 SP'!L:L)","v":0},0,"OK"]
["PBA150","QUOTE INUTILIZZATE CONTRIBUTI:",{"$f":"C22+C33+C35+C36","v":30490656.740000002},{"$f":"D22+D33+D35+D36","v":7068429.9500000002},{"$f":"E22+E33+E35+E36","v":220805},{"$f":"F22+F33+F35+F36","v":0},{"$f":"G22+G33+G35+G36","v":4910826.0200000005},{"$f":"C21+D21+E21+F21-G21","v":32869065.670000006},null,{"$f":"SUMIF('00 SP'!A:A,'Tab 36 '!A21,'00 SP'!L:L)","v":32869065.669999998},0,"OK"]
["PBA160","  Quote inutilizzate contributi da Regione o Prov. Aut. per quota F.S. vincolato",{"$f":"SUMIF('00 SP'!$A:$A,'Tab 36 '!$A22,'00 SP'!I:I)","v":30310050.780000001},{"$f":"SUMIF('00 SP'!$A:$A,'Tab 36 '!$A22,'00 SP'!J:J)-220805-188355","v":7018127.5499999998},{"$f":"SUM(E23:E32)","v":220805},{"$f":"SUM(F23:F32)","v":0},{"$f":"G23+G24+G25+G26+G27+G28+G29+G30","v":4818373.5600000005},{"$f":"C22+D22+E22+F22-G22","v":32730609.769999996},null,{"$f":"SUMIF('00 SP'!A:A,'Tab 36 '!A22,'00 SP'!L:L)","v":32730609.77},{"$f":"H22-J22","v":0},{"$f":"IF(K22=0,\"OK\",\"CTRL\")","v":"OK"}]
[null,"Fondo Obiettivi di Piano 2009",588351.57999999996,0,0,188355,0,{"$f":"C23+D23+E23+F23-G23","v":776706.58}]
[null,"Fondo Obiettivi di Piano 2010",332065.31,0,0,0,57512.19,274553.12]
[null,"Fondo Obiettivi di Piano 2011",838440,0,0,0,195749.09,642690.91]
[null,"Fondo Obiettivi di Piano 2012",5961419,0,0,-188355,2841251.74,2931812.26]
[null,"Fondo Obiettivi di Piano 2013",7461890,0,0,0,726388.79,6735501.21,null,null,null,null,null,{"$f":"D22-D31","v":0}]
[null,"Fondo Obiettivi di Piano 2014",7755201,0,0,0,936395,6818806]
[null,"Fondo Obiettivi di Piano 2015",3351117,0,0,0,61076.75,3290040.25]
[null,"Fondo Obiettivi di Piano 2016",4021566.52,0,0,null,0,4021566.52]
[null,"Fondo Obiettivi di Piano 2017",null,7018127.5499999998,0,0,0,7018127.5499999998]
[null,"Quote inutilizzate contributi per gioco d'azzardo patologico (GAP) L.190/14",null,0,220805,null,null,{"$f":"C32+D32+E32+F32-G32","v":220805}]
["PBA170","  Quote inutilizzate contributi vincolati da soggetti pubblici (extra fondo) ",{"$f":"SUMIF('00 SP'!$A:$A,'Tab 36 '!$A33,'00 SP'!I:I)","v":180605.96},50302.400000000001,0,0,92452.46,{"$f":"C33+D33+E33+F33-G33","v":138455.89999999997},null,{"$f":"SUMIF('00 SP'!A:A,'Tab 36 '!A33,'00 SP'!L:L)","v":138455.89999999997},{"$f":"H33-J33","v":0},{"$f":"IF(K33=0,\"OK\",\"CTRL\")","v":"OK"}]
[null,"  Quote inutilizzate contributi vincolati extra fondo",0,0,0,0,0,{"$f":"C34+D34+E34+F34-G34","v":0}]
["PBA180","  Quote inutilizzate contributi per ricerca",{"$f":"SUMIF('00 SP'!$A:$A,'Tab 36 '!$A35,'00 SP'!I:I)","v":0},{"$f":"SUMIF('00 SP'!$A:$A,'Tab 36 '!$A35,'00 SP'!J:J)-(E35+F35)","v":0},0,0,{"$f":"SUMIF('00 SP'!$A:$A,'Tab 36 '!$A35,'00 SP'!K:K)","v":0},0,null,{"$f":"SUMIF('00 SP'!A:A,'Tab 36 '!A35,'00 SP'!L:L)","v":0},{"$f":"H35-J35","v":0},{"$f":"IF(K35=0,\"OK\",\"CTRL\")","v":"OK"}]
["PBA190","  Quote inutilizzate contributi vincolati da privati",{"$f":"SUMIF('00 SP'!$A:$A,'Tab 36 '!$A36,'00 SP'!I:I)","v":0},{"$f":"SUMIF('00 SP'!$A:$A,'Tab 36 '!$A36,'00 SP'!J:J)-(E36+F36)","v":0},0,0,{"$f":"SUMIF('00 SP'!$A:$A,'Tab 36 '!$A36,'00 SP'!K:K)","v":0},0,null,{"$f":"SUMIF('00 SP'!A:A,'Tab 36 '!A36,'00 SP'!L:L)","v":0},0,"OK"]
["PBA200","ALTRI FONDI PER ONERI E SPESE:",{"$f":"SUM(C38:C42)","v":3965709.15},{"$f":"SUM(D38:D42)","v":2577740},0,0,0,6543449.1500000004,null,{"$f":"SUMIF('00 SP'!A:A,'Tab 36 '!A37,'00 SP'!L:L)","v":6543449.1500000004},0,"OK"]
["PBA210","  Fondi integrativi pensione",0,0,0,0,0,{"$f":"C38+D38+E38+F38-G38","v":0},null,{"$f":"SUMIF('00 SP'!A:A,'Tab 36 '!A38,'00 SP'!L:L)","v":0},0,"OK"]
["PBA230","  Fondo rinnovi contrattuali personale dipendente",675624,1841073,0,0,{"$f":"SUMIF('00 SP'!$A:$A,'Tab 36 '!$A39,'00 SP'!K:K)","v":0},2516697,null,{"$f":"SUMIF('00 SP'!A:A,'Tab 36 '!A39,'00 SP'!L:L)","v":2516697},0,"OK"]
["PBA240","  Fondo rinnovi convenzioni MMG - PLS - MCA",3153969.15,653733,0,0,{"$f":"SUMIF('00 SP'!$A:$A,'Tab 36 '!$A40,'00 SP'!K:K)","v":0},{"$f":"C40+D40+E40+F40-G40","v":3807702.15},null,{"$f":"SUMIF('00 SP'!A:A,'Tab 36 '!A40,'00 SP'!L:L)","v":3807702.15},0,"OK"]
["PBA250","  Fondo rinnovi convenzioni Medici SUMAI",136116,{"$f":"SUMIF('00 SP'!$A:$A,'Tab 36 '!$A41,'00 SP'!J:J)-(E41+F41)","v":82934},0,0,{"$f":"SUMIF('00 SP'!$A:$A,'Tab 36 '!$A41,'00 SP'!K:K)","v":0},219050,null,{"$f":"SUMIF('00 SP'!A:A,'Tab 36 '!A41,'00 SP'!L:L)","v":219050},0,"OK"]
["PBA260","  Altri fondi per oneri e spese",{"$f":"SUMIF('00 SP'!$A:$A,'Tab 36 '!$A42,'00 SP'!I:I)","v":0},{"$f":"SUMIF('00 SP'!$A:$A,'Tab 36 '!$A42,'00 SP'!J:J)-(E42+F42)","v":0},0,0,{"$f":"SUMIF('00 SP'!$A:$A,'Tab 36 '!$A42,'00 SP'!K:K)","v":0},0,null,{"$f":"SUMIF('00 SP'!A:A,'Tab 36 '!A42,'00 SP'!L:L)","v":0},0,"OK"]
[null,"TOTALE FONDI RISCHI E ONERI",{"$f":"C6+C7+C21+C37","v":70986748.230000004},26947611.699999999,220805,0,12402591.600000001,85752573.330000013]
[]
[null,"Riconciliazione tabelle 36 - 72 "]
[]
["TAB 36","TOTALE ACCANTONAMENTI A FONDI RISCHI E ONERI",null,{"$f":"D43","v":26947611.699999999}]
["BA2760","ACCANTONAMENTO AL FONDO PER PREMIO DI OPEROSITA' SUMAI ",null,223015.56,"SI RINVIA A TAB.41"]
["BA2890","ACCANTONAMENTO AL FONDO SVALUTAZIONE CREDITI",null,300000]
["TAB 72","TOTALE  ACCANTONAMENTI 2017",null,{"$f":"SUM(D47:D49)","v":27470627.259999998}]

{"sheet":"Tab 37-38-39-40 ","index":36,"n_rows":156,"n_cols":14,"rows_kept":156,"cut":false,"hidden":false,"merged":[[153,3,153,10],[155,0,155,1],[160,0,160,1],[163,3,164,10],[165,3,166,10],[136,3,136,10],[141,3,142,10],[146,3,147,10],[137,3,137,10],[139,3,140,10],[144,3,145,10],[118,0,130,0],[118,1,123,1],[118,2,123,2],[124,1,129,1],[124,2,129,2],[114,12,117,12],[116,1,117,1],[116,2,117,2],[116,3,117,3],[116,5,116,8],[99,1,104,1],[99,2,104,2],[105,1,110,1],[105,2,110,2],[114,3,115,9],[86,12,91,12],[95,12,98,12],[97,1,98,1],[97,2,98,2],[97,3,98,3],[97,5,97,8],[94,0,94,6],[95,0,98,0],[95,1,96,2],[95,3,96,9],[76,12,79,12],[78,1,79,1],[78,2,79,2],[78,3,79,3],[78,5,78,8],[50,12,57,12],[58,1,64,1],[58,2,64,2],[58,12,64,12],[65,1,72,1],[65,2,72,2],[65,12,72,12],[2,0,5,0],[2,1,3,2],[2,12,5,12],[4,1,5,1],[4,2,5,2],[4,3,5,3],[4,5,4,8],[2,3,3,11],[6,12,11,12],[18,1,23,1],[18,2,23,2],[18,12,23,12],[24,1,29,1],[24,2,29,2],[24,12,29,12],[80,12,85,12],[80,0,92,0],[12,1,17,1],[12,2,17,2],[12,12,17,12],[30,1,36,1],[30,2,36,2],[30,12,36,12],[37,1,42,1],[37,2,42,2],[37,12,42,12],[43,1,49,1],[43,2,49,2],[43,12,49,12],[50,1,57,1],[50,2,57,2],[149,3,149,10],[150,3,150,10],[149,2,150,2],[6,0,73,0],[80,1,85,1],[80,2,85,2],[6,1,11,1],[6,2,11,2],[76,0,79,0],[76,1,77,2],[76,3,77,9],[86,1,91,1],[86,2,91,2],[114,0,117,0],[114,1,115,2],[99,0,111,0]]}
["Tab. 37 – Dettaglio movimentazioni quota inutilizzata contributi da Regione o P.A. per quota F.S.R. vincolato"]
[]
["DETTAGLIO QUOTE INUTILIZZATE CONTRIBUTI","ASSEGNAZIONE INIZIALE CONTRIBUTO",null,"UTILIZZI / COSTI",null,null,null,null,null,null,null,null,"FONDO AL 31/12/2017"]
[]
[null,"Esercizio","Importo\ncontributo","Tipologia",null,"Importo"]
[null,null,null,null,"Esercizio\n2010 e precedenti","Esercizio\n2011","Esercizio\n2012","Esercizio\n2013","Esercizio \n2014","Esercizio \n2015","Esercizio \n2016","Esercizio \n2017"]
[" Quote inutilizzate contributi da Regione o Prov. Aut.\nper quota FSR vincolato",2017,220805,"B.1) Acquisti di beni",null,null,null,null,null,null,null,null,{"$f":"C7-L12","v":220805}]
[null,null,null,"B.2) Acquisti di servizi sanitari"]
[null,null,null,"B.3) Acquisti di servizi non sanitari"]
[null,null,null,"B.6) Costi del personale"]
[null,null,null,"Altri costi (dettagliare)"]
[null,null,null,"Totale  ",{"$f":"SUM(E7:E11)","v":0},{"$f":"SUM(F7:F11)","v":0},0,0,0,0,0,0]
[null,2017,7018127.5499999998,"B.1) Acquisti di beni",null,null,null,null,null,null,null,null,{"$f":"C13-L20","v":7018127.5499999998}]
[null,null,null,"B.2) Acquisti di servizi sanitari"]
[null,null,null,"B.3) Acquisti di servizi non sanitari"]
[null,null,null,"B.6) Costi del personale"]
[null,null,null,"Altri costi (dettagliare)"]
[null,null,null,"Totale  ",{"$f":"SUM(E13:E17)","v":0},{"$f":"SUM(F13:F17)","v":0},0,0,0,0,0,0]
[null,2016,4021566.65,"B.1) Acquisti di beni",null,null,null,null,null,null,null,null,{"$f":"C19-F24-G24-H24-I24-J24-K24-L24","v":4021566.65}]
[null,null,null,"B.2) Acquisti di servizi sanitari"]
[null,null,null,"B.3) Acquisti di servizi non sanitari"]
[null,null,null,"B.6) Costi del personale"]
[null,null,null,"Altri costi (dettagliare)"]
[null,null,null,"Totale  ",{"$f":"SUM(E19:E23)","v":0},{"$f":"SUM(F19:F23)","v":0},0,0,0,0,0,0]
[null,2015,3816133,"B.1) Acquisti di beni",null,null,null,null,null,null,null,null,{"$f":"C25-F30-G30-H30-I30-J30-K30-L30","v":3290040.91}]
[null,null,null,"B.2) Acquisti di servizi sanitari",null,null,null,null,null,null,216602.75,33397.25]
[null,null,null,"B.3) Acquisti di servizi non sanitari"]
[null,null,null,"B.6) Costi del personale",null,null,null,null,null,null,null,27679.5]
[null,null,null,"Riduzione assegnazione finanziamento DGR 178 del 22/03/2016 ",null,null,null,null,null,null,248412.59]
[null,null,null,"Totale  ",{"$f":"SUM(E25:E29)","v":0},{"$f":"SUM(F25:F29)","v":0},0,0,{"$f":"SUM(I25:I29)","v":0},0,{"$f":"SUM(K25:K29)","v":465015.33999999997},{"$f":"SUM(L25:L29)","v":61076.75}]
[null,2014,9057264,"B.1) Acquisti di beni",null,null,null,null,null,null,null,null,{"$f":"C31-F37-G37-H37-I37-J37-K37-L37","v":6818806}]
[null,null,null,"B.2) Acquisti di servizi sanitari"]
[null,null,null,"B.3) Acquisti di servizi non sanitari",null,null,null,null,null,null,null,210000]
[null,null,null,"B.6) Costi del personale",null,null,null,null,null,null,25320,726395]
[null,null,null,"Altri costi (dettagliare)"]
[null,null,null,"Riduzione assegnazione finanziamento DPF009/7 del 20/11/2015",null,null,null,null,null,1276743]
[null,null,null,"Totale  ",0,0,{"$f":"SUM(G31:G36)","v":0},{"$f":"SUM(H31:H36)","v":0},0,{"$f":"SUM(J31:J36)","v":1276743},25320,{"$f":"SUM(L31:L36)","v":936395}]
[null,2013,8441774.7100000009,"B.1) Acquisti di beni",null,null,null,null,null,null,null,null,{"$f":"C38-F43-G43-H43-I43-J43-K43-L43","v":6735500.8600000013}]
[null,null,null,"B.2) Acquisti di servizi sanitari",null,null,null,null,31051,319043,126177.68,500000]
[null,null,null,"B.3) Acquisti di servizi non sanitari"]
[null,null,null,"B.6) Costi del personale",null,null,null,47292,null,89702,299379.38,186128.79]
[null,null,null,"Attrezzature",null,null,null,null,null,null,67240,40260]
[null,null,null,"Totale  ",{"$f":"SUM(E38:E42)","v":0},{"$f":"SUM(F38:F42)","v":0},{"$f":"SUM(G38:G42)","v":0},47292,31051,408745,{"$f":"SUM(K38:K42)","v":492797.06},{"$f":"SUM(L38:L42)","v":726388.79}]
[null,2012,9651234,"B.1) Acquisti di beni",null,null,null,null,null,9168,null,552135,{"$f":"C44-F50-G50-H50-I50-J50-K50-L50","v":2931811.8000000003}]
[null,null,null,"B.2) Acquisti di servizi sanitari",null,null,390333,174958,843513,440815,596829.68000000005,1386942.78]
[null,null,null,"B.3) Acquisti di servizi non sanitari",null,null,null,null,5545,null,5000,0]
[null,null,null,"B.6) Costi del personale",null,null,null,null,{"$f":"798196","v":798196},{"$f":"163153","v":163153},207304.78,837280.83]
[null,null,null,"Attrezzature",null,null,null,null,null,null,55000,64893.13]
[null,null,null,"giroconto anno 2009 per errata  imputazione ",null,null,null,null,null,null,null,188355]
[null,null,null,"Totale  ",{"$f":"SUM(E44:E48)","v":0},0,390333,174958,1647254,613136,864134.46000000008,{"$f":"SUM(L44:L49)","v":3029606.7399999998}]
[null,2011,8438245,"B.1) Acquisti di beni",null,null,null,71017,88062,null,null,null,{"$f":"C51-F58-G58-H58-I58-J58-K58-L58","v":642691.36000000034}]
[null,null,null,"B.2) Acquisti di servizi sanitari",null,443730,331770,{"$f":"968181","v":968181},117987,null,62945.2]
[null,null,null,"B.3) Acquisti di servizi non sanitari",null,null,{"$f":"60000+2795.68","v":62795.68},null,53000]
[null,null,null,"B.6) Costi del personale",null,55810,519843,676530,{"$f":"227749","v":227749},191190,216466.67,195749.09]
[null,null,null,"Altri costi (attrezzature)",null,null,null,28884,null,{"$f":"14544-900","v":13644}]
[null,null,null,"Riduzione assegnazione finanziamento DPF009/2 del  16/09/2015",null,null,null,null,null,35000]
[null,null,null,"DCA  40/2016 del 23/04/2016",null,null,null,null,null,3435200]
[null,null,null,"Totale  ",{"$f":"SUM(E51:E55)","v":0},{"$f":"SUM(F51:F55)","v":499540},{"$f":"SUM(G51:G55)","v":914408.67999999993},{"$f":"SUM(H51:H55)","v":1744612},{"$f":"SUM(I51:I55)","v":486798},{"$f":"SUM(J51:J57)","v":3675034},{"$f":"SUM(K51:K57)","v":279411.87},{"$f":"SUM(L51:L57)","v":195749.09}]
[null,2010,8676763,"B.1) Acquisti di beni",null,null,255519.96,101182,26533,null,null,7052,{"$f":"C59-F65-G65-H65-I65-J65-K65-L65","v":274552.83999999997}]
[null,null,null,"B.2) Acquisti di servizi sanitari",null,{"$f":"1064008+441876+12510","v":1518394},{"$f":"283143+216948+2971+144589.07","v":647651.07000000007},111238,41738,236959]
[null,null,null,"B.3) Acquisti di servizi non sanitari",null,null,124831.13,102651,46924,28782,116.92]
[null,null,null,"B.6) Costi del personale",null,384800,{"$f":"424870+108917.38","v":533787.38},262120,529455,70254,176406.11,33361.07]
[null,null,null,"Attrezzature",null,null,30268,45674]
[null,null,null,"DCA  40/2016 del 23/04/2016",null,null,null,null,null,3069413,null,17099.52]
[null,null,null,"Totale  ",{"$f":"SUM(E59:E64)","v":0},1903194,1592057.54,622865,644650,3405408,176523.03,57512.59]
[null,2009,7623471,"B.1) Acquisti di beni",42591,347499,64944,null,2928,null,null,null,{"$f":"C66-F73-E73-G73-H73-I73-J73-K73-L73","v":776707}]
[null,null,null,"B.2) Acquisti di servizi sanitari",1214909,{"$f":"742209+154922+32200","v":929331},304540,39333,145591,74270,188355]
[null,null,null,"B.3) Acquisti di servizi non sanitari",113578,61397,65211]
[null,null,null,"B.6) Costi del personale",120301,1031190,326236,70362,244978,58290,247020]
[null,null,null,"Attrezzature",null,34304,17037]
[null,null,null,"DCA  40/2016 del 23/04/2016",null,null,null,null,null,1290924]
[null,null,null,"giroconto anno 2012 per errata  imputazione ",null,null,null,null,null,null,null,-188355]
[null,null,null,"Totale  ",{"$f":"SUM(E66:E70)","v":1491379},{"$f":"SUM(F66:F71)","v":2403721},{"$f":"SUM(G66:G71)","v":777968},109695,393497,1423484,{"$f":"SUM(K66:K71)","v":435375},{"$f":"SUM(L66:L72)","v":-188355}]
[null,"TOTALE ",{"$f":"C66+C59+C51+C44+C38+C31+C25+C19","v":59726451.359999999},"TOTALE ",{"$f":"E50+E58+E65+E73","v":1491379},{"$f":"F50+F58+F65+F73","v":4806455},{"$f":"G50+G58+G65+G73","v":3674767.2199999997},{"$f":"H50+H58+H65+H73+H43","v":2699422},{"$f":"I50+I58+I65+I73+I43","v":3203250},{"$f":"J50+J58+J65+J73+J43+J37","v":10802550},{"$f":"K50+K58+K65+K73+K43+K37+K30","v":2738576.76},{"$f":"L50+L58+L65+L73+L43+L37+L30","v":4818373.959999999},{"$f":"SUM(M7:M73)","v":32730609.969999999},"quadrare con tabella 36"]
[]
["Tab. 38 – Dettaglio movimentazioni quota inutilizzata contributi vincolati da soggetti pubblici (extrafondo)"]
["DETTAGLIO QUOTE INUTILIZZATE CONTRIBUTI","ASSEGNAZIONE INIZIALE CONTRIBUTO",null,"UTILIZZI / COSTI",null,null,null,null,null,null,null,null,"FONDO AL 31/12/2017"]
[]
[null,"Esercizio","Importo\ncontributo","Tipologia",null,"Importo"]
[null,null,null,null,"Esercizio\n2010 e precedenti","Esercizio\n2011","Esercizio\n2012","Esercizio\n2013","Esercizio \n2014","Esercizio \n2015","Esercizio \n2016","Esercizio \n2017"]
[" Quote inutilizzate contributi vincolati da soggetti pubblici\n(extra fondo)",2017,50302.400000000001,"B.1) Acquisti di beni",null,null,null,null,null,null,null,null,{"$f":"C81-L86","v":50302.400000000001}]
[null,null,null,"B.2) Acquisti di servizi sanitari"]
[null,null,null,"B.3) Acquisti di servizi non sanitari"]
[null,null,null,"B.6) Costi del personale"]
[null,null,null,"Altri costi (dettagliare)"]
[null,null,null,"Totale  ",null,null,null,null,null,null,null,{"$f":"SUM(L81:L85)","v":0}]
[null,2016,{"$f":"92452.46+88153.5","v":180605.96000000002},"B.1) Acquisti di beni",null,null,null,null,null,null,null,11215,{"$f":"C87-L93","v":88153.960000000021}]
[null,null,null,"B.2) Acquisti di servizi sanitari",null,null,null,null,null,null,null,0]
[null,null,null,"B.3) Acquisti di servizi non sanitari",null,null,null,null,null,null,null,7500]
[null,null,null,"B.6) Costi del personale",null,null,null,null,null,null,null,73737]
[null,null,null,"Altri costi (dettagliare)",null,null,null,null,null,null,null,0]
[null,null,null,"Totale  ",{"$f":"SUM(E87:E91)","v":0},0,0,0,0,0,0,{"$f":"SUM(L87:L91)","v":92452}]
[null,"TOTALE ",null,"TOTALE ",null,null,null,"=",{"$f":"I86+I92","v":0},0,0,{"$f":"L86+L92","v":92452},{"$f":"SUM(M81:M92)","v":138456.36000000002},"quadrare con tabella 36"]
[]
["Tab. 39 – Dettaglio movimentazioni quota inutilizzata contributi per ricerca"]
["DETTAGLIO QUOTE INUTILIZZATE CONTRIBUTI","ASSEGNAZIONE INIZIALE CONTRIBUTO",null,"UTILIZZI / COSTI",null,null,null,null,null,null,null,null,"FONDO AL 31/12/2016"]
[]
[null,"Esercizio","Importo\ncontributo","Tipologia",null,"Importo"]
[null,null,null,null,"Esercizio\n2010 e precedenti","Esercizio\n2011","Esercizio\n2012","Esercizio\n2013","Esercizio\n2014","Esercizio \n2015",2016]
[" Quote inutilizzate contributi \nper ricerca","<indicare esercizio\ndi assegnazione>",null,"B.1) Acquisti di beni"]
[null,null,null,"B.2) Acquisti di servizi sanitari"]
[null,null,null,"B.3) Acquisti di servizi non sanitari"]
[null,null,null,"B.6) Costi del personale"]
[null,null,null,"Altri costi (dettagliare)"]
[null,null,null,"Totale  "]
[null,"<indicare esercizio\ndi assegnazione>",null,"B.1) Acquisti di beni"]
[null,null,null,"B.2) Acquisti di servizi sanitari"]
[null,null,null,"B.3) Acquisti di servizi non sanitari"]
[null,null,null,"B.6) Costi del personale"]
[null,null,null,"Altri costi (dettagliare)"]
[null,null,null,"Totale  "]
[null,"TOTALE ",null,"TOTALE ",null,null,null,null,null,null,null,null,null,"quadrare con tabella 36"]
[]
["Tab. 40 – Dettaglio movimentazioni quota inutilizzata contributi vincolati da privati"]
["DETTAGLIO QUOTE INUTILIZZATE CONTRIBUTI","ASSEGNAZIONE INIZIALE CONTRIBUTO",null,"UTILIZZI / COSTI",null,null,null,null,null,null,null,null,"FONDO AL 31/12/2016"]
[]
[null,"Esercizio","Importo\ncontributo","Tipologia",null,"Importo"]
[null,null,null,null,"Esercizio\n2010 e precedenti","Esercizio\n2011","Esercizio\n2012","Esercizio\n2013","Esercizio\n2014","Esercizio\n2015","Esercizio \n2016"]
[" Quote inutilizzate contributi vincolati \nda privati","<indicare esercizio\ndi assegnazione>",null,"B.1) Acquisti di beni"]
[null,null,null,"B.2) Acquisti di servizi sanitari"]
[null,null,null,"B.3) Acquisti di servizi non sanitari"]
[null,null,null,"B.6) Costi del personale"]
[null,null,null,"Altri costi (dettagliare)"]
[null,null,null,"Totale  "]
[null,"<indicare esercizio\ndi assegnazione>",null,"B.1) Acquisti di beni"]
[null,null,null,"B.2) Acquisti di servizi sanitari"]
[null,null,null,"B.3) Acquisti di servizi non sanitari"]
[null,null,null,"B.6) Costi del personale"]
[null,null,null,"Altri costi (dettagliare)"]
[null,null,null,"Totale  "]
[null,"TOTALE ",null,"TOTALE ",null,null,null,null,null,null,null,null,null,"quadrare con tabella 36"]
[]
[]
[]
["RICONCILIAZIONE TRA TABELLE 37 E 38 E VOCE A3 DEL CONTO ECONOMICO:"]
[]
["Utilizzi 2017 da TABELLA 37 ",null,{"$f":"L74","v":4818373.959999999},"Utilizzo fondi per quote inutilizzate di contributi esercizi precedenti da regione per quota FSR vincolato TAB 37  "]
["Utilizzi 2017 da TABELLA  38",null,{"$f":"L93","v":92452},"Utilizzo fondi per quote inutilizzate di contributi esercizi precedenti da regione per quota FSR vincolato TAB  38"]
[]
[null,null,97703,"Contributo extracomunitari irregolari FSN 2014liquidato con DPF015/49 del 4/10/2017 e registrato direttamente come ricavo a Conto Economico"]
[]
[null,null,93020,"Contributo extracomunitari irregolari FSN 2015 liquidato con DPF015/51 del 18/10/2017 e registrato direttamente come ricavo a Conto Economico"]
[]
[]
[null,null,90046,"Contributo extracomunitari irregolari FSN 2016 liquidato con DPF015/65 del 13/11/2017 e registrato direttamente come ricavo a Conto Economico"]
[]
[null,null,609546,"Contributo Sanità Penitenziaria acconto 2016 liquidato con DPF015/36 del 02/08/2017  e registrato direttamente come ricavo a Conto Economico"]
[]
[]
[null,null,94584,"Contributi per prevenzione ed assistenza ai detenuti tossicodipendenti 2015 e 2016  liquidati con DPF015/39 del 31/08/2017 (€ 37.834), DPF015/46 del 21/09/2017 (€37.834),  DPF015/50 del 05/10/2017 (€ 9.458) e "]
[null,null,null," DPF015/52del 18/10/2017 (€ 9.458) e registrati direttamente come ricavo a Conto Economico"]
[]
[]
[null,null,-122253,"Storno per imputazione a patrimonio netto dei cespiti acquistati nel 2017  con fondi progetto obiettivo."]
[]
["TOTALE GENERALE",null,{"$f":"SUM(C137:C154)","v":5773471.959999999},"Voce A3 del Conto Economico"]

{"sheet":"Dettaglio prog 2011 e retro","index":37,"n_rows":19,"n_cols":6,"rows_kept":19,"cut":false,"hidden":false,"merged":[[1,0,1,5],[8,3,9,3]]}
[]
["Dettagli saldi Progetti 2011 e retro  al 31/12/2017"]
["Anno","Delibera Regionale","Delibera Direttore Generale",null,"Descrizione ","saldi al 31/12/2017"]
[2009,"DGR 246 22/05/2009",null,"020304011304","F.do Obiettivi di Piano 2009:"]
[null,null,null,null," UTAP",736000]
[null,null,null,null,"Amministratore sostegno",40706.94]
[null,null,null,null,"Totale  ",{"$f":"SUM(F5:F6)","v":776706.94}]
[2010,"DGR 655 31/08/2010","DG 244 25/02/2011","020304011301","F.do Obiettivi di Piano 2010:"]
[null,null,null,"LP2 NON AUTOSUFFICIENZA","2d)  Amministratore sostegno",30000]
[null,null,null,null,"2g)  Ass. malati demenza Alzheimer",868]
[null,null,null,"LP5  BIOBANCHE","Biobanche sangue cordonale",178259]
[null,null,null,"LP8  TUTELA MATERNITA'","Progr.continuità assitenziale territorio-ospedale per mamma e bambino",65426.11]
[null,null,null,null,"Totale  ",{"$f":"SUM(F9:F12)","v":274553.11}]
[2011,"DGR 412 15/06/2011","DG 738 30/05/2011","020304011302","F.do Obiettivi di Piano 2011:"]
[null,null,null,null,"Ass. malati demenza Alzheimer",120000]
[null,null,null,"LP5  BIOBANCHE","Biobanche sangue cordonale",518837]
[null,null,"DG 80 29/01/2016","LP9  MALATTIE RARE","Malattie rare",3855]
[null,null,null,null,"Totale  ",{"$f":"SUM(F15:F17)","v":642692}]
[null,null,null,null,"TOTALE GENERALE",{"$f":"F7+F13+F18","v":1693952.0499999998}]

{"sheet":"Criteri Fondi Rischi","index":38,"n_rows":11,"n_cols":5,"rows_kept":11,"cut":false,"hidden":false,"merged":[[7,1,7,3],[10,1,10,3],[10,4,10,7],[8,1,8,3],[8,4,8,7],[7,4,7,7],[9,1,9,3],[9,4,9,7],[0,0,0,7],[4,4,4,7],[6,4,6,7],[4,1,4,3],[5,1,5,3],[2,4,2,7],[2,1,2,3],[3,1,3,3],[3,4,3,7],[5,4,5,7],[6,1,6,3]]}
["Nella seguente tabella sono illustrati i criteri utilizzati per la determinazione dell'entità dei fondi, nonché gli estremi dei verbali del Collegio Sindacale."]
[]
["Fondo","Criteri di determinazione",null,null,"Estremi del verbale del Collegio Sindacale"]
["PBA020"," Il fondo rischi su cause legali in corso è la risultanza delle somme stanziate a fronte della stima effettuata dall’Ufficio Affari Legali per passività potenziali connesse al contenzioso giudiziario in corso al 31/12/2017, nota prot. . n. 0026896/18 del 12/04/2018. "]
["PBA030","Il fondo rischi contenzioso personale dipendente è è la risultanza delle somme stanziate a fronte della stima effettuata dall’Ufficio Affari Legali per passività potenziali connesse al contenzioso giudiziario in corso al 31/12/2016,  nota prot. . n. 0026896/18 del 12/04/2018.  "]
["PBA040","Nella voce “Fondi rischi connessi all'acquisto di prestazioni sanitarie da privato” sono stati iscritti gli importi delle note credito da ricevere su prestazioni fatturate negli anni 2005-2015  per extrabudget e per decurtazioni a seguito degli esiti delle verifiche ispettive  effettuate dai N.O.C  non ancora pervenute. Nel 2017 il fondo rischi è stato ridotto €/000 3.665 a seguito della definizione di conteziosi extra giudiziali -Ospedaliera  extra budget 2013 e 2014  Casa di Cura Villa Seraena per complessivi  €/000  1.800 - riabilitativa ex art.26 extra budget  2013 e 2014   Don Orione  per complessivi  €/000 600- la restante somma per la definizione di posizioni debitorie risalenti agli esercizio 2007 e precedenti.  Per l'anno 2017 non sono stati affettuati nuovi accantonamenti a Fondo."]
["PBA050","Il fondo rischi per oneri derivanti dalla liquidazione di franchigie assicurative si riferisce alle  passività potenziali derivanti dalla liquidazione di franchigie previste nel contratto di polizza di rct/o essendo esso giunto alla conclusione della triennale vigenza contrattuale. Trattasi di somme anticipate dalla Compagnia Assicuratrice  nelle varie annualità di polizza il cui rimborso viene chiesto successivamente alla contraente azienda. Va precisato che l'Ufficio Legane con nota n. 026896/18 del 12/04/2018.  ha stimato la consitenza del fondo di €/000 5.500. "]
["PBA160","La voce \"Quote inutilizzate di contributi da Regione o Provincia Autonoma per Quota di FSR vincolato, accoglie le somme erogate a tale titolo dall'2012 al 2017 non ancora utilizzate, come meglio dettagliate nella tabella 37. "]
["PBA170","La voce \"Quote inutilizzate di contributi  vincolati da soggetti pubblici (extra Fondo), accoglie le somme erogate a tale titolo dal 2012 al 2017 non ancora utilizzate, come meglio dettagliate nella tabella 38. "]
["PBA240","La voce \"fondi rinnovi contrattuali\" accoglie l'accantonamento effettuato per far fronte agli onere derivanti dai futuri rinnovi contrattuali a valere sull esercizio 2017 come indicato dalla Regione nell linee guida al Bilancio d'Esercizio 2017  trasmesse con nota n. RA/0108087/DPF012  del 13/04/2018"]
["PBA240"," Il \"Fondo rinnovi convenzioni MMG-PLS-MCA” accoglie le somme non ancora erogate dall’Azienda dal 2010 a titolo di vacanza contrattuale e  a titolo di rinnovi contrattuali  a valere sul 2017 , secondo i criteri dettati nelle linee guida regionali per la redazione dei Bilanci al 31/12/2017 delle ASL Abruzzesi. Come evidenziato nel prospetto sottostante, l'accantonamento complessivo, pari a € 736.667, è comprensivo della quota per rinnovi convenzioni MMG - PLS - MCA, pari ad € 653.733, classificata nella voce CE BA2840, e della quota per rinnovi convenzioni medici Sumai, pari ad € 82,934, classificata nella voce CE BA2850."]

{"sheet":"dettaglio acca F Contrattuali ","index":39,"n_rows":25,"n_cols":12,"rows_kept":25,"cut":false,"hidden":false,"merged":[[4,0,4,8],[3,0,3,8],[7,0,16,0],[8,6,11,6],[8,7,11,7],[8,8,11,8],[12,6,15,6],[12,7,15,7],[12,8,15,8],[23,9,24,9],[23,10,24,10],[24,0,24,1],[7,9,16,9],[7,10,16,10],[20,0,20,1],[21,0,22,0],[21,9,22,9],[21,10,22,10]]}
[]
[]
["In relazione al Fondo rinnovi contrattuali personale dipendente , si fornisce di seguito il prospetto di dettaglio:"]
[]
["ACCANTONAMENTO  CONSUNTIVO 2017"]
[]
["Codice SP FONDO","conto di coge","Codice CE","Descrizione","  Consuntivo 2015","Accantonamento  dello 1,09%","valore aggregato per codice CE acc","Codice CE accantonamento","Descrizione","Codice SP FONDO","V/C SP"]
["PBA230","0715040401","BA2110","Costo personale dirigente medico",69522650,{"$f":"E8*1.09/100","v":757796.88500000001},{"$f":"F8","v":757796.88500000001},"BA2860","Accantonamento rinnovi contrattuali : dirigenza medica","PBA230","0203050201"]
[null,"0715040501","BA2150","Costo personale dirigente non medico",5146822,{"$f":"E9*1.09/100","v":56100.359800000006},{"$f":"F9+F10+F11+F12","v":74948.356400000019},"BA2870","Accantonamento rinnovi contrattuali : dirigenza non medica"]
[null,"0715040502","BA2240","Costo personale dirigente ruolo professionale",418139,4557.7151000000003]
[null,"0715040503","BA2330","Costo personale dirigente ruolo tecnico",492897,5372.5772999999999]
[null,"0715040504","BA2420","Costo personale dirigente ruolo amministrativo",818138,8917.7042000000001]
[null,"0715040601","BA2190","Costo personale comparto ruolo sanitario ",66559748,725501.25320000004,{"$f":"F13+F14+F15+F16","v":1008327.3027999999},"BA2880","Accantonamento rinnovi contrattuali : comparto"]
[null,"0715040602","BA2280","Costo personale comparto ruolo  professionale",49814,542.97260000000006]
[null,"0715040603","BA2370","Costo personale comparto ruolo tecnico",16318588,177872.60920000001]
[null,"0715040604","BA2460","Costo personale comparto ruolo amministrativo",9578942,104410.46780000001]
[null,null,null,"totale",{"$f":"SUM(E8:E16)","v":168905738},{"$f":"SUM(F8:F16)","v":1841072.5442000001},{"$f":"SUM(G8:G16)","v":1841072.5441999999}]
[]
[]
["In relazione al Fondo rinnovi convenzioni MMG - PLS - MCA, si fornisce di seguito il prospetto di dettaglio:"]
["Voce",null,"CE consuntivo 2010","quota da accantonare pari a 0,75%","CE consuntivo 2015","Base di calcolo accantonamento  b+c*1,09%","calcolo incremento  del 1,09%","totale da accantonare ","V/C  CE"," Accantonamento voci CE","voce di S.P.","V/C  CE"]
["BA0420",null,"a","b","c","('d=b+c)","e=d*1,09%","f= b+e",null,"BA2840","PBA240"]
[null,"Spese per assistenza MMG",35268675,{"$f":"C23*0.75/100","v":264515.0625},35443596,{"$f":"D23+E23","v":35708111.0625},{"$f":"F23*1.09/100","v":389218.41058125003},{"$f":"D23+G23","v":653733.47308124998},"0715040201",null,null,"0203050301"]
["BA0570","Medici Sumai",3878582.33,{"$f":"C24*0.75/100","v":29089.367474999999},4910803,{"$f":"D24+E24","v":4939892.3674750002},{"$f":"F24*1.09/100","v":53844.826805477504},{"$f":"D24+G24","v":82934.194280477503},"0715040301","BA2850","PBA250","0203050401"]
["Totale",null,{"$f":"SUM(C23:C24)","v":39147257.329999998},{"$f":"SUM(D23:D24)","v":293604.42997499998},40354399,40648003.429975003,{"$f":"F25*1.09/100","v":443063.23738672753},{"$f":"D25+G25","v":736667.66736172745}]

{"sheet":"Altre Info","index":40,"n_rows":10,"n_cols":5,"rows_kept":10,"cut":false,"hidden":false,"merged":[[6,0,6,1],[5,2,5,3],[5,0,5,1],[8,4,8,7],[9,4,9,7],[5,4,5,7],[6,4,6,7],[7,4,7,7],[8,0,8,1],[9,0,9,1],[7,0,7,1]]}
[]
[]
["Altre informazioni relative a fondi rischi e oneri"]
[]
[]
["Informazione",null,"Caso presente in azienda?",null,"Se sì, illustrare"]
["FR01. Con riferimento ai rischi per i quali è stato costituito un fondo, esiste la possibilità di subire perdite addizionali rispetto agli ammontari stanziati?",null,null,"NO"]
["FR02. Esistono rischi probabili, a fronte dei quali non è stato costituito un apposito fondo per l'impossibilità di formulare stime attendibili?",null,null,"NO"]
["FR03. Esistono rischi (né generici, né remoti) a fronte dei quali non è stato costituito un apposito fondo perché solo possibili, anzichè probabili? Da tali rischi potrebbero scaturire perdite significative?",null,null,"NO"]
["FR04 - Altro. Esistono altre informazioni che si ritiene necessario fornire per soddisfare la regola generale secondo cui \"Se le informazioni richieste da specifiche disposizioni di legge non sono sufficienti a dare una rappresentazione veritiera e corretta, si devono fornire le informazioni complementari necessarie allo scopo\" (art. 2423 cc)?",null,null,"NO"]

{"sheet":"Tab 41","index":41,"n_rows":16,"n_cols":13,"rows_kept":16,"cut":false,"hidden":false,"merged":[[10,1,10,8],[15,0,15,3],[0,0,0,7],[2,1,2,8],[3,0,4,0],[3,1,4,1],[3,3,4,3],[3,4,4,4],[3,5,4,5],[3,6,4,6],[14,0,14,3],[14,4,14,5],[15,6,15,8],[14,6,14,8],[11,1,11,8]]}
["13.     Trattamento di fine rapporto"]
[]
[null,"Tab. 41 – Consistenza e movimentazioni del Trattamento di Fine Rapporto "]
["CODICE MOD. SP","TRATTAMENTO DI FINE RAPPORTO",null,"Consistenza iniziale","Accantonamento","Utilizzi\ndell'esercizio","Valore finale"]
[null,null,null,null,null,null,null,null,null,null,"Valore SP","Diff","Ctrl"]
["PCA000","  Fondo per premi operosità medici SUMAI",null,{"$f":"SUMIF('00 SP'!$A:$A,'Tab 41'!$A6,'00 SP'!I:I)","v":2195943.02},{"$f":"SUMIF('00 SP'!$A:$A,'Tab 41'!$A6,'00 SP'!J:J)","v":223015.56},{"$f":"SUMIF('00 SP'!$A:$A,'Tab 41'!$A6,'00 SP'!K:K)","v":217866.17},{"$f":"D6+E6-F6","v":2201092.41},null,null,null,{"$f":"SUMIF('00 SP'!A:A,'Tab 41'!A6,'00 SP'!L:L)","v":2201092.41},{"$f":"G6-K6","v":0},{"$f":"IF(L6=0,\"OK\",\"CTRL\")","v":"OK"}]
["PCA010","  Fondo per trattamento di fine rapporto dipendente",null,{"$f":"SUMIF('00 SP'!$A:$A,'Tab 41'!$A7,'00 SP'!I:I)","v":0},{"$f":"SUMIF('00 SP'!$A:$A,'Tab 41'!$A7,'00 SP'!J:J)","v":0},{"$f":"SUMIF('00 SP'!$A:$A,'Tab 41'!$A7,'00 SP'!K:K)","v":0},{"$f":"D7+E7-F7","v":0},null,null,null,{"$f":"SUMIF('00 SP'!A:A,'Tab 41'!A7,'00 SP'!L:L)","v":0},{"$f":"G7-K7","v":0},{"$f":"IF(L7=0,\"OK\",\"CTRL\")","v":"OK"}]
[null,"  TOTALE TRATTAMENTO DI FINE RAPPORTO",null,{"$f":"SUM(D6:D7)","v":2195943.02},{"$f":"SUM(E6:E7)","v":223015.56},{"$f":"SUM(F6:F7)","v":217866.17},{"$f":"SUM(G6:G7)","v":2201092.41}]
[]
[]
["Fondo","Criteri di determinazione"]
["PCA100","Il fondo per premi operosità SUMAI , come meglio esplicitato dal servizio UOS Assistenza primaria e continuità assistenziale con nota n.75 del 24 gennaio 2018, è stato colcolato sulla media delle retribuzioni corrisposte nell'anno 2017 a n.82 Medici Specialisti SUMAI Convenzionati Interni , 7 medici addetti alla Medicina dei Servizi Territoriali ed 11  Medici Veterinari Convenzionati Interni. Il Fondo SUMAI 2017 è stato utilizzato per €/000 218."]
[]
["Altre informazioni relative a trattamento di fine rapporto"]
["Informazione",null,null,null,"Caso presente in azienda?",null,"Se sì, illustrare"]
["TR01 - Altro. Esistono altre informazioni che si ritiene necessario fornire per soddisfare la regola generale secondo cui \"Se le informazioni richieste da specifiche disposizioni di legge non sono sufficienti a dare una rappresentazione veritiera e corretta, si devono fornire le informazioni complementari necessarie allo scopo\" (art. 2423 cc)?",null,null,null,null,"NO"]

{"sheet":"Tab 42","index":42,"n_rows":68,"n_cols":16,"rows_kept":68,"cut":false,"hidden":false,"merged":[[66,2,66,9],[67,2,67,9],[2,2,2,9],[3,1,4,1],[3,2,4,2],[3,4,4,4],[3,5,3,6],[3,7,4,7],[3,8,4,8],[3,9,4,9]]}
[null,"14.     Debiti"]
[]
[null,null,"Tab. 42 – Consistenza e movimentazioni dei debiti "]
[null,"CODICE MOD. SP","DEBITI",null,"Valore\niniziale","MOVIMENTI DELL'ESERCIZIO",null,"Valore finale","di cui per fatture / N.C da ricevere","di cui per acquisti di beni iscritti tra le immobilizz."]
[null,null,null,null,null,"Incrementi","Decrementi",null,null,null,null,"Valore SP","Diff","Ctrl"]
[{"$f":"B6&\"FR\"","v":"PDA000FR"},"PDA000"," MUTUI PASSIVI",null,{"$f":"SUMIF('00 SP'!$A:$A,'Tab 42'!$B6,'00 SP'!I:I)","v":0},{"$f":"SUMIF('00 SP'!$A:$A,'Tab 42'!$B6,'00 SP'!J:J)","v":0},{"$f":"SUMIF('00 SP'!$A:$A,'Tab 42'!$B6,'00 SP'!K:K)","v":0},{"$f":"E6+F6-G6","v":0},{"$f":"SUMIF('00 PDC SP'!A:A,'Tab 42'!A6,'00 PDC SP'!N:N)","v":0},0,null,{"$f":"SUMIF('00 SP'!A:A,'Tab 42'!B6,'00 SP'!L:L)","v":0},{"$f":"H6-L6","v":0},{"$f":"IF(M6=0,\"OK\",\"CTRL\")","v":"OK"}]
[]
[null,null," DEBITI V/STATO",null,{"$f":"SUM(E9:E13)","v":0},{"$f":"SUM(F9:F13)","v":0},0,0,0,0]
[{"$f":"B9&\"FR\"","v":"PDA020FR"},"PDA020"," Debiti v/Stato per mobilità passiva extraregionale",null,{"$f":"SUMIF('00 SP'!$A:$A,'Tab 42'!$B9,'00 SP'!I:I)","v":0},{"$f":"SUMIF('00 SP'!$A:$A,'Tab 42'!$B9,'00 SP'!J:J)","v":0},{"$f":"SUMIF('00 SP'!$A:$A,'Tab 42'!$B9,'00 SP'!K:K)","v":0},{"$f":"E9+F9-G9","v":0},{"$f":"SUMIF('00 PDC SP'!A:A,'Tab 42'!A9,'00 PDC SP'!N:N)","v":0},0,null,{"$f":"SUMIF('00 SP'!A:A,'Tab 42'!B9,'00 SP'!L:L)","v":0},{"$f":"H9-L9","v":0},{"$f":"IF(M9=0,\"OK\",\"CTRL\")","v":"OK"}]
["PDA030FR","PDA030"," Debiti v/Stato per mobilità passiva internazionale",null,{"$f":"SUMIF('00 SP'!$A:$A,'Tab 42'!$B10,'00 SP'!I:I)","v":0},{"$f":"SUMIF('00 SP'!$A:$A,'Tab 42'!$B10,'00 SP'!J:J)","v":0},{"$f":"SUMIF('00 SP'!$A:$A,'Tab 42'!$B10,'00 SP'!K:K)","v":0},{"$f":"E10+F10-G10","v":0},{"$f":"SUMIF('00 PDC SP'!A:A,'Tab 42'!A10,'00 PDC SP'!N:N)","v":0},0,null,{"$f":"SUMIF('00 SP'!A:A,'Tab 42'!B10,'00 SP'!L:L)","v":0},0,"OK"]
["PDA040FR","PDA040"," Acconto quota FSR v/Stato",null,{"$f":"SUMIF('00 SP'!$A:$A,'Tab 42'!$B11,'00 SP'!I:I)","v":0},{"$f":"SUMIF('00 SP'!$A:$A,'Tab 42'!$B11,'00 SP'!J:J)","v":0},{"$f":"SUMIF('00 SP'!$A:$A,'Tab 42'!$B11,'00 SP'!K:K)","v":0},0,{"$f":"SUMIF('00 PDC SP'!A:A,'Tab 42'!A11,'00 PDC SP'!N:N)","v":0},0,null,{"$f":"SUMIF('00 SP'!A:A,'Tab 42'!B11,'00 SP'!L:L)","v":0},0,"OK"]
["PDA050FR","PDA050"," Debiti v/Stato per restituzione finanziamenti - per ricerca:",null,{"$f":"SUMIF('00 SP'!$A:$A,'Tab 42'!$B12,'00 SP'!I:I)","v":0},{"$f":"SUMIF('00 SP'!$A:$A,'Tab 42'!$B12,'00 SP'!J:J)","v":0},{"$f":"SUMIF('00 SP'!$A:$A,'Tab 42'!$B12,'00 SP'!K:K)","v":0},0,{"$f":"SUMIF('00 PDC SP'!A:A,'Tab 42'!A12,'00 PDC SP'!N:N)","v":0},0,null,{"$f":"SUMIF('00 SP'!A:A,'Tab 42'!B12,'00 SP'!L:L)","v":0},0,"OK"]
["PDA060FR","PDA060"," Altri debiti v/Stato",null,{"$f":"SUMIF('00 SP'!$A:$A,'Tab 42'!$B13,'00 SP'!I:I)","v":0},{"$f":"SUMIF('00 SP'!$A:$A,'Tab 42'!$B13,'00 SP'!J:J)","v":0},{"$f":"SUMIF('00 SP'!$A:$A,'Tab 42'!$B13,'00 SP'!K:K)","v":0},0,{"$f":"SUMIF('00 PDC SP'!A:A,'Tab 42'!A13,'00 PDC SP'!N:N)","v":0},0,null,{"$f":"SUMIF('00 SP'!A:A,'Tab 42'!B13,'00 SP'!L:L)","v":0},0,"OK"]
[]
[null,null," DEBITI V/REGIONE O PROVINCIA AUTONOMA",null,{"$f":"SUM(E16:E20)","v":30296892.669999998},{"$f":"SUM(F16:F20)","v":628406058.52999997},628406747.52999997,30296203.669999987,0,0]
[{"$f":"B16&\"FR\"","v":"PDA080FR"},"PDA080"," Debiti v/Regione o Provincia Autonoma per finanziamenti",null,{"$f":"SUMIF('00 SP'!$A:$A,'Tab 42'!$B16,'00 SP'!I:I)","v":0},{"$f":"SUMIF('00 SP'!$A:$A,'Tab 42'!$B16,'00 SP'!J:J)","v":0},{"$f":"SUMIF('00 SP'!$A:$A,'Tab 42'!$B16,'00 SP'!K:K)","v":0},{"$f":"E16+F16-G16","v":0},{"$f":"SUMIF('00 PDC SP'!A:A,'Tab 42'!A16,'00 PDC SP'!N:N)","v":0},0,null,{"$f":"SUMIF('00 SP'!A:A,'Tab 42'!B16,'00 SP'!L:L)","v":0},{"$f":"H16-L16","v":0},{"$f":"IF(M16=0,\"OK\",\"CTRL\")","v":"OK"}]
["PDA090FR","PDA090"," Debiti v/Regione o Provincia Autonoma per mobilità passiva intraregionale",null,{"$f":"SUMIF('00 SP'!$A:$A,'Tab 42'!$B17,'00 SP'!I:I)","v":20766344.579999998},{"$f":"SUMIF('00 SP'!$A:$A,'Tab 42'!$B17,'00 SP'!J:J)","v":51271679.93},{"$f":"SUMIF('00 SP'!$A:$A,'Tab 42'!$B17,'00 SP'!K:K)","v":51272368.93},20765655.579999991,{"$f":"SUMIF('00 PDC SP'!A:A,'Tab 42'!A17,'00 PDC SP'!N:N)","v":0},0,null,{"$f":"SUMIF('00 SP'!A:A,'Tab 42'!B17,'00 SP'!L:L)","v":20765655.579999991},0,"OK"]
["PDA100FR","PDA100"," Debiti v/Regione o Provincia Autonoma per mobilità passiva extraregionale",null,{"$f":"SUMIF('00 SP'!$A:$A,'Tab 42'!$B18,'00 SP'!I:I)","v":9530548.0899999999},{"$f":"SUMIF('00 SP'!$A:$A,'Tab 42'!$B18,'00 SP'!J:J)-26930533.58","v":30242623.880000003},{"$f":"SUMIF('00 SP'!$A:$A,'Tab 42'!$B18,'00 SP'!K:K)-26930533.58","v":30242623.880000003},9530548.0899999961,{"$f":"SUMIF('00 PDC SP'!A:A,'Tab 42'!A18,'00 PDC SP'!N:N)","v":0},0,null,{"$f":"SUMIF('00 SP'!A:A,'Tab 42'!B18,'00 SP'!L:L)","v":9530548.0899999961},0,"OK"]
["PDA110FR","PDA110"," Acconto quota FSR da Regione o Provincia Autonoma",null,{"$f":"SUMIF('00 SP'!$A:$A,'Tab 42'!$B19,'00 SP'!I:I)","v":0},{"$f":"SUMIF('00 SP'!$A:$A,'Tab 42'!$B19,'00 SP'!J:J)","v":546891755},{"$f":"SUMIF('00 SP'!$A:$A,'Tab 42'!$B19,'00 SP'!K:K)","v":546891755},0,{"$f":"SUMIF('00 PDC SP'!A:A,'Tab 42'!A19,'00 PDC SP'!N:N)","v":0},0,null,{"$f":"SUMIF('00 SP'!A:A,'Tab 42'!B19,'00 SP'!L:L)","v":0},0,"OK"]
["PDA120FR","PDA120"," Altri debiti v/Regione o Provincia Autonoma",null,{"$f":"SUMIF('00 SP'!$A:$A,'Tab 42'!$B20,'00 SP'!I:I)","v":0},{"$f":"SUMIF('00 SP'!$A:$A,'Tab 42'!$B20,'00 SP'!J:J)-983421149","v":-0.27999997138977051},{"$f":"SUMIF('00 SP'!$A:$A,'Tab 42'!$B20,'00 SP'!K:K)-983421149","v":-0.27999997138977051},0,{"$f":"SUMIF('00 PDC SP'!A:A,'Tab 42'!A20,'00 PDC SP'!N:N)","v":0},0,null,{"$f":"SUMIF('00 SP'!A:A,'Tab 42'!B20,'00 SP'!L:L)","v":0},0,"OK"]
[]
[{"$f":"B22&\"FR\"","v":"PDA130FR"},"PDA130"," DEBITI V/COMUNI:",null,{"$f":"SUMIF('00 SP'!$A:$A,'Tab 42'!$B22,'00 SP'!I:I)","v":150000},{"$f":"SUMIF('00 SP'!$A:$A,'Tab 42'!$B22,'00 SP'!J:J)","v":0},{"$f":"SUMIF('00 SP'!$A:$A,'Tab 42'!$B22,'00 SP'!K:K)","v":0},{"$f":"E22+F22-G22","v":150000},{"$f":"SUMIF('00 PDC SP'!A:A,'Tab 42'!A22,'00 PDC SP'!N:N)","v":0},0,null,{"$f":"SUMIF('00 SP'!A:A,'Tab 42'!B22,'00 SP'!L:L)","v":150000},{"$f":"H22-L22","v":0},"OK"]
[]
[null,null," DEBITI V/AZIENDE SANITARIE PUBBLICHE DELLA REGIONE",null,{"$f":"SUM(E25:E30)","v":2136539.1100000003},{"$f":"SUM(F25:F30)","v":748956.39},495733.42,2389762.0800000005,-137637.44000000003,0]
[{"$f":"B25&\"FR\"","v":"PDA160FR"},"PDA160"," Debiti v/Aziende sanitarie pubbliche della Regione - per quota FSR",null,{"$f":"SUMIF('00 SP'!$A:$A,'Tab 42'!$B25,'00 SP'!I:I)","v":0},{"$f":"SUMIF('00 SP'!$A:$A,'Tab 42'!$B25,'00 SP'!J:J)","v":0},{"$f":"SUMIF('00 SP'!$A:$A,'Tab 42'!$B25,'00 SP'!K:K)","v":0},{"$f":"E25+F25-G25","v":0},{"$f":"SUMIF('00 PDC SP'!A:A,'Tab 42'!A25,'00 PDC SP'!N:N)","v":0},0,null,{"$f":"SUMIF('00 SP'!A:A,'Tab 42'!B25,'00 SP'!L:L)","v":0},{"$f":"H25-L25","v":0},{"$f":"IF(M25=0,\"OK\",\"CTRL\")","v":"OK"}]
["PDA170FR","PDA170"," Debiti v/Aziende sanitarie pubbliche della Regione - finanziamento sanitario aggiuntivo corrente LEA",null,{"$f":"SUMIF('00 SP'!$A:$A,'Tab 42'!$B26,'00 SP'!I:I)","v":0},{"$f":"SUMIF('00 SP'!$A:$A,'Tab 42'!$B26,'00 SP'!J:J)","v":0},{"$f":"SUMIF('00 SP'!$A:$A,'Tab 42'!$B26,'00 SP'!K:K)","v":0},0,{"$f":"SUMIF('00 PDC SP'!A:A,'Tab 42'!A26,'00 PDC SP'!N:N)","v":0},0,null,{"$f":"SUMIF('00 SP'!A:A,'Tab 42'!B26,'00 SP'!L:L)","v":0},0,"OK"]
["PDA180FR","PDA180"," Debiti v/Aziende sanitarie pubbliche della Regione - finanziamento sanitario aggiuntivo corrente extra LEA",null,{"$f":"SUMIF('00 SP'!$A:$A,'Tab 42'!$B27,'00 SP'!I:I)","v":0},{"$f":"SUMIF('00 SP'!$A:$A,'Tab 42'!$B27,'00 SP'!J:J)","v":0},{"$f":"SUMIF('00 SP'!$A:$A,'Tab 42'!$B27,'00 SP'!K:K)","v":0},0,{"$f":"SUMIF('00 PDC SP'!A:A,'Tab 42'!A27,'00 PDC SP'!N:N)","v":0},0,null,{"$f":"SUMIF('00 SP'!A:A,'Tab 42'!B27,'00 SP'!L:L)","v":0},0,"OK"]
["PDA190FR","PDA190"," Debiti v/Aziende sanitarie pubbliche della Regione - mobilità\n in compensazione",null,{"$f":"SUMIF('00 SP'!$A:$A,'Tab 42'!$B28,'00 SP'!I:I)","v":0},{"$f":"SUMIF('00 SP'!$A:$A,'Tab 42'!$B28,'00 SP'!J:J)","v":0},{"$f":"SUMIF('00 SP'!$A:$A,'Tab 42'!$B28,'00 SP'!K:K)","v":0},0,{"$f":"SUMIF('00 PDC SP'!A:A,'Tab 42'!A28,'00 PDC SP'!N:N)","v":0},0,null,{"$f":"SUMIF('00 SP'!A:A,'Tab 42'!B28,'00 SP'!L:L)","v":0},0,"OK"]
["PDA200FR","PDA200"," Debiti v/Aziende sanitarie pubbliche della Regione - mobilità\n non in compensazione",null,{"$f":"SUMIF('00 SP'!$A:$A,'Tab 42'!$B29,'00 SP'!I:I)","v":0},{"$f":"SUMIF('00 SP'!$A:$A,'Tab 42'!$B29,'00 SP'!J:J)","v":0},{"$f":"SUMIF('00 SP'!$A:$A,'Tab 42'!$B29,'00 SP'!K:K)","v":0},0,{"$f":"SUMIF('00 PDC SP'!A:A,'Tab 42'!A29,'00 PDC SP'!N:N)","v":0},0,null,{"$f":"SUMIF('00 SP'!A:A,'Tab 42'!B29,'00 SP'!L:L)","v":0},0,"OK"]
["PDA210FR","PDA210"," Debiti v/Aziende sanitarie pubbliche della Regione - altre\n prestazioni",null,{"$f":"SUMIF('00 SP'!$A:$A,'Tab 42'!$B30,'00 SP'!I:I)","v":2136539.1100000003},{"$f":"SUMIF('00 SP'!$A:$A,'Tab 42'!$B30,'00 SP'!J:J)","v":748956.39},{"$f":"SUMIF('00 SP'!$A:$A,'Tab 42'!$B30,'00 SP'!K:K)","v":495733.42},2389762.0800000005,{"$f":"SUMIF('00 PDC SP'!A:A,'Tab 42'!A30,'00 PDC SP'!N:N)","v":-137637.44000000003},0,null,{"$f":"SUMIF('00 SP'!A:A,'Tab 42'!B30,'00 SP'!L:L)","v":2389762.08},0,"OK"]
["PDA220FR","PDA220"," Debiti v/Aziende Sanitarie pubbliche fuori Regione",null,{"$f":"SUMIF('00 SP'!$A:$A,'Tab 42'!$B31,'00 SP'!I:I)","v":255013.34},{"$f":"SUMIF('00 SP'!$A:$A,'Tab 42'!$B31,'00 SP'!J:J)","v":337570.29},{"$f":"SUMIF('00 SP'!$A:$A,'Tab 42'!$B31,'00 SP'!K:K)","v":391557.73},{"$f":"E31+F31-G31","v":201025.90000000002},{"$f":"SUMIF('00 PDC SP'!A:A,'Tab 42'!A31,'00 PDC SP'!N:N)","v":-49090.07},0,null,{"$f":"SUMIF('00 SP'!A:A,'Tab 42'!B31,'00 SP'!L:L)","v":201025.90000000002},0,"OK"]
["PDA230FR","PDA230"," Debiti v/Aziende sanitarie pubbliche della Regione per versamenti\n c/patrimonio netto",null,{"$f":"SUMIF('00 SP'!$A:$A,'Tab 42'!$B32,'00 SP'!I:I)","v":0},{"$f":"SUMIF('00 SP'!$A:$A,'Tab 42'!$B32,'00 SP'!J:J)","v":0},{"$f":"SUMIF('00 SP'!$A:$A,'Tab 42'!$B32,'00 SP'!K:K)","v":0},{"$f":"E32+F32-G32","v":0},{"$f":"SUMIF('00 PDC SP'!A:A,'Tab 42'!A32,'00 PDC SP'!N:N)","v":0},0,null,{"$f":"SUMIF('00 SP'!A:A,'Tab 42'!B32,'00 SP'!L:L)","v":0},0,"OK"]
[null,null," TOTALE DEBITI V/AZIENDE SANITARIE PUBBLICHE",null,{"$f":"E24+E31+E32","v":2391552.4500000002},{"$f":"F24+F31+F32","v":1086526.68},887291.14999999991,2590787.9800000004,-186727.51000000004,0]
[]
[null,null," DEBITI V/SOCIETA' PARTECIPATE E/O ENTI DIPENDENTI",null,{"$f":"SUM(E36:E38)","v":0},{"$f":"SUM(F36:F38)","v":0},0,0,0,0]
[{"$f":"B36&\"FR\"","v":"PDA250FR"},"PDA250"," Debiti v/enti regionali:",null,{"$f":"SUMIF('00 SP'!$A:$A,'Tab 42'!$B36,'00 SP'!I:I)","v":0},{"$f":"SUMIF('00 SP'!$A:$A,'Tab 42'!$B36,'00 SP'!J:J)","v":0},{"$f":"SUMIF('00 SP'!$A:$A,'Tab 42'!$B36,'00 SP'!K:K)","v":0},{"$f":"E36+F36-G36","v":0},{"$f":"SUMIF('00 PDC SP'!A:A,'Tab 42'!A36,'00 PDC SP'!N:N)","v":0},0,null,{"$f":"SUMIF('00 SP'!A:A,'Tab 42'!B36,'00 SP'!L:L)","v":0},{"$f":"H36-L36","v":0},{"$f":"IF(M36=0,\"OK\",\"CTRL\")","v":"OK"}]
["PDA260FR","PDA260"," Debiti v/sperimentazioni gestionali:",null,{"$f":"SUMIF('00 SP'!$A:$A,'Tab 42'!$B37,'00 SP'!I:I)","v":0},{"$f":"SUMIF('00 SP'!$A:$A,'Tab 42'!$B37,'00 SP'!J:J)","v":0},{"$f":"SUMIF('00 SP'!$A:$A,'Tab 42'!$B37,'00 SP'!K:K)","v":0},0,{"$f":"SUMIF('00 PDC SP'!A:A,'Tab 42'!A37,'00 PDC SP'!N:N)","v":0},0,null,{"$f":"SUMIF('00 SP'!A:A,'Tab 42'!B37,'00 SP'!L:L)","v":0},0,"OK"]
["PDA270FR","PDA270"," Debiti v/altre partecipate:",null,{"$f":"SUMIF('00 SP'!$A:$A,'Tab 42'!$B38,'00 SP'!I:I)","v":0},{"$f":"SUMIF('00 SP'!$A:$A,'Tab 42'!$B38,'00 SP'!J:J)","v":0},{"$f":"SUMIF('00 SP'!$A:$A,'Tab 42'!$B38,'00 SP'!K:K)","v":0},0,{"$f":"SUMIF('00 PDC SP'!A:A,'Tab 42'!A38,'00 PDC SP'!N:N)","v":0},0,null,{"$f":"SUMIF('00 SP'!A:A,'Tab 42'!B38,'00 SP'!L:L)","v":0},0,"OK"]
[]
[{"$f":"B40&\"FR\"","v":"PDA280FR"},"PDA280"," DEBITI V/FORNITORI:",null,{"$f":"SUM(E41:E42)","v":132711079},{"$f":"SUM(F41:F42)","v":507456245.35999995},514422300.49000001,125745023.86999995,6107745.110000005,5344053.6900000004]
["PDA290FR","PDA290","Debiti verso erogatori (privati accreditati e convenzionati) di prestazioni sanitarie",null,{"$f":"SUMIF('00 SP'!$A:$A,'Tab 42'!$B41,'00 SP'!I:I)","v":90875602.260000005},{"$f":"SUMIF('00 SP'!$A:$A,'Tab 42'!$B41,'00 SP'!J:J)","v":204921158.75},{"$f":"SUMIF('00 SP'!$A:$A,'Tab 42'!$B41,'00 SP'!K:K)","v":221886119.70999998},{"$f":"E41+F41-G41","v":73910641.300000012},{"$f":"SUMIF('00 PDC SP'!A:A,'Tab 42'!A41,'00 PDC SP'!N:N)","v":19668474.130000006},0,null,{"$f":"SUMIF('00 SP'!A:A,'Tab 42'!B41,'00 SP'!L:L)","v":73910641.299999952},{"$f":"H41-L41","v":0},{"$f":"IF(M41=0,\"OK\",\"CTRL\")","v":"OK"}]
["PDA300FR","PDA300","Debiti verso altri fornitori",null,{"$f":"SUMIF('00 SP'!$A:$A,'Tab 42'!$B42,'00 SP'!I:I)","v":41835476.740000002},{"$f":"SUMIF('00 SP'!$A:$A,'Tab 42'!$B42,'00 SP'!J:J)","v":302535086.60999995},{"$f":"SUMIF('00 SP'!$A:$A,'Tab 42'!$B42,'00 SP'!K:K)","v":292536180.78000003},51834382.569999933,{"$f":"SUMIF('00 PDC SP'!A:A,'Tab 42'!A42,'00 PDC SP'!N:N)","v":-13560729.020000001},5344053.6900000004,null,{"$f":"SUMIF('00 SP'!A:A,'Tab 42'!B42,'00 SP'!L:L)","v":51834382.569999948},0,"OK"]
[]
[{"$f":"B44&\"FR\"","v":"PDA310FR"},"PDA310"," DEBITI V/ISTITUTO TESORIERE",null,{"$f":"SUMIF('00 SP'!$A:$A,'Tab 42'!$B44,'00 SP'!I:I)","v":0},{"$f":"SUMIF('00 SP'!$A:$A,'Tab 42'!$B44,'00 SP'!J:J)","v":0},{"$f":"SUMIF('00 SP'!$A:$A,'Tab 42'!$B44,'00 SP'!K:K)","v":0},{"$f":"E44+F44-G44","v":0},{"$f":"SUMIF('00 PDC SP'!A:A,'Tab 42'!A44,'00 PDC SP'!N:N)","v":0},0,null,{"$f":"SUMIF('00 SP'!A:A,'Tab 42'!B44,'00 SP'!L:L)","v":0},{"$f":"H44-L44","v":0},{"$f":"IF(M44=0,\"OK\",\"CTRL\")","v":"OK"}]
[]
[{"$f":"B46&\"FR\"","v":"PDA320FR"},"PDA320"," DEBITI TRIBUTARI: di cui ",null,{"$f":"SUMIF('00 SP'!$A:$A,'Tab 42'!$B46,'00 SP'!I:I)","v":4373806.8599999994},{"$f":"SUMIF('00 SP'!$A:$A,'Tab 42'!$B46,'00 SP'!J:J)","v":77110739.460000008},{"$f":"SUMIF('00 SP'!$A:$A,'Tab 42'!$B46,'00 SP'!K:K)","v":78409524.050000012},{"$f":"E46+F46-G46","v":3075022.2699999958},{"$f":"SUMIF('00 PDC SP'!A:A,'Tab 42'!A46,'00 PDC SP'!N:N)","v":0},0,null,{"$f":"SUMIF('00 SP'!A:A,'Tab 42'!B46,'00 SP'!L:L)","v":3075022.2700000014},{"$f":"H46-L46","v":-5.5879354476928711E-9},{"$f":"IF(M46=0,\"OK\",\"CTRL\")","v":"CTRL"}]
[null,"020509010405","Debiti IVA SPLIT PAYMENT",null,2785752,24106592.75,25324798.789999999,1567545.9600000009,0,0]
[]
[{"$f":"B49&\"FR\"","v":"PDA330FR"},"PDA330"," DEBITI V/ISTITUTI PREVIDENZIALI, ASSISTENZIALI E SICUREZZA SOCIALE:",null,{"$f":"SUMIF('00 SP'!$A:$A,'Tab 42'!$B49,'00 SP'!I:I)","v":1392547.71},{"$f":"SUMIF('00 SP'!$A:$A,'Tab 42'!$B49,'00 SP'!J:J)","v":59538714.160000004},{"$f":"SUMIF('00 SP'!$A:$A,'Tab 42'!$B49,'00 SP'!K:K)","v":59412731.259999998},{"$f":"E49+F49-G49","v":1518530.6100000069},{"$f":"SUMIF('00 PDC SP'!A:A,'Tab 42'!A49,'00 PDC SP'!N:N)","v":0},0,null,{"$f":"SUMIF('00 SP'!A:A,'Tab 42'!B49,'00 SP'!L:L)","v":1518530.6099999971},{"$f":"H49-L49","v":9.7788870334625244E-9},{"$f":"IF(M49=0,\"OK\",\"CTRL\")","v":"CTRL"}]
[]
[{"$f":"B51&\"FR\"","v":"PDA340FR"},"PDA340"," DEBITI V/ALTRI:",null,{"$f":"SUM(E52:E55)","v":16251799.439999999},{"$f":"SUM(F52:F55)","v":104595212.91},106088798.63,14758213.719999982,-316850.95999999996,0,null,{"$f":"SUMIF('00 SP'!A:A,'Tab 42'!B51,'00 SP'!L:L)","v":14758213.719999988},{"$f":"H51-L51","v":0},{"$f":"IF(M51=0,\"OK\",\"CTRL\")","v":"OK"},null,3973979.23]
["PDA350FR","PDA350"," Debiti v/altri finanziatori",null,{"$f":"SUMIF('00 SP'!$A:$A,'Tab 42'!$B52,'00 SP'!I:I)","v":0},{"$f":"SUMIF('00 SP'!$A:$A,'Tab 42'!$B52,'00 SP'!J:J)","v":0},{"$f":"SUMIF('00 SP'!$A:$A,'Tab 42'!$B52,'00 SP'!K:K)","v":0},{"$f":"E52+F52-G52","v":0},{"$f":"SUMIF('00 PDC SP'!A:A,'Tab 42'!A52,'00 PDC SP'!N:N)","v":0},0,null,{"$f":"SUMIF('00 SP'!A:A,'Tab 42'!B52,'00 SP'!L:L)","v":0},0,"OK",null,1370074.46]
["PDA360FR","PDA360"," Debiti v/dipendenti",null,{"$f":"SUMIF('00 SP'!$A:$A,'Tab 42'!$B53,'00 SP'!I:I)","v":15018431.27},{"$f":"SUMIF('00 SP'!$A:$A,'Tab 42'!$B53,'00 SP'!J:J)","v":96085417.479999989},{"$f":"SUMIF('00 SP'!$A:$A,'Tab 42'!$B53,'00 SP'!K:K)","v":97248603.310000002},13855245.439999983,{"$f":"SUMIF('00 PDC SP'!A:A,'Tab 42'!A53,'00 PDC SP'!N:N)","v":0},0,null,{"$f":"SUMIF('00 SP'!A:A,'Tab 42'!B53,'00 SP'!L:L)","v":13855245.439999988},0,"OK",null,{"$f":"SUM(P51:P52)","v":5344053.6899999995}]
["PDA370FR","PDA370"," Debiti v/gestioni liquidatorie",null,{"$f":"SUMIF('00 SP'!$A:$A,'Tab 42'!$B54,'00 SP'!I:I)","v":0},{"$f":"SUMIF('00 SP'!$A:$A,'Tab 42'!$B54,'00 SP'!J:J)","v":0},{"$f":"SUMIF('00 SP'!$A:$A,'Tab 42'!$B54,'00 SP'!K:K)","v":0},0,{"$f":"SUMIF('00 PDC SP'!A:A,'Tab 42'!A54,'00 PDC SP'!N:N)","v":0},0,null,{"$f":"SUMIF('00 SP'!A:A,'Tab 42'!B54,'00 SP'!L:L)","v":0},0,"OK"]
["PDA380FR","PDA380"," Altri debiti diversi:",null,{"$f":"SUMIF('00 SP'!$A:$A,'Tab 42'!$B55,'00 SP'!I:I)","v":1233368.17},{"$f":"SUMIF('00 SP'!$A:$A,'Tab 42'!$B55,'00 SP'!J:J)","v":8509795.4299999997},{"$f":"SUMIF('00 SP'!$A:$A,'Tab 42'!$B55,'00 SP'!K:K)","v":8840195.3200000003},902968.27999999933,{"$f":"SUMIF('00 PDC SP'!A:A,'Tab 42'!A55,'00 PDC SP'!N:N)","v":-316850.95999999996},0,null,{"$f":"SUMIF('00 SP'!A:A,'Tab 42'!B55,'00 SP'!L:L)","v":902968.2799999998},0,"OK"]
[null,"0205110402","Debiti verso organi direttivi ed istituzionali",null,6864.08,191036.95,195883.3,{"$f":"E56+F56-G56","v":2017.7300000000105}]
[null,"0205110403","Debiti verso assistiti",null,193094.81,1704684.22,1649097.7,248681.33000000007]
[null,"0205110404","Altri debiti diversi",null,{"$f":"582197.89+3675+97157.91","v":683030.8},{"$f":"4933682.57+2073.7+455053.82","v":5390810.0900000008},{"$f":"5227177.13+3675+518676.7","v":5749528.8300000001},{"$f":"E58+F58-G58","v":324312.06000000052}]
[null,"0205110406","Debiti verso personale tirocinante e borsisti",null,0,746835,746108,727]
[null,"0205110407","Debiti verso altro personale esterno",null,8023.1,134770.54,132414.44,10379.200000000012]
[null,"0205110409","Fatture da ricevere altri debiti diversi",null,342650.42,321864.53999999998,342650.42,321864.53999999998]
[null,"0102022641","note credito da ricevere",null,-295.04000000000002,-5013.58,-295.04000000000002,{"$f":"E62+F62-G62","v":-5013.58}]
[]
[]
[]
[]
[null,"Fondo","Criteri di determinazione"]
[null,"PDA290","leFatture/  N.C da ricevere della voce Debiti verso erogatori (privati accreditati e convenzionati) di prestazioni sanitarie è pari ad € + 19.664.250,68 in quanto sono state iscritte in bilancio nel corso degli anni note credito da ricevere per extra budget il cui saldo al 31/12/2017 ammonta a 24 mln di €."]

{"sheet":"Tab 43","index":43,"n_rows":107,"n_cols":20,"rows_kept":107,"cut":false,"hidden":false,"merged":[[40,1,40,10],[21,1,21,2],[22,1,22,2],[23,1,23,2],[25,1,25,2],[24,1,24,2],[33,1,33,2],[34,0,34,2],[31,1,31,2],[26,1,26,2],[27,1,27,2],[28,1,28,2],[29,1,29,2],[32,1,32,2],[30,1,30,2],[2,1,2,2],[3,1,3,2],[4,1,4,2],[5,1,5,2],[6,1,6,2],[7,1,7,2],[8,1,8,2],[9,0,9,2],[20,1,20,2],[11,0,18,3],[101,0,101,10],[99,0,99,10],[41,0,42,0],[41,1,42,1],[41,2,41,10],[103,3,103,4],[103,5,103,6],[104,3,104,4],[104,5,104,6],[106,0,110,10]]}
["Di seguito si riporta il dettaglio della composizione della voce \"Debiti verso aziende sanitarie pubbliche della Regione - altre prestazioni\":"]
[]
["Codice Conto","Descrizione",null,"Saldo al 31/12/2017"]
["0205050607","Debiti verso ASL di Teramo per altre prestazioni",null,{"$f":"1434722.43+492726.44","v":1927448.8699999999}]
["0205050608","Fatture da ricevere verso ASL di Teramo per altre prestazioni",null,29786]
["0205050601","Debiti verso ASL di Avezzano Sulmona L'Aquila per altre prestazioni",null,265404.46000000002]
["0205050602","Fatture da ricevere  ASL di Avezzano Sulmona L'Aquila per altre prestazioni",null,84346.32]
["0205050603","Debiti verso ASL di Lanciano Vasto Chieti per altre prestazioni",null,59271.31]
["0205050604","Fatture da ricevere verso ASL di Lanciano Vasto Chieti per altre prestazioni",null,23505.119999999999]
["TOTALE",null,null,{"$f":"SUM(D4:D9)","v":2389762.08}]
[]
["Il conto \"Debiti verso ASL di Teramo\" accoglie anche le registrazioni di documenti antecedenti alla data di adozione del nuovo Piano dei Conti. Infatti, il nuovo Piano dei Conti declina i debiti verso ASL in base a ciascuna azienda creditrice, a differenza del precedente Piano dei Conti, che prevedeva un conto unico. Si è ritenuto opportuno non riclassificare i debiti artificiosamente da un conto all'altro. Ad ogni buon conto, si fa presente che la ripartizione del debito dell'Azienda verso le ASL della Regione è evidenziata nella tabella 46. "]
[]
[]
[]
[]
[]
[]
[]
[]
["Codice Conto","Descrizione",null,"Saldo al 31/12/2017"]
["0205110203","Debiti verso personale retribuzioni esercizi precedenti",null,586981.76]
["0205110204","Debiti verso il personale dipendente per fondi aziendali esercizi precedenti",null,10961585.66]
["0205110206","Altri Debiti verso il personale dipendente per ferie maturate e non godute",null,75182.12]
["0205110207","Altri debiti verso il personale dipendente ",null,{"$f":"1883831.43+347664.47","v":2231495.9}]
["0205110302","Debiti verso Organi Direttivi e Istituzionali",null,2017.73]
["0205110403","Debiti verso assistiti",null,248681.33]
["020511040401","Altri debiti diversi",null,288703.33]
["020511040404","Depositi cauzionali",null,2073.6999999999998]
["020511040405","Fondo Perseo",null,33535.03]
["0205110406","Debiti verso  personale tirocinanti e borsisti",null,727]
["0205110407","Debiti verso altro personale esterno",null,10379.200000000001]
["0205110409","Fatture da ricevere altri debiti diversi",null,321864.53999999998]
["0102022641","note credito da ricevere",null,-5013.58]
["TOTALE",null,null,{"$f":"SUM(D22:D34)","v":14758213.719999997}]
[]
[]
[]
[]
[]
[null,"Tab. 43 – Dettaglio dei debiti per anno di formazione"]
["CODICE MOD. SP","DEBITI",{"$f":"\"VALORE DEI DEBITI AL 31/12/\" &'00 PDC SP'!$F$2& \" PER ANNO DI FORMAZIONE\"","v":"VALORE DEI DEBITI AL 31/12/2017 PER ANNO DI FORMAZIONE"}]
[null,null,{"$f":"\"Anno \"&'00 PDC SP'!$F$2-8 &\" e precedenti\"","v":"Anno 2009 e precedenti"},{"$f":"\"Anno \"&'00 PDC SP'!$F$2-7","v":"Anno 2010"},{"$f":"\"Anno \"&'00 PDC SP'!$F$2-6","v":"Anno 2011"},{"$f":"\"Anno \"&'00 PDC SP'!$F$2-5","v":"Anno 2012"},{"$f":"\"Anno \"&'00 PDC SP'!$F$2-4","v":"Anno 2013"},{"$f":"\"Anno \"&'00 PDC SP'!$F$2-3","v":"Anno 2014"},{"$f":"\"Anno \"&'00 PDC SP'!$F$2-2","v":"Anno 2015"},{"$f":"\"Anno \"&'00 PDC SP'!$F$2-1","v":"Anno 2016"},{"$f":"\"Anno \"&'00 PDC SP'!$F$2","v":"Anno 2017"},null,"Importo SP","Diff","Ctrl"]
["PDA000"," MUTUI PASSIVI",0,0,0,0,0,0,0,0,0,null,{"$f":"SUMIF('00 SP'!A:A,'Tab 43'!A44,'00 SP'!L:L)","v":0},{"$f":"(C44+E44+F44+G44+H44+I44+J44+K44+D44)-M44","v":0},{"$f":"IF(N44=0,\"OK\",\"CTRL\")","v":"OK"}]
[]
[null," DEBITI V/STATO",{"$f":"C47+C48+C49+C50+C51","v":0},{"$f":"D47+D48+D49+D50+D51","v":0},{"$f":"E47+E48+E49+E50+E51","v":0},0,0,0,0,0,0,null,0]
["PDA020"," Debiti v/Stato per mobilità passiva extraregionale",0,null,null,0,0,0,0,0,0,null,{"$f":"SUMIF('00 SP'!A:A,'Tab 43'!A47,'00 SP'!L:L)","v":0},{"$f":"(C47+E47+F47+G47+H47+I47+J47+K47+D47)-M47","v":0},{"$f":"IF(N47=0,\"OK\",\"CTRL\")","v":"OK"}]
["PDA030"," Debiti v/Stato per mobilità passiva internazionale",0,null,null,0,0,0,0,0,0,null,{"$f":"SUMIF('00 SP'!A:A,'Tab 43'!A48,'00 SP'!L:L)","v":0},0,"OK"]
["PDA040"," Acconto quota FSR v/Stato",0,null,null,0,0,0,0,0,0,null,{"$f":"SUMIF('00 SP'!A:A,'Tab 43'!A49,'00 SP'!L:L)","v":0},0,"OK"]
["PDA050"," Debiti v/Stato per restituzione finanziamenti - per ricerca:",0,null,null,0,0,0,0,0,0,null,{"$f":"SUMIF('00 SP'!A:A,'Tab 43'!A50,'00 SP'!L:L)","v":0},0,"OK"]
["PDA060"," Altri debiti v/Stato",0,null,null,0,0,0,0,0,0,null,{"$f":"SUMIF('00 SP'!A:A,'Tab 43'!A51,'00 SP'!L:L)","v":0},0,"OK"]
[]
[null," DEBITI V/REGIONE O PROVINCIA AUTONOMA",{"$f":"SUM(C54:C58)","v":2109444},{"$f":"SUM(D54:D58)","v":0},{"$f":"SUM(E54:E58)","v":0},231,1320750,15650241.09,10744438.85,471098.73,0,null,30296203.669999987]
["PDA080"," Debiti v/Regione o Provincia Autonoma per finanziamenti",0,0,null,0,0,0,0,0,0,null,{"$f":"SUMIF('00 SP'!A:A,'Tab 43'!A54,'00 SP'!L:L)","v":0},{"$f":"(C54+E54+F54+G54+H54+I54+J54+K54+D54)-M54","v":0},{"$f":"IF(N54=0,\"OK\",\"CTRL\")","v":"OK"}]
["PDA090"," Debiti v/Regione o Provincia Autonoma per mobilità passiva intraregionale",0,0,0,0,0,{"$f":"7443441+2437079-330402","v":9550118},{"$f":"13115797.28-1976641-394717.43","v":10744438.85},{"$f":"471787.73-689","v":471098.73},0,null,{"$f":"SUMIF('00 SP'!A:A,'Tab 43'!A55,'00 SP'!L:L)","v":20765655.579999991},0,"OK"]
["PDA100"," Debiti v/Regione o Provincia Autonoma per mobilità passiva extraregionale",2109444,0,0,231,1320750,6100123.0899999999,0,0,0,null,{"$f":"SUMIF('00 SP'!A:A,'Tab 43'!A56,'00 SP'!L:L)","v":9530548.0899999961},0,"OK"]
["PDA110"," Acconto quota FSR da Regione o Provincia Autonoma",0,0,0,0,0,0,0,0,0,null,{"$f":"SUMIF('00 SP'!A:A,'Tab 43'!A57,'00 SP'!L:L)","v":0},0,"OK"]
["PDA120"," Altri debiti v/Regione o Provincia Autonoma",0,0,null,0,0,0,0,0,0,null,{"$f":"SUMIF('00 SP'!A:A,'Tab 43'!A58,'00 SP'!L:L)","v":0},0,"OK"]
[]
["PDA130"," DEBITI V/COMUNI:",0,0,null,0,0,0,0,150000,0,null,{"$f":"SUMIF('00 SP'!A:A,'Tab 43'!A60,'00 SP'!L:L)","v":150000},0,"OK"]
[null,"…"]
[]
[null," DEBITI V/AZIENDE SANITARIE PUBBLICHE DELLA REGIONE",{"$f":"SUM(C64:C69)","v":201526},{"$f":"SUM(D64:D69)","v":60949},0,110431,240344.07,207739.68,688465.37,189312,690994.96,null,2389762.08]
["PDA160"," Debiti v/Aziende sanitarie pubbliche della Regione - per quota FSR",0,0,0,0,0,0,0,0,0,null,{"$f":"SUMIF('00 SP'!A:A,'Tab 43'!A64,'00 SP'!L:L)","v":0},{"$f":"(C64+E64+F64+G64+H64+I64+J64+K64+D64)-M64","v":0},{"$f":"IF(N64=0,\"OK\",\"CTRL\")","v":"OK"}]
["PDA170"," Debiti v/Aziende sanitarie pubbliche della Regione - finanziamento sanitario aggiuntivo corrente LEA",0,0,0,0,0,0,0,0,0,null,{"$f":"SUMIF('00 SP'!A:A,'Tab 43'!A65,'00 SP'!L:L)","v":0},0,"OK"]
["PDA180"," Debiti v/Aziende sanitarie pubbliche della Regione - finanziamento sanitario aggiuntivo corrente extra LEA",0,0,0,0,0,0,0,0,0,null,{"$f":"SUMIF('00 SP'!A:A,'Tab 43'!A66,'00 SP'!L:L)","v":0},0,"OK"]
["PDA190"," Debiti v/Aziende sanitarie pubbliche della Regione - mobilità in compensazione",0,0,0,0,0,0,0,0,0,null,{"$f":"SUMIF('00 SP'!A:A,'Tab 43'!A67,'00 SP'!L:L)","v":0},0,"OK"]
["PDA200"," Debiti v/Aziende sanitarie pubbliche della Regione - mobilità non in compensazione",0,0,0,0,0,0,0,0,0,null,{"$f":"SUMIF('00 SP'!A:A,'Tab 43'!A68,'00 SP'!L:L)","v":0},0,"OK"]
["PDA210"," Debiti v/Aziende sanitarie pubbliche della Regione - altre prestazioni",201526,60949,0,110431,240344.07,207739.68,688465.37,189312,690994.96,null,{"$f":"SUMIF('00 SP'!A:A,'Tab 43'!A69,'00 SP'!L:L)","v":2389762.08},{"$f":"(C69+D69+F69+G69+H69+I69+J69+K69+E69)-M69","v":0},"OK"]
["PDA220"," Debiti v/Aziende Sanitarie pubbliche fuori Regione",{"$f":"243+19306","v":19549},2568,2028,1870,1184,10394,{"$f":"89104-21237.55-33982.44","v":33884.009999999995},{"$f":"77460-20005","v":57455},{"$f":"72093.89","v":72093.89},null,{"$f":"SUMIF('00 SP'!A:A,'Tab 43'!A70,'00 SP'!L:L)","v":201025.90000000002},0,"OK"]
["PDA230"," Debiti v/Aziende sanitarie pubbliche della Regione per versamenti c/patrimonio netto",0,null,0,0,0,0,0,0,0,null,{"$f":"SUMIF('00 SP'!A:A,'Tab 43'!A71,'00 SP'!L:L)","v":0},0,"OK"]
[null," TOTALE DEBITI V/AZIENDE SANITARIE PUBBLICHE",{"$f":"C63+C70+C71","v":221075},{"$f":"D63+D70+D71","v":63517},{"$f":"E63+E70+E71","v":2028},112301,241528.07,218133.68,722349.38,246767,763088.85,null,2590787.98,0,"OK"]
[null," DEBITI V/SOCIETA' PARTECIPATE E/O ENTI DIPENDENTI",{"$f":"SUM(C74:C76)","v":0},null,0,{"$f":"SUM(F74:F76)","v":0},0,0,0,0,0,null,0]
["PDA250"," Debiti v/enti regionali:",0,null,0,0,0,0,0,0,0,null,{"$f":"SUMIF('00 SP'!A:A,'Tab 43'!A74,'00 SP'!L:L)","v":0},{"$f":"(C74+E74+F74+G74+H74+I74+J74+K74+D74)-M74","v":0},{"$f":"IF(N74=0,\"OK\",\"CTRL\")","v":"OK"}]
["PDA260"," Debiti v/sperimentazioni gestionali:",0,null,0,0,0,0,0,0,0,null,{"$f":"SUMIF('00 SP'!A:A,'Tab 43'!A75,'00 SP'!L:L)","v":0},0,"OK"]
["PDA270"," Debiti v/altre partecipate:",0,null,0,0,0,0,0,0,0,null,{"$f":"SUMIF('00 SP'!A:A,'Tab 43'!A76,'00 SP'!L:L)","v":0},0,"OK",null,"ok"]
[]
["PDA280"," DEBITI V/FORNITORI:",{"$f":"C79+C80","v":28112626.260000002},{"$f":"D79+D80","v":9508067.7200000007},{"$f":"E79+E80","v":2507667},827739,706024.56,1993688.8599999994,3741607.8099999996,9087552.7100000009,69260049.950000003,null,{"$f":"M79+M80","v":125745023.8699999}]
["PDA290","Debiti verso erogatori (privati accreditati e convenzionati) di prestazioni sanitarie",{"$f":"40730729.88-6538075-6080028.62","v":28112626.260000002},9508067.7200000007,{"$f":"2507667","v":2507667},{"$f":"3399119-2571380","v":827739},{"$f":"4755275-4086572","v":668703},{"$f":"8889871.86-7716554","v":1173317.8599999994},{"$f":"4968463-4344164-307792.99","v":316506.01},6080028.6200000001,{"$f":"-130.68-11865.03-737669.4+1886031+7700028.76+7968416.62+2785600.51+6409170.71+15681364.3-16964960.96","v":24715985.830000006},null,{"$f":"SUMIF('00 SP'!A:A,'Tab 43'!A79,'00 SP'!L:L)","v":73910641.299999952},{"$f":"(C79+E79+F79+G79+H79+I79+J79+K79+D79)-M79","v":0},{"$f":"IF(N79=0,\"OK\",\"CTRL\")","v":"OK"}]
["PDA300","Debiti verso altri fornitori",0,0,0,0,37321.56,820371,{"$f":"3537158.52-112056.72","v":3425101.8},3007524.09,{"$f":"7497998.91+48058.99+26999100.39+9998905.83","v":44544064.119999997},null,{"$f":"SUMIF('00 SP'!A:A,'Tab 43'!A80,'00 SP'!L:L)","v":51834382.569999948},0,"OK",null,"ok"]
[]
["PDA310"," DEBITI V/ISTITUTO TESORIERE",0,0,0,0,0,0,0,0,0,null,{"$f":"SUMIF('00 SP'!A:A,'Tab 43'!A82,'00 SP'!L:L)","v":0},{"$f":"(C82+E82+F82+G82+H82+I82+J82+K82+D82)-M82","v":0},"OK"]
[]
["PDA320"," DEBITI TRIBUTARI:",0,0,0,0,0,0,0,0,3075022.27,null,{"$f":"SUMIF('00 SP'!A:A,'Tab 43'!A84,'00 SP'!L:L)","v":3075022.2700000014},{"$f":"(C84+E84+F84+G84+H84+I84+J84+K84+D84)-M84","v":0},"OK",null,"ok"]
[]
["PDA330"," DEBITI V/ISTITUTI PREVIDENZIALI, ASSISTENZIALI E SICUREZZA SOCIALE:",0,0,0,0,0,0,0,0,1518530.61,null,{"$f":"SUMIF('00 SP'!A:A,'Tab 43'!A86,'00 SP'!L:L)","v":1518530.6099999971},{"$f":"(C86+E86+F86+G86+H86+I86+J86+K86+D86)-M86","v":3.0267983675003052E-9},"CTRL",null,"ok"]
[]
["PDA340"," DEBITI V/ALTRI:",{"$f":"C90+C92","v":0},0,0,0,0,0,0,2592527.33,{"$f":"K90+K92+K91","v":12165686.389999999},null,{"$f":"M90+M92+M91","v":14758213.719999988},{"$f":"(C88+E88+F88+G88+H88+I88+J88+K88+D88)-M88","v":0}]
["PDA350"," Debiti v/altri finanziatori",0,0,0,0,0,0,0,0,0,null,{"$f":"SUMIF('00 SP'!A:A,'Tab 43'!A89,'00 SP'!L:L)","v":0},0,{"$f":"IF(N89=0,\"OK\",\"CTRL\")","v":"OK"}]
["PDA360"," Debiti v/dipendenti",0,0,0,0,0,0,0,{"$f":"2452737.67+139789.66","v":2592527.33},11262718.109999999,null,{"$f":"SUMIF('00 SP'!A:A,'Tab 43'!A90,'00 SP'!L:L)","v":13855245.439999988},0,"OK"]
["PDA370"," Debiti v/gestioni liquidatorie",0,0,0,0,0,0,0,0,0,null,{"$f":"SUMIF('00 SP'!A:A,'Tab 43'!A91,'00 SP'!L:L)","v":0},0,"OK"]
["PDA380"," Altri debiti diversi:",{"$f":"SUM(C93:C98)","v":0},0,0,{"$f":"SUM(F93:F98)","v":0},0,0,0,0,902968.27999999991,null,{"$f":"SUMIF('00 SP'!A:A,'Tab 43'!A92,'00 SP'!L:L)","v":902968.2799999998},0,"OK",null,null,null,null,41238057]
[null,"Debiti verso organi direttivi ed istituzionali",0,0,0,0,0,0,0,0,2017.73,null,{"$f":"SUMIF('00 SP'!A:A,'Tab 43'!A93,'00 SP'!L:L)","v":0},null,null,null,null,null,null,-10673822]
[null,"Debiti verso assistiti",0,0,0,0,0,0,0,0,248681.33,null,{"$f":"SUMIF('00 SP'!A:A,'Tab 43'!A94,'00 SP'!L:L)","v":0},null,null,null,null,null,null,-59323]
[null,"Altri debiti diversi",0,0,0,0,0,0,0,0,{"$f":"33535.03+2073.7+288703.33","v":324312.06},null,{"$f":"SUMIF('00 SP'!A:A,'Tab 43'!A95,'00 SP'!L:L)","v":0},null,null,null,null,null,null,37332]
[null,"Debiti verso altro personale esterno",0,0,0,0,0,0,0,0,11106.2,null,{"$f":"SUMIF('00 SP'!A:A,'Tab 43'!A96,'00 SP'!L:L)","v":0},null,null,null,null,null,null,{"$f":"SUM(T92:T95)","v":30542244}]
[null,"Fatture da ricevere altri debiti diversi",0,0,0,0,0,0,0,0,321864.53999999998,null,{"$f":"SUMIF('00 SP'!A:A,'Tab 43'!A97,'00 SP'!L:L)","v":0}]
[null,"note credito da ricevere",0,0,0,0,0,0,0,0,-5013.58,null,{"$f":"SUMIF('00 SP'!A:A,'Tab 43'!A98,'00 SP'!L:L)","v":0},null,null,"OK"]
[]
["La Voce di SP  \"Debiti verso erogatori (privati accreditati e convenzionati) di prestazioni sanitarie\" comprende, per € 4.635.823 debiti riferiti all'aggregazione \" debiti verso altri fornitori\" (Tabella 43). Tale circostanza è ascrivibile alla diversa classificazione delle voci di debito tra il piano dei conti vigente alla data del 31/12/2012 e quello in uso alla data di elaborazione del bilancio di esercizio al 31/12/2016.  "]
[]
["Nella tabella sottostante si da evidenza della variazione dei debiti  con separata evidenza ai debiti di formazione 2017 e alla diminuzione dei debiti di competenza dell'anno 2017 e precedenti."]
[]
["Voce di SP","descrizione","saldo al 31/12/2016","pagamenti effettuati al 31/12/2017",null,"debiti di formazione 2017 aperti al 31/12/2017",null,"saldo al 31/12/2017"]
["PDA280","Debiti verso  fornitori",132711,{"$f":"C105-H105+F105","v":76226},null,69260,null,125745]
[]
["Con riferimento ai debiti, periodicamente l’Ufficio SEF effettua un’attività di monitoraggio degli stessi, inviando agli Uffici liquidatori un dettaglio delle partite aperte e non ancora pagate, affinchè i servizi competenti provvedano alla liquidazione, in presenza delle condizioni necessarie, ovvero a comunicare eventuali partite debitorie insussistenti. La tabella sopra riportata indica come alla data del 31/12/2015 l’aggregato “Debiti verso fornitori” presentava un saldo pari a €/000 129.341;  durante l’esercizio successivo, sono stati effettuati pagamenti riferiti a tale massa debitoria per un importo complessivo di €/000 72.856 riducendo il “Debito verso fornitori” relativo alla data del 31/12/2015 a €/000 56.485. Tale valore deve essere integrato con l’importo dei debiti di formazione anno 2016 rimasti aperti alla data del 31/12/2016 pari a €/000 76.226 che porta il valore finale dell’aggregato  “Debito verso fornitori” alla data del 31/12/2016 a €/000 132.711."]

{"sheet":"Tab 44","index":44,"n_rows":54,"n_cols":9,"rows_kept":54,"cut":false,"hidden":false,"merged":[[1,0,2,0],[1,1,2,1],[1,2,1,4]]}
[null,"Tab. 44 – Dettaglio dei debiti per scadenza"]
["CODICE MOD. SP","DEBITI",{"$f":"\"DEBITI  AL 31/12/\"&'00 PDC SP'!$F$2&\" PER SCADENZA\"","v":"DEBITI  AL 31/12/2017 PER SCADENZA"}]
[null,null,"Entro\n12 mesi","Tra 1 e 5 anni","Oltre\n5 anni",null,"Importo SP","Diff","Ctrl"]
["PDA000"," MUTUI PASSIVI",0,0,0,null,{"$f":"SUMIF('00 SP'!A:A,'Tab 44'!A4,'00 SP'!L:L)","v":0},{"$f":"(C4+D4+E4)-G4","v":0},{"$f":"IF(H4=0,\"OK\",\"CTRL\")","v":"OK"}]
[]
[null," DEBITI V/STATO",{"$f":"SUM(C7:C11)","v":0},{"$f":"SUM(D7:D11)","v":0},0,null,0]
["PDA020"," Debiti v/Stato per mobilità passiva extraregionale",0,0,0,null,{"$f":"SUMIF('00 SP'!A:A,'Tab 44'!A7,'00 SP'!L:L)","v":0},{"$f":"(C7+D7+E7)-G7","v":0},{"$f":"IF(H7=0,\"OK\",\"CTRL\")","v":"OK"}]
["PDA030"," Debiti v/Stato per mobilità passiva internazionale",0,0,0,null,{"$f":"SUMIF('00 SP'!A:A,'Tab 44'!A8,'00 SP'!L:L)","v":0},0,"OK"]
["PDA040"," Acconto quota FSR v/Stato",0,0,0,null,{"$f":"SUMIF('00 SP'!A:A,'Tab 44'!A9,'00 SP'!L:L)","v":0},0,"OK"]
["PDA050"," Debiti v/Stato per restituzione finanziamenti - per ricerca:",0,0,0,null,{"$f":"SUMIF('00 SP'!A:A,'Tab 44'!A10,'00 SP'!L:L)","v":0},0,"OK"]
["PDA060"," Altri debiti v/Stato",0,0,0,null,{"$f":"SUMIF('00 SP'!A:A,'Tab 44'!A11,'00 SP'!L:L)","v":0},0,"OK"]
[null,"…",0,0,0]
[null,"…",0,0,0]
[]
[null," DEBITI V/REGIONE O PROVINCIA AUTONOMA",{"$f":"SUM(C16:C20)","v":30296203.669999998},{"$f":"SUM(D16:D20)","v":0},0,null,30296203.669999987]
["PDA080"," Debiti v/Regione o Provincia Autonoma per finanziamenti",0,0,0,null,{"$f":"SUMIF('00 SP'!A:A,'Tab 44'!A16,'00 SP'!L:L)","v":0},{"$f":"(C16+D16+E16)-G16","v":0},{"$f":"IF(H16=0,\"OK\",\"CTRL\")","v":"OK"}]
["PDA090"," Debiti v/Regione o Provincia Autonoma per mobilità passiva intraregionale",{"$f":"20766344.58-689","v":20765655.579999998},0,0,null,{"$f":"SUMIF('00 SP'!A:A,'Tab 44'!A17,'00 SP'!L:L)","v":20765655.579999991},0,"OK"]
["PDA100"," Debiti v/Regione o Provincia Autonoma per mobilità passiva extraregionale",9530548.0899999999,0,0,null,{"$f":"SUMIF('00 SP'!A:A,'Tab 44'!A18,'00 SP'!L:L)","v":9530548.0899999961},0,"OK"]
["PDA110"," Acconto quota FSR da Regione o Provincia Autonoma",0,0,0,null,{"$f":"SUMIF('00 SP'!A:A,'Tab 44'!A19,'00 SP'!L:L)","v":0},0,"OK"]
["PDA120"," Altri debiti v/Regione o Provincia Autonoma",0,0,0,null,{"$f":"SUMIF('00 SP'!A:A,'Tab 44'!A20,'00 SP'!L:L)","v":0},0,"OK"]
[]
["PDA130"," DEBITI V/COMUNI:",150000,0,0,null,{"$f":"SUMIF('00 SP'!A:A,'Tab 44'!A22,'00 SP'!L:L)","v":150000},{"$f":"(C22+D22+E22)-G22","v":0},"OK"]
[]
[null," DEBITI V/AZIENDE SANITARIE PUBBLICHE DELLA REGIONE",{"$f":"SUM(C25:C30)","v":2389762.08},{"$f":"SUM(D25:D30)","v":0},0,null,2389762.08]
["PDA160"," Debiti v/Aziende sanitarie pubbliche della Regione - per quota FSR",0,0,0,null,{"$f":"SUMIF('00 SP'!A:A,'Tab 44'!A25,'00 SP'!L:L)","v":0},{"$f":"(C25+D25+E25)-G25","v":0},{"$f":"IF(H25=0,\"OK\",\"CTRL\")","v":"OK"}]
["PDA170"," Debiti v/Aziende sanitarie pubbliche della Regione - finanziamento sanitario aggiuntivo corrente LEA",0,0,0,null,{"$f":"SUMIF('00 SP'!A:A,'Tab 44'!A26,'00 SP'!L:L)","v":0},0,"OK"]
["PDA180"," Debiti v/Aziende sanitarie pubbliche della Regione - finanziamento sanitario aggiuntivo corrente extra LEA",0,0,0,null,{"$f":"SUMIF('00 SP'!A:A,'Tab 44'!A27,'00 SP'!L:L)","v":0},0,"OK"]
["PDA190"," Debiti v/Aziende sanitarie pubbliche della Regione - mobilità in compensazione",0,0,0,null,{"$f":"SUMIF('00 SP'!A:A,'Tab 44'!A28,'00 SP'!L:L)","v":0},0,"OK"]
["PDA200"," Debiti v/Aziende sanitarie pubbliche della Regione - mobilità non in compensazione",0,0,0,null,{"$f":"SUMIF('00 SP'!A:A,'Tab 44'!A29,'00 SP'!L:L)","v":0},0,"OK"]
["PDA210"," Debiti v/Aziende sanitarie pubbliche della Regione - altre prestazioni",2389762.08,0,0,null,{"$f":"SUMIF('00 SP'!A:A,'Tab 44'!A30,'00 SP'!L:L)","v":2389762.08},0,"OK"]
["PDA220"," Debiti v/Aziende Sanitarie pubbliche fuori Regione",201025.9,0,0,null,{"$f":"SUMIF('00 SP'!A:A,'Tab 44'!A31,'00 SP'!L:L)","v":201025.90000000002},0,"OK"]
["PDA230"," Debiti v/Aziende sanitarie pubbliche della Regione per versamenti c/patrimonio netto",0,0,0,null,{"$f":"SUMIF('00 SP'!A:A,'Tab 44'!A32,'00 SP'!L:L)","v":0},0,"OK"]
[null," TOTALE DEBITI V/AZIENDE SANITARIE PUBBLICHE",{"$f":"C24+C31+C32","v":2590787.98},{"$f":"D24+D31+D32","v":0},0,null,2590787.98]
[]
[null," DEBITI V/SOCIETA' PARTECIPATE E/O ENTI DIPENDENTI",{"$f":"SUM(C36:C38)","v":0},{"$f":"SUM(D36:D38)","v":0},0,null,0]
["PDA250"," Debiti v/enti regionali:",0,0,0,null,{"$f":"SUMIF('00 SP'!A:A,'Tab 44'!A36,'00 SP'!L:L)","v":0},{"$f":"(C36+D36+E36)-G36","v":0},{"$f":"IF(H36=0,\"OK\",\"CTRL\")","v":"OK"}]
["PDA260"," Debiti v/sperimentazioni gestionali:",0,0,0,null,{"$f":"SUMIF('00 SP'!A:A,'Tab 44'!A37,'00 SP'!L:L)","v":0},0,"OK"]
["PDA270"," Debiti v/altre partecipate:",0,0,0,null,{"$f":"SUMIF('00 SP'!A:A,'Tab 44'!A38,'00 SP'!L:L)","v":0},0,"OK"]
[]
["PDA280"," DEBITI V/FORNITORI:",{"$f":"SUM(C41:C42)","v":125745023.87},{"$f":"SUM(D41:D42)","v":0},0,null,125745023.8699999]
["PDA290","Debiti verso erogatori (privati accreditati e convenzionati) di prestazioni sanitarie",73910641.299999997,0,0,null,{"$f":"SUMIF('00 SP'!A:A,'Tab 44'!A41,'00 SP'!L:L)","v":73910641.299999952},{"$f":"(C41+D41+E41)-G41","v":0},{"$f":"IF(H41=0,\"OK\",\"CTRL\")","v":"OK"}]
["PDA300","Debiti verso altri fornitori",51834382.57,0,0,null,{"$f":"SUMIF('00 SP'!A:A,'Tab 44'!A42,'00 SP'!L:L)","v":51834382.569999948},0,"OK"]
[]
["PDA310"," DEBITI V/ISTITUTO TESORIERE",0,0,0,null,{"$f":"SUMIF('00 SP'!A:A,'Tab 44'!A44,'00 SP'!L:L)","v":0},{"$f":"(C44+D44+E44)-G44","v":0},"OK"]
[]
["PDA320"," DEBITI TRIBUTARI:",3075022.27,0,0,null,{"$f":"SUMIF('00 SP'!A:A,'Tab 44'!A46,'00 SP'!L:L)","v":3075022.2700000014},{"$f":"(C46+D46+E46)-G46","v":0},"OK"]
[]
["PDA330"," DEBITI V/ISTITUTI PREVIDENZIALI, ASSISTENZIALI E SICUREZZA SOCIALE:",1518530.61,0,0,null,{"$f":"SUMIF('00 SP'!A:A,'Tab 44'!A48,'00 SP'!L:L)","v":1518530.6099999971},{"$f":"(C48+D48+E48)-G48","v":3.0267983675003052E-9},"CTRL"]
[]
["PDA340"," DEBITI V/ALTRI:",{"$f":"SUM(C51:C54)","v":14758213.719999999},{"$f":"SUM(D51:D54)","v":0},0,null,14758213.719999988,{"$f":"(C50+D50+E50)-G50","v":0}]
["PDA350"," Debiti v/altri finanziatori",0,0,0,null,{"$f":"SUMIF('00 SP'!A:A,'Tab 44'!A51,'00 SP'!L:L)","v":0},0,{"$f":"IF(H51=0,\"OK\",\"CTRL\")","v":"OK"}]
["PDA360"," Debiti v/dipendenti",13855245.439999999,0,0,null,{"$f":"SUMIF('00 SP'!A:A,'Tab 44'!A52,'00 SP'!L:L)","v":13855245.439999988},0,"OK"]
["PDA370"," Debiti v/gestioni liquidatorie",0,0,0,null,{"$f":"SUMIF('00 SP'!A:A,'Tab 44'!A53,'00 SP'!L:L)","v":0},0,"OK"]
["PDA380"," Altri debiti diversi",902968.28,0,0,null,{"$f":"SUMIF('00 SP'!A:A,'Tab 44'!A54,'00 SP'!L:L)","v":902968.2799999998},0,"OK"]

{"sheet":"Tab 45-46","index":45,"n_rows":27,"n_cols":11,"rows_kept":27,"cut":false,"hidden":false,"merged":[[1,1,1,10],[2,1,3,1],[2,3,3,3],[2,4,3,4],[2,5,3,5],[2,6,3,6],[2,7,3,7],[2,8,3,8],[2,9,3,9],[2,10,3,10],[26,0,26,4],[13,1,13,9],[21,0,21,3],[22,1,22,7],[24,0,24,5],[25,0,25,4],[25,5,25,6],[25,7,25,10],[26,7,26,10]]}
[]
[null,"Tab. 45 – Dettaglio mutui "]
[null,"DETTAGLIO MUTUI",null,"Destinazione","Soggetto\nerogatore","Riferimenti delibera di autorizzazione regionale","Importo\niniziale","Scadenza","Debito\nresiduo","Tasso di interesse","Garanzie\nreali"]
[]
[null,"…"]
[null,"…"]
[null,"…"]
[null,"…"]
[null,"…"]
[null,"…"]
[null,"…"]
[null,"TOTALE MUTUI"]
[]
[null,"Tab. 46 – Dettaglio debiti intraregionali per mobilità (in compensazione e non) e per altre prestazioni"]
[null,"DETTAGLIO DEBITI INTRAREGIONALI\nPER SINGOLA AZIENDA",null,"Mobilità in compens.","Mobilità non in compens.","Altre prestazioni"]
[null,"Asl 201- Avezzano Sulmona L'Aquila",null,null,null,355701]
[null,"Asl 202- Lanciano Vasto Chieti",null,null,null,236111]
[null,"Asl 204-Teramo",null,null,null,1797951]
[null,"Totale",null,null,null,{"$f":"SUM(F16:F18)","v":2389763}]
[]
[]
["DB01 - Transazioni"]
["DB01 - NO","I debiti verso fornitori non sono sottoposti a procedure di transazione regionali."]
[]
["Altre informazioni relative a debiti."]
["Informazione",null,null,null,null,"Caso presente in azienda?",null,"Se sì, illustrare"]
["DB02 - Altro. Esistono altre informazioni che si ritiene necessario fornire per soddisfare la regola generale secondo cui \"Se le informazioni richieste da specifiche disposizioni di legge non sono sufficienti a dare una rappresentazione veritiera e corretta, si devono fornire le informazioni complementari necessarie allo scopo\" (art. 2423 cc)?",null,null,null,null,null,"NO"]

{"sheet":"Tab 47-48-49","index":46,"n_rows":41,"n_cols":13,"rows_kept":41,"cut":false,"hidden":false,"merged":[[0,0,0,7],[2,1,2,8],[8,1,8,7],[15,0,15,1],[15,2,15,4],[15,5,15,8],[16,5,16,8],[37,5,37,8],[38,5,38,8],[37,3,37,4],[20,1,20,6],[21,6,22,6],[16,0,16,1],[16,2,16,3],[18,0,18,3],[21,0,22,0],[21,1,22,1],[21,3,22,3],[21,4,22,4],[21,5,22,5],[40,5,40,8],[37,0,37,2],[38,0,38,2],[39,0,39,2],[40,0,40,2],[39,5,39,8]]}
["15.     Ratei e risconti passivi"]
[]
[null,"Tab. 47 – Ratei passivi – Dettaglio a livello di costo (codice CE)"]
["CODICE MOD. CE","RATEI PASSIVI",null,"Importo","di cui\noltre 12 mesi"]
[]
[null,"…"]
[null,"…"]
[]
[null,"Tab. 48 – Risconti passivi – Dettaglio a livello di ricavo (codice CE)"]
["CODICE MOD. CE","RISCONTI PASSIVI",null,"Importo","di cui\noltre 12 mesi"]
[]
[null,"…"]
[null,"…"]
[]
["Altre informazioni relative a ratei e risconti passivi."]
["Informazione",null,"Caso presente in azienda?",null,null,"Se sì, illustrare"]
["RP01 - Altro. Esistono altre informazioni che si ritiene necessario fornire per soddisfare la regola generale secondo cui \"Se le informazioni richieste da specifiche disposizioni di legge non sono sufficienti a dare una rappresentazione veritiera e corretta, si devono fornire le informazioni complementari necessarie allo scopo\" (art. 2423 cc)?",null,null,null,"NO"]
[]
["16.     Conti d’ordine"]
[]
[null,"Tab. 49 – Dettagli e movimentazioni dei conti d’ordine "]
["CODICE MOD. SP","CONTI D'ORDINE",null,"Valore iniziale ","Incrementi","Decrementi","Valore finale"]
[null,null,null,null,null,null,null,null,null,null,"Valore SP","Diff","Ctrl"]
["PFA000","   F.1) CANONI DI LEASING ANCORA DA PAGARE",null,{"$f":"SUMIF('00 SP'!$A:$A,'Tab 47-48-49'!$A24,'00 SP'!I:I)","v":0},{"$f":"SUMIF('00 SP'!$A:$A,'Tab 47-48-49'!$A24,'00 SP'!J:J)","v":0},{"$f":"SUMIF('00 SP'!$A:$A,'Tab 47-48-49'!$A24,'00 SP'!K:K)","v":0},{"$f":"D24+E24-F24","v":0},null,null,null,{"$f":"SUMIF('00 SP'!A:A,'Tab 47-48-49'!A24,'00 SP'!L:L)","v":0},{"$f":"G24-K24","v":0},{"$f":"IF(L24=0,\"OK\",\"CTRL\")","v":"OK"}]
["PFA010","   F.2) DEPOSITI CAUZIONALI",null,{"$f":"SUMIF('00 SP'!$A:$A,'Tab 47-48-49'!$A25,'00 SP'!I:I)","v":0},{"$f":"SUMIF('00 SP'!$A:$A,'Tab 47-48-49'!$A25,'00 SP'!J:J)","v":0},{"$f":"SUMIF('00 SP'!$A:$A,'Tab 47-48-49'!$A25,'00 SP'!K:K)","v":0},{"$f":"D25+E25-F25","v":0},null,null,null,{"$f":"SUMIF('00 SP'!A:A,'Tab 47-48-49'!A25,'00 SP'!L:L)","v":0},{"$f":"G25-K25","v":0},{"$f":"IF(L25=0,\"OK\",\"CTRL\")","v":"OK"}]
["PFA020","   F.3) BENI IN COMODATO",null,{"$f":"SUMIF('00 SP'!$A:$A,'Tab 47-48-49'!$A26,'00 SP'!I:I)","v":0},{"$f":"SUMIF('00 SP'!$A:$A,'Tab 47-48-49'!$A26,'00 SP'!J:J)","v":0},{"$f":"SUMIF('00 SP'!$A:$A,'Tab 47-48-49'!$A26,'00 SP'!K:K)","v":0},0,null,null,null,{"$f":"SUMIF('00 SP'!A:A,'Tab 47-48-49'!A26,'00 SP'!L:L)","v":0},0,"OK"]
["PFA030","   F.4) ALTRI CONTI D'ORDINE",null,{"$f":"SUMIF('00 SP'!$A:$A,'Tab 47-48-49'!$A27,'00 SP'!I:I)","v":0},{"$f":"SUMIF('00 SP'!$A:$A,'Tab 47-48-49'!$A27,'00 SP'!J:J)","v":0},{"$f":"SUMIF('00 SP'!$A:$A,'Tab 47-48-49'!$A27,'00 SP'!K:K)","v":0},0,null,null,null,{"$f":"SUMIF('00 SP'!A:A,'Tab 47-48-49'!A27,'00 SP'!L:L)","v":0},0,"OK"]
[null,"Canoni di leasing a scadere"]
[null,"Depositi cauzionali"]
[null,"Beni di terzi presso l'Azienda"]
[null,"Garanzie prestate (fideiussioni, avalli, altre garanzie personali e reali)"]
[null,"Garanzie ricevute (fideiussioni, avalli, altre garanzie personali e reali)"]
[null,"Beni in contenzioso"]
[null,"Altri impegni assunti"]
[]
[]
["Altre informazioni relative a conti d'ordine."]
["Informazione",null,null,"Caso presente in azienda?",null,"Se sì, illustrare"]
["CO01. Sono state attivate operazioni di project finance?",null,null,null,"NO"]
["CO02. Esistono beni dell'azienda presso terzi (in deposito, in pegno o in comodato)?",null,null,null,"NO"]
["CO03 - Altro. Esistono altre informazioni che si ritiene necessario fornire per soddisfare la regola generale secondo cui \"Se le informazioni richieste da specifiche disposizioni di legge non sono sufficienti a dare una rappresentazione veritiera e corretta, si devono fornire le informazioni complementari necessarie allo scopo\" (art. 2423 cc)?",null,null,null,"NO"]

{"sheet":"Foglio1","index":47,"n_rows":0,"n_cols":0,"rows_kept":0,"cut":false,"hidden":false,"merged":[]}